{"text_format":"1","workbook":"xlsx","n_sheets":31,"sheets":["DashboardNew","Dashboard","Guidance","Dashboard1","Staff currentNA","Staff current","Staff proposed","Officer current","Officer proposed","PO-Calcs","Application-PS","PS-AP_MAN","Application-PO","Application-PO2","PO_AP_MAN","PO_AP_MAN2","Review-PS","PS_RVW_MAN","Review-PO","Appeal-PS","Appeal_MAN","Appeal-PO","Instructions","Outcome","Outcome_ind","Outcome (2)","Guidance for calculator","Guidance - PO","PS-Calcs","GRS USE ONLY staff","GRS USE ONLY police"],"not_rendered":{"charts":0,"images":3,"macros":1,"external_links":2,"defined_names":4,"comments":4,"pivot_tables":0},"unopened":[],"bounds":{"document_bytes":16777216,"sheet_cells":100000,"rows_first":2000,"rows_last":500,"rows_between":2000,"halvings":0,"cell_chars":16384,"cell_head_chars":4096},"cells_cut":0,"cells_raw":0,"read":"whole","date_system":"1900"}

{"sheet":"DashboardNew","index":0,"n_rows":11,"n_cols":16,"rows_kept":11,"cut":false,"hidden":false,"merged":[]}
["Version Date: 6 April 2024 (amended 13/06/2024)"]
[]
[]
[]
[]
[]
[null,null,null,null,null,null,null,null,null,null,null,null,null,null,null," "]
[]
[]
[]
[null,null,null,null,null,null,null,null,null,null,null,{"$f":"IF(Dashboard1!B6=1,\"Application Completed\",\"\")","v":""}]

{"sheet":"Dashboard","index":1,"n_rows":22,"n_cols":16,"rows_kept":22,"cut":false,"hidden":true,"merged":[[11,7,14,11],[21,1,24,5]]}
[]
[]
[]
[]
[]
[]
[null,null,null,null,null,null,null,null,null,null,null,null,null,null,null," "]
[]
[]
[]
[null,null,null,null,null,null,null,null,null,null,null,{"$f":"IF(Dashboard1!B6=1,\"Application Completed\",\"\")","v":""}]
[null,null,null,null,null,null,null,{"$f":"#VALUE!","v":{"$error":"#VALUE!"}}]
[]
[]
[]
[]
[]
[]
[]
[]
[]
[null,{"$f":"IF(Dashboard1!B15=5,HYPERLINK(\"#'Instructions'!a1\",\"Line Manager Menu\"),IF(Dashboard1!B15=8,HYPERLINK(\"#'Instructions'!a1\",\"Line Manager Menu\"),IF(Dashboard1!B15=6,HYPERLINK(\"#'Instructions'!a1\",\"Line Manager Menu\"),\"\")))","v":""}]

{"sheet":"Guidance","index":2,"n_rows":62,"n_cols":15,"rows_kept":62,"cut":false,"hidden":true,"merged":[[0,1,0,15],[35,12,41,12],[35,13,41,13],[26,14,32,14],[26,13,32,13],[1,1,1,15]]}
[null,"Working Pattern Calculator Guidance "]
[null,"Please note that your application will not be processed without a completed working pattern calculator"]
[]
[1,"Click 'Save As' and save the document in your 'H' Drive."]
[2,"Select the worksheet that is relevant to you (Staff Current/Staff Proposed/Officer current/Officer proposed)"]
[3," Click the button to select the number of weeks in your working pattern "]
[null," (N.B if you work the same hours each week you will need to select 1 week and reflect your repeated weekly pattern)"]
[4,"When entering your times please use a colon (:) to separate the hours and minutes, otherwise the calculator will show an error."]
[5,"If the start of a shift is at midnight, enter this as 00:00.  But if the end of a shift is at midnight, you must enter 24:00"]
[6,"On the 'proposed' screen, please enter the date for the commencing week of the shift pattern (Please enter Monday’s"]
[null,"date of this week).  "]
[7,"All red cells must be completed.  These (and those containing ###) will revert to standard when completed."]
[8,"Police Staff only - please ensure a minimum of 1/2 an hour meal break is reflected for all shifts in excess of 6 hours."]
[null,"(N.B meal breaks should be entered as, for example 00:36 (36mins), 00:30 (30mins), 00:45 (45mins), 01:00 (1 hour)."]
[9,"Police Staff only - Please confirm if flexitime rules will apply."]
[10,"Police Staff 52 week patterns - should you wish to apply for a 52 week working arrangement (such as term time) - please use "]
[null,"the Police Staff current and proposed templates. When selecting the number of weeks, please enter 52.143 (which is essential"]
[null,"to the calculation).  All 52 weeks of your pattern will then need to be entered into the template."]
[11,"Police Officers only - no meal break needs to be shown.  Please ensure that an 'F' for Free day, or 'R' for rest day are"]
[null,"entered on the pattern for any days you are not working."]
[12,"Police Officer 52 week patterns - should you wish to apply for a 52 week working arrangement (such as term time) - please"]
[null,"use the Police Officer current and proposed templates. When selecting the number of weeks, please enter 52.167 (which is"]
[null,"essential to the calculation).  All 52 weeks of your pattern will then need to be entered into the template."]
[]
[null,"Examples:"]
[null,null,null,null,null,"Police Staff",null,null,null,"Start Time","Finish Time","Unpaid meal break","Daily hours","Week total","Running average"]
[null,null,null,null,null,null,null,"Week1","Mon","09:00:00","15:00:00",null,{"$f":"IF(K27<J27,K27+1,K27)-J27-L27","v":"06:00:00"},{"$f":"SUM(M27:M33)","v":0.86458333333333337},{"$f":"AVERAGE(N$2:N27)","v":0.86458333333333337}]
[null,null,null,null,null,null,null,null,"Tue","09:00:00","17:00:00","00:30:00","07:30:00"]
[null,null,null,null,null,null,null,null,"Wed",null,null,null,"00:00:00"]
[null,null,null,null,null,null,null,null,"Thu","09:00:00","17:00:00","00:45:00","07:15:00"]
[null,null,null,null,null,null,null,null,"Fri",null,null,null,"00:00:00"]
[null,null,null,null,null,null,null,null,"Sat",null,null,null,"00:00:00"]
[null,null,null,null,null,null,null,null,"Sun",null,null,null,"00:00:00"]
[]
[null,null,null,null,null,"Police Officers",null,null,null,"Start Time","End Time","Daily hours","Week total","Running average"]
[null,null,null,null,null,null,null,"Week1","Mon","14:00:00","22:00:00",{"$f":"IF(J36=\"R\",0,IF(J36=\"F\",0,IF(K36<J36,K36+1,K36)-J36))","v":"08:00:00"},{"$f":"SUM(L36:L42)","v":1.25},{"$f":"AVERAGE(M$2:M36)","v":0.26432291666666669}]
[null,null,null,null,null,null,null,null,"Tue","14:00:00","22:00:00",{"$f":"IF(J37=\"R\",0,IF(J37=\"F\",0,IF(K37<J37,K37+1,K37)-J37))","v":"08:00:00"}]
[null,null,null,null,null,null,null,null,"Wed","F","F","00:00:00"]
[null,null,null,null,null,null,null,null,"Thu","R","R","00:00:00"]
[null,null,null,null,null,null,null,null,"Fri","R","R","00:00:00"]
[null,null,null,null,null,null,null,null,"Sat","08:00:00","15:00:00","07:00:00"]
[null,null,null,null,null,null,null,null,"Sun","08:00:00","15:00:00","07:00:00"]
[]
[]
[null,"Once complete, the calculator will provide you with the following information:"]
[null,"1.) Daily Hours"]
[null,"2.) Weekly Total"]
[null,"3.) Running average across pattern (reflects the hours you will be paid for each month and your leave, pension etc will also be based on this figure)"]
[null,"     Average weekly hours and the decimal equivalent will be provided.  The decimal figure should be used for the approval form."]
[null,"4.) Entitlement to allowances (Shift, weekends, night work, irregular)"]
[]
[null,"Please Note: It is essential that both the current and proposed working patterns reflect the correct average working hours of the applicant, "]
[null,"prior to submission to SMT and People Services Centre - HR Operations. Any patterns that do not equate correctly will be returned "]
[null,"to the applicant's line manager for review which, may subsequently result in a delay to the process."]
[]
[null,"Queries? If you have any queries with regards to completion of the calculator - please contact People Services Centre - HR Operations "]
[null,"via email or x22020 option 2."]
[]
[null,"Completedü Once complete - email the document along with your flexible working application to your line manager for onward submission. "]
[]
[null,"Disclaimer:  Please note that the calculator is designed to be used as a guide. If you have any queries regarding the figures presented"]
[null,"please make contact with People Services Centre - HR Operations. "]

{"sheet":"Dashboard1","index":3,"n_rows":365,"n_cols":13,"rows_kept":365,"cut":false,"hidden":true,"merged":[[24,2,26,9]]}
[null,null,null,null,null,null,null,null,null,null,null,null,"Week 1"]
[1,{"$f":"IF(AND('Staff currentNA'!E4>0,'Staff currentNA'!V3>\"\",'Staff currentNA'!W3>\"\"),1,0)","v":0},"Current Plan Completed",{"$f":"IF(Dashboard1!B15=1,HYPERLINK(\"#'Staff current'!a1\",Dashboard1!C2),\"\")","v":""},"Staff"]
[3,{"$f":"IF(AND('Staff proposed'!E3>0,'Staff proposed'!AC6>0,'Staff proposed'!AC7>0,'Staff proposed'!AB18>0,'Staff proposed'!AB21>0),3,0)","v":0},"Proposed Plan Completed",{"$f":"IF(Dashboard1!B15=2,HYPERLINK(\"#'Staff proposed'!a1\",Dashboard1!C3),\"\")","v":""},"Staff"]
[5,{"$f":"IF(AND('Application-PS'!F7>\"\",'Application-PS'!F9>\"\",'Application-PS'!F11>\"\",'Application-PS'!F19>0,'Application-PS'!M23>0,'Application-PS'!M32>0,'Application-PS'!B47>\"\"),5,0)","v":0},"A Flexible Working Request has been submitted, click here to view",{"$f":"IF(Dashboard1!B15=3,HYPERLINK(\"#'PS-AP_MAN'!a1\",Dashboard1!C4),\"\")","v":""},"Staff"]
[7,{"$f":"IF(AND('Review-PS'!F19>0,'Review-PS'!F22>0,'Review-PS'!M37>0,'Review-PS'!M39>0,'Review-PS'!J45>\"\",'Review-PS'!M47>0,'Review-PS'!J49>\"\",'Review-PS'!M77>0),7,0)","v":0},"Your Line Manager has reviewed your request, click here to view decision.",{"$f":"IF(Dashboard1!B15=4,HYPERLINK(\"#'PS_RVW_MAN'!a1\",Dashboard1!C5),\"\")","v":""},"ALL"]
[8,{"$f":"IF(AND('Appeal-PS'!L15>0,'Appeal-PS'!B26>0,'Appeal-PS'!B42>0,'Appeal-PS'!I42>0,'Appeal-PS'!L42>0),8,0)","v":0},"An appeal against the decision has been received, please click here to view",{"$f":"IF(Dashboard1!B15=5,HYPERLINK(\"#'Appeal_MAN'!a1\",Dashboard1!C6),\"\")","v":""},"ALL"]
[9,{"$f":"IF(AND(Outcome!M23>0,Outcome!L25>0),9,0)","v":0},"Your Appeal has now been reviewed, click here to review the outcome of your Appeal.",{"$f":"IF(Dashboard1!B15=6,HYPERLINK(\"#'Outcome_ind'!a1\",Dashboard1!C7),\"\")","v":""},"ALL"]
[2,{"$f":"IFERROR(IF(AND('Officer current'!E4>0,'Officer current'!U3>0,'Officer current'!V3>0,'Officer current'!V7>0),2,0),0)","v":0},"Current Plan Completed",{"$f":"IF(Dashboard1!B8=7,HYPERLINK(\"#'Officer current'!a1\",Dashboard1!C8),\"\")","v":""},"Officer",null,null,null,null,null,null,null,"Week 2"]
[4,{"$f":"IFERROR(IF(AND('Officer proposed'!E3>0,'Officer proposed'!Y7>0,'Officer proposed'!X12>0,'Officer proposed'!X15>0),4,0),0)","v":0},"Proposed Plan Completed",{"$f":"IF(Dashboard1!B17=8,HYPERLINK(\"#'Officer proposed'!a1\",Dashboard1!C9),\"\")","v":""},"Officer"]
[6,{"$f":"IF(AND('Application-PO'!F7>\"\",'Application-PO'!F9>\"\",'Application-PO'!F11>\"\",'Application-PO'!F17>0,'Application-PO'!M21>0,'Application-PO'!M36>0,'Application-PO'!B45>0,'Application-PO'!M52>0),6,0)","v":0},"A Flexible Working Request has been submitted, click here to view",{"$f":"IF(Dashboard1!B18=9,HYPERLINK(\"#'PO_AP_MAN'!a1\",Dashboard1!C10),\"\")","v":""},"Officer"]
[]
[]
[]
[]
[null,{"$f":"MAX(B2:B10)","v":0},{"$f":"VLOOKUP(B15,B2:C10,2,FALSE)","v":"Current Plan Completed"},{"$f":"VLOOKUP(B15,B2:D10,3,FALSE)","v":""},null,null,null,null,null,null,null,null,"Week 3"]
[]
[]
[]
[null,"Staff Name",{"$f":"IF('Staff currentNA'!V3<>\"Enter Name\",'Staff currentNA'!V3,'Officer current'!U3)","v":"Type name here"},{"$f":"LEFT(C20,1)","v":"T"}]
[null,"Staff Force ID",{"$f":"IF('Staff currentNA'!W3<>\"Enter Force ID\",'Staff currentNA'!W3,'Officer current'!V3)","v":"Type Force No. here"},{"$f":"IF(D19=\"E\",\"\",IF(D19=\"1\",\"Officer\",IF(D19>\"1\",\"Staff\",\"\")))","v":"Staff"}]
[]
[null,"Role/Title:",{"$f":"IF('Application-PS'!F7>0,'Application-PS'!F7,'Application-PO'!F7)","v":0},null,null,null,null,null,null,null,null,null,"Week 4"]
[null,"BCU/Department:",{"$f":"IF('Application-PS'!F9>0,'Application-PS'!F9,'Application-PO'!F9)","v":0}]
[null,"Location:",{"$f":"IF('Application-PS'!F11>0,'Application-PS'!F11,'Application-PO'!F11)","v":0}]
[null,"Pref Contact",{"$f":"IF('Application-PS'!F13>0,'Application-PS'!F13,'Application-PO'!F13)","v":0}]
[]
[]
[]
[null,"Date of Application",{"$f":"IF('Application-PS'!F19>0,'Application-PS'!F19,'Application-PO'!F17)","v":"00:00:00"},null,null,null,null,null,null,null,null,null,"Week 5"]
[null,"Preferred Start Date",{"$f":"IF('Officer proposed'!X12>0,'Officer proposed'!X12,'Staff proposed'!AB18)","v":"00:00:00"}]
[]
[]
[]
[]
[]
[null,null,null,null,null,null,null,null,null,null,null,null,"Week 6"]
[null,1]
[null,2]
[]
[null,"Additional Hours/Duties"]
[null,"Business Need (Variation to Contract)"]
[null,"Carer Responsibilities"]
[null,"Flexible Retirement ",null,null,null,null,null,null,null,null,null,null,"Week 7"]
[null,"Health"]
[null,"Other Reason"]
[null,"Prefer Not to Say"]
[null,"Reasonable Adjustment "]
[null,"Return from Maternity Leave"]
[null,"Return to Standard Hours"]
[null,"Study",null,null,null,null,null,null,null,null,null,null,"Week 8"]
[null,"Work/Life Balance"]
[]
[]
[null,"No of weeks"]
[null,1]
[null,2]
[null,3,null,null,null,null,null,null,null,null,null,null,"Week 9"]
[null,4]
[null,5]
[null,6,null,"Yes"]
[null,7,null,"No"]
[null,8]
[null,9]
[null,10,null,null,null,null,null,null,null,null,null,null,"Week 10"]
[null,11]
[null,12]
[null,13]
[null,14]
[null,15]
[null,16]
[null,17,null,null,null,null,null,null,null,null,null,null,"Week 11"]
[null,18]
[null,19]
[null,20]
[null,21]
[null,22]
[null,23]
[null,24,null,null,null,null,null,null,null,null,null,null,"Week 12"]
[null,25]
[null,26]
[null,27]
[null,28]
[null,29]
[null,30]
[null,31,null,null,null,null,null,null,null,null,null,null,"Week 13"]
[null,32]
[null,33]
[null,34]
[null,35]
[null,36]
[null,37]
[null,38,null,null,null,null,null,null,null,null,null,null,"Week 14"]
[null,39]
[null,40]
[null,41]
[null,42]
[null,43]
[null,44]
[null,45,null,null,null,null,null,null,null,null,null,null,"Week 15"]
[null,46]
[null,47]
[null,48]
[null,49]
[null,50]
[null,51]
[null,52,null,null,null,null,null,null,null,null,null,null,"Week 16"]
[null,53]
[]
[]
[]
[]
[]
[null,null,null,null,null,null,null,null,null,null,null,null,"Week 17"]
[]
[]
[]
[]
[]
[]
[null,null,null,null,null,null,null,null,null,null,null,null,"Week 18"]
[]
[]
[]
[]
[]
[]
[null,null,null,null,null,null,null,null,null,null,null,null,"Week 19"]
[]
[]
[]
[]
[]
[]
[null,null,null,null,null,null,null,null,null,null,null,null,"Week 20"]
[]
[]
[]
[]
[]
[]
[null,null,null,null,null,null,null,null,null,null,null,null,"Week 21"]
[]
[]
[]
[]
[]
[]
[null,null,null,null,null,null,null,null,null,null,null,null,"Week 22"]
[]
[]
[]
[]
[]
[]
[null,null,null,null,null,null,null,null,null,null,null,null,"Week 23"]
[]
[]
[]
[]
[]
[]
[null,null,null,null,null,null,null,null,null,null,null,null,"Week 24"]
[]
[]
[]
[]
[]
[]
[null,null,null,null,null,null,null,null,null,null,null,null,"Week 25"]
[]
[]
[]
[]
[]
[]
[null,null,null,null,null,null,null,null,null,null,null,null,"Week 26"]
[]
[]
[]
[]
[]
[]
[null,null,null,null,null,null,null,null,null,null,null,null,"Week 27"]
[]
[]
[]
[]
[]
[]
[null,null,null,null,null,null,null,null,null,null,null,null,"Week 28"]
[]
[]
[]
[]
[]
[]
[null,null,null,null,null,null,null,null,null,null,null,null,"Week 29"]
[]
[]
[]
[]
[]
[]
[null,null,null,null,null,null,null,null,null,null,null,null,"Week 30"]
[]
[]
[]
[]
[]
[]
[null,null,null,null,null,null,null,null,null,null,null,null,"Week 31"]
[]
[]
[]
[]
[]
[]
[null,null,null,null,null,null,null,null,null,null,null,null,"Week 32"]
[]
[]
[]
[]
[]
[]
[null,null,null,null,null,null,null,null,null,null,null,null,"Week 33"]
[]
[]
[]
[]
[]
[]
[null,null,null,null,null,null,null,null,null,null,null,null,"Week 34"]
[]
[]
[]
[]
[]
[]
[null,null,null,null,null,null,null,null,null,null,null,null,"Week 35"]
[]
[]
[]
[]
[]
[]
[null,null,null,null,null,null,null,null,null,null,null,null,"Week 36"]
[]
[]
[]
[]
[]
[]
[null,null,null,null,null,null,null,null,null,null,null,null,"Week 37"]
[]
[]
[]
[]
[]
[]
[null,null,null,null,null,null,null,null,null,null,null,null,"Week 38"]
[]
[]
[]
[]
[]
[]
[null,null,null,null,null,null,null,null,null,null,null,null,"Week 39"]
[]
[]
[]
[]
[]
[]
[null,null,null,null,null,null,null,null,null,null,null,null,"Week 40"]
[]
[]
[]
[]
[]
[]
[null,null,null,null,null,null,null,null,null,null,null,null,"Week 41"]
[]
[]
[]
[]
[]
[]
[null,null,null,null,null,null,null,null,null,null,null,null,"Week 42"]
[]
[]
[]
[]
[]
[]
[null,null,null,null,null,null,null,null,null,null,null,null,"Week 43"]
[]
[]
[]
[]
[]
[]
[null,null,null,null,null,null,null,null,null,null,null,null,"Week 44"]
[]
[]
[]
[]
[]
[]
[null,null,null,null,null,null,null,null,null,null,null,null,"Week 45"]
[]
[]
[]
[]
[]
[]
[null,null,null,null,null,null,null,null,null,null,null,null,"Week 46"]
[]
[]
[]
[]
[]
[]
[null,null,null,null,null,null,null,null,null,null,null,null,"Week 47"]
[]
[]
[]
[]
[]
[]
[null,null,null,null,null,null,null,null,null,null,null,null,"Week 48"]
[]
[]
[]
[]
[]
[]
[null,null,null,null,null,null,null,null,null,null,null,null,"Week 49"]
[]
[]
[]
[]
[]
[]
[null,null,null,null,null,null,null,null,null,null,null,null,"Week 50"]
[]
[]
[]
[]
[]
[]
[null,null,null,null,null,null,null,null,null,null,null,null,"Week 51"]
[]
[]
[]
[]
[]
[]
[null,null,null,null,null,null,null,null,null,null,null,null,"Week 52"]
[]
[]
[]
[]
[]
[]
[null,null,null,null,null,null,null,null,null,null,null,null,"Week 53"]

{"sheet":"Staff currentNA","index":4,"n_rows":374,"n_cols":33,"rows_kept":374,"cut":false,"hidden":true,"merged":[[0,0,0,22],[3,34,5,36],[18,21,20,22],[2,0,2,3],[3,8,9,8],[3,9,9,9]]}
["Note: Please ensure the hours you enter below match the hours you are currently working. If you are unsure, you can see your average weekly hours via your personal Myself record, using the Resource Tab. Where a submission is made and hours do not currently match those held on HR records, this will only delay the progress of your request."]
[]
["Police Staff - Current Pattern",null,null,null,"Start Time","Finish Time","Unpaid Meal Break","Daily Hours","Week Total","Running Average","latest finish","weekend","07:00:00","18:30:00","07:00:00","18:30:00","sum",1,null,null,null,"Type name here","Type Force No. here",null,null,{"$f":"W7","v":0}]
[null,null,"Week1","Mon",null,null,null,{"$f":"IF(ISTEXT(E4),0,IF(ISTEXT(F4),0,IF(F4<E4,F4+1,F4)-E4-G4))","v":"00:00:00"},{"$f":"SUM(H4:H10)","v":0},{"$f":"IF(E4=\"\",\"\",AVERAGE(I$4:I4))","v":""},{"$f":"IF(F4<E4,F4+1,F4)","v":"00:00:00"},null,{"$f":"IF(H4>0,IF(M$3-E4>0,M$3-E4,0),0)","v":"00:00:00"},{"$f":"IF(H4>0,IF(F4-N$3>0,F4-N$3,0),0)","v":"00:00:00"},{"$f":"IF(H4>0,IF(F4<E4,IF(F4>O$3,O$3,F4),0),0)","v":"00:00:00"},{"$f":"IF(H4>0,IF(E4>F4,IF(E4>N$3,R$3-E4,R$3-P$3),0),0)","v":"00:00:00"},{"$f":"SUM(M4:P4)","v":"00:00:00"},{"$f":"IF(H4>0,IF(SUM(M4:P4)>0,\"Yes\",\"no\"),0)","v":0},{"$f":"IF(H4>0,IF(F4-E4<0,1,IF(E4<0.25,1,IF(F4>(20/24),1,0))),0)","v":0},null,null,1,{"$f":"IF(V4=52,52.143,V4)","v":1},null,52,{"$f":"IF(W4=52,52.143,V4)","v":1},null,null,null,null,null,null,{"$f":"SUM($L$4:OFFSET($L$4,(($W$4*7)-1),0))","v":"00:00:00"}]
[null,null,null,"Tue",null,null,null,{"$f":"IF(ISTEXT(E5),0,IF(ISTEXT(F5),0,IF(F5<E5,F5+1,F5)-E5-G5))","v":"00:00:00"},null,null,"00:00:00",null,{"$f":"IF(H5>0,IF(M$3-E5>0,M$3-E5,0),0)","v":"00:00:00"},{"$f":"IF(H5>0,IF(F5-N$3>0,F5-N$3,0),0)","v":"00:00:00"},"00:00:00","00:00:00",{"$f":"SUM(M5:P5)","v":"00:00:00"},{"$f":"IF(H5>0,IF(SUM(M5:P5)>0,\"Yes\",\"no\"),0)","v":0},{"$f":"IF(H5>0,IF(F5-E5<0,1,IF(E5<0.25,1,IF(F5>(20/24),1,0))),0)","v":0},null,null,null,null,null,null,{"$f":"IF(W4<=52,W4,52.143)","v":1},null,null,null,null,"Earliest start time =",{"$f":"MIN($E$4:OFFSET($E$4,(($W$4*7)-1),0))","v":"00:00:00"}]
[null,null,null,"Wed",null,null,null,"00:00:00",null,null,{"$f":"IF(F6<E6,F6+1,F6)","v":"00:00:00"},null,{"$f":"IF(H6>0,IF(M$3-E6>0,M$3-E6,0),0)","v":"00:00:00"},{"$f":"IF(H6>0,IF(F6-N$3>0,F6-N$3,0),0)","v":"00:00:00"},"00:00:00","00:00:00","00:00:00",{"$f":"IF(H6>0,IF(SUM(M6:P6)>0,\"Yes\",\"no\"),0)","v":0},0,null,null,null,null,null,null,null,null,null,null,null,"Latest start time =",{"$f":"MAX($E$4:OFFSET($E$4,(($W$4*7)-1),0))","v":"00:00:00"}]
[null,null,null,"Thu",null,null,null,"00:00:00",null,null,{"$f":"IF(F7<E7,F7+1,F7)","v":"00:00:00"},null,{"$f":"IF(H7>0,IF(M$3-E7>0,M$3-E7,0),0)","v":"00:00:00"},{"$f":"IF(H7>0,IF(F7-N$3>0,F7-N$3,0),0)","v":"00:00:00"},"00:00:00","00:00:00","00:00:00",{"$f":"IF(H7>0,IF(SUM(M7:P7)>0,\"Yes\",\"no\"),0)","v":0},0,null,null,"Average Weekly Hours",{"$f":"SUM($I$4:OFFSET($I$4,(($W$4*7)-1),0))/Z4","v":0},null,null,null,{"$f":"W7*24","v":0},null,null,null,"Latest finish time =",{"$f":"MAX($K$4:OFFSET($K$4,(($W$4*7)-1),0))","v":"00:00:00"}]
[null,null,null,"Fri",null,null,null,"00:00:00",null,null,0,null,"00:00:00","00:00:00","00:00:00","00:00:00","00:00:00",{"$f":"IF(H8>0,IF(SUM(M8:P8)>0,\"Yes\",\"no\"),0)","v":0},0,null,null,"Decimalised Weekly Hours",{"$f":"(W7*24)","v":0},{"$f":"COUNTIF($R$4:OFFSET($R$4,(($W$4*7)-1),0),\"yes\")","v":0},{"$f":"COUNTIF($R$4:OFFSET($R$4,(($W$4*7)-1),0),\"no\")","v":0},null,null,null,null,null,"More than 50% unsocial hours shifts?",{"$f":"IF(X8>=Y8,\"yes\",\"no\")","v":"yes"}]
[null,null,null,"Sat",null,null,null,"00:00:00",null,null,"00:00:00",{"$f":"H9","v":"00:00:00"},"00:00:00","00:00:00","00:00:00","00:00:00","00:00:00",{"$f":"IF(H9>0,\"yes\",0)","v":0},0,null,null,null,null,{"$f":"$AF$7-$AF$5","v":0},null,null,null,null,null,null,"Shift period >= 18 hours?",{"$f":"IF(X9>=0.75,\"yes\",\"no\")","v":"no"}]
[null,null,null,"Sun",null,null,null,"00:00:00",null,null,"00:00:00",{"$f":"H10","v":"00:00:00"},"00:00:00","00:00:00","00:00:00","00:00:00","00:00:00",{"$f":"IF(H10>0,\"yes\",0)","v":0},0,null,null,"Allowances",null,null,null,null,null,null,null,null,"Shift period > 14 hours AND <18 hours?",{"$f":"IF(AF9=\"no\",IF(X9>0.584,\"yes\",\"no\"),\"no\")","v":"no"}]
[null,null,null,null,null,null,null,null,null,null,{"$f":"IF(F11<E11,F11+1,F11)","v":"00:00:00"},null,{"$f":"IF(H11>0,IF(M$3-E11>0,M$3-E11,0),0)","v":"00:00:00"},{"$f":"IF(H11>0,IF(F11-N$3>0,F11-N$3,0),0)","v":"00:00:00"},{"$f":"IF(H11>0,IF(F11<E11,IF(F11>O$3,O$3,F11),0),0)","v":"00:00:00"},{"$f":"IF(H11>0,IF(E11>F11,IF(E11>N$3,R$3-E11,R$3-P$3),0),0)","v":"00:00:00"},{"$f":"SUM(M11:P11)","v":"00:00:00"},{"$f":"IF(H11>0,IF(SUM(M11:P11)>0,\"Yes\",\"no\"),0)","v":0},{"$f":"IF(H11>0,IF(F11-E11<0,1,IF(E11<0.25,1,IF(F11>(20/24),1,0))),0)","v":0},null,null,"Shift Allowance",{"$f":"IF(W4=1,\"N/A\",IF((AF6-AF5)<(4/24),\"N/A\",IF(AF8=\"no\",\"N/A\",IF(AF9=\"yes\",\"20%\",IF(AF10=\"yes\",\"14%\",IF(AF11=\"yes\",\"12.5%\",\"N/A\"))))))","v":"N/A"},null,null,null,null,null,null,null,"Shift period >= 11 AND <= 14 hours?",{"$f":"IF(AF9=\"no\",IF(AF10=\"no\",IF(X9>=0.4583,\"yes\",\"no\"),\"no\"),\"no\")","v":"no"}]
[null,null,null,null,null,null,null,null,null,null,"00:00:00",null,{"$f":"IF(H12>0,IF(M$3-E12>0,M$3-E12,0),0)","v":"00:00:00"},{"$f":"IF(H12>0,IF(F12-N$3>0,F12-N$3,0),0)","v":"00:00:00"},"00:00:00","00:00:00",{"$f":"SUM(M12:P12)","v":"00:00:00"},{"$f":"IF(H12>0,IF(SUM(M12:P12)>0,\"Yes\",\"no\"),0)","v":0},{"$f":"IF(H12>0,IF(F12-E12<0,1,IF(E12<0.25,1,IF(F12>(20/24),1,0))),0)","v":0},null,null,"Weekend Payment",{"$f":"IF(AF12=\"yes\",\"Time and a Half\",\"No Payment\")","v":"No Payment"},null,null,null,null,null,null,null,"Work weekends?",{"$f":"IF(AG4>0,\"yes\",\"no\")","v":"no"}]
[null,null,null,null,null,null,null,null,null,null,{"$f":"IF(F13<E13,F13+1,F13)","v":"00:00:00"},null,{"$f":"IF(H13>0,IF(M$3-E13>0,M$3-E13,0),0)","v":"00:00:00"},{"$f":"IF(H13>0,IF(F13-N$3>0,F13-N$3,0),0)","v":"00:00:00"},"00:00:00","00:00:00","00:00:00",{"$f":"IF(H13>0,IF(SUM(M13:P13)>0,\"Yes\",\"no\"),0)","v":0},0,null,null,"Irregular Hours Payment",{"$f":"IF(W4=1,\"No Payment\",IF(W11=\"N/A\",IF(AF13=\"yes\",\"10%\",IF(AF14=\"yes\",\"7.5%\",\"No Payment\")),\"No Payment\"))","v":"No Payment"},null,null,null,null,null,null,null,"> 8hours pw before 07:00 or after 18:30?",{"$f":"IF((SUM($Q$4:OFFSET($Q$4,(($W$4*7)-1),0))/W$4)>0.333,\"yes\",\"no\")","v":"no"}]
[null,null,null,null,null,null,null,null,null,null,{"$f":"IF(F14<E14,F14+1,F14)","v":"00:00:00"},null,{"$f":"IF(H14>0,IF(M$3-E14>0,M$3-E14,0),0)","v":"00:00:00"},{"$f":"IF(H14>0,IF(F14-N$3>0,F14-N$3,0),0)","v":"00:00:00"},"00:00:00","00:00:00","00:00:00",{"$f":"IF(H14>0,IF(SUM(M14:P14)>0,\"Yes\",\"no\"),0)","v":0},0,null,null,"Night Work Payment",{"$f":"IF(W11=\"N/A\",IF(AF15=\"yes\",IF(W13=\"No Payment\",\"Time and a Third\",\"No Payment\"),\"No Payment\"),\"No Payment\")","v":"No Payment"},null,null,null,null,null,null,null,">=4 AND <8 hrs pw before 07:00 or after 18:30?",{"$f":"IF(AF13=\"no\",IF((SUM($Q$4:OFFSET($Q$4,(($W$4*7)-1),0))/W$4)>0.166,\"yes\",\"no\"),\"no\")","v":"no"}]
[null,null,null,null,null,null,null,null,null,null,{"$f":"IF(F15<E15,F15+1,F15)","v":0},null,{"$f":"IF(H15>0,IF(M$3-E15>0,M$3-E15,0),0)","v":"00:00:00"},{"$f":"IF(H15>0,IF(F15-N$3>0,F15-N$3,0),0)","v":"00:00:00"},"00:00:00","00:00:00","00:00:00",{"$f":"IF(H15>0,IF(SUM(M15:P15)>0,\"Yes\",\"no\"),0)","v":0},0,null,null,null,null,null,null,null,null,null,null,null,"Work between 20:00 and 06:00?",{"$f":"IF((SUM($R$4:OFFSET($S$4,(($W$4*7)-1),0))/$W$4)>0,\"yes\",\"no\")","v":"no"}]
[null,null,null,null,null,null,null,null,null,null,"00:00:00",{"$f":"H16","v":"00:00:00"},"00:00:00","00:00:00","00:00:00","00:00:00","00:00:00",{"$f":"IF(H16>0,\"yes\",0)","v":0},0]
[null,null,null,null,null,null,null,null,null,null,"00:00:00",{"$f":"H17","v":"00:00:00"},"00:00:00","00:00:00","00:00:00","00:00:00","00:00:00",{"$f":"IF(H17>0,\"yes\",0)","v":0},0]
[null,null,null,null,null,null,null,null,null,null,"00:00:00",null,{"$f":"IF(H18>0,IF(M$3-E18>0,M$3-E18,0),0)","v":"00:00:00"},{"$f":"IF(H18>0,IF(F18-N$3>0,F18-N$3,0),0)","v":"00:00:00"},{"$f":"IF(H18>0,IF(F18<E18,IF(F18>O$3,O$3,F18),0),0)","v":"00:00:00"},{"$f":"IF(H18>0,IF(E18>F18,IF(E18>N$3,R$3-E18,R$3-P$3),0),0)","v":"00:00:00"},{"$f":"SUM(M18:P18)","v":"00:00:00"},{"$f":"IF(H18>0,IF(SUM(M18:P18)>0,\"Yes\",\"no\"),0)","v":0},{"$f":"IF(H18>0,IF(F18-E18<0,1,IF(E18<0.25,1,IF(F18>(20/24),1,0))),0)","v":0}]
[null,null,null,null,null,null,null,null,null,null,"00:00:00",null,{"$f":"IF(H19>0,IF(M$3-E19>0,M$3-E19,0),0)","v":"00:00:00"},{"$f":"IF(H19>0,IF(F19-N$3>0,F19-N$3,0),0)","v":"00:00:00"},"00:00:00","00:00:00",{"$f":"SUM(M19:P19)","v":"00:00:00"},{"$f":"IF(H19>0,IF(SUM(M19:P19)>0,\"Yes\",\"no\"),0)","v":0},{"$f":"IF(H19>0,IF(F19-E19<0,1,IF(E19<0.25,1,IF(F19>(20/24),1,0))),0)","v":0},null,null,{"$f":"IF(W7>'PS-Calcs'!Q1,\"The average number of hours exceeds 37, please review\",\"\")","v":""}]
[null,null,null,null,null,null,null,null,null,null,{"$f":"IF(F20<E20,F20+1,F20)","v":"00:00:00"},null,{"$f":"IF(H20>0,IF(M$3-E20>0,M$3-E20,0),0)","v":"00:00:00"},{"$f":"IF(H20>0,IF(F20-N$3>0,F20-N$3,0),0)","v":"00:00:00"},"00:00:00","00:00:00","00:00:00",{"$f":"IF(H20>0,IF(SUM(M20:P20)>0,\"Yes\",\"no\"),0)","v":0},0]
[null,null,null,null,null,null,null,null,null,null,{"$f":"IF(F21<E21,F21+1,F21)","v":"00:00:00"},null,{"$f":"IF(H21>0,IF(M$3-E21>0,M$3-E21,0),0)","v":"00:00:00"},{"$f":"IF(H21>0,IF(F21-N$3>0,F21-N$3,0),0)","v":"00:00:00"},"00:00:00","00:00:00","00:00:00",{"$f":"IF(H21>0,IF(SUM(M21:P21)>0,\"Yes\",\"no\"),0)","v":0},0]
[null,null,null,null,null,null,null,null,null,null,{"$f":"IF(F22<E22,F22+1,F22)","v":0},null,{"$f":"IF(H22>0,IF(M$3-E22>0,M$3-E22,0),0)","v":"00:00:00"},{"$f":"IF(H22>0,IF(F22-N$3>0,F22-N$3,0),0)","v":"00:00:00"},"00:00:00","00:00:00","00:00:00",{"$f":"IF(H22>0,IF(SUM(M22:P22)>0,\"Yes\",\"no\"),0)","v":0},0]
[null,null,null,null,null,null,null,null,null,null,"00:00:00",{"$f":"H23","v":"00:00:00"},"00:00:00","00:00:00","00:00:00","00:00:00","00:00:00",{"$f":"IF(H23>0,\"yes\",0)","v":0},0]
[null,null,null,null,null,null,null,null,null,null,"00:00:00",{"$f":"H24","v":"00:00:00"},"00:00:00","00:00:00","00:00:00","00:00:00","00:00:00",{"$f":"IF(H24>0,\"yes\",0)","v":0},0]
[null,null,null,null,null,null,null,null,null,null,"00:00:00",null,{"$f":"IF(H25>0,IF(M$3-E25>0,M$3-E25,0),0)","v":"00:00:00"},{"$f":"IF(H25>0,IF(F25-N$3>0,F25-N$3,0),0)","v":"00:00:00"},{"$f":"IF(H25>0,IF(F25<E25,IF(F25>O$3,O$3,F25),0),0)","v":"00:00:00"},{"$f":"IF(H25>0,IF(E25>F25,IF(E25>N$3,R$3-E25,R$3-P$3),0),0)","v":"00:00:00"},{"$f":"SUM(M25:P25)","v":"00:00:00"},{"$f":"IF(H25>0,IF(SUM(M25:P25)>0,\"Yes\",\"no\"),0)","v":0},{"$f":"IF(H25>0,IF(F25-E25<0,1,IF(E25<0.25,1,IF(F25>(20/24),1,0))),0)","v":0}]
[null,null,null,null,null,null,null,null,null,null,"00:00:00",null,{"$f":"IF(H26>0,IF(M$3-E26>0,M$3-E26,0),0)","v":"00:00:00"},{"$f":"IF(H26>0,IF(F26-N$3>0,F26-N$3,0),0)","v":"00:00:00"},"00:00:00","00:00:00",{"$f":"SUM(M26:P26)","v":"00:00:00"},{"$f":"IF(H26>0,IF(SUM(M26:P26)>0,\"Yes\",\"no\"),0)","v":0},{"$f":"IF(H26>0,IF(F26-E26<0,1,IF(E26<0.25,1,IF(F26>(20/24),1,0))),0)","v":0}]
[null,null,null,null,null,null,null,null,null,null,{"$f":"IF(F27<E27,F27+1,F27)","v":"00:00:00"},null,{"$f":"IF(H27>0,IF(M$3-E27>0,M$3-E27,0),0)","v":"00:00:00"},{"$f":"IF(H27>0,IF(F27-N$3>0,F27-N$3,0),0)","v":"00:00:00"},"00:00:00","00:00:00","00:00:00",{"$f":"IF(H27>0,IF(SUM(M27:P27)>0,\"Yes\",\"no\"),0)","v":0},0]
[null,null,null,null,null,null,null,null,null,null,{"$f":"IF(F28<E28,F28+1,F28)","v":"00:00:00"},null,{"$f":"IF(H28>0,IF(M$3-E28>0,M$3-E28,0),0)","v":"00:00:00"},{"$f":"IF(H28>0,IF(F28-N$3>0,F28-N$3,0),0)","v":"00:00:00"},"00:00:00","00:00:00","00:00:00",{"$f":"IF(H28>0,IF(SUM(M28:P28)>0,\"Yes\",\"no\"),0)","v":0},0]
[null,null,null,null,null,null,null,null,null,null,{"$f":"IF(F29<E29,F29+1,F29)","v":0},null,{"$f":"IF(H29>0,IF(M$3-E29>0,M$3-E29,0),0)","v":"00:00:00"},{"$f":"IF(H29>0,IF(F29-N$3>0,F29-N$3,0),0)","v":"00:00:00"},"00:00:00","00:00:00","00:00:00",{"$f":"IF(H29>0,IF(SUM(M29:P29)>0,\"Yes\",\"no\"),0)","v":0},0]
[null,null,null,null,null,null,null,null,null,null,"00:00:00",{"$f":"H30","v":"00:00:00"},"00:00:00","00:00:00","00:00:00","00:00:00","00:00:00",{"$f":"IF(H30>0,\"yes\",0)","v":0},0]
[null,null,null,null,null,null,null,null,null,null,"00:00:00",{"$f":"H31","v":"00:00:00"},"00:00:00","00:00:00","00:00:00","00:00:00","00:00:00",{"$f":"IF(H31>0,\"yes\",0)","v":0},0]
[null,null,null,null,null,null,null,null,null,null,"00:00:00",null,{"$f":"IF(H32>0,IF(M$3-E32>0,M$3-E32,0),0)","v":"00:00:00"},{"$f":"IF(H32>0,IF(F32-N$3>0,F32-N$3,0),0)","v":"00:00:00"},{"$f":"IF(H32>0,IF(F32<E32,IF(F32>O$3,O$3,F32),0),0)","v":"00:00:00"},{"$f":"IF(H32>0,IF(E32>F32,IF(E32>N$3,R$3-E32,R$3-P$3),0),0)","v":"00:00:00"},{"$f":"SUM(M32:P32)","v":"00:00:00"},{"$f":"IF(H32>0,IF(SUM(M32:P32)>0,\"Yes\",\"no\"),0)","v":0},{"$f":"IF(H32>0,IF(F32-E32<0,1,IF(E32<0.25,1,IF(F32>(20/24),1,0))),0)","v":0}]
[null,null,null,null,null,null,null,null,null,null,"00:00:00",null,{"$f":"IF(H33>0,IF(M$3-E33>0,M$3-E33,0),0)","v":"00:00:00"},{"$f":"IF(H33>0,IF(F33-N$3>0,F33-N$3,0),0)","v":"00:00:00"},"00:00:00","00:00:00",{"$f":"SUM(M33:P33)","v":"00:00:00"},{"$f":"IF(H33>0,IF(SUM(M33:P33)>0,\"Yes\",\"no\"),0)","v":0},{"$f":"IF(H33>0,IF(F33-E33<0,1,IF(E33<0.25,1,IF(F33>(20/24),1,0))),0)","v":0}]
[null,null,null,null,null,null,null,null,null,null,{"$f":"IF(F34<E34,F34+1,F34)","v":"00:00:00"},null,{"$f":"IF(H34>0,IF(M$3-E34>0,M$3-E34,0),0)","v":"00:00:00"},{"$f":"IF(H34>0,IF(F34-N$3>0,F34-N$3,0),0)","v":"00:00:00"},"00:00:00","00:00:00","00:00:00",{"$f":"IF(H34>0,IF(SUM(M34:P34)>0,\"Yes\",\"no\"),0)","v":0},0]
[null,null,null,null,null,null,null,null,null,null,{"$f":"IF(F35<E35,F35+1,F35)","v":"00:00:00"},null,{"$f":"IF(H35>0,IF(M$3-E35>0,M$3-E35,0),0)","v":"00:00:00"},{"$f":"IF(H35>0,IF(F35-N$3>0,F35-N$3,0),0)","v":"00:00:00"},"00:00:00","00:00:00","00:00:00",{"$f":"IF(H35>0,IF(SUM(M35:P35)>0,\"Yes\",\"no\"),0)","v":0},0]
[null,null,null,null,null,null,null,null,null,null,{"$f":"IF(F36<E36,F36+1,F36)","v":0},null,{"$f":"IF(H36>0,IF(M$3-E36>0,M$3-E36,0),0)","v":"00:00:00"},{"$f":"IF(H36>0,IF(F36-N$3>0,F36-N$3,0),0)","v":"00:00:00"},"00:00:00","00:00:00","00:00:00",{"$f":"IF(H36>0,IF(SUM(M36:P36)>0,\"Yes\",\"no\"),0)","v":0},0]
[null,null,null,null,null,null,null,null,null,null,"00:00:00",{"$f":"H37","v":"00:00:00"},"00:00:00","00:00:00","00:00:00","00:00:00","00:00:00",{"$f":"IF(H37>0,\"yes\",0)","v":0},0]
[null,null,null,null,null,null,null,null,null,null,"00:00:00",{"$f":"H38","v":"00:00:00"},"00:00:00","00:00:00","00:00:00","00:00:00","00:00:00",{"$f":"IF(H38>0,\"yes\",0)","v":0},0]
[null,null,null,null,null,null,null,null,null,null,"00:00:00",null,{"$f":"IF(H39>0,IF(M$3-E39>0,M$3-E39,0),0)","v":"00:00:00"},{"$f":"IF(H39>0,IF(F39-N$3>0,F39-N$3,0),0)","v":"00:00:00"},{"$f":"IF(H39>0,IF(F39<E39,IF(F39>O$3,O$3,F39),0),0)","v":"00:00:00"},{"$f":"IF(H39>0,IF(E39>F39,IF(E39>N$3,R$3-E39,R$3-P$3),0),0)","v":"00:00:00"},{"$f":"SUM(M39:P39)","v":"00:00:00"},{"$f":"IF(H39>0,IF(SUM(M39:P39)>0,\"Yes\",\"no\"),0)","v":0},{"$f":"IF(H39>0,IF(F39-E39<0,1,IF(E39<0.25,1,IF(F39>(20/24),1,0))),0)","v":0}]
[null,null,null,null,null,null,null,null,null,null,"00:00:00",null,{"$f":"IF(H40>0,IF(M$3-E40>0,M$3-E40,0),0)","v":"00:00:00"},{"$f":"IF(H40>0,IF(F40-N$3>0,F40-N$3,0),0)","v":"00:00:00"},"00:00:00","00:00:00",{"$f":"SUM(M40:P40)","v":"00:00:00"},{"$f":"IF(H40>0,IF(SUM(M40:P40)>0,\"Yes\",\"no\"),0)","v":0},{"$f":"IF(H40>0,IF(F40-E40<0,1,IF(E40<0.25,1,IF(F40>(20/24),1,0))),0)","v":0}]
[null,null,null,null,null,null,null,null,null,null,{"$f":"IF(F41<E41,F41+1,F41)","v":"00:00:00"},null,{"$f":"IF(H41>0,IF(M$3-E41>0,M$3-E41,0),0)","v":"00:00:00"},{"$f":"IF(H41>0,IF(F41-N$3>0,F41-N$3,0),0)","v":"00:00:00"},"00:00:00","00:00:00","00:00:00",{"$f":"IF(H41>0,IF(SUM(M41:P41)>0,\"Yes\",\"no\"),0)","v":0},0]
[null,null,null,null,null,null,null,null,null,null,{"$f":"IF(F42<E42,F42+1,F42)","v":"00:00:00"},null,{"$f":"IF(H42>0,IF(M$3-E42>0,M$3-E42,0),0)","v":"00:00:00"},{"$f":"IF(H42>0,IF(F42-N$3>0,F42-N$3,0),0)","v":"00:00:00"},"00:00:00","00:00:00","00:00:00",{"$f":"IF(H42>0,IF(SUM(M42:P42)>0,\"Yes\",\"no\"),0)","v":0},0]
[null,null,null,null,null,null,null,null,null,null,{"$f":"IF(F43<E43,F43+1,F43)","v":0},null,{"$f":"IF(H43>0,IF(M$3-E43>0,M$3-E43,0),0)","v":"00:00:00"},{"$f":"IF(H43>0,IF(F43-N$3>0,F43-N$3,0),0)","v":"00:00:00"},"00:00:00","00:00:00","00:00:00",{"$f":"IF(H43>0,IF(SUM(M43:P43)>0,\"Yes\",\"no\"),0)","v":0},0]
[null,null,null,null,null,null,null,null,null,null,"00:00:00",{"$f":"H44","v":"00:00:00"},"00:00:00","00:00:00","00:00:00","00:00:00","00:00:00",{"$f":"IF(H44>0,\"yes\",0)","v":0},0]
[null,null,null,null,null,null,null,null,null,null,"00:00:00",{"$f":"H45","v":"00:00:00"},"00:00:00","00:00:00","00:00:00","00:00:00","00:00:00",{"$f":"IF(H45>0,\"yes\",0)","v":0},0]
[null,null,null,null,null,null,null,null,null,null,"00:00:00",null,{"$f":"IF(H46>0,IF(M$3-E46>0,M$3-E46,0),0)","v":"00:00:00"},{"$f":"IF(H46>0,IF(F46-N$3>0,F46-N$3,0),0)","v":"00:00:00"},{"$f":"IF(H46>0,IF(F46<E46,IF(F46>O$3,O$3,F46),0),0)","v":"00:00:00"},{"$f":"IF(H46>0,IF(E46>F46,IF(E46>N$3,R$3-E46,R$3-P$3),0),0)","v":"00:00:00"},{"$f":"SUM(M46:P46)","v":"00:00:00"},{"$f":"IF(H46>0,IF(SUM(M46:P46)>0,\"Yes\",\"no\"),0)","v":0},{"$f":"IF(H46>0,IF(F46-E46<0,1,IF(E46<0.25,1,IF(F46>(20/24),1,0))),0)","v":0}]
[null,null,null,null,null,null,null,null,null,null,"00:00:00",null,{"$f":"IF(H47>0,IF(M$3-E47>0,M$3-E47,0),0)","v":"00:00:00"},{"$f":"IF(H47>0,IF(F47-N$3>0,F47-N$3,0),0)","v":"00:00:00"},"00:00:00","00:00:00",{"$f":"SUM(M47:P47)","v":"00:00:00"},{"$f":"IF(H47>0,IF(SUM(M47:P47)>0,\"Yes\",\"no\"),0)","v":0},{"$f":"IF(H47>0,IF(F47-E47<0,1,IF(E47<0.25,1,IF(F47>(20/24),1,0))),0)","v":0}]
[null,null,null,null,null,null,null,null,null,null,{"$f":"IF(F48<E48,F48+1,F48)","v":"00:00:00"},null,{"$f":"IF(H48>0,IF(M$3-E48>0,M$3-E48,0),0)","v":"00:00:00"},{"$f":"IF(H48>0,IF(F48-N$3>0,F48-N$3,0),0)","v":"00:00:00"},"00:00:00","00:00:00","00:00:00",{"$f":"IF(H48>0,IF(SUM(M48:P48)>0,\"Yes\",\"no\"),0)","v":0},0]
[null,null,null,null,null,null,null,null,null,null,{"$f":"IF(F49<E49,F49+1,F49)","v":"00:00:00"},null,{"$f":"IF(H49>0,IF(M$3-E49>0,M$3-E49,0),0)","v":"00:00:00"},{"$f":"IF(H49>0,IF(F49-N$3>0,F49-N$3,0),0)","v":"00:00:00"},"00:00:00","00:00:00","00:00:00",{"$f":"IF(H49>0,IF(SUM(M49:P49)>0,\"Yes\",\"no\"),0)","v":0},0]
[null,null,null,null,null,null,null,null,null,null,{"$f":"IF(F50<E50,F50+1,F50)","v":0},null,{"$f":"IF(H50>0,IF(M$3-E50>0,M$3-E50,0),0)","v":"00:00:00"},{"$f":"IF(H50>0,IF(F50-N$3>0,F50-N$3,0),0)","v":"00:00:00"},"00:00:00","00:00:00","00:00:00",{"$f":"IF(H50>0,IF(SUM(M50:P50)>0,\"Yes\",\"no\"),0)","v":0},0]
[null,null,null,null,null,null,null,null,null,null,"00:00:00",{"$f":"H51","v":"00:00:00"},"00:00:00","00:00:00","00:00:00","00:00:00","00:00:00",{"$f":"IF(H51>0,\"yes\",0)","v":0},0]
[null,null,null,null,null,null,null,null,null,null,"00:00:00",{"$f":"H52","v":"00:00:00"},"00:00:00","00:00:00","00:00:00","00:00:00","00:00:00",{"$f":"IF(H52>0,\"yes\",0)","v":0},0]
[null,null,null,null,null,null,null,null,null,null,"00:00:00",null,{"$f":"IF(H53>0,IF(M$3-E53>0,M$3-E53,0),0)","v":"00:00:00"},{"$f":"IF(H53>0,IF(F53-N$3>0,F53-N$3,0),0)","v":"00:00:00"},{"$f":"IF(H53>0,IF(F53<E53,IF(F53>O$3,O$3,F53),0),0)","v":"00:00:00"},{"$f":"IF(H53>0,IF(E53>F53,IF(E53>N$3,R$3-E53,R$3-P$3),0),0)","v":"00:00:00"},{"$f":"SUM(M53:P53)","v":"00:00:00"},{"$f":"IF(H53>0,IF(SUM(M53:P53)>0,\"Yes\",\"no\"),0)","v":0},{"$f":"IF(H53>0,IF(F53-E53<0,1,IF(E53<0.25,1,IF(F53>(20/24),1,0))),0)","v":0}]
[null,null,null,null,null,null,null,null,null,null,"00:00:00",null,{"$f":"IF(H54>0,IF(M$3-E54>0,M$3-E54,0),0)","v":"00:00:00"},{"$f":"IF(H54>0,IF(F54-N$3>0,F54-N$3,0),0)","v":"00:00:00"},"00:00:00","00:00:00",{"$f":"SUM(M54:P54)","v":"00:00:00"},{"$f":"IF(H54>0,IF(SUM(M54:P54)>0,\"Yes\",\"no\"),0)","v":0},{"$f":"IF(H54>0,IF(F54-E54<0,1,IF(E54<0.25,1,IF(F54>(20/24),1,0))),0)","v":0}]
[null,null,null,null,null,null,null,null,null,null,{"$f":"IF(F55<E55,F55+1,F55)","v":"00:00:00"},null,{"$f":"IF(H55>0,IF(M$3-E55>0,M$3-E55,0),0)","v":"00:00:00"},{"$f":"IF(H55>0,IF(F55-N$3>0,F55-N$3,0),0)","v":"00:00:00"},"00:00:00","00:00:00","00:00:00",{"$f":"IF(H55>0,IF(SUM(M55:P55)>0,\"Yes\",\"no\"),0)","v":0},0]
[null,null,null,null,null,null,null,null,null,null,{"$f":"IF(F56<E56,F56+1,F56)","v":"00:00:00"},null,{"$f":"IF(H56>0,IF(M$3-E56>0,M$3-E56,0),0)","v":"00:00:00"},{"$f":"IF(H56>0,IF(F56-N$3>0,F56-N$3,0),0)","v":"00:00:00"},"00:00:00","00:00:00","00:00:00",{"$f":"IF(H56>0,IF(SUM(M56:P56)>0,\"Yes\",\"no\"),0)","v":0},0]
[null,null,null,null,null,null,null,null,null,null,{"$f":"IF(F57<E57,F57+1,F57)","v":0},null,{"$f":"IF(H57>0,IF(M$3-E57>0,M$3-E57,0),0)","v":"00:00:00"},{"$f":"IF(H57>0,IF(F57-N$3>0,F57-N$3,0),0)","v":"00:00:00"},"00:00:00","00:00:00","00:00:00",{"$f":"IF(H57>0,IF(SUM(M57:P57)>0,\"Yes\",\"no\"),0)","v":0},0]
[null,null,null,null,null,null,null,null,null,null,"00:00:00",{"$f":"H58","v":"00:00:00"},"00:00:00","00:00:00","00:00:00","00:00:00","00:00:00",{"$f":"IF(H58>0,\"yes\",0)","v":0},0]
[null,null,null,null,null,null,null,null,null,null,"00:00:00",{"$f":"H59","v":"00:00:00"},"00:00:00","00:00:00","00:00:00","00:00:00","00:00:00",{"$f":"IF(H59>0,\"yes\",0)","v":0},0]
[null,null,null,null,null,null,null,null,null,null,"00:00:00",null,{"$f":"IF(H60>0,IF(M$3-E60>0,M$3-E60,0),0)","v":"00:00:00"},{"$f":"IF(H60>0,IF(F60-N$3>0,F60-N$3,0),0)","v":"00:00:00"},{"$f":"IF(H60>0,IF(F60<E60,IF(F60>O$3,O$3,F60),0),0)","v":"00:00:00"},{"$f":"IF(H60>0,IF(E60>F60,IF(E60>N$3,R$3-E60,R$3-P$3),0),0)","v":"00:00:00"},{"$f":"SUM(M60:P60)","v":"00:00:00"},{"$f":"IF(H60>0,IF(SUM(M60:P60)>0,\"Yes\",\"no\"),0)","v":0},{"$f":"IF(H60>0,IF(F60-E60<0,1,IF(E60<0.25,1,IF(F60>(20/24),1,0))),0)","v":0}]
[null,null,null,null,null,null,null,null,null,null,"00:00:00",null,{"$f":"IF(H61>0,IF(M$3-E61>0,M$3-E61,0),0)","v":"00:00:00"},{"$f":"IF(H61>0,IF(F61-N$3>0,F61-N$3,0),0)","v":"00:00:00"},"00:00:00","00:00:00",{"$f":"SUM(M61:P61)","v":"00:00:00"},{"$f":"IF(H61>0,IF(SUM(M61:P61)>0,\"Yes\",\"no\"),0)","v":0},{"$f":"IF(H61>0,IF(F61-E61<0,1,IF(E61<0.25,1,IF(F61>(20/24),1,0))),0)","v":0}]
[null,null,null,null,null,null,null,null,null,null,{"$f":"IF(F62<E62,F62+1,F62)","v":"00:00:00"},null,{"$f":"IF(H62>0,IF(M$3-E62>0,M$3-E62,0),0)","v":"00:00:00"},{"$f":"IF(H62>0,IF(F62-N$3>0,F62-N$3,0),0)","v":"00:00:00"},"00:00:00","00:00:00","00:00:00",{"$f":"IF(H62>0,IF(SUM(M62:P62)>0,\"Yes\",\"no\"),0)","v":0},0]
[null,null,null,null,null,null,null,null,null,null,{"$f":"IF(F63<E63,F63+1,F63)","v":"00:00:00"},null,{"$f":"IF(H63>0,IF(M$3-E63>0,M$3-E63,0),0)","v":"00:00:00"},{"$f":"IF(H63>0,IF(F63-N$3>0,F63-N$3,0),0)","v":"00:00:00"},"00:00:00","00:00:00","00:00:00",{"$f":"IF(H63>0,IF(SUM(M63:P63)>0,\"Yes\",\"no\"),0)","v":0},0]
[null,null,null,null,null,null,null,null,null,null,{"$f":"IF(F64<E64,F64+1,F64)","v":0},null,{"$f":"IF(H64>0,IF(M$3-E64>0,M$3-E64,0),0)","v":"00:00:00"},{"$f":"IF(H64>0,IF(F64-N$3>0,F64-N$3,0),0)","v":"00:00:00"},"00:00:00","00:00:00","00:00:00",{"$f":"IF(H64>0,IF(SUM(M64:P64)>0,\"Yes\",\"no\"),0)","v":0},0]
[null,null,null,null,null,null,null,null,null,null,"00:00:00",{"$f":"H65","v":"00:00:00"},"00:00:00","00:00:00","00:00:00","00:00:00","00:00:00",{"$f":"IF(H65>0,\"yes\",0)","v":0},0]
[null,null,null,null,null,null,null,null,null,null,"00:00:00",{"$f":"H66","v":"00:00:00"},"00:00:00","00:00:00","00:00:00","00:00:00","00:00:00",{"$f":"IF(H66>0,\"yes\",0)","v":0},0]
[null,null,null,null,null,null,null,null,null,null,"00:00:00",null,{"$f":"IF(H67>0,IF(M$3-E67>0,M$3-E67,0),0)","v":"00:00:00"},{"$f":"IF(H67>0,IF(F67-N$3>0,F67-N$3,0),0)","v":"00:00:00"},{"$f":"IF(H67>0,IF(F67<E67,IF(F67>O$3,O$3,F67),0),0)","v":"00:00:00"},{"$f":"IF(H67>0,IF(E67>F67,IF(E67>N$3,R$3-E67,R$3-P$3),0),0)","v":"00:00:00"},{"$f":"SUM(M67:P67)","v":"00:00:00"},{"$f":"IF(H67>0,IF(SUM(M67:P67)>0,\"Yes\",\"no\"),0)","v":0},{"$f":"IF(H67>0,IF(F67-E67<0,1,IF(E67<0.25,1,IF(F67>(20/24),1,0))),0)","v":0}]
[null,null,null,null,null,null,null,null,null,null,"00:00:00",null,{"$f":"IF(H68>0,IF(M$3-E68>0,M$3-E68,0),0)","v":"00:00:00"},{"$f":"IF(H68>0,IF(F68-N$3>0,F68-N$3,0),0)","v":"00:00:00"},"00:00:00","00:00:00",{"$f":"SUM(M68:P68)","v":"00:00:00"},{"$f":"IF(H68>0,IF(SUM(M68:P68)>0,\"Yes\",\"no\"),0)","v":0},{"$f":"IF(H68>0,IF(F68-E68<0,1,IF(E68<0.25,1,IF(F68>(20/24),1,0))),0)","v":0}]
[null,null,null,null,null,null,null,null,null,null,{"$f":"IF(F69<E69,F69+1,F69)","v":"00:00:00"},null,{"$f":"IF(H69>0,IF(M$3-E69>0,M$3-E69,0),0)","v":"00:00:00"},{"$f":"IF(H69>0,IF(F69-N$3>0,F69-N$3,0),0)","v":"00:00:00"},"00:00:00","00:00:00","00:00:00",{"$f":"IF(H69>0,IF(SUM(M69:P69)>0,\"Yes\",\"no\"),0)","v":0},0]
[null,null,null,null,null,null,null,null,null,null,{"$f":"IF(F70<E70,F70+1,F70)","v":"00:00:00"},null,{"$f":"IF(H70>0,IF(M$3-E70>0,M$3-E70,0),0)","v":"00:00:00"},{"$f":"IF(H70>0,IF(F70-N$3>0,F70-N$3,0),0)","v":"00:00:00"},"00:00:00","00:00:00","00:00:00",{"$f":"IF(H70>0,IF(SUM(M70:P70)>0,\"Yes\",\"no\"),0)","v":0},0]
[null,null,null,null,null,null,null,null,null,null,{"$f":"IF(F71<E71,F71+1,F71)","v":0},null,{"$f":"IF(H71>0,IF(M$3-E71>0,M$3-E71,0),0)","v":"00:00:00"},{"$f":"IF(H71>0,IF(F71-N$3>0,F71-N$3,0),0)","v":"00:00:00"},"00:00:00","00:00:00","00:00:00",{"$f":"IF(H71>0,IF(SUM(M71:P71)>0,\"Yes\",\"no\"),0)","v":0},0]
[null,null,null,null,null,null,null,null,null,null,"00:00:00",{"$f":"H72","v":"00:00:00"},"00:00:00","00:00:00","00:00:00","00:00:00","00:00:00",{"$f":"IF(H72>0,\"yes\",0)","v":0},0]
[null,null,null,null,null,null,null,null,null,null,"00:00:00",{"$f":"H73","v":"00:00:00"},"00:00:00","00:00:00","00:00:00","00:00:00","00:00:00",{"$f":"IF(H73>0,\"yes\",0)","v":0},0]
[null,null,null,null,null,null,null,null,null,null,"00:00:00",null,{"$f":"IF(H74>0,IF(M$3-E74>0,M$3-E74,0),0)","v":"00:00:00"},{"$f":"IF(H74>0,IF(F74-N$3>0,F74-N$3,0),0)","v":"00:00:00"},{"$f":"IF(H74>0,IF(F74<E74,IF(F74>O$3,O$3,F74),0),0)","v":"00:00:00"},{"$f":"IF(H74>0,IF(E74>F74,IF(E74>N$3,R$3-E74,R$3-P$3),0),0)","v":"00:00:00"},{"$f":"SUM(M74:P74)","v":"00:00:00"},{"$f":"IF(H74>0,IF(SUM(M74:P74)>0,\"Yes\",\"no\"),0)","v":0},{"$f":"IF(H74>0,IF(F74-E74<0,1,IF(E74<0.25,1,IF(F74>(20/24),1,0))),0)","v":0}]
[null,null,null,null,null,null,null,null,null,null,"00:00:00",null,{"$f":"IF(H75>0,IF(M$3-E75>0,M$3-E75,0),0)","v":"00:00:00"},{"$f":"IF(H75>0,IF(F75-N$3>0,F75-N$3,0),0)","v":"00:00:00"},"00:00:00","00:00:00",{"$f":"SUM(M75:P75)","v":"00:00:00"},{"$f":"IF(H75>0,IF(SUM(M75:P75)>0,\"Yes\",\"no\"),0)","v":0},{"$f":"IF(H75>0,IF(F75-E75<0,1,IF(E75<0.25,1,IF(F75>(20/24),1,0))),0)","v":0}]
[null,null,null,null,null,null,null,null,null,null,{"$f":"IF(F76<E76,F76+1,F76)","v":"00:00:00"},null,{"$f":"IF(H76>0,IF(M$3-E76>0,M$3-E76,0),0)","v":"00:00:00"},{"$f":"IF(H76>0,IF(F76-N$3>0,F76-N$3,0),0)","v":"00:00:00"},"00:00:00","00:00:00","00:00:00",{"$f":"IF(H76>0,IF(SUM(M76:P76)>0,\"Yes\",\"no\"),0)","v":0},0]
[null,null,null,null,null,null,null,null,null,null,{"$f":"IF(F77<E77,F77+1,F77)","v":"00:00:00"},null,{"$f":"IF(H77>0,IF(M$3-E77>0,M$3-E77,0),0)","v":"00:00:00"},{"$f":"IF(H77>0,IF(F77-N$3>0,F77-N$3,0),0)","v":"00:00:00"},"00:00:00","00:00:00","00:00:00",{"$f":"IF(H77>0,IF(SUM(M77:P77)>0,\"Yes\",\"no\"),0)","v":0},0]
[null,null,null,null,null,null,null,null,null,null,{"$f":"IF(F78<E78,F78+1,F78)","v":0},null,{"$f":"IF(H78>0,IF(M$3-E78>0,M$3-E78,0),0)","v":"00:00:00"},{"$f":"IF(H78>0,IF(F78-N$3>0,F78-N$3,0),0)","v":"00:00:00"},"00:00:00","00:00:00","00:00:00",{"$f":"IF(H78>0,IF(SUM(M78:P78)>0,\"Yes\",\"no\"),0)","v":0},0]
[null,null,null,null,null,null,null,null,null,null,"00:00:00",{"$f":"H79","v":"00:00:00"},"00:00:00","00:00:00","00:00:00","00:00:00","00:00:00",{"$f":"IF(H79>0,\"yes\",0)","v":0},0]
[null,null,null,null,null,null,null,null,null,null,"00:00:00",{"$f":"H80","v":"00:00:00"},"00:00:00","00:00:00","00:00:00","00:00:00","00:00:00",{"$f":"IF(H80>0,\"yes\",0)","v":0},0]
[null,null,null,null,null,null,null,null,null,null,"00:00:00",null,{"$f":"IF(H81>0,IF(M$3-E81>0,M$3-E81,0),0)","v":"00:00:00"},{"$f":"IF(H81>0,IF(F81-N$3>0,F81-N$3,0),0)","v":"00:00:00"},{"$f":"IF(H81>0,IF(F81<E81,IF(F81>O$3,O$3,F81),0),0)","v":"00:00:00"},{"$f":"IF(H81>0,IF(E81>F81,IF(E81>N$3,R$3-E81,R$3-P$3),0),0)","v":"00:00:00"},{"$f":"SUM(M81:P81)","v":"00:00:00"},{"$f":"IF(H81>0,IF(SUM(M81:P81)>0,\"Yes\",\"no\"),0)","v":0},{"$f":"IF(H81>0,IF(F81-E81<0,1,IF(E81<0.25,1,IF(F81>(20/24),1,0))),0)","v":0}]
[null,null,null,null,null,null,null,null,null,null,"00:00:00",null,{"$f":"IF(H82>0,IF(M$3-E82>0,M$3-E82,0),0)","v":"00:00:00"},{"$f":"IF(H82>0,IF(F82-N$3>0,F82-N$3,0),0)","v":"00:00:00"},"00:00:00","00:00:00",{"$f":"SUM(M82:P82)","v":"00:00:00"},{"$f":"IF(H82>0,IF(SUM(M82:P82)>0,\"Yes\",\"no\"),0)","v":0},{"$f":"IF(H82>0,IF(F82-E82<0,1,IF(E82<0.25,1,IF(F82>(20/24),1,0))),0)","v":0}]
[null,null,null,null,null,null,null,null,null,null,{"$f":"IF(F83<E83,F83+1,F83)","v":"00:00:00"},null,{"$f":"IF(H83>0,IF(M$3-E83>0,M$3-E83,0),0)","v":"00:00:00"},{"$f":"IF(H83>0,IF(F83-N$3>0,F83-N$3,0),0)","v":"00:00:00"},"00:00:00","00:00:00","00:00:00",{"$f":"IF(H83>0,IF(SUM(M83:P83)>0,\"Yes\",\"no\"),0)","v":0},0]
[null,null,null,null,null,null,null,null,null,null,{"$f":"IF(F84<E84,F84+1,F84)","v":"00:00:00"},null,{"$f":"IF(H84>0,IF(M$3-E84>0,M$3-E84,0),0)","v":"00:00:00"},{"$f":"IF(H84>0,IF(F84-N$3>0,F84-N$3,0),0)","v":"00:00:00"},"00:00:00","00:00:00","00:00:00",{"$f":"IF(H84>0,IF(SUM(M84:P84)>0,\"Yes\",\"no\"),0)","v":0},0]
[null,null,null,null,null,null,null,null,null,null,{"$f":"IF(F85<E85,F85+1,F85)","v":0},null,{"$f":"IF(H85>0,IF(M$3-E85>0,M$3-E85,0),0)","v":"00:00:00"},{"$f":"IF(H85>0,IF(F85-N$3>0,F85-N$3,0),0)","v":"00:00:00"},"00:00:00","00:00:00","00:00:00",{"$f":"IF(H85>0,IF(SUM(M85:P85)>0,\"Yes\",\"no\"),0)","v":0},0]
[null,null,null,null,null,null,null,null,null,null,"00:00:00",{"$f":"H86","v":"00:00:00"},"00:00:00","00:00:00","00:00:00","00:00:00","00:00:00",{"$f":"IF(H86>0,\"yes\",0)","v":0},0]
[null,null,null,null,null,null,null,null,null,null,"00:00:00",{"$f":"H87","v":"00:00:00"},"00:00:00","00:00:00","00:00:00","00:00:00","00:00:00",{"$f":"IF(H87>0,\"yes\",0)","v":0},0]
[null,null,null,null,null,null,null,null,null,null,"00:00:00",null,{"$f":"IF(H88>0,IF(M$3-E88>0,M$3-E88,0),0)","v":"00:00:00"},{"$f":"IF(H88>0,IF(F88-N$3>0,F88-N$3,0),0)","v":"00:00:00"},{"$f":"IF(H88>0,IF(F88<E88,IF(F88>O$3,O$3,F88),0),0)","v":"00:00:00"},{"$f":"IF(H88>0,IF(E88>F88,IF(E88>N$3,R$3-E88,R$3-P$3),0),0)","v":"00:00:00"},{"$f":"SUM(M88:P88)","v":"00:00:00"},{"$f":"IF(H88>0,IF(SUM(M88:P88)>0,\"Yes\",\"no\"),0)","v":0},{"$f":"IF(H88>0,IF(F88-E88<0,1,IF(E88<0.25,1,IF(F88>(20/24),1,0))),0)","v":0}]
[null,null,null,null,null,null,null,null,null,null,"00:00:00",null,{"$f":"IF(H89>0,IF(M$3-E89>0,M$3-E89,0),0)","v":"00:00:00"},{"$f":"IF(H89>0,IF(F89-N$3>0,F89-N$3,0),0)","v":"00:00:00"},"00:00:00","00:00:00",{"$f":"SUM(M89:P89)","v":"00:00:00"},{"$f":"IF(H89>0,IF(SUM(M89:P89)>0,\"Yes\",\"no\"),0)","v":0},{"$f":"IF(H89>0,IF(F89-E89<0,1,IF(E89<0.25,1,IF(F89>(20/24),1,0))),0)","v":0}]
[null,null,null,null,null,null,null,null,null,null,{"$f":"IF(F90<E90,F90+1,F90)","v":"00:00:00"},null,{"$f":"IF(H90>0,IF(M$3-E90>0,M$3-E90,0),0)","v":"00:00:00"},{"$f":"IF(H90>0,IF(F90-N$3>0,F90-N$3,0),0)","v":"00:00:00"},"00:00:00","00:00:00","00:00:00",{"$f":"IF(H90>0,IF(SUM(M90:P90)>0,\"Yes\",\"no\"),0)","v":0},0]
[null,null,null,null,null,null,null,null,null,null,{"$f":"IF(F91<E91,F91+1,F91)","v":"00:00:00"},null,{"$f":"IF(H91>0,IF(M$3-E91>0,M$3-E91,0),0)","v":"00:00:00"},{"$f":"IF(H91>0,IF(F91-N$3>0,F91-N$3,0),0)","v":"00:00:00"},"00:00:00","00:00:00","00:00:00",{"$f":"IF(H91>0,IF(SUM(M91:P91)>0,\"Yes\",\"no\"),0)","v":0},0]
[null,null,null,null,null,null,null,null,null,null,{"$f":"IF(F92<E92,F92+1,F92)","v":0},null,{"$f":"IF(H92>0,IF(M$3-E92>0,M$3-E92,0),0)","v":"00:00:00"},{"$f":"IF(H92>0,IF(F92-N$3>0,F92-N$3,0),0)","v":"00:00:00"},"00:00:00","00:00:00","00:00:00",{"$f":"IF(H92>0,IF(SUM(M92:P92)>0,\"Yes\",\"no\"),0)","v":0},0]
[null,null,null,null,null,null,null,null,null,null,"00:00:00",{"$f":"H93","v":"00:00:00"},"00:00:00","00:00:00","00:00:00","00:00:00","00:00:00",{"$f":"IF(H93>0,\"yes\",0)","v":0},0]
[null,null,null,null,null,null,null,null,null,null,"00:00:00",{"$f":"H94","v":"00:00:00"},"00:00:00","00:00:00","00:00:00","00:00:00","00:00:00",{"$f":"IF(H94>0,\"yes\",0)","v":0},0]
[null,null,null,null,null,null,null,null,null,null,"00:00:00",null,{"$f":"IF(H95>0,IF(M$3-E95>0,M$3-E95,0),0)","v":"00:00:00"},{"$f":"IF(H95>0,IF(F95-N$3>0,F95-N$3,0),0)","v":"00:00:00"},{"$f":"IF(H95>0,IF(F95<E95,IF(F95>O$3,O$3,F95),0),0)","v":"00:00:00"},{"$f":"IF(H95>0,IF(E95>F95,IF(E95>N$3,R$3-E95,R$3-P$3),0),0)","v":"00:00:00"},{"$f":"SUM(M95:P95)","v":"00:00:00"},{"$f":"IF(H95>0,IF(SUM(M95:P95)>0,\"Yes\",\"no\"),0)","v":0},{"$f":"IF(H95>0,IF(F95-E95<0,1,IF(E95<0.25,1,IF(F95>(20/24),1,0))),0)","v":0}]
[null,null,null,null,null,null,null,null,null,null,"00:00:00",null,{"$f":"IF(H96>0,IF(M$3-E96>0,M$3-E96,0),0)","v":"00:00:00"},{"$f":"IF(H96>0,IF(F96-N$3>0,F96-N$3,0),0)","v":"00:00:00"},"00:00:00","00:00:00",{"$f":"SUM(M96:P96)","v":"00:00:00"},{"$f":"IF(H96>0,IF(SUM(M96:P96)>0,\"Yes\",\"no\"),0)","v":0},{"$f":"IF(H96>0,IF(F96-E96<0,1,IF(E96<0.25,1,IF(F96>(20/24),1,0))),0)","v":0}]
[null,null,null,null,null,null,null,null,null,null,{"$f":"IF(F97<E97,F97+1,F97)","v":"00:00:00"},null,{"$f":"IF(H97>0,IF(M$3-E97>0,M$3-E97,0),0)","v":"00:00:00"},{"$f":"IF(H97>0,IF(F97-N$3>0,F97-N$3,0),0)","v":"00:00:00"},"00:00:00","00:00:00","00:00:00",{"$f":"IF(H97>0,IF(SUM(M97:P97)>0,\"Yes\",\"no\"),0)","v":0},0]
[null,null,null,null,null,null,null,null,null,null,{"$f":"IF(F98<E98,F98+1,F98)","v":"00:00:00"},null,{"$f":"IF(H98>0,IF(M$3-E98>0,M$3-E98,0),0)","v":"00:00:00"},{"$f":"IF(H98>0,IF(F98-N$3>0,F98-N$3,0),0)","v":"00:00:00"},"00:00:00","00:00:00","00:00:00",{"$f":"IF(H98>0,IF(SUM(M98:P98)>0,\"Yes\",\"no\"),0)","v":0},0]
[null,null,null,null,null,null,null,null,null,null,{"$f":"IF(F99<E99,F99+1,F99)","v":0},null,{"$f":"IF(H99>0,IF(M$3-E99>0,M$3-E99,0),0)","v":"00:00:00"},{"$f":"IF(H99>0,IF(F99-N$3>0,F99-N$3,0),0)","v":"00:00:00"},"00:00:00","00:00:00","00:00:00",{"$f":"IF(H99>0,IF(SUM(M99:P99)>0,\"Yes\",\"no\"),0)","v":0},0]
[null,null,null,null,null,null,null,null,null,null,"00:00:00",{"$f":"H100","v":"00:00:00"},"00:00:00","00:00:00","00:00:00","00:00:00","00:00:00",{"$f":"IF(H100>0,\"yes\",0)","v":0},0]
[null,null,null,null,null,null,null,null,null,null,"00:00:00",{"$f":"H101","v":"00:00:00"},"00:00:00","00:00:00","00:00:00","00:00:00","00:00:00",{"$f":"IF(H101>0,\"yes\",0)","v":0},0]
[null,null,null,null,null,null,null,null,null,null,"00:00:00",null,{"$f":"IF(H102>0,IF(M$3-E102>0,M$3-E102,0),0)","v":"00:00:00"},{"$f":"IF(H102>0,IF(F102-N$3>0,F102-N$3,0),0)","v":"00:00:00"},{"$f":"IF(H102>0,IF(F102<E102,IF(F102>O$3,O$3,F102),0),0)","v":"00:00:00"},{"$f":"IF(H102>0,IF(E102>F102,IF(E102>N$3,R$3-E102,R$3-P$3),0),0)","v":"00:00:00"},{"$f":"SUM(M102:P102)","v":"00:00:00"},{"$f":"IF(H102>0,IF(SUM(M102:P102)>0,\"Yes\",\"no\"),0)","v":0},{"$f":"IF(H102>0,IF(F102-E102<0,1,IF(E102<0.25,1,IF(F102>(20/24),1,0))),0)","v":0}]
[null,null,null,null,null,null,null,null,null,null,"00:00:00",null,{"$f":"IF(H103>0,IF(M$3-E103>0,M$3-E103,0),0)","v":"00:00:00"},{"$f":"IF(H103>0,IF(F103-N$3>0,F103-N$3,0),0)","v":"00:00:00"},"00:00:00","00:00:00",{"$f":"SUM(M103:P103)","v":"00:00:00"},{"$f":"IF(H103>0,IF(SUM(M103:P103)>0,\"Yes\",\"no\"),0)","v":0},{"$f":"IF(H103>0,IF(F103-E103<0,1,IF(E103<0.25,1,IF(F103>(20/24),1,0))),0)","v":0}]
[null,null,null,null,null,null,null,null,null,null,{"$f":"IF(F104<E104,F104+1,F104)","v":"00:00:00"},null,{"$f":"IF(H104>0,IF(M$3-E104>0,M$3-E104,0),0)","v":"00:00:00"},{"$f":"IF(H104>0,IF(F104-N$3>0,F104-N$3,0),0)","v":"00:00:00"},"00:00:00","00:00:00","00:00:00",{"$f":"IF(H104>0,IF(SUM(M104:P104)>0,\"Yes\",\"no\"),0)","v":0},0]
[null,null,null,null,null,null,null,null,null,null,{"$f":"IF(F105<E105,F105+1,F105)","v":"00:00:00"},null,{"$f":"IF(H105>0,IF(M$3-E105>0,M$3-E105,0),0)","v":"00:00:00"},{"$f":"IF(H105>0,IF(F105-N$3>0,F105-N$3,0),0)","v":"00:00:00"},"00:00:00","00:00:00","00:00:00",{"$f":"IF(H105>0,IF(SUM(M105:P105)>0,\"Yes\",\"no\"),0)","v":0},0]
[null,null,null,null,null,null,null,null,null,null,{"$f":"IF(F106<E106,F106+1,F106)","v":0},null,{"$f":"IF(H106>0,IF(M$3-E106>0,M$3-E106,0),0)","v":"00:00:00"},{"$f":"IF(H106>0,IF(F106-N$3>0,F106-N$3,0),0)","v":"00:00:00"},"00:00:00","00:00:00","00:00:00",{"$f":"IF(H106>0,IF(SUM(M106:P106)>0,\"Yes\",\"no\"),0)","v":0},0]
[null,null,null,null,null,null,null,null,null,null,"00:00:00",{"$f":"H107","v":"00:00:00"},"00:00:00","00:00:00","00:00:00","00:00:00","00:00:00",{"$f":"IF(H107>0,\"yes\",0)","v":0},0]
[null,null,null,null,null,null,null,null,null,null,"00:00:00",{"$f":"H108","v":"00:00:00"},"00:00:00","00:00:00","00:00:00","00:00:00","00:00:00",{"$f":"IF(H108>0,\"yes\",0)","v":0},0]
[null,null,null,null,null,null,null,null,null,null,"00:00:00",null,{"$f":"IF(H109>0,IF(M$3-E109>0,M$3-E109,0),0)","v":"00:00:00"},{"$f":"IF(H109>0,IF(F109-N$3>0,F109-N$3,0),0)","v":"00:00:00"},{"$f":"IF(H109>0,IF(F109<E109,IF(F109>O$3,O$3,F109),0),0)","v":"00:00:00"},{"$f":"IF(H109>0,IF(E109>F109,IF(E109>N$3,R$3-E109,R$3-P$3),0),0)","v":"00:00:00"},{"$f":"SUM(M109:P109)","v":"00:00:00"},{"$f":"IF(H109>0,IF(SUM(M109:P109)>0,\"Yes\",\"no\"),0)","v":0},{"$f":"IF(H109>0,IF(F109-E109<0,1,IF(E109<0.25,1,IF(F109>(20/24),1,0))),0)","v":0}]
[null,null,null,null,null,null,null,null,null,null,"00:00:00",null,{"$f":"IF(H110>0,IF(M$3-E110>0,M$3-E110,0),0)","v":"00:00:00"},{"$f":"IF(H110>0,IF(F110-N$3>0,F110-N$3,0),0)","v":"00:00:00"},"00:00:00","00:00:00",{"$f":"SUM(M110:P110)","v":"00:00:00"},{"$f":"IF(H110>0,IF(SUM(M110:P110)>0,\"Yes\",\"no\"),0)","v":0},{"$f":"IF(H110>0,IF(F110-E110<0,1,IF(E110<0.25,1,IF(F110>(20/24),1,0))),0)","v":0}]
[null,null,null,null,null,null,null,null,null,null,{"$f":"IF(F111<E111,F111+1,F111)","v":"00:00:00"},null,{"$f":"IF(H111>0,IF(M$3-E111>0,M$3-E111,0),0)","v":"00:00:00"},{"$f":"IF(H111>0,IF(F111-N$3>0,F111-N$3,0),0)","v":"00:00:00"},"00:00:00","00:00:00","00:00:00",{"$f":"IF(H111>0,IF(SUM(M111:P111)>0,\"Yes\",\"no\"),0)","v":0},0]
[null,null,null,null,null,null,null,null,null,null,{"$f":"IF(F112<E112,F112+1,F112)","v":"00:00:00"},null,{"$f":"IF(H112>0,IF(M$3-E112>0,M$3-E112,0),0)","v":"00:00:00"},{"$f":"IF(H112>0,IF(F112-N$3>0,F112-N$3,0),0)","v":"00:00:00"},"00:00:00","00:00:00","00:00:00",{"$f":"IF(H112>0,IF(SUM(M112:P112)>0,\"Yes\",\"no\"),0)","v":0},0]
[null,null,null,null,null,null,null,null,null,null,{"$f":"IF(F113<E113,F113+1,F113)","v":0},null,{"$f":"IF(H113>0,IF(M$3-E113>0,M$3-E113,0),0)","v":"00:00:00"},{"$f":"IF(H113>0,IF(F113-N$3>0,F113-N$3,0),0)","v":"00:00:00"},"00:00:00","00:00:00","00:00:00",{"$f":"IF(H113>0,IF(SUM(M113:P113)>0,\"Yes\",\"no\"),0)","v":0},0]
[null,null,null,null,null,null,null,null,null,null,"00:00:00",{"$f":"H114","v":"00:00:00"},"00:00:00","00:00:00","00:00:00","00:00:00","00:00:00",{"$f":"IF(H114>0,\"yes\",0)","v":0},0]
[null,null,null,null,null,null,null,null,null,null,"00:00:00",{"$f":"H115","v":"00:00:00"},"00:00:00","00:00:00","00:00:00","00:00:00","00:00:00",{"$f":"IF(H115>0,\"yes\",0)","v":0},0]
[null,null,null,null,null,null,null,null,null,null,"00:00:00",null,{"$f":"IF(H116>0,IF(M$3-E116>0,M$3-E116,0),0)","v":"00:00:00"},{"$f":"IF(H116>0,IF(F116-N$3>0,F116-N$3,0),0)","v":"00:00:00"},{"$f":"IF(H116>0,IF(F116<E116,IF(F116>O$3,O$3,F116),0),0)","v":"00:00:00"},{"$f":"IF(H116>0,IF(E116>F116,IF(E116>N$3,R$3-E116,R$3-P$3),0),0)","v":"00:00:00"},{"$f":"SUM(M116:P116)","v":"00:00:00"},{"$f":"IF(H116>0,IF(SUM(M116:P116)>0,\"Yes\",\"no\"),0)","v":0},{"$f":"IF(H116>0,IF(F116-E116<0,1,IF(E116<0.25,1,IF(F116>(20/24),1,0))),0)","v":0}]
[null,null,null,null,null,null,null,null,null,null,"00:00:00",null,{"$f":"IF(H117>0,IF(M$3-E117>0,M$3-E117,0),0)","v":"00:00:00"},{"$f":"IF(H117>0,IF(F117-N$3>0,F117-N$3,0),0)","v":"00:00:00"},"00:00:00","00:00:00",{"$f":"SUM(M117:P117)","v":"00:00:00"},{"$f":"IF(H117>0,IF(SUM(M117:P117)>0,\"Yes\",\"no\"),0)","v":0},{"$f":"IF(H117>0,IF(F117-E117<0,1,IF(E117<0.25,1,IF(F117>(20/24),1,0))),0)","v":0}]
[null,null,null,null,null,null,null,null,null,null,{"$f":"IF(F118<E118,F118+1,F118)","v":"00:00:00"},null,{"$f":"IF(H118>0,IF(M$3-E118>0,M$3-E118,0),0)","v":"00:00:00"},{"$f":"IF(H118>0,IF(F118-N$3>0,F118-N$3,0),0)","v":"00:00:00"},"00:00:00","00:00:00","00:00:00",{"$f":"IF(H118>0,IF(SUM(M118:P118)>0,\"Yes\",\"no\"),0)","v":0},0]
[null,null,null,null,null,null,null,null,null,null,{"$f":"IF(F119<E119,F119+1,F119)","v":"00:00:00"},null,{"$f":"IF(H119>0,IF(M$3-E119>0,M$3-E119,0),0)","v":"00:00:00"},{"$f":"IF(H119>0,IF(F119-N$3>0,F119-N$3,0),0)","v":"00:00:00"},"00:00:00","00:00:00","00:00:00",{"$f":"IF(H119>0,IF(SUM(M119:P119)>0,\"Yes\",\"no\"),0)","v":0},0]
[null,null,null,null,null,null,null,null,null,null,{"$f":"IF(F120<E120,F120+1,F120)","v":0},null,{"$f":"IF(H120>0,IF(M$3-E120>0,M$3-E120,0),0)","v":"00:00:00"},{"$f":"IF(H120>0,IF(F120-N$3>0,F120-N$3,0),0)","v":"00:00:00"},"00:00:00","00:00:00","00:00:00",{"$f":"IF(H120>0,IF(SUM(M120:P120)>0,\"Yes\",\"no\"),0)","v":0},0]
[null,null,null,null,null,null,null,null,null,null,"00:00:00",{"$f":"H121","v":"00:00:00"},"00:00:00","00:00:00","00:00:00","00:00:00","00:00:00",{"$f":"IF(H121>0,\"yes\",0)","v":0},0]
[null,null,null,null,null,null,null,null,null,null,"00:00:00",{"$f":"H122","v":"00:00:00"},"00:00:00","00:00:00","00:00:00","00:00:00","00:00:00",{"$f":"IF(H122>0,\"yes\",0)","v":0},0]
[null,null,null,null,null,null,null,null,null,null,"00:00:00",null,{"$f":"IF(H123>0,IF(M$3-E123>0,M$3-E123,0),0)","v":"00:00:00"},{"$f":"IF(H123>0,IF(F123-N$3>0,F123-N$3,0),0)","v":"00:00:00"},{"$f":"IF(H123>0,IF(F123<E123,IF(F123>O$3,O$3,F123),0),0)","v":"00:00:00"},{"$f":"IF(H123>0,IF(E123>F123,IF(E123>N$3,R$3-E123,R$3-P$3),0),0)","v":"00:00:00"},{"$f":"SUM(M123:P123)","v":"00:00:00"},{"$f":"IF(H123>0,IF(SUM(M123:P123)>0,\"Yes\",\"no\"),0)","v":0},{"$f":"IF(H123>0,IF(F123-E123<0,1,IF(E123<0.25,1,IF(F123>(20/24),1,0))),0)","v":0}]
[null,null,null,null,null,null,null,null,null,null,"00:00:00",null,{"$f":"IF(H124>0,IF(M$3-E124>0,M$3-E124,0),0)","v":"00:00:00"},{"$f":"IF(H124>0,IF(F124-N$3>0,F124-N$3,0),0)","v":"00:00:00"},"00:00:00","00:00:00",{"$f":"SUM(M124:P124)","v":"00:00:00"},{"$f":"IF(H124>0,IF(SUM(M124:P124)>0,\"Yes\",\"no\"),0)","v":0},{"$f":"IF(H124>0,IF(F124-E124<0,1,IF(E124<0.25,1,IF(F124>(20/24),1,0))),0)","v":0}]
[null,null,null,null,null,null,null,null,null,null,{"$f":"IF(F125<E125,F125+1,F125)","v":"00:00:00"},null,{"$f":"IF(H125>0,IF(M$3-E125>0,M$3-E125,0),0)","v":"00:00:00"},{"$f":"IF(H125>0,IF(F125-N$3>0,F125-N$3,0),0)","v":"00:00:00"},"00:00:00","00:00:00","00:00:00",{"$f":"IF(H125>0,IF(SUM(M125:P125)>0,\"Yes\",\"no\"),0)","v":0},0]
[null,null,null,null,null,null,null,null,null,null,{"$f":"IF(F126<E126,F126+1,F126)","v":"00:00:00"},null,{"$f":"IF(H126>0,IF(M$3-E126>0,M$3-E126,0),0)","v":"00:00:00"},{"$f":"IF(H126>0,IF(F126-N$3>0,F126-N$3,0),0)","v":"00:00:00"},"00:00:00","00:00:00","00:00:00",{"$f":"IF(H126>0,IF(SUM(M126:P126)>0,\"Yes\",\"no\"),0)","v":0},0]
[null,null,null,null,null,null,null,null,null,null,{"$f":"IF(F127<E127,F127+1,F127)","v":0},null,{"$f":"IF(H127>0,IF(M$3-E127>0,M$3-E127,0),0)","v":"00:00:00"},{"$f":"IF(H127>0,IF(F127-N$3>0,F127-N$3,0),0)","v":"00:00:00"},"00:00:00","00:00:00","00:00:00",{"$f":"IF(H127>0,IF(SUM(M127:P127)>0,\"Yes\",\"no\"),0)","v":0},0]
[null,null,null,null,null,null,null,null,null,null,"00:00:00",{"$f":"H128","v":"00:00:00"},"00:00:00","00:00:00","00:00:00","00:00:00","00:00:00",{"$f":"IF(H128>0,\"yes\",0)","v":0},0]
[null,null,null,null,null,null,null,null,null,null,"00:00:00",{"$f":"H129","v":"00:00:00"},"00:00:00","00:00:00","00:00:00","00:00:00","00:00:00",{"$f":"IF(H129>0,\"yes\",0)","v":0},0]
[null,null,null,null,null,null,null,null,null,null,"00:00:00",null,{"$f":"IF(H130>0,IF(M$3-E130>0,M$3-E130,0),0)","v":"00:00:00"},{"$f":"IF(H130>0,IF(F130-N$3>0,F130-N$3,0),0)","v":"00:00:00"},{"$f":"IF(H130>0,IF(F130<E130,IF(F130>O$3,O$3,F130),0),0)","v":"00:00:00"},{"$f":"IF(H130>0,IF(E130>F130,IF(E130>N$3,R$3-E130,R$3-P$3),0),0)","v":"00:00:00"},{"$f":"SUM(M130:P130)","v":"00:00:00"},{"$f":"IF(H130>0,IF(SUM(M130:P130)>0,\"Yes\",\"no\"),0)","v":0},{"$f":"IF(H130>0,IF(F130-E130<0,1,IF(E130<0.25,1,IF(F130>(20/24),1,0))),0)","v":0}]
[null,null,null,null,null,null,null,null,null,null,"00:00:00",null,{"$f":"IF(H131>0,IF(M$3-E131>0,M$3-E131,0),0)","v":"00:00:00"},{"$f":"IF(H131>0,IF(F131-N$3>0,F131-N$3,0),0)","v":"00:00:00"},"00:00:00","00:00:00",{"$f":"SUM(M131:P131)","v":"00:00:00"},{"$f":"IF(H131>0,IF(SUM(M131:P131)>0,\"Yes\",\"no\"),0)","v":0},{"$f":"IF(H131>0,IF(F131-E131<0,1,IF(E131<0.25,1,IF(F131>(20/24),1,0))),0)","v":0}]
[null,null,null,null,null,null,null,null,null,null,{"$f":"IF(F132<E132,F132+1,F132)","v":"00:00:00"},null,{"$f":"IF(H132>0,IF(M$3-E132>0,M$3-E132,0),0)","v":"00:00:00"},{"$f":"IF(H132>0,IF(F132-N$3>0,F132-N$3,0),0)","v":"00:00:00"},"00:00:00","00:00:00","00:00:00",{"$f":"IF(H132>0,IF(SUM(M132:P132)>0,\"Yes\",\"no\"),0)","v":0},0]
[null,null,null,null,null,null,null,null,null,null,{"$f":"IF(F133<E133,F133+1,F133)","v":"00:00:00"},null,{"$f":"IF(H133>0,IF(M$3-E133>0,M$3-E133,0),0)","v":"00:00:00"},{"$f":"IF(H133>0,IF(F133-N$3>0,F133-N$3,0),0)","v":"00:00:00"},"00:00:00","00:00:00","00:00:00",{"$f":"IF(H133>0,IF(SUM(M133:P133)>0,\"Yes\",\"no\"),0)","v":0},0]
[null,null,null,null,null,null,null,null,null,null,{"$f":"IF(F134<E134,F134+1,F134)","v":0},null,{"$f":"IF(H134>0,IF(M$3-E134>0,M$3-E134,0),0)","v":"00:00:00"},{"$f":"IF(H134>0,IF(F134-N$3>0,F134-N$3,0),0)","v":"00:00:00"},"00:00:00","00:00:00","00:00:00",{"$f":"IF(H134>0,IF(SUM(M134:P134)>0,\"Yes\",\"no\"),0)","v":0},0]
[null,null,null,null,null,null,null,null,null,null,"00:00:00",{"$f":"H135","v":"00:00:00"},"00:00:00","00:00:00","00:00:00","00:00:00","00:00:00",{"$f":"IF(H135>0,\"yes\",0)","v":0},0]
[null,null,null,null,null,null,null,null,null,null,"00:00:00",{"$f":"H136","v":"00:00:00"},"00:00:00","00:00:00","00:00:00","00:00:00","00:00:00",{"$f":"IF(H136>0,\"yes\",0)","v":0},0]
[null,null,null,null,null,null,null,null,null,null,"00:00:00",null,{"$f":"IF(H137>0,IF(M$3-E137>0,M$3-E137,0),0)","v":"00:00:00"},{"$f":"IF(H137>0,IF(F137-N$3>0,F137-N$3,0),0)","v":"00:00:00"},{"$f":"IF(H137>0,IF(F137<E137,IF(F137>O$3,O$3,F137),0),0)","v":"00:00:00"},{"$f":"IF(H137>0,IF(E137>F137,IF(E137>N$3,R$3-E137,R$3-P$3),0),0)","v":"00:00:00"},{"$f":"SUM(M137:P137)","v":"00:00:00"},{"$f":"IF(H137>0,IF(SUM(M137:P137)>0,\"Yes\",\"no\"),0)","v":0},{"$f":"IF(H137>0,IF(F137-E137<0,1,IF(E137<0.25,1,IF(F137>(20/24),1,0))),0)","v":0}]
[null,null,null,null,null,null,null,null,null,null,"00:00:00",null,{"$f":"IF(H138>0,IF(M$3-E138>0,M$3-E138,0),0)","v":"00:00:00"},{"$f":"IF(H138>0,IF(F138-N$3>0,F138-N$3,0),0)","v":"00:00:00"},"00:00:00","00:00:00",{"$f":"SUM(M138:P138)","v":"00:00:00"},{"$f":"IF(H138>0,IF(SUM(M138:P138)>0,\"Yes\",\"no\"),0)","v":0},{"$f":"IF(H138>0,IF(F138-E138<0,1,IF(E138<0.25,1,IF(F138>(20/24),1,0))),0)","v":0}]
[null,null,null,null,null,null,null,null,null,null,{"$f":"IF(F139<E139,F139+1,F139)","v":"00:00:00"},null,{"$f":"IF(H139>0,IF(M$3-E139>0,M$3-E139,0),0)","v":"00:00:00"},{"$f":"IF(H139>0,IF(F139-N$3>0,F139-N$3,0),0)","v":"00:00:00"},"00:00:00","00:00:00","00:00:00",{"$f":"IF(H139>0,IF(SUM(M139:P139)>0,\"Yes\",\"no\"),0)","v":0},0]
[null,null,null,null,null,null,null,null,null,null,{"$f":"IF(F140<E140,F140+1,F140)","v":"00:00:00"},null,{"$f":"IF(H140>0,IF(M$3-E140>0,M$3-E140,0),0)","v":"00:00:00"},{"$f":"IF(H140>0,IF(F140-N$3>0,F140-N$3,0),0)","v":"00:00:00"},"00:00:00","00:00:00","00:00:00",{"$f":"IF(H140>0,IF(SUM(M140:P140)>0,\"Yes\",\"no\"),0)","v":0},0]
[null,null,null,null,null,null,null,null,null,null,{"$f":"IF(F141<E141,F141+1,F141)","v":0},null,{"$f":"IF(H141>0,IF(M$3-E141>0,M$3-E141,0),0)","v":"00:00:00"},{"$f":"IF(H141>0,IF(F141-N$3>0,F141-N$3,0),0)","v":"00:00:00"},"00:00:00","00:00:00","00:00:00",{"$f":"IF(H141>0,IF(SUM(M141:P141)>0,\"Yes\",\"no\"),0)","v":0},0]
[null,null,null,null,null,null,null,null,null,null,"00:00:00",{"$f":"H142","v":"00:00:00"},"00:00:00","00:00:00","00:00:00","00:00:00","00:00:00",{"$f":"IF(H142>0,\"yes\",0)","v":0},0]
[null,null,null,null,null,null,null,null,null,null,"00:00:00",{"$f":"H143","v":"00:00:00"},"00:00:00","00:00:00","00:00:00","00:00:00","00:00:00",{"$f":"IF(H143>0,\"yes\",0)","v":0},0]
[null,null,null,null,null,null,null,null,null,null,"00:00:00",null,{"$f":"IF(H144>0,IF(M$3-E144>0,M$3-E144,0),0)","v":"00:00:00"},{"$f":"IF(H144>0,IF(F144-N$3>0,F144-N$3,0),0)","v":"00:00:00"},{"$f":"IF(H144>0,IF(F144<E144,IF(F144>O$3,O$3,F144),0),0)","v":"00:00:00"},{"$f":"IF(H144>0,IF(E144>F144,IF(E144>N$3,R$3-E144,R$3-P$3),0),0)","v":"00:00:00"},{"$f":"SUM(M144:P144)","v":"00:00:00"},{"$f":"IF(H144>0,IF(SUM(M144:P144)>0,\"Yes\",\"no\"),0)","v":0},{"$f":"IF(H144>0,IF(F144-E144<0,1,IF(E144<0.25,1,IF(F144>(20/24),1,0))),0)","v":0}]
[null,null,null,null,null,null,null,null,null,null,"00:00:00",null,{"$f":"IF(H145>0,IF(M$3-E145>0,M$3-E145,0),0)","v":"00:00:00"},{"$f":"IF(H145>0,IF(F145-N$3>0,F145-N$3,0),0)","v":"00:00:00"},"00:00:00","00:00:00",{"$f":"SUM(M145:P145)","v":"00:00:00"},{"$f":"IF(H145>0,IF(SUM(M145:P145)>0,\"Yes\",\"no\"),0)","v":0},{"$f":"IF(H145>0,IF(F145-E145<0,1,IF(E145<0.25,1,IF(F145>(20/24),1,0))),0)","v":0}]
[null,null,null,null,null,null,null,null,null,null,{"$f":"IF(F146<E146,F146+1,F146)","v":"00:00:00"},null,{"$f":"IF(H146>0,IF(M$3-E146>0,M$3-E146,0),0)","v":"00:00:00"},{"$f":"IF(H146>0,IF(F146-N$3>0,F146-N$3,0),0)","v":"00:00:00"},"00:00:00","00:00:00","00:00:00",{"$f":"IF(H146>0,IF(SUM(M146:P146)>0,\"Yes\",\"no\"),0)","v":0},0]
[null,null,null,null,null,null,null,null,null,null,{"$f":"IF(F147<E147,F147+1,F147)","v":"00:00:00"},null,{"$f":"IF(H147>0,IF(M$3-E147>0,M$3-E147,0),0)","v":"00:00:00"},{"$f":"IF(H147>0,IF(F147-N$3>0,F147-N$3,0),0)","v":"00:00:00"},"00:00:00","00:00:00","00:00:00",{"$f":"IF(H147>0,IF(SUM(M147:P147)>0,\"Yes\",\"no\"),0)","v":0},0]
[null,null,null,null,null,null,null,null,null,null,{"$f":"IF(F148<E148,F148+1,F148)","v":0},null,{"$f":"IF(H148>0,IF(M$3-E148>0,M$3-E148,0),0)","v":"00:00:00"},{"$f":"IF(H148>0,IF(F148-N$3>0,F148-N$3,0),0)","v":"00:00:00"},"00:00:00","00:00:00","00:00:00",{"$f":"IF(H148>0,IF(SUM(M148:P148)>0,\"Yes\",\"no\"),0)","v":0},0]
[null,null,null,null,null,null,null,null,null,null,"00:00:00",{"$f":"H149","v":"00:00:00"},"00:00:00","00:00:00","00:00:00","00:00:00","00:00:00",{"$f":"IF(H149>0,\"yes\",0)","v":0},0]
[null,null,null,null,null,null,null,null,null,null,"00:00:00",{"$f":"H150","v":"00:00:00"},"00:00:00","00:00:00","00:00:00","00:00:00","00:00:00",{"$f":"IF(H150>0,\"yes\",0)","v":0},0]
[null,null,null,null,null,null,null,null,null,null,"00:00:00",null,{"$f":"IF(H151>0,IF(M$3-E151>0,M$3-E151,0),0)","v":"00:00:00"},{"$f":"IF(H151>0,IF(F151-N$3>0,F151-N$3,0),0)","v":"00:00:00"},{"$f":"IF(H151>0,IF(F151<E151,IF(F151>O$3,O$3,F151),0),0)","v":"00:00:00"},{"$f":"IF(H151>0,IF(E151>F151,IF(E151>N$3,R$3-E151,R$3-P$3),0),0)","v":"00:00:00"},{"$f":"SUM(M151:P151)","v":"00:00:00"},{"$f":"IF(H151>0,IF(SUM(M151:P151)>0,\"Yes\",\"no\"),0)","v":0},{"$f":"IF(H151>0,IF(F151-E151<0,1,IF(E151<0.25,1,IF(F151>(20/24),1,0))),0)","v":0}]
[null,null,null,null,null,null,null,null,null,null,"00:00:00",null,{"$f":"IF(H152>0,IF(M$3-E152>0,M$3-E152,0),0)","v":"00:00:00"},{"$f":"IF(H152>0,IF(F152-N$3>0,F152-N$3,0),0)","v":"00:00:00"},"00:00:00","00:00:00",{"$f":"SUM(M152:P152)","v":"00:00:00"},{"$f":"IF(H152>0,IF(SUM(M152:P152)>0,\"Yes\",\"no\"),0)","v":0},{"$f":"IF(H152>0,IF(F152-E152<0,1,IF(E152<0.25,1,IF(F152>(20/24),1,0))),0)","v":0}]
[null,null,null,null,null,null,null,null,null,null,{"$f":"IF(F153<E153,F153+1,F153)","v":"00:00:00"},null,{"$f":"IF(H153>0,IF(M$3-E153>0,M$3-E153,0),0)","v":"00:00:00"},{"$f":"IF(H153>0,IF(F153-N$3>0,F153-N$3,0),0)","v":"00:00:00"},"00:00:00","00:00:00","00:00:00",{"$f":"IF(H153>0,IF(SUM(M153:P153)>0,\"Yes\",\"no\"),0)","v":0},0]
[null,null,null,null,null,null,null,null,null,null,{"$f":"IF(F154<E154,F154+1,F154)","v":"00:00:00"},null,{"$f":"IF(H154>0,IF(M$3-E154>0,M$3-E154,0),0)","v":"00:00:00"},{"$f":"IF(H154>0,IF(F154-N$3>0,F154-N$3,0),0)","v":"00:00:00"},"00:00:00","00:00:00","00:00:00",{"$f":"IF(H154>0,IF(SUM(M154:P154)>0,\"Yes\",\"no\"),0)","v":0},0]
[null,null,null,null,null,null,null,null,null,null,{"$f":"IF(F155<E155,F155+1,F155)","v":0},null,{"$f":"IF(H155>0,IF(M$3-E155>0,M$3-E155,0),0)","v":"00:00:00"},{"$f":"IF(H155>0,IF(F155-N$3>0,F155-N$3,0),0)","v":"00:00:00"},"00:00:00","00:00:00","00:00:00",{"$f":"IF(H155>0,IF(SUM(M155:P155)>0,\"Yes\",\"no\"),0)","v":0},0]
[null,null,null,null,null,null,null,null,null,null,"00:00:00",{"$f":"H156","v":"00:00:00"},"00:00:00","00:00:00","00:00:00","00:00:00","00:00:00",{"$f":"IF(H156>0,\"yes\",0)","v":0},0]
[null,null,null,null,null,null,null,null,null,null,"00:00:00",{"$f":"H157","v":"00:00:00"},"00:00:00","00:00:00","00:00:00","00:00:00","00:00:00",{"$f":"IF(H157>0,\"yes\",0)","v":0},0]
[null,null,null,null,null,null,null,null,null,null,"00:00:00",null,{"$f":"IF(H158>0,IF(M$3-E158>0,M$3-E158,0),0)","v":"00:00:00"},{"$f":"IF(H158>0,IF(F158-N$3>0,F158-N$3,0),0)","v":"00:00:00"},{"$f":"IF(H158>0,IF(F158<E158,IF(F158>O$3,O$3,F158),0),0)","v":"00:00:00"},{"$f":"IF(H158>0,IF(E158>F158,IF(E158>N$3,R$3-E158,R$3-P$3),0),0)","v":"00:00:00"},{"$f":"SUM(M158:P158)","v":"00:00:00"},{"$f":"IF(H158>0,IF(SUM(M158:P158)>0,\"Yes\",\"no\"),0)","v":0},{"$f":"IF(H158>0,IF(F158-E158<0,1,IF(E158<0.25,1,IF(F158>(20/24),1,0))),0)","v":0}]
[null,null,null,null,null,null,null,null,null,null,"00:00:00",null,{"$f":"IF(H159>0,IF(M$3-E159>0,M$3-E159,0),0)","v":"00:00:00"},{"$f":"IF(H159>0,IF(F159-N$3>0,F159-N$3,0),0)","v":"00:00:00"},"00:00:00","00:00:00",{"$f":"SUM(M159:P159)","v":"00:00:00"},{"$f":"IF(H159>0,IF(SUM(M159:P159)>0,\"Yes\",\"no\"),0)","v":0},{"$f":"IF(H159>0,IF(F159-E159<0,1,IF(E159<0.25,1,IF(F159>(20/24),1,0))),0)","v":0}]
[null,null,null,null,null,null,null,null,null,null,{"$f":"IF(F160<E160,F160+1,F160)","v":"00:00:00"},null,{"$f":"IF(H160>0,IF(M$3-E160>0,M$3-E160,0),0)","v":"00:00:00"},{"$f":"IF(H160>0,IF(F160-N$3>0,F160-N$3,0),0)","v":"00:00:00"},"00:00:00","00:00:00","00:00:00",{"$f":"IF(H160>0,IF(SUM(M160:P160)>0,\"Yes\",\"no\"),0)","v":0},0]
[null,null,null,null,null,null,null,null,null,null,{"$f":"IF(F161<E161,F161+1,F161)","v":"00:00:00"},null,{"$f":"IF(H161>0,IF(M$3-E161>0,M$3-E161,0),0)","v":"00:00:00"},{"$f":"IF(H161>0,IF(F161-N$3>0,F161-N$3,0),0)","v":"00:00:00"},"00:00:00","00:00:00","00:00:00",{"$f":"IF(H161>0,IF(SUM(M161:P161)>0,\"Yes\",\"no\"),0)","v":0},0]
[null,null,null,null,null,null,null,null,null,null,{"$f":"IF(F162<E162,F162+1,F162)","v":0},null,{"$f":"IF(H162>0,IF(M$3-E162>0,M$3-E162,0),0)","v":"00:00:00"},{"$f":"IF(H162>0,IF(F162-N$3>0,F162-N$3,0),0)","v":"00:00:00"},"00:00:00","00:00:00","00:00:00",{"$f":"IF(H162>0,IF(SUM(M162:P162)>0,\"Yes\",\"no\"),0)","v":0},0]
[null,null,null,null,null,null,null,null,null,null,"00:00:00",{"$f":"H163","v":"00:00:00"},"00:00:00","00:00:00","00:00:00","00:00:00","00:00:00",{"$f":"IF(H163>0,\"yes\",0)","v":0},0]
[null,null,null,null,null,null,null,null,null,null,"00:00:00",{"$f":"H164","v":"00:00:00"},"00:00:00","00:00:00","00:00:00","00:00:00","00:00:00",{"$f":"IF(H164>0,\"yes\",0)","v":0},0]
[null,null,null,null,null,null,null,null,null,null,"00:00:00",null,{"$f":"IF(H165>0,IF(M$3-E165>0,M$3-E165,0),0)","v":"00:00:00"},{"$f":"IF(H165>0,IF(F165-N$3>0,F165-N$3,0),0)","v":"00:00:00"},{"$f":"IF(H165>0,IF(F165<E165,IF(F165>O$3,O$3,F165),0),0)","v":"00:00:00"},{"$f":"IF(H165>0,IF(E165>F165,IF(E165>N$3,R$3-E165,R$3-P$3),0),0)","v":"00:00:00"},{"$f":"SUM(M165:P165)","v":"00:00:00"},{"$f":"IF(H165>0,IF(SUM(M165:P165)>0,\"Yes\",\"no\"),0)","v":0},{"$f":"IF(H165>0,IF(F165-E165<0,1,IF(E165<0.25,1,IF(F165>(20/24),1,0))),0)","v":0}]
[null,null,null,null,null,null,null,null,null,null,"00:00:00",null,{"$f":"IF(H166>0,IF(M$3-E166>0,M$3-E166,0),0)","v":"00:00:00"},{"$f":"IF(H166>0,IF(F166-N$3>0,F166-N$3,0),0)","v":"00:00:00"},"00:00:00","00:00:00",{"$f":"SUM(M166:P166)","v":"00:00:00"},{"$f":"IF(H166>0,IF(SUM(M166:P166)>0,\"Yes\",\"no\"),0)","v":0},{"$f":"IF(H166>0,IF(F166-E166<0,1,IF(E166<0.25,1,IF(F166>(20/24),1,0))),0)","v":0}]
[null,null,null,null,null,null,null,null,null,null,{"$f":"IF(F167<E167,F167+1,F167)","v":"00:00:00"},null,{"$f":"IF(H167>0,IF(M$3-E167>0,M$3-E167,0),0)","v":"00:00:00"},{"$f":"IF(H167>0,IF(F167-N$3>0,F167-N$3,0),0)","v":"00:00:00"},"00:00:00","00:00:00","00:00:00",{"$f":"IF(H167>0,IF(SUM(M167:P167)>0,\"Yes\",\"no\"),0)","v":0},0]
[null,null,null,null,null,null,null,null,null,null,{"$f":"IF(F168<E168,F168+1,F168)","v":"00:00:00"},null,{"$f":"IF(H168>0,IF(M$3-E168>0,M$3-E168,0),0)","v":"00:00:00"},{"$f":"IF(H168>0,IF(F168-N$3>0,F168-N$3,0),0)","v":"00:00:00"},"00:00:00","00:00:00","00:00:00",{"$f":"IF(H168>0,IF(SUM(M168:P168)>0,\"Yes\",\"no\"),0)","v":0},0]
[null,null,null,null,null,null,null,null,null,null,{"$f":"IF(F169<E169,F169+1,F169)","v":0},null,{"$f":"IF(H169>0,IF(M$3-E169>0,M$3-E169,0),0)","v":"00:00:00"},{"$f":"IF(H169>0,IF(F169-N$3>0,F169-N$3,0),0)","v":"00:00:00"},"00:00:00","00:00:00","00:00:00",{"$f":"IF(H169>0,IF(SUM(M169:P169)>0,\"Yes\",\"no\"),0)","v":0},0]
[null,null,null,null,null,null,null,null,null,null,"00:00:00",{"$f":"H170","v":"00:00:00"},"00:00:00","00:00:00","00:00:00","00:00:00","00:00:00",{"$f":"IF(H170>0,\"yes\",0)","v":0},0]
[null,null,null,null,null,null,null,null,null,null,"00:00:00",{"$f":"H171","v":"00:00:00"},"00:00:00","00:00:00","00:00:00","00:00:00","00:00:00",{"$f":"IF(H171>0,\"yes\",0)","v":0},0]
[null,null,null,null,null,null,null,null,null,null,"00:00:00",null,{"$f":"IF(H172>0,IF(M$3-E172>0,M$3-E172,0),0)","v":"00:00:00"},{"$f":"IF(H172>0,IF(F172-N$3>0,F172-N$3,0),0)","v":"00:00:00"},{"$f":"IF(H172>0,IF(F172<E172,IF(F172>O$3,O$3,F172),0),0)","v":"00:00:00"},{"$f":"IF(H172>0,IF(E172>F172,IF(E172>N$3,R$3-E172,R$3-P$3),0),0)","v":"00:00:00"},{"$f":"SUM(M172:P172)","v":"00:00:00"},{"$f":"IF(H172>0,IF(SUM(M172:P172)>0,\"Yes\",\"no\"),0)","v":0},{"$f":"IF(H172>0,IF(F172-E172<0,1,IF(E172<0.25,1,IF(F172>(20/24),1,0))),0)","v":0}]
[null,null,null,null,null,null,null,null,null,null,"00:00:00",null,{"$f":"IF(H173>0,IF(M$3-E173>0,M$3-E173,0),0)","v":"00:00:00"},{"$f":"IF(H173>0,IF(F173-N$3>0,F173-N$3,0),0)","v":"00:00:00"},"00:00:00","00:00:00",{"$f":"SUM(M173:P173)","v":"00:00:00"},{"$f":"IF(H173>0,IF(SUM(M173:P173)>0,\"Yes\",\"no\"),0)","v":0},{"$f":"IF(H173>0,IF(F173-E173<0,1,IF(E173<0.25,1,IF(F173>(20/24),1,0))),0)","v":0}]
[null,null,null,null,null,null,null,null,null,null,{"$f":"IF(F174<E174,F174+1,F174)","v":"00:00:00"},null,{"$f":"IF(H174>0,IF(M$3-E174>0,M$3-E174,0),0)","v":"00:00:00"},{"$f":"IF(H174>0,IF(F174-N$3>0,F174-N$3,0),0)","v":"00:00:00"},"00:00:00","00:00:00","00:00:00",{"$f":"IF(H174>0,IF(SUM(M174:P174)>0,\"Yes\",\"no\"),0)","v":0},0]
[null,null,null,null,null,null,null,null,null,null,{"$f":"IF(F175<E175,F175+1,F175)","v":"00:00:00"},null,{"$f":"IF(H175>0,IF(M$3-E175>0,M$3-E175,0),0)","v":"00:00:00"},{"$f":"IF(H175>0,IF(F175-N$3>0,F175-N$3,0),0)","v":"00:00:00"},"00:00:00","00:00:00","00:00:00",{"$f":"IF(H175>0,IF(SUM(M175:P175)>0,\"Yes\",\"no\"),0)","v":0},0]
[null,null,null,null,null,null,null,null,null,null,{"$f":"IF(F176<E176,F176+1,F176)","v":0},null,{"$f":"IF(H176>0,IF(M$3-E176>0,M$3-E176,0),0)","v":"00:00:00"},{"$f":"IF(H176>0,IF(F176-N$3>0,F176-N$3,0),0)","v":"00:00:00"},"00:00:00","00:00:00","00:00:00",{"$f":"IF(H176>0,IF(SUM(M176:P176)>0,\"Yes\",\"no\"),0)","v":0},0]
[null,null,null,null,null,null,null,null,null,null,"00:00:00",{"$f":"H177","v":"00:00:00"},"00:00:00","00:00:00","00:00:00","00:00:00","00:00:00",{"$f":"IF(H177>0,\"yes\",0)","v":0},0]
[null,null,null,null,null,null,null,null,null,null,"00:00:00",{"$f":"H178","v":"00:00:00"},"00:00:00","00:00:00","00:00:00","00:00:00","00:00:00",{"$f":"IF(H178>0,\"yes\",0)","v":0},0]
[null,null,null,null,null,null,null,null,null,null,"00:00:00",null,{"$f":"IF(H179>0,IF(M$3-E179>0,M$3-E179,0),0)","v":"00:00:00"},{"$f":"IF(H179>0,IF(F179-N$3>0,F179-N$3,0),0)","v":"00:00:00"},{"$f":"IF(H179>0,IF(F179<E179,IF(F179>O$3,O$3,F179),0),0)","v":"00:00:00"},{"$f":"IF(H179>0,IF(E179>F179,IF(E179>N$3,R$3-E179,R$3-P$3),0),0)","v":"00:00:00"},{"$f":"SUM(M179:P179)","v":"00:00:00"},{"$f":"IF(H179>0,IF(SUM(M179:P179)>0,\"Yes\",\"no\"),0)","v":0},{"$f":"IF(H179>0,IF(F179-E179<0,1,IF(E179<0.25,1,IF(F179>(20/24),1,0))),0)","v":0}]
[null,null,null,null,null,null,null,null,null,null,"00:00:00",null,{"$f":"IF(H180>0,IF(M$3-E180>0,M$3-E180,0),0)","v":"00:00:00"},{"$f":"IF(H180>0,IF(F180-N$3>0,F180-N$3,0),0)","v":"00:00:00"},"00:00:00","00:00:00",{"$f":"SUM(M180:P180)","v":"00:00:00"},{"$f":"IF(H180>0,IF(SUM(M180:P180)>0,\"Yes\",\"no\"),0)","v":0},{"$f":"IF(H180>0,IF(F180-E180<0,1,IF(E180<0.25,1,IF(F180>(20/24),1,0))),0)","v":0}]
[null,null,null,null,null,null,null,null,null,null,{"$f":"IF(F181<E181,F181+1,F181)","v":"00:00:00"},null,{"$f":"IF(H181>0,IF(M$3-E181>0,M$3-E181,0),0)","v":"00:00:00"},{"$f":"IF(H181>0,IF(F181-N$3>0,F181-N$3,0),0)","v":"00:00:00"},"00:00:00","00:00:00","00:00:00",{"$f":"IF(H181>0,IF(SUM(M181:P181)>0,\"Yes\",\"no\"),0)","v":0},0]
[null,null,null,null,null,null,null,null,null,null,{"$f":"IF(F182<E182,F182+1,F182)","v":"00:00:00"},null,{"$f":"IF(H182>0,IF(M$3-E182>0,M$3-E182,0),0)","v":"00:00:00"},{"$f":"IF(H182>0,IF(F182-N$3>0,F182-N$3,0),0)","v":"00:00:00"},"00:00:00","00:00:00","00:00:00",{"$f":"IF(H182>0,IF(SUM(M182:P182)>0,\"Yes\",\"no\"),0)","v":0},0]
[null,null,null,null,null,null,null,null,null,null,{"$f":"IF(F183<E183,F183+1,F183)","v":0},null,{"$f":"IF(H183>0,IF(M$3-E183>0,M$3-E183,0),0)","v":"00:00:00"},{"$f":"IF(H183>0,IF(F183-N$3>0,F183-N$3,0),0)","v":"00:00:00"},"00:00:00","00:00:00","00:00:00",{"$f":"IF(H183>0,IF(SUM(M183:P183)>0,\"Yes\",\"no\"),0)","v":0},0]
[null,null,null,null,null,null,null,null,null,null,"00:00:00",{"$f":"H184","v":"00:00:00"},"00:00:00","00:00:00","00:00:00","00:00:00","00:00:00",{"$f":"IF(H184>0,\"yes\",0)","v":0},0]
[null,null,null,null,null,null,null,null,null,null,"00:00:00",{"$f":"H185","v":"00:00:00"},"00:00:00","00:00:00","00:00:00","00:00:00","00:00:00",{"$f":"IF(H185>0,\"yes\",0)","v":0},0]
[null,null,null,null,null,null,null,null,null,null,"00:00:00",null,{"$f":"IF(H186>0,IF(M$3-E186>0,M$3-E186,0),0)","v":"00:00:00"},{"$f":"IF(H186>0,IF(F186-N$3>0,F186-N$3,0),0)","v":"00:00:00"},{"$f":"IF(H186>0,IF(F186<E186,IF(F186>O$3,O$3,F186),0),0)","v":"00:00:00"},{"$f":"IF(H186>0,IF(E186>F186,IF(E186>N$3,R$3-E186,R$3-P$3),0),0)","v":"00:00:00"},{"$f":"SUM(M186:P186)","v":"00:00:00"},{"$f":"IF(H186>0,IF(SUM(M186:P186)>0,\"Yes\",\"no\"),0)","v":0},{"$f":"IF(H186>0,IF(F186-E186<0,1,IF(E186<0.25,1,IF(F186>(20/24),1,0))),0)","v":0}]
[null,null,null,null,null,null,null,null,null,null,"00:00:00",null,{"$f":"IF(H187>0,IF(M$3-E187>0,M$3-E187,0),0)","v":"00:00:00"},{"$f":"IF(H187>0,IF(F187-N$3>0,F187-N$3,0),0)","v":"00:00:00"},"00:00:00","00:00:00",{"$f":"SUM(M187:P187)","v":"00:00:00"},{"$f":"IF(H187>0,IF(SUM(M187:P187)>0,\"Yes\",\"no\"),0)","v":0},{"$f":"IF(H187>0,IF(F187-E187<0,1,IF(E187<0.25,1,IF(F187>(20/24),1,0))),0)","v":0}]
[null,null,null,null,null,null,null,null,null,null,{"$f":"IF(F188<E188,F188+1,F188)","v":"00:00:00"},null,{"$f":"IF(H188>0,IF(M$3-E188>0,M$3-E188,0),0)","v":"00:00:00"},{"$f":"IF(H188>0,IF(F188-N$3>0,F188-N$3,0),0)","v":"00:00:00"},"00:00:00","00:00:00","00:00:00",{"$f":"IF(H188>0,IF(SUM(M188:P188)>0,\"Yes\",\"no\"),0)","v":0},0]
[null,null,null,null,null,null,null,null,null,null,{"$f":"IF(F189<E189,F189+1,F189)","v":"00:00:00"},null,{"$f":"IF(H189>0,IF(M$3-E189>0,M$3-E189,0),0)","v":"00:00:00"},{"$f":"IF(H189>0,IF(F189-N$3>0,F189-N$3,0),0)","v":"00:00:00"},"00:00:00","00:00:00","00:00:00",{"$f":"IF(H189>0,IF(SUM(M189:P189)>0,\"Yes\",\"no\"),0)","v":0},0]
[null,null,null,null,null,null,null,null,null,null,{"$f":"IF(F190<E190,F190+1,F190)","v":0},null,{"$f":"IF(H190>0,IF(M$3-E190>0,M$3-E190,0),0)","v":"00:00:00"},{"$f":"IF(H190>0,IF(F190-N$3>0,F190-N$3,0),0)","v":"00:00:00"},"00:00:00","00:00:00","00:00:00",{"$f":"IF(H190>0,IF(SUM(M190:P190)>0,\"Yes\",\"no\"),0)","v":0},0]
[null,null,null,null,null,null,null,null,null,null,"00:00:00",{"$f":"H191","v":"00:00:00"},"00:00:00","00:00:00","00:00:00","00:00:00","00:00:00",{"$f":"IF(H191>0,\"yes\",0)","v":0},0]
[null,null,null,null,null,null,null,null,null,null,"00:00:00",{"$f":"H192","v":"00:00:00"},"00:00:00","00:00:00","00:00:00","00:00:00","00:00:00",{"$f":"IF(H192>0,\"yes\",0)","v":0},0]
[null,null,null,null,null,null,null,null,null,null,"00:00:00",null,{"$f":"IF(H193>0,IF(M$3-E193>0,M$3-E193,0),0)","v":"00:00:00"},{"$f":"IF(H193>0,IF(F193-N$3>0,F193-N$3,0),0)","v":"00:00:00"},{"$f":"IF(H193>0,IF(F193<E193,IF(F193>O$3,O$3,F193),0),0)","v":"00:00:00"},{"$f":"IF(H193>0,IF(E193>F193,IF(E193>N$3,R$3-E193,R$3-P$3),0),0)","v":"00:00:00"},{"$f":"SUM(M193:P193)","v":"00:00:00"},{"$f":"IF(H193>0,IF(SUM(M193:P193)>0,\"Yes\",\"no\"),0)","v":0},{"$f":"IF(H193>0,IF(F193-E193<0,1,IF(E193<0.25,1,IF(F193>(20/24),1,0))),0)","v":0}]
[null,null,null,null,null,null,null,null,null,null,"00:00:00",null,{"$f":"IF(H194>0,IF(M$3-E194>0,M$3-E194,0),0)","v":"00:00:00"},{"$f":"IF(H194>0,IF(F194-N$3>0,F194-N$3,0),0)","v":"00:00:00"},"00:00:00","00:00:00",{"$f":"SUM(M194:P194)","v":"00:00:00"},{"$f":"IF(H194>0,IF(SUM(M194:P194)>0,\"Yes\",\"no\"),0)","v":0},{"$f":"IF(H194>0,IF(F194-E194<0,1,IF(E194<0.25,1,IF(F194>(20/24),1,0))),0)","v":0}]
[null,null,null,null,null,null,null,null,null,null,{"$f":"IF(F195<E195,F195+1,F195)","v":"00:00:00"},null,{"$f":"IF(H195>0,IF(M$3-E195>0,M$3-E195,0),0)","v":"00:00:00"},{"$f":"IF(H195>0,IF(F195-N$3>0,F195-N$3,0),0)","v":"00:00:00"},"00:00:00","00:00:00","00:00:00",{"$f":"IF(H195>0,IF(SUM(M195:P195)>0,\"Yes\",\"no\"),0)","v":0},0]
[null,null,null,null,null,null,null,null,null,null,{"$f":"IF(F196<E196,F196+1,F196)","v":"00:00:00"},null,{"$f":"IF(H196>0,IF(M$3-E196>0,M$3-E196,0),0)","v":"00:00:00"},{"$f":"IF(H196>0,IF(F196-N$3>0,F196-N$3,0),0)","v":"00:00:00"},"00:00:00","00:00:00","00:00:00",{"$f":"IF(H196>0,IF(SUM(M196:P196)>0,\"Yes\",\"no\"),0)","v":0},0]
[null,null,null,null,null,null,null,null,null,null,{"$f":"IF(F197<E197,F197+1,F197)","v":0},null,{"$f":"IF(H197>0,IF(M$3-E197>0,M$3-E197,0),0)","v":"00:00:00"},{"$f":"IF(H197>0,IF(F197-N$3>0,F197-N$3,0),0)","v":"00:00:00"},"00:00:00","00:00:00","00:00:00",{"$f":"IF(H197>0,IF(SUM(M197:P197)>0,\"Yes\",\"no\"),0)","v":0},0]
[null,null,null,null,null,null,null,null,null,null,"00:00:00",{"$f":"H198","v":"00:00:00"},"00:00:00","00:00:00","00:00:00","00:00:00","00:00:00",{"$f":"IF(H198>0,\"yes\",0)","v":0},0]
[null,null,null,null,null,null,null,null,null,null,"00:00:00",{"$f":"H199","v":"00:00:00"},"00:00:00","00:00:00","00:00:00","00:00:00","00:00:00",{"$f":"IF(H199>0,\"yes\",0)","v":0},0]
[null,null,null,null,null,null,null,null,null,null,"00:00:00",null,{"$f":"IF(H200>0,IF(M$3-E200>0,M$3-E200,0),0)","v":"00:00:00"},{"$f":"IF(H200>0,IF(F200-N$3>0,F200-N$3,0),0)","v":"00:00:00"},{"$f":"IF(H200>0,IF(F200<E200,IF(F200>O$3,O$3,F200),0),0)","v":"00:00:00"},{"$f":"IF(H200>0,IF(E200>F200,IF(E200>N$3,R$3-E200,R$3-P$3),0),0)","v":"00:00:00"},{"$f":"SUM(M200:P200)","v":"00:00:00"},{"$f":"IF(H200>0,IF(SUM(M200:P200)>0,\"Yes\",\"no\"),0)","v":0},{"$f":"IF(H200>0,IF(F200-E200<0,1,IF(E200<0.25,1,IF(F200>(20/24),1,0))),0)","v":0}]
[null,null,null,null,null,null,null,null,null,null,"00:00:00",null,{"$f":"IF(H201>0,IF(M$3-E201>0,M$3-E201,0),0)","v":"00:00:00"},{"$f":"IF(H201>0,IF(F201-N$3>0,F201-N$3,0),0)","v":"00:00:00"},"00:00:00","00:00:00",{"$f":"SUM(M201:P201)","v":"00:00:00"},{"$f":"IF(H201>0,IF(SUM(M201:P201)>0,\"Yes\",\"no\"),0)","v":0},{"$f":"IF(H201>0,IF(F201-E201<0,1,IF(E201<0.25,1,IF(F201>(20/24),1,0))),0)","v":0}]
[null,null,null,null,null,null,null,null,null,null,{"$f":"IF(F202<E202,F202+1,F202)","v":"00:00:00"},null,{"$f":"IF(H202>0,IF(M$3-E202>0,M$3-E202,0),0)","v":"00:00:00"},{"$f":"IF(H202>0,IF(F202-N$3>0,F202-N$3,0),0)","v":"00:00:00"},"00:00:00","00:00:00","00:00:00",{"$f":"IF(H202>0,IF(SUM(M202:P202)>0,\"Yes\",\"no\"),0)","v":0},0]
[null,null,null,null,null,null,null,null,null,null,{"$f":"IF(F203<E203,F203+1,F203)","v":"00:00:00"},null,{"$f":"IF(H203>0,IF(M$3-E203>0,M$3-E203,0),0)","v":"00:00:00"},{"$f":"IF(H203>0,IF(F203-N$3>0,F203-N$3,0),0)","v":"00:00:00"},"00:00:00","00:00:00","00:00:00",{"$f":"IF(H203>0,IF(SUM(M203:P203)>0,\"Yes\",\"no\"),0)","v":0},0]
[null,null,null,null,null,null,null,null,null,null,{"$f":"IF(F204<E204,F204+1,F204)","v":0},null,{"$f":"IF(H204>0,IF(M$3-E204>0,M$3-E204,0),0)","v":"00:00:00"},{"$f":"IF(H204>0,IF(F204-N$3>0,F204-N$3,0),0)","v":"00:00:00"},"00:00:00","00:00:00","00:00:00",{"$f":"IF(H204>0,IF(SUM(M204:P204)>0,\"Yes\",\"no\"),0)","v":0},0]
[null,null,null,null,null,null,null,null,null,null,"00:00:00",{"$f":"H205","v":"00:00:00"},"00:00:00","00:00:00","00:00:00","00:00:00","00:00:00",{"$f":"IF(H205>0,\"yes\",0)","v":0},0]
[null,null,null,null,null,null,null,null,null,null,"00:00:00",{"$f":"H206","v":"00:00:00"},"00:00:00","00:00:00","00:00:00","00:00:00","00:00:00",{"$f":"IF(H206>0,\"yes\",0)","v":0},0]
[null,null,null,null,null,null,null,null,null,null,"00:00:00",null,{"$f":"IF(H207>0,IF(M$3-E207>0,M$3-E207,0),0)","v":"00:00:00"},{"$f":"IF(H207>0,IF(F207-N$3>0,F207-N$3,0),0)","v":"00:00:00"},{"$f":"IF(H207>0,IF(F207<E207,IF(F207>O$3,O$3,F207),0),0)","v":"00:00:00"},{"$f":"IF(H207>0,IF(E207>F207,IF(E207>N$3,R$3-E207,R$3-P$3),0),0)","v":"00:00:00"},{"$f":"SUM(M207:P207)","v":"00:00:00"},{"$f":"IF(H207>0,IF(SUM(M207:P207)>0,\"Yes\",\"no\"),0)","v":0},{"$f":"IF(H207>0,IF(F207-E207<0,1,IF(E207<0.25,1,IF(F207>(20/24),1,0))),0)","v":0}]
[null,null,null,null,null,null,null,null,null,null,"00:00:00",null,{"$f":"IF(H208>0,IF(M$3-E208>0,M$3-E208,0),0)","v":"00:00:00"},{"$f":"IF(H208>0,IF(F208-N$3>0,F208-N$3,0),0)","v":"00:00:00"},"00:00:00","00:00:00",{"$f":"SUM(M208:P208)","v":"00:00:00"},{"$f":"IF(H208>0,IF(SUM(M208:P208)>0,\"Yes\",\"no\"),0)","v":0},{"$f":"IF(H208>0,IF(F208-E208<0,1,IF(E208<0.25,1,IF(F208>(20/24),1,0))),0)","v":0}]
[null,null,null,null,null,null,null,null,null,null,{"$f":"IF(F209<E209,F209+1,F209)","v":"00:00:00"},null,{"$f":"IF(H209>0,IF(M$3-E209>0,M$3-E209,0),0)","v":"00:00:00"},{"$f":"IF(H209>0,IF(F209-N$3>0,F209-N$3,0),0)","v":"00:00:00"},"00:00:00","00:00:00","00:00:00",{"$f":"IF(H209>0,IF(SUM(M209:P209)>0,\"Yes\",\"no\"),0)","v":0},0]
[null,null,null,null,null,null,null,null,null,null,{"$f":"IF(F210<E210,F210+1,F210)","v":"00:00:00"},null,{"$f":"IF(H210>0,IF(M$3-E210>0,M$3-E210,0),0)","v":"00:00:00"},{"$f":"IF(H210>0,IF(F210-N$3>0,F210-N$3,0),0)","v":"00:00:00"},"00:00:00","00:00:00","00:00:00",{"$f":"IF(H210>0,IF(SUM(M210:P210)>0,\"Yes\",\"no\"),0)","v":0},0]
[null,null,null,null,null,null,null,null,null,null,{"$f":"IF(F211<E211,F211+1,F211)","v":0},null,{"$f":"IF(H211>0,IF(M$3-E211>0,M$3-E211,0),0)","v":"00:00:00"},{"$f":"IF(H211>0,IF(F211-N$3>0,F211-N$3,0),0)","v":"00:00:00"},"00:00:00","00:00:00","00:00:00",{"$f":"IF(H211>0,IF(SUM(M211:P211)>0,\"Yes\",\"no\"),0)","v":0},0]
[null,null,null,null,null,null,null,null,null,null,"00:00:00",{"$f":"H212","v":"00:00:00"},"00:00:00","00:00:00","00:00:00","00:00:00","00:00:00",{"$f":"IF(H212>0,\"yes\",0)","v":0},0]
[null,null,null,null,null,null,null,null,null,null,"00:00:00",{"$f":"H213","v":"00:00:00"},"00:00:00","00:00:00","00:00:00","00:00:00","00:00:00",{"$f":"IF(H213>0,\"yes\",0)","v":0},0]
[null,null,null,null,null,null,null,null,null,null,"00:00:00",null,{"$f":"IF(H214>0,IF(M$3-E214>0,M$3-E214,0),0)","v":"00:00:00"},{"$f":"IF(H214>0,IF(F214-N$3>0,F214-N$3,0),0)","v":"00:00:00"},{"$f":"IF(H214>0,IF(F214<E214,IF(F214>O$3,O$3,F214),0),0)","v":"00:00:00"},{"$f":"IF(H214>0,IF(E214>F214,IF(E214>N$3,R$3-E214,R$3-P$3),0),0)","v":"00:00:00"},{"$f":"SUM(M214:P214)","v":"00:00:00"},{"$f":"IF(H214>0,IF(SUM(M214:P214)>0,\"Yes\",\"no\"),0)","v":0},{"$f":"IF(H214>0,IF(F214-E214<0,1,IF(E214<0.25,1,IF(F214>(20/24),1,0))),0)","v":0}]
[null,null,null,null,null,null,null,null,null,null,"00:00:00",null,{"$f":"IF(H215>0,IF(M$3-E215>0,M$3-E215,0),0)","v":"00:00:00"},{"$f":"IF(H215>0,IF(F215-N$3>0,F215-N$3,0),0)","v":"00:00:00"},"00:00:00","00:00:00",{"$f":"SUM(M215:P215)","v":"00:00:00"},{"$f":"IF(H215>0,IF(SUM(M215:P215)>0,\"Yes\",\"no\"),0)","v":0},{"$f":"IF(H215>0,IF(F215-E215<0,1,IF(E215<0.25,1,IF(F215>(20/24),1,0))),0)","v":0}]
[null,null,null,null,null,null,null,null,null,null,{"$f":"IF(F216<E216,F216+1,F216)","v":"00:00:00"},null,{"$f":"IF(H216>0,IF(M$3-E216>0,M$3-E216,0),0)","v":"00:00:00"},{"$f":"IF(H216>0,IF(F216-N$3>0,F216-N$3,0),0)","v":"00:00:00"},"00:00:00","00:00:00","00:00:00",{"$f":"IF(H216>0,IF(SUM(M216:P216)>0,\"Yes\",\"no\"),0)","v":0},0]
[null,null,null,null,null,null,null,null,null,null,{"$f":"IF(F217<E217,F217+1,F217)","v":"00:00:00"},null,{"$f":"IF(H217>0,IF(M$3-E217>0,M$3-E217,0),0)","v":"00:00:00"},{"$f":"IF(H217>0,IF(F217-N$3>0,F217-N$3,0),0)","v":"00:00:00"},"00:00:00","00:00:00","00:00:00",{"$f":"IF(H217>0,IF(SUM(M217:P217)>0,\"Yes\",\"no\"),0)","v":0},0]
[null,null,null,null,null,null,null,null,null,null,{"$f":"IF(F218<E218,F218+1,F218)","v":0},null,{"$f":"IF(H218>0,IF(M$3-E218>0,M$3-E218,0),0)","v":"00:00:00"},{"$f":"IF(H218>0,IF(F218-N$3>0,F218-N$3,0),0)","v":"00:00:00"},"00:00:00","00:00:00","00:00:00",{"$f":"IF(H218>0,IF(SUM(M218:P218)>0,\"Yes\",\"no\"),0)","v":0},0]
[null,null,null,null,null,null,null,null,null,null,"00:00:00",{"$f":"H219","v":"00:00:00"},"00:00:00","00:00:00","00:00:00","00:00:00","00:00:00",{"$f":"IF(H219>0,\"yes\",0)","v":0},0]
[null,null,null,null,null,null,null,null,null,null,"00:00:00",{"$f":"H220","v":"00:00:00"},"00:00:00","00:00:00","00:00:00","00:00:00","00:00:00",{"$f":"IF(H220>0,\"yes\",0)","v":0},0]
[null,null,null,null,null,null,null,null,null,null,"00:00:00",null,{"$f":"IF(H221>0,IF(M$3-E221>0,M$3-E221,0),0)","v":"00:00:00"},{"$f":"IF(H221>0,IF(F221-N$3>0,F221-N$3,0),0)","v":"00:00:00"},{"$f":"IF(H221>0,IF(F221<E221,IF(F221>O$3,O$3,F221),0),0)","v":"00:00:00"},{"$f":"IF(H221>0,IF(E221>F221,IF(E221>N$3,R$3-E221,R$3-P$3),0),0)","v":"00:00:00"},{"$f":"SUM(M221:P221)","v":"00:00:00"},{"$f":"IF(H221>0,IF(SUM(M221:P221)>0,\"Yes\",\"no\"),0)","v":0},{"$f":"IF(H221>0,IF(F221-E221<0,1,IF(E221<0.25,1,IF(F221>(20/24),1,0))),0)","v":0}]
[null,null,null,null,null,null,null,null,null,null,"00:00:00",null,{"$f":"IF(H222>0,IF(M$3-E222>0,M$3-E222,0),0)","v":"00:00:00"},{"$f":"IF(H222>0,IF(F222-N$3>0,F222-N$3,0),0)","v":"00:00:00"},"00:00:00","00:00:00",{"$f":"SUM(M222:P222)","v":"00:00:00"},{"$f":"IF(H222>0,IF(SUM(M222:P222)>0,\"Yes\",\"no\"),0)","v":0},{"$f":"IF(H222>0,IF(F222-E222<0,1,IF(E222<0.25,1,IF(F222>(20/24),1,0))),0)","v":0}]
[null,null,null,null,null,null,null,null,null,null,{"$f":"IF(F223<E223,F223+1,F223)","v":"00:00:00"},null,{"$f":"IF(H223>0,IF(M$3-E223>0,M$3-E223,0),0)","v":"00:00:00"},{"$f":"IF(H223>0,IF(F223-N$3>0,F223-N$3,0),0)","v":"00:00:00"},"00:00:00","00:00:00","00:00:00",{"$f":"IF(H223>0,IF(SUM(M223:P223)>0,\"Yes\",\"no\"),0)","v":0},0]
[null,null,null,null,null,null,null,null,null,null,{"$f":"IF(F224<E224,F224+1,F224)","v":"00:00:00"},null,{"$f":"IF(H224>0,IF(M$3-E224>0,M$3-E224,0),0)","v":"00:00:00"},{"$f":"IF(H224>0,IF(F224-N$3>0,F224-N$3,0),0)","v":"00:00:00"},"00:00:00","00:00:00","00:00:00",{"$f":"IF(H224>0,IF(SUM(M224:P224)>0,\"Yes\",\"no\"),0)","v":0},0]
[null,null,null,null,null,null,null,null,null,null,{"$f":"IF(F225<E225,F225+1,F225)","v":0},null,{"$f":"IF(H225>0,IF(M$3-E225>0,M$3-E225,0),0)","v":"00:00:00"},{"$f":"IF(H225>0,IF(F225-N$3>0,F225-N$3,0),0)","v":"00:00:00"},"00:00:00","00:00:00","00:00:00",{"$f":"IF(H225>0,IF(SUM(M225:P225)>0,\"Yes\",\"no\"),0)","v":0},0]
[null,null,null,null,null,null,null,null,null,null,"00:00:00",{"$f":"H226","v":"00:00:00"},"00:00:00","00:00:00","00:00:00","00:00:00","00:00:00",{"$f":"IF(H226>0,\"yes\",0)","v":0},0]
[null,null,null,null,null,null,null,null,null,null,"00:00:00",{"$f":"H227","v":"00:00:00"},"00:00:00","00:00:00","00:00:00","00:00:00","00:00:00",{"$f":"IF(H227>0,\"yes\",0)","v":0},0]
[null,null,null,null,null,null,null,null,null,null,"00:00:00",null,{"$f":"IF(H228>0,IF(M$3-E228>0,M$3-E228,0),0)","v":"00:00:00"},{"$f":"IF(H228>0,IF(F228-N$3>0,F228-N$3,0),0)","v":"00:00:00"},{"$f":"IF(H228>0,IF(F228<E228,IF(F228>O$3,O$3,F228),0),0)","v":"00:00:00"},{"$f":"IF(H228>0,IF(E228>F228,IF(E228>N$3,R$3-E228,R$3-P$3),0),0)","v":"00:00:00"},{"$f":"SUM(M228:P228)","v":"00:00:00"},{"$f":"IF(H228>0,IF(SUM(M228:P228)>0,\"Yes\",\"no\"),0)","v":0},{"$f":"IF(H228>0,IF(F228-E228<0,1,IF(E228<0.25,1,IF(F228>(20/24),1,0))),0)","v":0}]
[null,null,null,null,null,null,null,null,null,null,"00:00:00",null,{"$f":"IF(H229>0,IF(M$3-E229>0,M$3-E229,0),0)","v":"00:00:00"},{"$f":"IF(H229>0,IF(F229-N$3>0,F229-N$3,0),0)","v":"00:00:00"},"00:00:00","00:00:00",{"$f":"SUM(M229:P229)","v":"00:00:00"},{"$f":"IF(H229>0,IF(SUM(M229:P229)>0,\"Yes\",\"no\"),0)","v":0},{"$f":"IF(H229>0,IF(F229-E229<0,1,IF(E229<0.25,1,IF(F229>(20/24),1,0))),0)","v":0}]
[null,null,null,null,null,null,null,null,null,null,{"$f":"IF(F230<E230,F230+1,F230)","v":"00:00:00"},null,{"$f":"IF(H230>0,IF(M$3-E230>0,M$3-E230,0),0)","v":"00:00:00"},{"$f":"IF(H230>0,IF(F230-N$3>0,F230-N$3,0),0)","v":"00:00:00"},"00:00:00","00:00:00","00:00:00",{"$f":"IF(H230>0,IF(SUM(M230:P230)>0,\"Yes\",\"no\"),0)","v":0},0]
[null,null,null,null,null,null,null,null,null,null,{"$f":"IF(F231<E231,F231+1,F231)","v":"00:00:00"},null,{"$f":"IF(H231>0,IF(M$3-E231>0,M$3-E231,0),0)","v":"00:00:00"},{"$f":"IF(H231>0,IF(F231-N$3>0,F231-N$3,0),0)","v":"00:00:00"},"00:00:00","00:00:00","00:00:00",{"$f":"IF(H231>0,IF(SUM(M231:P231)>0,\"Yes\",\"no\"),0)","v":0},0]
[null,null,null,null,null,null,null,null,null,null,{"$f":"IF(F232<E232,F232+1,F232)","v":0},null,{"$f":"IF(H232>0,IF(M$3-E232>0,M$3-E232,0),0)","v":"00:00:00"},{"$f":"IF(H232>0,IF(F232-N$3>0,F232-N$3,0),0)","v":"00:00:00"},"00:00:00","00:00:00","00:00:00",{"$f":"IF(H232>0,IF(SUM(M232:P232)>0,\"Yes\",\"no\"),0)","v":0},0]
[null,null,null,null,null,null,null,null,null,null,"00:00:00",{"$f":"H233","v":"00:00:00"},"00:00:00","00:00:00","00:00:00","00:00:00","00:00:00",{"$f":"IF(H233>0,\"yes\",0)","v":0},0]
[null,null,null,null,null,null,null,null,null,null,"00:00:00",{"$f":"H234","v":"00:00:00"},"00:00:00","00:00:00","00:00:00","00:00:00","00:00:00",{"$f":"IF(H234>0,\"yes\",0)","v":0},0]
[null,null,null,null,null,null,null,null,null,null,"00:00:00",null,{"$f":"IF(H235>0,IF(M$3-E235>0,M$3-E235,0),0)","v":"00:00:00"},{"$f":"IF(H235>0,IF(F235-N$3>0,F235-N$3,0),0)","v":"00:00:00"},{"$f":"IF(H235>0,IF(F235<E235,IF(F235>O$3,O$3,F235),0),0)","v":"00:00:00"},{"$f":"IF(H235>0,IF(E235>F235,IF(E235>N$3,R$3-E235,R$3-P$3),0),0)","v":"00:00:00"},{"$f":"SUM(M235:P235)","v":"00:00:00"},{"$f":"IF(H235>0,IF(SUM(M235:P235)>0,\"Yes\",\"no\"),0)","v":0},{"$f":"IF(H235>0,IF(F235-E235<0,1,IF(E235<0.25,1,IF(F235>(20/24),1,0))),0)","v":0}]
[null,null,null,null,null,null,null,null,null,null,"00:00:00",null,{"$f":"IF(H236>0,IF(M$3-E236>0,M$3-E236,0),0)","v":"00:00:00"},{"$f":"IF(H236>0,IF(F236-N$3>0,F236-N$3,0),0)","v":"00:00:00"},"00:00:00","00:00:00",{"$f":"SUM(M236:P236)","v":"00:00:00"},{"$f":"IF(H236>0,IF(SUM(M236:P236)>0,\"Yes\",\"no\"),0)","v":0},{"$f":"IF(H236>0,IF(F236-E236<0,1,IF(E236<0.25,1,IF(F236>(20/24),1,0))),0)","v":0}]
[null,null,null,null,null,null,null,null,null,null,{"$f":"IF(F237<E237,F237+1,F237)","v":"00:00:00"},null,{"$f":"IF(H237>0,IF(M$3-E237>0,M$3-E237,0),0)","v":"00:00:00"},{"$f":"IF(H237>0,IF(F237-N$3>0,F237-N$3,0),0)","v":"00:00:00"},"00:00:00","00:00:00","00:00:00",{"$f":"IF(H237>0,IF(SUM(M237:P237)>0,\"Yes\",\"no\"),0)","v":0},0]
[null,null,null,null,null,null,null,null,null,null,{"$f":"IF(F238<E238,F238+1,F238)","v":"00:00:00"},null,{"$f":"IF(H238>0,IF(M$3-E238>0,M$3-E238,0),0)","v":"00:00:00"},{"$f":"IF(H238>0,IF(F238-N$3>0,F238-N$3,0),0)","v":"00:00:00"},"00:00:00","00:00:00","00:00:00",{"$f":"IF(H238>0,IF(SUM(M238:P238)>0,\"Yes\",\"no\"),0)","v":0},0]
[null,null,null,null,null,null,null,null,null,null,{"$f":"IF(F239<E239,F239+1,F239)","v":0},null,{"$f":"IF(H239>0,IF(M$3-E239>0,M$3-E239,0),0)","v":"00:00:00"},{"$f":"IF(H239>0,IF(F239-N$3>0,F239-N$3,0),0)","v":"00:00:00"},"00:00:00","00:00:00","00:00:00",{"$f":"IF(H239>0,IF(SUM(M239:P239)>0,\"Yes\",\"no\"),0)","v":0},0]
[null,null,null,null,null,null,null,null,null,null,"00:00:00",{"$f":"H240","v":"00:00:00"},"00:00:00","00:00:00","00:00:00","00:00:00","00:00:00",{"$f":"IF(H240>0,\"yes\",0)","v":0},0]
[null,null,null,null,null,null,null,null,null,null,"00:00:00",{"$f":"H241","v":"00:00:00"},"00:00:00","00:00:00","00:00:00","00:00:00","00:00:00",{"$f":"IF(H241>0,\"yes\",0)","v":0},0]
[null,null,null,null,null,null,null,null,null,null,"00:00:00",null,{"$f":"IF(H242>0,IF(M$3-E242>0,M$3-E242,0),0)","v":"00:00:00"},{"$f":"IF(H242>0,IF(F242-N$3>0,F242-N$3,0),0)","v":"00:00:00"},{"$f":"IF(H242>0,IF(F242<E242,IF(F242>O$3,O$3,F242),0),0)","v":"00:00:00"},{"$f":"IF(H242>0,IF(E242>F242,IF(E242>N$3,R$3-E242,R$3-P$3),0),0)","v":"00:00:00"},{"$f":"SUM(M242:P242)","v":"00:00:00"},{"$f":"IF(H242>0,IF(SUM(M242:P242)>0,\"Yes\",\"no\"),0)","v":0},{"$f":"IF(H242>0,IF(F242-E242<0,1,IF(E242<0.25,1,IF(F242>(20/24),1,0))),0)","v":0}]
[null,null,null,null,null,null,null,null,null,null,"00:00:00",null,{"$f":"IF(H243>0,IF(M$3-E243>0,M$3-E243,0),0)","v":"00:00:00"},{"$f":"IF(H243>0,IF(F243-N$3>0,F243-N$3,0),0)","v":"00:00:00"},"00:00:00","00:00:00",{"$f":"SUM(M243:P243)","v":"00:00:00"},{"$f":"IF(H243>0,IF(SUM(M243:P243)>0,\"Yes\",\"no\"),0)","v":0},{"$f":"IF(H243>0,IF(F243-E243<0,1,IF(E243<0.25,1,IF(F243>(20/24),1,0))),0)","v":0}]
[null,null,null,null,null,null,null,null,null,null,{"$f":"IF(F244<E244,F244+1,F244)","v":"00:00:00"},null,{"$f":"IF(H244>0,IF(M$3-E244>0,M$3-E244,0),0)","v":"00:00:00"},{"$f":"IF(H244>0,IF(F244-N$3>0,F244-N$3,0),0)","v":"00:00:00"},"00:00:00","00:00:00","00:00:00",{"$f":"IF(H244>0,IF(SUM(M244:P244)>0,\"Yes\",\"no\"),0)","v":0},0]
[null,null,null,null,null,null,null,null,null,null,{"$f":"IF(F245<E245,F245+1,F245)","v":"00:00:00"},null,{"$f":"IF(H245>0,IF(M$3-E245>0,M$3-E245,0),0)","v":"00:00:00"},{"$f":"IF(H245>0,IF(F245-N$3>0,F245-N$3,0),0)","v":"00:00:00"},"00:00:00","00:00:00","00:00:00",{"$f":"IF(H245>0,IF(SUM(M245:P245)>0,\"Yes\",\"no\"),0)","v":0},0]
[null,null,null,null,null,null,null,null,null,null,{"$f":"IF(F246<E246,F246+1,F246)","v":0},null,{"$f":"IF(H246>0,IF(M$3-E246>0,M$3-E246,0),0)","v":"00:00:00"},{"$f":"IF(H246>0,IF(F246-N$3>0,F246-N$3,0),0)","v":"00:00:00"},"00:00:00","00:00:00","00:00:00",{"$f":"IF(H246>0,IF(SUM(M246:P246)>0,\"Yes\",\"no\"),0)","v":0},0]
[null,null,null,null,null,null,null,null,null,null,"00:00:00",{"$f":"H247","v":"00:00:00"},"00:00:00","00:00:00","00:00:00","00:00:00","00:00:00",{"$f":"IF(H247>0,\"yes\",0)","v":0},0]
[null,null,null,null,null,null,null,null,null,null,"00:00:00",{"$f":"H248","v":"00:00:00"},"00:00:00","00:00:00","00:00:00","00:00:00","00:00:00",{"$f":"IF(H248>0,\"yes\",0)","v":0},0]
[null,null,null,null,null,null,null,null,null,null,"00:00:00",null,{"$f":"IF(H249>0,IF(M$3-E249>0,M$3-E249,0),0)","v":"00:00:00"},{"$f":"IF(H249>0,IF(F249-N$3>0,F249-N$3,0),0)","v":"00:00:00"},{"$f":"IF(H249>0,IF(F249<E249,IF(F249>O$3,O$3,F249),0),0)","v":"00:00:00"},{"$f":"IF(H249>0,IF(E249>F249,IF(E249>N$3,R$3-E249,R$3-P$3),0),0)","v":"00:00:00"},{"$f":"SUM(M249:P249)","v":"00:00:00"},{"$f":"IF(H249>0,IF(SUM(M249:P249)>0,\"Yes\",\"no\"),0)","v":0},{"$f":"IF(H249>0,IF(F249-E249<0,1,IF(E249<0.25,1,IF(F249>(20/24),1,0))),0)","v":0}]
[null,null,null,null,null,null,null,null,null,null,"00:00:00",null,{"$f":"IF(H250>0,IF(M$3-E250>0,M$3-E250,0),0)","v":"00:00:00"},{"$f":"IF(H250>0,IF(F250-N$3>0,F250-N$3,0),0)","v":"00:00:00"},"00:00:00","00:00:00",{"$f":"SUM(M250:P250)","v":"00:00:00"},{"$f":"IF(H250>0,IF(SUM(M250:P250)>0,\"Yes\",\"no\"),0)","v":0},{"$f":"IF(H250>0,IF(F250-E250<0,1,IF(E250<0.25,1,IF(F250>(20/24),1,0))),0)","v":0}]
[null,null,null,null,null,null,null,null,null,null,{"$f":"IF(F251<E251,F251+1,F251)","v":"00:00:00"},null,{"$f":"IF(H251>0,IF(M$3-E251>0,M$3-E251,0),0)","v":"00:00:00"},{"$f":"IF(H251>0,IF(F251-N$3>0,F251-N$3,0),0)","v":"00:00:00"},"00:00:00","00:00:00","00:00:00",{"$f":"IF(H251>0,IF(SUM(M251:P251)>0,\"Yes\",\"no\"),0)","v":0},0]
[null,null,null,null,null,null,null,null,null,null,{"$f":"IF(F252<E252,F252+1,F252)","v":"00:00:00"},null,{"$f":"IF(H252>0,IF(M$3-E252>0,M$3-E252,0),0)","v":"00:00:00"},{"$f":"IF(H252>0,IF(F252-N$3>0,F252-N$3,0),0)","v":"00:00:00"},"00:00:00","00:00:00","00:00:00",{"$f":"IF(H252>0,IF(SUM(M252:P252)>0,\"Yes\",\"no\"),0)","v":0},0]
[null,null,null,null,null,null,null,null,null,null,{"$f":"IF(F253<E253,F253+1,F253)","v":0},null,{"$f":"IF(H253>0,IF(M$3-E253>0,M$3-E253,0),0)","v":"00:00:00"},{"$f":"IF(H253>0,IF(F253-N$3>0,F253-N$3,0),0)","v":"00:00:00"},"00:00:00","00:00:00","00:00:00",{"$f":"IF(H253>0,IF(SUM(M253:P253)>0,\"Yes\",\"no\"),0)","v":0},0]
[null,null,null,null,null,null,null,null,null,null,"00:00:00",{"$f":"H254","v":"00:00:00"},"00:00:00","00:00:00","00:00:00","00:00:00","00:00:00",{"$f":"IF(H254>0,\"yes\",0)","v":0},0]
[null,null,null,null,null,null,null,null,null,null,"00:00:00",{"$f":"H255","v":"00:00:00"},"00:00:00","00:00:00","00:00:00","00:00:00","00:00:00",{"$f":"IF(H255>0,\"yes\",0)","v":0},0]
[null,null,null,null,null,null,null,null,null,null,"00:00:00",null,{"$f":"IF(H256>0,IF(M$3-E256>0,M$3-E256,0),0)","v":"00:00:00"},{"$f":"IF(H256>0,IF(F256-N$3>0,F256-N$3,0),0)","v":"00:00:00"},{"$f":"IF(H256>0,IF(F256<E256,IF(F256>O$3,O$3,F256),0),0)","v":"00:00:00"},{"$f":"IF(H256>0,IF(E256>F256,IF(E256>N$3,R$3-E256,R$3-P$3),0),0)","v":"00:00:00"},{"$f":"SUM(M256:P256)","v":"00:00:00"},{"$f":"IF(H256>0,IF(SUM(M256:P256)>0,\"Yes\",\"no\"),0)","v":0},{"$f":"IF(H256>0,IF(F256-E256<0,1,IF(E256<0.25,1,IF(F256>(20/24),1,0))),0)","v":0}]
[null,null,null,null,null,null,null,null,null,null,"00:00:00",null,{"$f":"IF(H257>0,IF(M$3-E257>0,M$3-E257,0),0)","v":"00:00:00"},{"$f":"IF(H257>0,IF(F257-N$3>0,F257-N$3,0),0)","v":"00:00:00"},"00:00:00","00:00:00",{"$f":"SUM(M257:P257)","v":"00:00:00"},{"$f":"IF(H257>0,IF(SUM(M257:P257)>0,\"Yes\",\"no\"),0)","v":0},{"$f":"IF(H257>0,IF(F257-E257<0,1,IF(E257<0.25,1,IF(F257>(20/24),1,0))),0)","v":0}]
[null,null,null,null,null,null,null,null,null,null,{"$f":"IF(F258<E258,F258+1,F258)","v":"00:00:00"},null,{"$f":"IF(H258>0,IF(M$3-E258>0,M$3-E258,0),0)","v":"00:00:00"},{"$f":"IF(H258>0,IF(F258-N$3>0,F258-N$3,0),0)","v":"00:00:00"},"00:00:00","00:00:00","00:00:00",{"$f":"IF(H258>0,IF(SUM(M258:P258)>0,\"Yes\",\"no\"),0)","v":0},0]
[null,null,null,null,null,null,null,null,null,null,{"$f":"IF(F259<E259,F259+1,F259)","v":"00:00:00"},null,{"$f":"IF(H259>0,IF(M$3-E259>0,M$3-E259,0),0)","v":"00:00:00"},{"$f":"IF(H259>0,IF(F259-N$3>0,F259-N$3,0),0)","v":"00:00:00"},"00:00:00","00:00:00","00:00:00",{"$f":"IF(H259>0,IF(SUM(M259:P259)>0,\"Yes\",\"no\"),0)","v":0},0]
[null,null,null,null,null,null,null,null,null,null,{"$f":"IF(F260<E260,F260+1,F260)","v":0},null,{"$f":"IF(H260>0,IF(M$3-E260>0,M$3-E260,0),0)","v":"00:00:00"},{"$f":"IF(H260>0,IF(F260-N$3>0,F260-N$3,0),0)","v":"00:00:00"},"00:00:00","00:00:00","00:00:00",{"$f":"IF(H260>0,IF(SUM(M260:P260)>0,\"Yes\",\"no\"),0)","v":0},0]
[null,null,null,null,null,null,null,null,null,null,"00:00:00",{"$f":"H261","v":"00:00:00"},"00:00:00","00:00:00","00:00:00","00:00:00","00:00:00",{"$f":"IF(H261>0,\"yes\",0)","v":0},0]
[null,null,null,null,null,null,null,null,null,null,"00:00:00",{"$f":"H262","v":"00:00:00"},"00:00:00","00:00:00","00:00:00","00:00:00","00:00:00",{"$f":"IF(H262>0,\"yes\",0)","v":0},0]
[null,null,null,null,null,null,null,null,null,null,"00:00:00",null,{"$f":"IF(H263>0,IF(M$3-E263>0,M$3-E263,0),0)","v":"00:00:00"},{"$f":"IF(H263>0,IF(F263-N$3>0,F263-N$3,0),0)","v":"00:00:00"},{"$f":"IF(H263>0,IF(F263<E263,IF(F263>O$3,O$3,F263),0),0)","v":"00:00:00"},{"$f":"IF(H263>0,IF(E263>F263,IF(E263>N$3,R$3-E263,R$3-P$3),0),0)","v":"00:00:00"},{"$f":"SUM(M263:P263)","v":"00:00:00"},{"$f":"IF(H263>0,IF(SUM(M263:P263)>0,\"Yes\",\"no\"),0)","v":0},{"$f":"IF(H263>0,IF(F263-E263<0,1,IF(E263<0.25,1,IF(F263>(20/24),1,0))),0)","v":0}]
[null,null,null,null,null,null,null,null,null,null,"00:00:00",null,{"$f":"IF(H264>0,IF(M$3-E264>0,M$3-E264,0),0)","v":"00:00:00"},{"$f":"IF(H264>0,IF(F264-N$3>0,F264-N$3,0),0)","v":"00:00:00"},"00:00:00","00:00:00",{"$f":"SUM(M264:P264)","v":"00:00:00"},{"$f":"IF(H264>0,IF(SUM(M264:P264)>0,\"Yes\",\"no\"),0)","v":0},{"$f":"IF(H264>0,IF(F264-E264<0,1,IF(E264<0.25,1,IF(F264>(20/24),1,0))),0)","v":0}]
[null,null,null,null,null,null,null,null,null,null,{"$f":"IF(F265<E265,F265+1,F265)","v":"00:00:00"},null,{"$f":"IF(H265>0,IF(M$3-E265>0,M$3-E265,0),0)","v":"00:00:00"},{"$f":"IF(H265>0,IF(F265-N$3>0,F265-N$3,0),0)","v":"00:00:00"},"00:00:00","00:00:00","00:00:00",{"$f":"IF(H265>0,IF(SUM(M265:P265)>0,\"Yes\",\"no\"),0)","v":0},0]
[null,null,null,null,null,null,null,null,null,null,{"$f":"IF(F266<E266,F266+1,F266)","v":"00:00:00"},null,{"$f":"IF(H266>0,IF(M$3-E266>0,M$3-E266,0),0)","v":"00:00:00"},{"$f":"IF(H266>0,IF(F266-N$3>0,F266-N$3,0),0)","v":"00:00:00"},"00:00:00","00:00:00","00:00:00",{"$f":"IF(H266>0,IF(SUM(M266:P266)>0,\"Yes\",\"no\"),0)","v":0},0]
[null,null,null,null,null,null,null,null,null,null,{"$f":"IF(F267<E267,F267+1,F267)","v":0},null,{"$f":"IF(H267>0,IF(M$3-E267>0,M$3-E267,0),0)","v":"00:00:00"},{"$f":"IF(H267>0,IF(F267-N$3>0,F267-N$3,0),0)","v":"00:00:00"},"00:00:00","00:00:00","00:00:00",{"$f":"IF(H267>0,IF(SUM(M267:P267)>0,\"Yes\",\"no\"),0)","v":0},0]
[null,null,null,null,null,null,null,null,null,null,"00:00:00",{"$f":"H268","v":"00:00:00"},"00:00:00","00:00:00","00:00:00","00:00:00","00:00:00",{"$f":"IF(H268>0,\"yes\",0)","v":0},0]
[null,null,null,null,null,null,null,null,null,null,"00:00:00",{"$f":"H269","v":"00:00:00"},"00:00:00","00:00:00","00:00:00","00:00:00","00:00:00",{"$f":"IF(H269>0,\"yes\",0)","v":0},0]
[null,null,null,null,null,null,null,null,null,null,"00:00:00",null,{"$f":"IF(H270>0,IF(M$3-E270>0,M$3-E270,0),0)","v":"00:00:00"},{"$f":"IF(H270>0,IF(F270-N$3>0,F270-N$3,0),0)","v":"00:00:00"},{"$f":"IF(H270>0,IF(F270<E270,IF(F270>O$3,O$3,F270),0),0)","v":"00:00:00"},{"$f":"IF(H270>0,IF(E270>F270,IF(E270>N$3,R$3-E270,R$3-P$3),0),0)","v":"00:00:00"},{"$f":"SUM(M270:P270)","v":"00:00:00"},{"$f":"IF(H270>0,IF(SUM(M270:P270)>0,\"Yes\",\"no\"),0)","v":0},{"$f":"IF(H270>0,IF(F270-E270<0,1,IF(E270<0.25,1,IF(F270>(20/24),1,0))),0)","v":0}]
[null,null,null,null,null,null,null,null,null,null,"00:00:00",null,{"$f":"IF(H271>0,IF(M$3-E271>0,M$3-E271,0),0)","v":"00:00:00"},{"$f":"IF(H271>0,IF(F271-N$3>0,F271-N$3,0),0)","v":"00:00:00"},"00:00:00","00:00:00",{"$f":"SUM(M271:P271)","v":"00:00:00"},{"$f":"IF(H271>0,IF(SUM(M271:P271)>0,\"Yes\",\"no\"),0)","v":0},{"$f":"IF(H271>0,IF(F271-E271<0,1,IF(E271<0.25,1,IF(F271>(20/24),1,0))),0)","v":0}]
[null,null,null,null,null,null,null,null,null,null,{"$f":"IF(F272<E272,F272+1,F272)","v":"00:00:00"},null,{"$f":"IF(H272>0,IF(M$3-E272>0,M$3-E272,0),0)","v":"00:00:00"},{"$f":"IF(H272>0,IF(F272-N$3>0,F272-N$3,0),0)","v":"00:00:00"},"00:00:00","00:00:00","00:00:00",{"$f":"IF(H272>0,IF(SUM(M272:P272)>0,\"Yes\",\"no\"),0)","v":0},0]
[null,null,null,null,null,null,null,null,null,null,{"$f":"IF(F273<E273,F273+1,F273)","v":"00:00:00"},null,{"$f":"IF(H273>0,IF(M$3-E273>0,M$3-E273,0),0)","v":"00:00:00"},{"$f":"IF(H273>0,IF(F273-N$3>0,F273-N$3,0),0)","v":"00:00:00"},"00:00:00","00:00:00","00:00:00",{"$f":"IF(H273>0,IF(SUM(M273:P273)>0,\"Yes\",\"no\"),0)","v":0},0]
[null,null,null,null,null,null,null,null,null,null,{"$f":"IF(F274<E274,F274+1,F274)","v":0},null,{"$f":"IF(H274>0,IF(M$3-E274>0,M$3-E274,0),0)","v":"00:00:00"},{"$f":"IF(H274>0,IF(F274-N$3>0,F274-N$3,0),0)","v":"00:00:00"},"00:00:00","00:00:00","00:00:00",{"$f":"IF(H274>0,IF(SUM(M274:P274)>0,\"Yes\",\"no\"),0)","v":0},0]
[null,null,null,null,null,null,null,null,null,null,"00:00:00",{"$f":"H275","v":"00:00:00"},"00:00:00","00:00:00","00:00:00","00:00:00","00:00:00",{"$f":"IF(H275>0,\"yes\",0)","v":0},0]
[null,null,null,null,null,null,null,null,null,null,"00:00:00",{"$f":"H276","v":"00:00:00"},"00:00:00","00:00:00","00:00:00","00:00:00","00:00:00",{"$f":"IF(H276>0,\"yes\",0)","v":0},0]
[null,null,null,null,null,null,null,null,null,null,"00:00:00",null,{"$f":"IF(H277>0,IF(M$3-E277>0,M$3-E277,0),0)","v":"00:00:00"},{"$f":"IF(H277>0,IF(F277-N$3>0,F277-N$3,0),0)","v":"00:00:00"},{"$f":"IF(H277>0,IF(F277<E277,IF(F277>O$3,O$3,F277),0),0)","v":"00:00:00"},{"$f":"IF(H277>0,IF(E277>F277,IF(E277>N$3,R$3-E277,R$3-P$3),0),0)","v":"00:00:00"},{"$f":"SUM(M277:P277)","v":"00:00:00"},{"$f":"IF(H277>0,IF(SUM(M277:P277)>0,\"Yes\",\"no\"),0)","v":0},{"$f":"IF(H277>0,IF(F277-E277<0,1,IF(E277<0.25,1,IF(F277>(20/24),1,0))),0)","v":0}]
[null,null,null,null,null,null,null,null,null,null,"00:00:00",null,{"$f":"IF(H278>0,IF(M$3-E278>0,M$3-E278,0),0)","v":"00:00:00"},{"$f":"IF(H278>0,IF(F278-N$3>0,F278-N$3,0),0)","v":"00:00:00"},"00:00:00","00:00:00",{"$f":"SUM(M278:P278)","v":"00:00:00"},{"$f":"IF(H278>0,IF(SUM(M278:P278)>0,\"Yes\",\"no\"),0)","v":0},{"$f":"IF(H278>0,IF(F278-E278<0,1,IF(E278<0.25,1,IF(F278>(20/24),1,0))),0)","v":0}]
[null,null,null,null,null,null,null,null,null,null,{"$f":"IF(F279<E279,F279+1,F279)","v":"00:00:00"},null,{"$f":"IF(H279>0,IF(M$3-E279>0,M$3-E279,0),0)","v":"00:00:00"},{"$f":"IF(H279>0,IF(F279-N$3>0,F279-N$3,0),0)","v":"00:00:00"},"00:00:00","00:00:00","00:00:00",{"$f":"IF(H279>0,IF(SUM(M279:P279)>0,\"Yes\",\"no\"),0)","v":0},0]
[null,null,null,null,null,null,null,null,null,null,{"$f":"IF(F280<E280,F280+1,F280)","v":"00:00:00"},null,{"$f":"IF(H280>0,IF(M$3-E280>0,M$3-E280,0),0)","v":"00:00:00"},{"$f":"IF(H280>0,IF(F280-N$3>0,F280-N$3,0),0)","v":"00:00:00"},"00:00:00","00:00:00","00:00:00",{"$f":"IF(H280>0,IF(SUM(M280:P280)>0,\"Yes\",\"no\"),0)","v":0},0]
[null,null,null,null,null,null,null,null,null,null,{"$f":"IF(F281<E281,F281+1,F281)","v":0},null,{"$f":"IF(H281>0,IF(M$3-E281>0,M$3-E281,0),0)","v":"00:00:00"},{"$f":"IF(H281>0,IF(F281-N$3>0,F281-N$3,0),0)","v":"00:00:00"},"00:00:00","00:00:00","00:00:00",{"$f":"IF(H281>0,IF(SUM(M281:P281)>0,\"Yes\",\"no\"),0)","v":0},0]
[null,null,null,null,null,null,null,null,null,null,"00:00:00",{"$f":"H282","v":"00:00:00"},"00:00:00","00:00:00","00:00:00","00:00:00","00:00:00",{"$f":"IF(H282>0,\"yes\",0)","v":0},0]
[null,null,null,null,null,null,null,null,null,null,"00:00:00",{"$f":"H283","v":"00:00:00"},"00:00:00","00:00:00","00:00:00","00:00:00","00:00:00",{"$f":"IF(H283>0,\"yes\",0)","v":0},0]
[null,null,null,null,null,null,null,null,null,null,"00:00:00",null,{"$f":"IF(H284>0,IF(M$3-E284>0,M$3-E284,0),0)","v":"00:00:00"},{"$f":"IF(H284>0,IF(F284-N$3>0,F284-N$3,0),0)","v":"00:00:00"},{"$f":"IF(H284>0,IF(F284<E284,IF(F284>O$3,O$3,F284),0),0)","v":"00:00:00"},{"$f":"IF(H284>0,IF(E284>F284,IF(E284>N$3,R$3-E284,R$3-P$3),0),0)","v":"00:00:00"},{"$f":"SUM(M284:P284)","v":"00:00:00"},{"$f":"IF(H284>0,IF(SUM(M284:P284)>0,\"Yes\",\"no\"),0)","v":0},{"$f":"IF(H284>0,IF(F284-E284<0,1,IF(E284<0.25,1,IF(F284>(20/24),1,0))),0)","v":0}]
[null,null,null,null,null,null,null,null,null,null,"00:00:00",null,{"$f":"IF(H285>0,IF(M$3-E285>0,M$3-E285,0),0)","v":"00:00:00"},{"$f":"IF(H285>0,IF(F285-N$3>0,F285-N$3,0),0)","v":"00:00:00"},"00:00:00","00:00:00",{"$f":"SUM(M285:P285)","v":"00:00:00"},{"$f":"IF(H285>0,IF(SUM(M285:P285)>0,\"Yes\",\"no\"),0)","v":0},{"$f":"IF(H285>0,IF(F285-E285<0,1,IF(E285<0.25,1,IF(F285>(20/24),1,0))),0)","v":0}]
[null,null,null,null,null,null,null,null,null,null,{"$f":"IF(F286<E286,F286+1,F286)","v":"00:00:00"},null,{"$f":"IF(H286>0,IF(M$3-E286>0,M$3-E286,0),0)","v":"00:00:00"},{"$f":"IF(H286>0,IF(F286-N$3>0,F286-N$3,0),0)","v":"00:00:00"},"00:00:00","00:00:00","00:00:00",{"$f":"IF(H286>0,IF(SUM(M286:P286)>0,\"Yes\",\"no\"),0)","v":0},0]
[null,null,null,null,null,null,null,null,null,null,{"$f":"IF(F287<E287,F287+1,F287)","v":"00:00:00"},null,{"$f":"IF(H287>0,IF(M$3-E287>0,M$3-E287,0),0)","v":"00:00:00"},{"$f":"IF(H287>0,IF(F287-N$3>0,F287-N$3,0),0)","v":"00:00:00"},"00:00:00","00:00:00","00:00:00",{"$f":"IF(H287>0,IF(SUM(M287:P287)>0,\"Yes\",\"no\"),0)","v":0},0]
[null,null,null,null,null,null,null,null,null,null,{"$f":"IF(F288<E288,F288+1,F288)","v":0},null,{"$f":"IF(H288>0,IF(M$3-E288>0,M$3-E288,0),0)","v":"00:00:00"},{"$f":"IF(H288>0,IF(F288-N$3>0,F288-N$3,0),0)","v":"00:00:00"},"00:00:00","00:00:00","00:00:00",{"$f":"IF(H288>0,IF(SUM(M288:P288)>0,\"Yes\",\"no\"),0)","v":0},0]
[null,null,null,null,null,null,null,null,null,null,"00:00:00",{"$f":"H289","v":"00:00:00"},"00:00:00","00:00:00","00:00:00","00:00:00","00:00:00",{"$f":"IF(H289>0,\"yes\",0)","v":0},0]
[null,null,null,null,null,null,null,null,null,null,"00:00:00",{"$f":"H290","v":"00:00:00"},"00:00:00","00:00:00","00:00:00","00:00:00","00:00:00",{"$f":"IF(H290>0,\"yes\",0)","v":0},0]
[null,null,null,null,null,null,null,null,null,null,"00:00:00",null,{"$f":"IF(H291>0,IF(M$3-E291>0,M$3-E291,0),0)","v":"00:00:00"},{"$f":"IF(H291>0,IF(F291-N$3>0,F291-N$3,0),0)","v":"00:00:00"},{"$f":"IF(H291>0,IF(F291<E291,IF(F291>O$3,O$3,F291),0),0)","v":"00:00:00"},{"$f":"IF(H291>0,IF(E291>F291,IF(E291>N$3,R$3-E291,R$3-P$3),0),0)","v":"00:00:00"},{"$f":"SUM(M291:P291)","v":"00:00:00"},{"$f":"IF(H291>0,IF(SUM(M291:P291)>0,\"Yes\",\"no\"),0)","v":0},{"$f":"IF(H291>0,IF(F291-E291<0,1,IF(E291<0.25,1,IF(F291>(20/24),1,0))),0)","v":0}]
[null,null,null,null,null,null,null,null,null,null,"00:00:00",null,{"$f":"IF(H292>0,IF(M$3-E292>0,M$3-E292,0),0)","v":"00:00:00"},{"$f":"IF(H292>0,IF(F292-N$3>0,F292-N$3,0),0)","v":"00:00:00"},"00:00:00","00:00:00",{"$f":"SUM(M292:P292)","v":"00:00:00"},{"$f":"IF(H292>0,IF(SUM(M292:P292)>0,\"Yes\",\"no\"),0)","v":0},{"$f":"IF(H292>0,IF(F292-E292<0,1,IF(E292<0.25,1,IF(F292>(20/24),1,0))),0)","v":0}]
[null,null,null,null,null,null,null,null,null,null,{"$f":"IF(F293<E293,F293+1,F293)","v":"00:00:00"},null,{"$f":"IF(H293>0,IF(M$3-E293>0,M$3-E293,0),0)","v":"00:00:00"},{"$f":"IF(H293>0,IF(F293-N$3>0,F293-N$3,0),0)","v":"00:00:00"},"00:00:00","00:00:00","00:00:00",{"$f":"IF(H293>0,IF(SUM(M293:P293)>0,\"Yes\",\"no\"),0)","v":0},0]
[null,null,null,null,null,null,null,null,null,null,{"$f":"IF(F294<E294,F294+1,F294)","v":"00:00:00"},null,{"$f":"IF(H294>0,IF(M$3-E294>0,M$3-E294,0),0)","v":"00:00:00"},{"$f":"IF(H294>0,IF(F294-N$3>0,F294-N$3,0),0)","v":"00:00:00"},"00:00:00","00:00:00","00:00:00",{"$f":"IF(H294>0,IF(SUM(M294:P294)>0,\"Yes\",\"no\"),0)","v":0},0]
[null,null,null,null,null,null,null,null,null,null,{"$f":"IF(F295<E295,F295+1,F295)","v":0},null,{"$f":"IF(H295>0,IF(M$3-E295>0,M$3-E295,0),0)","v":"00:00:00"},{"$f":"IF(H295>0,IF(F295-N$3>0,F295-N$3,0),0)","v":"00:00:00"},"00:00:00","00:00:00","00:00:00",{"$f":"IF(H295>0,IF(SUM(M295:P295)>0,\"Yes\",\"no\"),0)","v":0},0]
[null,null,null,null,null,null,null,null,null,null,"00:00:00",{"$f":"H296","v":"00:00:00"},"00:00:00","00:00:00","00:00:00","00:00:00","00:00:00",{"$f":"IF(H296>0,\"yes\",0)","v":0},0]
[null,null,null,null,null,null,null,null,null,null,"00:00:00",{"$f":"H297","v":"00:00:00"},"00:00:00","00:00:00","00:00:00","00:00:00","00:00:00",{"$f":"IF(H297>0,\"yes\",0)","v":0},0]
[null,null,null,null,null,null,null,null,null,null,"00:00:00",null,{"$f":"IF(H298>0,IF(M$3-E298>0,M$3-E298,0),0)","v":"00:00:00"},{"$f":"IF(H298>0,IF(F298-N$3>0,F298-N$3,0),0)","v":"00:00:00"},{"$f":"IF(H298>0,IF(F298<E298,IF(F298>O$3,O$3,F298),0),0)","v":"00:00:00"},{"$f":"IF(H298>0,IF(E298>F298,IF(E298>N$3,R$3-E298,R$3-P$3),0),0)","v":"00:00:00"},{"$f":"SUM(M298:P298)","v":"00:00:00"},{"$f":"IF(H298>0,IF(SUM(M298:P298)>0,\"Yes\",\"no\"),0)","v":0},{"$f":"IF(H298>0,IF(F298-E298<0,1,IF(E298<0.25,1,IF(F298>(20/24),1,0))),0)","v":0}]
[null,null,null,null,null,null,null,null,null,null,"00:00:00",null,{"$f":"IF(H299>0,IF(M$3-E299>0,M$3-E299,0),0)","v":"00:00:00"},{"$f":"IF(H299>0,IF(F299-N$3>0,F299-N$3,0),0)","v":"00:00:00"},"00:00:00","00:00:00",{"$f":"SUM(M299:P299)","v":"00:00:00"},{"$f":"IF(H299>0,IF(SUM(M299:P299)>0,\"Yes\",\"no\"),0)","v":0},{"$f":"IF(H299>0,IF(F299-E299<0,1,IF(E299<0.25,1,IF(F299>(20/24),1,0))),0)","v":0}]
[null,null,null,null,null,null,null,null,null,null,{"$f":"IF(F300<E300,F300+1,F300)","v":"00:00:00"},null,{"$f":"IF(H300>0,IF(M$3-E300>0,M$3-E300,0),0)","v":"00:00:00"},{"$f":"IF(H300>0,IF(F300-N$3>0,F300-N$3,0),0)","v":"00:00:00"},"00:00:00","00:00:00","00:00:00",{"$f":"IF(H300>0,IF(SUM(M300:P300)>0,\"Yes\",\"no\"),0)","v":0},0]
[null,null,null,null,null,null,null,null,null,null,{"$f":"IF(F301<E301,F301+1,F301)","v":"00:00:00"},null,{"$f":"IF(H301>0,IF(M$3-E301>0,M$3-E301,0),0)","v":"00:00:00"},{"$f":"IF(H301>0,IF(F301-N$3>0,F301-N$3,0),0)","v":"00:00:00"},"00:00:00","00:00:00","00:00:00",{"$f":"IF(H301>0,IF(SUM(M301:P301)>0,\"Yes\",\"no\"),0)","v":0},0]
[null,null,null,null,null,null,null,null,null,null,{"$f":"IF(F302<E302,F302+1,F302)","v":0},null,{"$f":"IF(H302>0,IF(M$3-E302>0,M$3-E302,0),0)","v":"00:00:00"},{"$f":"IF(H302>0,IF(F302-N$3>0,F302-N$3,0),0)","v":"00:00:00"},"00:00:00","00:00:00","00:00:00",{"$f":"IF(H302>0,IF(SUM(M302:P302)>0,\"Yes\",\"no\"),0)","v":0},0]
[null,null,null,null,null,null,null,null,null,null,"00:00:00",{"$f":"H303","v":"00:00:00"},"00:00:00","00:00:00","00:00:00","00:00:00","00:00:00",{"$f":"IF(H303>0,\"yes\",0)","v":0},0]
[null,null,null,null,null,null,null,null,null,null,"00:00:00",{"$f":"H304","v":"00:00:00"},"00:00:00","00:00:00","00:00:00","00:00:00","00:00:00",{"$f":"IF(H304>0,\"yes\",0)","v":0},0]
[null,null,null,null,null,null,null,null,null,null,"00:00:00",null,{"$f":"IF(H305>0,IF(M$3-E305>0,M$3-E305,0),0)","v":"00:00:00"},{"$f":"IF(H305>0,IF(F305-N$3>0,F305-N$3,0),0)","v":"00:00:00"},{"$f":"IF(H305>0,IF(F305<E305,IF(F305>O$3,O$3,F305),0),0)","v":"00:00:00"},{"$f":"IF(H305>0,IF(E305>F305,IF(E305>N$3,R$3-E305,R$3-P$3),0),0)","v":"00:00:00"},{"$f":"SUM(M305:P305)","v":"00:00:00"},{"$f":"IF(H305>0,IF(SUM(M305:P305)>0,\"Yes\",\"no\"),0)","v":0},{"$f":"IF(H305>0,IF(F305-E305<0,1,IF(E305<0.25,1,IF(F305>(20/24),1,0))),0)","v":0}]
[null,null,null,null,null,null,null,null,null,null,"00:00:00",null,{"$f":"IF(H306>0,IF(M$3-E306>0,M$3-E306,0),0)","v":"00:00:00"},{"$f":"IF(H306>0,IF(F306-N$3>0,F306-N$3,0),0)","v":"00:00:00"},"00:00:00","00:00:00",{"$f":"SUM(M306:P306)","v":"00:00:00"},{"$f":"IF(H306>0,IF(SUM(M306:P306)>0,\"Yes\",\"no\"),0)","v":0},{"$f":"IF(H306>0,IF(F306-E306<0,1,IF(E306<0.25,1,IF(F306>(20/24),1,0))),0)","v":0}]
[null,null,null,null,null,null,null,null,null,null,{"$f":"IF(F307<E307,F307+1,F307)","v":"00:00:00"},null,{"$f":"IF(H307>0,IF(M$3-E307>0,M$3-E307,0),0)","v":"00:00:00"},{"$f":"IF(H307>0,IF(F307-N$3>0,F307-N$3,0),0)","v":"00:00:00"},"00:00:00","00:00:00","00:00:00",{"$f":"IF(H307>0,IF(SUM(M307:P307)>0,\"Yes\",\"no\"),0)","v":0},0]
[null,null,null,null,null,null,null,null,null,null,{"$f":"IF(F308<E308,F308+1,F308)","v":"00:00:00"},null,{"$f":"IF(H308>0,IF(M$3-E308>0,M$3-E308,0),0)","v":"00:00:00"},{"$f":"IF(H308>0,IF(F308-N$3>0,F308-N$3,0),0)","v":"00:00:00"},"00:00:00","00:00:00","00:00:00",{"$f":"IF(H308>0,IF(SUM(M308:P308)>0,\"Yes\",\"no\"),0)","v":0},0]
[null,null,null,null,null,null,null,null,null,null,{"$f":"IF(F309<E309,F309+1,F309)","v":0},null,{"$f":"IF(H309>0,IF(M$3-E309>0,M$3-E309,0),0)","v":"00:00:00"},{"$f":"IF(H309>0,IF(F309-N$3>0,F309-N$3,0),0)","v":"00:00:00"},"00:00:00","00:00:00","00:00:00",{"$f":"IF(H309>0,IF(SUM(M309:P309)>0,\"Yes\",\"no\"),0)","v":0},0]
[null,null,null,null,null,null,null,null,null,null,"00:00:00",{"$f":"H310","v":"00:00:00"},"00:00:00","00:00:00","00:00:00","00:00:00","00:00:00",{"$f":"IF(H310>0,\"yes\",0)","v":0},0]
[null,null,null,null,null,null,null,null,null,null,"00:00:00",{"$f":"H311","v":"00:00:00"},"00:00:00","00:00:00","00:00:00","00:00:00","00:00:00",{"$f":"IF(H311>0,\"yes\",0)","v":0},0]
[null,null,null,null,null,null,null,null,null,null,"00:00:00",null,{"$f":"IF(H312>0,IF(M$3-E312>0,M$3-E312,0),0)","v":"00:00:00"},{"$f":"IF(H312>0,IF(F312-N$3>0,F312-N$3,0),0)","v":"00:00:00"},{"$f":"IF(H312>0,IF(F312<E312,IF(F312>O$3,O$3,F312),0),0)","v":"00:00:00"},{"$f":"IF(H312>0,IF(E312>F312,IF(E312>N$3,R$3-E312,R$3-P$3),0),0)","v":"00:00:00"},{"$f":"SUM(M312:P312)","v":"00:00:00"},{"$f":"IF(H312>0,IF(SUM(M312:P312)>0,\"Yes\",\"no\"),0)","v":0},{"$f":"IF(H312>0,IF(F312-E312<0,1,IF(E312<0.25,1,IF(F312>(20/24),1,0))),0)","v":0}]
[null,null,null,null,null,null,null,null,null,null,"00:00:00",null,{"$f":"IF(H313>0,IF(M$3-E313>0,M$3-E313,0),0)","v":"00:00:00"},{"$f":"IF(H313>0,IF(F313-N$3>0,F313-N$3,0),0)","v":"00:00:00"},"00:00:00","00:00:00",{"$f":"SUM(M313:P313)","v":"00:00:00"},{"$f":"IF(H313>0,IF(SUM(M313:P313)>0,\"Yes\",\"no\"),0)","v":0},{"$f":"IF(H313>0,IF(F313-E313<0,1,IF(E313<0.25,1,IF(F313>(20/24),1,0))),0)","v":0}]
[null,null,null,null,null,null,null,null,null,null,{"$f":"IF(F314<E314,F314+1,F314)","v":"00:00:00"},null,{"$f":"IF(H314>0,IF(M$3-E314>0,M$3-E314,0),0)","v":"00:00:00"},{"$f":"IF(H314>0,IF(F314-N$3>0,F314-N$3,0),0)","v":"00:00:00"},"00:00:00","00:00:00","00:00:00",{"$f":"IF(H314>0,IF(SUM(M314:P314)>0,\"Yes\",\"no\"),0)","v":0},0]
[null,null,null,null,null,null,null,null,null,null,{"$f":"IF(F315<E315,F315+1,F315)","v":"00:00:00"},null,{"$f":"IF(H315>0,IF(M$3-E315>0,M$3-E315,0),0)","v":"00:00:00"},{"$f":"IF(H315>0,IF(F315-N$3>0,F315-N$3,0),0)","v":"00:00:00"},"00:00:00","00:00:00","00:00:00",{"$f":"IF(H315>0,IF(SUM(M315:P315)>0,\"Yes\",\"no\"),0)","v":0},0]
[null,null,null,null,null,null,null,null,null,null,{"$f":"IF(F316<E316,F316+1,F316)","v":0},null,{"$f":"IF(H316>0,IF(M$3-E316>0,M$3-E316,0),0)","v":"00:00:00"},{"$f":"IF(H316>0,IF(F316-N$3>0,F316-N$3,0),0)","v":"00:00:00"},"00:00:00","00:00:00","00:00:00",{"$f":"IF(H316>0,IF(SUM(M316:P316)>0,\"Yes\",\"no\"),0)","v":0},0]
[null,null,null,null,null,null,null,null,null,null,"00:00:00",{"$f":"H317","v":"00:00:00"},"00:00:00","00:00:00","00:00:00","00:00:00","00:00:00",{"$f":"IF(H317>0,\"yes\",0)","v":0},0]
[null,null,null,null,null,null,null,null,null,null,"00:00:00",{"$f":"H318","v":"00:00:00"},"00:00:00","00:00:00","00:00:00","00:00:00","00:00:00",{"$f":"IF(H318>0,\"yes\",0)","v":0},0]
[null,null,null,null,null,null,null,null,null,null,"00:00:00",null,{"$f":"IF(H319>0,IF(M$3-E319>0,M$3-E319,0),0)","v":"00:00:00"},{"$f":"IF(H319>0,IF(F319-N$3>0,F319-N$3,0),0)","v":"00:00:00"},{"$f":"IF(H319>0,IF(F319<E319,IF(F319>O$3,O$3,F319),0),0)","v":"00:00:00"},{"$f":"IF(H319>0,IF(E319>F319,IF(E319>N$3,R$3-E319,R$3-P$3),0),0)","v":"00:00:00"},{"$f":"SUM(M319:P319)","v":"00:00:00"},{"$f":"IF(H319>0,IF(SUM(M319:P319)>0,\"Yes\",\"no\"),0)","v":0},{"$f":"IF(H319>0,IF(F319-E319<0,1,IF(E319<0.25,1,IF(F319>(20/24),1,0))),0)","v":0}]
[null,null,null,null,null,null,null,null,null,null,"00:00:00",null,{"$f":"IF(H320>0,IF(M$3-E320>0,M$3-E320,0),0)","v":"00:00:00"},{"$f":"IF(H320>0,IF(F320-N$3>0,F320-N$3,0),0)","v":"00:00:00"},"00:00:00","00:00:00",{"$f":"SUM(M320:P320)","v":"00:00:00"},{"$f":"IF(H320>0,IF(SUM(M320:P320)>0,\"Yes\",\"no\"),0)","v":0},{"$f":"IF(H320>0,IF(F320-E320<0,1,IF(E320<0.25,1,IF(F320>(20/24),1,0))),0)","v":0}]
[null,null,null,null,null,null,null,null,null,null,{"$f":"IF(F321<E321,F321+1,F321)","v":"00:00:00"},null,{"$f":"IF(H321>0,IF(M$3-E321>0,M$3-E321,0),0)","v":"00:00:00"},{"$f":"IF(H321>0,IF(F321-N$3>0,F321-N$3,0),0)","v":"00:00:00"},"00:00:00","00:00:00","00:00:00",{"$f":"IF(H321>0,IF(SUM(M321:P321)>0,\"Yes\",\"no\"),0)","v":0},0]
[null,null,null,null,null,null,null,null,null,null,{"$f":"IF(F322<E322,F322+1,F322)","v":"00:00:00"},null,{"$f":"IF(H322>0,IF(M$3-E322>0,M$3-E322,0),0)","v":"00:00:00"},{"$f":"IF(H322>0,IF(F322-N$3>0,F322-N$3,0),0)","v":"00:00:00"},"00:00:00","00:00:00","00:00:00",{"$f":"IF(H322>0,IF(SUM(M322:P322)>0,\"Yes\",\"no\"),0)","v":0},0]
[null,null,null,null,null,null,null,null,null,null,{"$f":"IF(F323<E323,F323+1,F323)","v":0},null,{"$f":"IF(H323>0,IF(M$3-E323>0,M$3-E323,0),0)","v":"00:00:00"},{"$f":"IF(H323>0,IF(F323-N$3>0,F323-N$3,0),0)","v":"00:00:00"},"00:00:00","00:00:00","00:00:00",{"$f":"IF(H323>0,IF(SUM(M323:P323)>0,\"Yes\",\"no\"),0)","v":0},0]
[null,null,null,null,null,null,null,null,null,null,"00:00:00",{"$f":"H324","v":"00:00:00"},"00:00:00","00:00:00","00:00:00","00:00:00","00:00:00",{"$f":"IF(H324>0,\"yes\",0)","v":0},0]
[null,null,null,null,null,null,null,null,null,null,"00:00:00",{"$f":"H325","v":"00:00:00"},"00:00:00","00:00:00","00:00:00","00:00:00","00:00:00",{"$f":"IF(H325>0,\"yes\",0)","v":0},0]
[null,null,null,null,null,null,null,null,null,null,"00:00:00",null,{"$f":"IF(H326>0,IF(M$3-E326>0,M$3-E326,0),0)","v":"00:00:00"},{"$f":"IF(H326>0,IF(F326-N$3>0,F326-N$3,0),0)","v":"00:00:00"},{"$f":"IF(H326>0,IF(F326<E326,IF(F326>O$3,O$3,F326),0),0)","v":"00:00:00"},{"$f":"IF(H326>0,IF(E326>F326,IF(E326>N$3,R$3-E326,R$3-P$3),0),0)","v":"00:00:00"},{"$f":"SUM(M326:P326)","v":"00:00:00"},{"$f":"IF(H326>0,IF(SUM(M326:P326)>0,\"Yes\",\"no\"),0)","v":0},{"$f":"IF(H326>0,IF(F326-E326<0,1,IF(E326<0.25,1,IF(F326>(20/24),1,0))),0)","v":0}]
[null,null,null,null,null,null,null,null,null,null,"00:00:00",null,{"$f":"IF(H327>0,IF(M$3-E327>0,M$3-E327,0),0)","v":"00:00:00"},{"$f":"IF(H327>0,IF(F327-N$3>0,F327-N$3,0),0)","v":"00:00:00"},"00:00:00","00:00:00",{"$f":"SUM(M327:P327)","v":"00:00:00"},{"$f":"IF(H327>0,IF(SUM(M327:P327)>0,\"Yes\",\"no\"),0)","v":0},{"$f":"IF(H327>0,IF(F327-E327<0,1,IF(E327<0.25,1,IF(F327>(20/24),1,0))),0)","v":0}]
[null,null,null,null,null,null,null,null,null,null,{"$f":"IF(F328<E328,F328+1,F328)","v":"00:00:00"},null,{"$f":"IF(H328>0,IF(M$3-E328>0,M$3-E328,0),0)","v":"00:00:00"},{"$f":"IF(H328>0,IF(F328-N$3>0,F328-N$3,0),0)","v":"00:00:00"},"00:00:00","00:00:00","00:00:00",{"$f":"IF(H328>0,IF(SUM(M328:P328)>0,\"Yes\",\"no\"),0)","v":0},0]
[null,null,null,null,null,null,null,null,null,null,{"$f":"IF(F329<E329,F329+1,F329)","v":"00:00:00"},null,{"$f":"IF(H329>0,IF(M$3-E329>0,M$3-E329,0),0)","v":"00:00:00"},{"$f":"IF(H329>0,IF(F329-N$3>0,F329-N$3,0),0)","v":"00:00:00"},"00:00:00","00:00:00","00:00:00",{"$f":"IF(H329>0,IF(SUM(M329:P329)>0,\"Yes\",\"no\"),0)","v":0},0]
[null,null,null,null,null,null,null,null,null,null,{"$f":"IF(F330<E330,F330+1,F330)","v":0},null,{"$f":"IF(H330>0,IF(M$3-E330>0,M$3-E330,0),0)","v":"00:00:00"},{"$f":"IF(H330>0,IF(F330-N$3>0,F330-N$3,0),0)","v":"00:00:00"},"00:00:00","00:00:00","00:00:00",{"$f":"IF(H330>0,IF(SUM(M330:P330)>0,\"Yes\",\"no\"),0)","v":0},0]
[null,null,null,null,null,null,null,null,null,null,"00:00:00",{"$f":"H331","v":"00:00:00"},"00:00:00","00:00:00","00:00:00","00:00:00","00:00:00",{"$f":"IF(H331>0,\"yes\",0)","v":0},0]
[null,null,null,null,null,null,null,null,null,null,"00:00:00",{"$f":"H332","v":"00:00:00"},"00:00:00","00:00:00","00:00:00","00:00:00","00:00:00",{"$f":"IF(H332>0,\"yes\",0)","v":0},0]
[null,null,null,null,null,null,null,null,null,null,"00:00:00",null,{"$f":"IF(H333>0,IF(M$3-E333>0,M$3-E333,0),0)","v":"00:00:00"},{"$f":"IF(H333>0,IF(F333-N$3>0,F333-N$3,0),0)","v":"00:00:00"},{"$f":"IF(H333>0,IF(F333<E333,IF(F333>O$3,O$3,F333),0),0)","v":"00:00:00"},{"$f":"IF(H333>0,IF(E333>F333,IF(E333>N$3,R$3-E333,R$3-P$3),0),0)","v":"00:00:00"},{"$f":"SUM(M333:P333)","v":"00:00:00"},{"$f":"IF(H333>0,IF(SUM(M333:P333)>0,\"Yes\",\"no\"),0)","v":0},{"$f":"IF(H333>0,IF(F333-E333<0,1,IF(E333<0.25,1,IF(F333>(20/24),1,0))),0)","v":0}]
[null,null,null,null,null,null,null,null,null,null,"00:00:00",null,{"$f":"IF(H334>0,IF(M$3-E334>0,M$3-E334,0),0)","v":"00:00:00"},{"$f":"IF(H334>0,IF(F334-N$3>0,F334-N$3,0),0)","v":"00:00:00"},"00:00:00","00:00:00",{"$f":"SUM(M334:P334)","v":"00:00:00"},{"$f":"IF(H334>0,IF(SUM(M334:P334)>0,\"Yes\",\"no\"),0)","v":0},{"$f":"IF(H334>0,IF(F334-E334<0,1,IF(E334<0.25,1,IF(F334>(20/24),1,0))),0)","v":0}]
[null,null,null,null,null,null,null,null,null,null,{"$f":"IF(F335<E335,F335+1,F335)","v":"00:00:00"},null,{"$f":"IF(H335>0,IF(M$3-E335>0,M$3-E335,0),0)","v":"00:00:00"},{"$f":"IF(H335>0,IF(F335-N$3>0,F335-N$3,0),0)","v":"00:00:00"},"00:00:00","00:00:00","00:00:00",{"$f":"IF(H335>0,IF(SUM(M335:P335)>0,\"Yes\",\"no\"),0)","v":0},0]
[null,null,null,null,null,null,null,null,null,null,{"$f":"IF(F336<E336,F336+1,F336)","v":"00:00:00"},null,{"$f":"IF(H336>0,IF(M$3-E336>0,M$3-E336,0),0)","v":"00:00:00"},{"$f":"IF(H336>0,IF(F336-N$3>0,F336-N$3,0),0)","v":"00:00:00"},"00:00:00","00:00:00","00:00:00",{"$f":"IF(H336>0,IF(SUM(M336:P336)>0,\"Yes\",\"no\"),0)","v":0},0]
[null,null,null,null,null,null,null,null,null,null,{"$f":"IF(F337<E337,F337+1,F337)","v":0},null,{"$f":"IF(H337>0,IF(M$3-E337>0,M$3-E337,0),0)","v":"00:00:00"},{"$f":"IF(H337>0,IF(F337-N$3>0,F337-N$3,0),0)","v":"00:00:00"},"00:00:00","00:00:00","00:00:00",{"$f":"IF(H337>0,IF(SUM(M337:P337)>0,\"Yes\",\"no\"),0)","v":0},0]
[null,null,null,null,null,null,null,null,null,null,"00:00:00",{"$f":"H338","v":"00:00:00"},"00:00:00","00:00:00","00:00:00","00:00:00","00:00:00",{"$f":"IF(H338>0,\"yes\",0)","v":0},0]
[null,null,null,null,null,null,null,null,null,null,"00:00:00",{"$f":"H339","v":"00:00:00"},"00:00:00","00:00:00","00:00:00","00:00:00","00:00:00",{"$f":"IF(H339>0,\"yes\",0)","v":0},0]
[null,null,null,null,null,null,null,null,null,null,"00:00:00",null,{"$f":"IF(H340>0,IF(M$3-E340>0,M$3-E340,0),0)","v":"00:00:00"},{"$f":"IF(H340>0,IF(F340-N$3>0,F340-N$3,0),0)","v":"00:00:00"},{"$f":"IF(H340>0,IF(F340<E340,IF(F340>O$3,O$3,F340),0),0)","v":"00:00:00"},{"$f":"IF(H340>0,IF(E340>F340,IF(E340>N$3,R$3-E340,R$3-P$3),0),0)","v":"00:00:00"},{"$f":"SUM(M340:P340)","v":"00:00:00"},{"$f":"IF(H340>0,IF(SUM(M340:P340)>0,\"Yes\",\"no\"),0)","v":0},{"$f":"IF(H340>0,IF(F340-E340<0,1,IF(E340<0.25,1,IF(F340>(20/24),1,0))),0)","v":0}]
[null,null,null,null,null,null,null,null,null,null,"00:00:00",null,{"$f":"IF(H341>0,IF(M$3-E341>0,M$3-E341,0),0)","v":"00:00:00"},{"$f":"IF(H341>0,IF(F341-N$3>0,F341-N$3,0),0)","v":"00:00:00"},"00:00:00","00:00:00",{"$f":"SUM(M341:P341)","v":"00:00:00"},{"$f":"IF(H341>0,IF(SUM(M341:P341)>0,\"Yes\",\"no\"),0)","v":0},{"$f":"IF(H341>0,IF(F341-E341<0,1,IF(E341<0.25,1,IF(F341>(20/24),1,0))),0)","v":0}]
[null,null,null,null,null,null,null,null,null,null,{"$f":"IF(F342<E342,F342+1,F342)","v":"00:00:00"},null,{"$f":"IF(H342>0,IF(M$3-E342>0,M$3-E342,0),0)","v":"00:00:00"},{"$f":"IF(H342>0,IF(F342-N$3>0,F342-N$3,0),0)","v":"00:00:00"},"00:00:00","00:00:00","00:00:00",{"$f":"IF(H342>0,IF(SUM(M342:P342)>0,\"Yes\",\"no\"),0)","v":0},0]
[null,null,null,null,null,null,null,null,null,null,{"$f":"IF(F343<E343,F343+1,F343)","v":"00:00:00"},null,{"$f":"IF(H343>0,IF(M$3-E343>0,M$3-E343,0),0)","v":"00:00:00"},{"$f":"IF(H343>0,IF(F343-N$3>0,F343-N$3,0),0)","v":"00:00:00"},"00:00:00","00:00:00","00:00:00",{"$f":"IF(H343>0,IF(SUM(M343:P343)>0,\"Yes\",\"no\"),0)","v":0},0]
[null,null,null,null,null,null,null,null,null,null,{"$f":"IF(F344<E344,F344+1,F344)","v":0},null,{"$f":"IF(H344>0,IF(M$3-E344>0,M$3-E344,0),0)","v":"00:00:00"},{"$f":"IF(H344>0,IF(F344-N$3>0,F344-N$3,0),0)","v":"00:00:00"},"00:00:00","00:00:00","00:00:00",{"$f":"IF(H344>0,IF(SUM(M344:P344)>0,\"Yes\",\"no\"),0)","v":0},0]
[null,null,null,null,null,null,null,null,null,null,"00:00:00",{"$f":"H345","v":"00:00:00"},"00:00:00","00:00:00","00:00:00","00:00:00","00:00:00",{"$f":"IF(H345>0,\"yes\",0)","v":0},0]
[null,null,null,null,null,null,null,null,null,null,"00:00:00",{"$f":"H346","v":"00:00:00"},"00:00:00","00:00:00","00:00:00","00:00:00","00:00:00",{"$f":"IF(H346>0,\"yes\",0)","v":0},0]
[null,null,null,null,null,null,null,null,null,null,"00:00:00",null,{"$f":"IF(H347>0,IF(M$3-E347>0,M$3-E347,0),0)","v":"00:00:00"},{"$f":"IF(H347>0,IF(F347-N$3>0,F347-N$3,0),0)","v":"00:00:00"},{"$f":"IF(H347>0,IF(F347<E347,IF(F347>O$3,O$3,F347),0),0)","v":"00:00:00"},{"$f":"IF(H347>0,IF(E347>F347,IF(E347>N$3,R$3-E347,R$3-P$3),0),0)","v":"00:00:00"},{"$f":"SUM(M347:P347)","v":"00:00:00"},{"$f":"IF(H347>0,IF(SUM(M347:P347)>0,\"Yes\",\"no\"),0)","v":0},{"$f":"IF(H347>0,IF(F347-E347<0,1,IF(E347<0.25,1,IF(F347>(20/24),1,0))),0)","v":0}]
[null,null,null,null,null,null,null,null,null,null,"00:00:00",null,{"$f":"IF(H348>0,IF(M$3-E348>0,M$3-E348,0),0)","v":"00:00:00"},{"$f":"IF(H348>0,IF(F348-N$3>0,F348-N$3,0),0)","v":"00:00:00"},"00:00:00","00:00:00",{"$f":"SUM(M348:P348)","v":"00:00:00"},{"$f":"IF(H348>0,IF(SUM(M348:P348)>0,\"Yes\",\"no\"),0)","v":0},{"$f":"IF(H348>0,IF(F348-E348<0,1,IF(E348<0.25,1,IF(F348>(20/24),1,0))),0)","v":0}]
[null,null,null,null,null,null,null,null,null,null,{"$f":"IF(F349<E349,F349+1,F349)","v":"00:00:00"},null,{"$f":"IF(H349>0,IF(M$3-E349>0,M$3-E349,0),0)","v":"00:00:00"},{"$f":"IF(H349>0,IF(F349-N$3>0,F349-N$3,0),0)","v":"00:00:00"},"00:00:00","00:00:00","00:00:00",{"$f":"IF(H349>0,IF(SUM(M349:P349)>0,\"Yes\",\"no\"),0)","v":0},0]
[null,null,null,null,null,null,null,null,null,null,{"$f":"IF(F350<E350,F350+1,F350)","v":"00:00:00"},null,{"$f":"IF(H350>0,IF(M$3-E350>0,M$3-E350,0),0)","v":"00:00:00"},{"$f":"IF(H350>0,IF(F350-N$3>0,F350-N$3,0),0)","v":"00:00:00"},"00:00:00","00:00:00","00:00:00",{"$f":"IF(H350>0,IF(SUM(M350:P350)>0,\"Yes\",\"no\"),0)","v":0},0]
[null,null,null,null,null,null,null,null,null,null,{"$f":"IF(F351<E351,F351+1,F351)","v":0},null,{"$f":"IF(H351>0,IF(M$3-E351>0,M$3-E351,0),0)","v":"00:00:00"},{"$f":"IF(H351>0,IF(F351-N$3>0,F351-N$3,0),0)","v":"00:00:00"},"00:00:00","00:00:00","00:00:00",{"$f":"IF(H351>0,IF(SUM(M351:P351)>0,\"Yes\",\"no\"),0)","v":0},0]
[null,null,null,null,null,null,null,null,null,null,"00:00:00",{"$f":"H352","v":"00:00:00"},"00:00:00","00:00:00","00:00:00","00:00:00","00:00:00",{"$f":"IF(H352>0,\"yes\",0)","v":0},0]
[null,null,null,null,null,null,null,null,null,null,"00:00:00",{"$f":"H353","v":"00:00:00"},"00:00:00","00:00:00","00:00:00","00:00:00","00:00:00",{"$f":"IF(H353>0,\"yes\",0)","v":0},0]
[null,null,null,null,null,null,null,null,null,null,"00:00:00",null,{"$f":"IF(H354>0,IF(M$3-E354>0,M$3-E354,0),0)","v":"00:00:00"},{"$f":"IF(H354>0,IF(F354-N$3>0,F354-N$3,0),0)","v":"00:00:00"},{"$f":"IF(H354>0,IF(F354<E354,IF(F354>O$3,O$3,F354),0),0)","v":"00:00:00"},{"$f":"IF(H354>0,IF(E354>F354,IF(E354>N$3,R$3-E354,R$3-P$3),0),0)","v":"00:00:00"},{"$f":"SUM(M354:P354)","v":"00:00:00"},{"$f":"IF(H354>0,IF(SUM(M354:P354)>0,\"Yes\",\"no\"),0)","v":0},{"$f":"IF(H354>0,IF(F354-E354<0,1,IF(E354<0.25,1,IF(F354>(20/24),1,0))),0)","v":0}]
[null,null,null,null,null,null,null,null,null,null,"00:00:00",null,{"$f":"IF(H355>0,IF(M$3-E355>0,M$3-E355,0),0)","v":"00:00:00"},{"$f":"IF(H355>0,IF(F355-N$3>0,F355-N$3,0),0)","v":"00:00:00"},"00:00:00","00:00:00",{"$f":"SUM(M355:P355)","v":"00:00:00"},{"$f":"IF(H355>0,IF(SUM(M355:P355)>0,\"Yes\",\"no\"),0)","v":0},{"$f":"IF(H355>0,IF(F355-E355<0,1,IF(E355<0.25,1,IF(F355>(20/24),1,0))),0)","v":0}]
[null,null,null,null,null,null,null,null,null,null,{"$f":"IF(F356<E356,F356+1,F356)","v":"00:00:00"},null,{"$f":"IF(H356>0,IF(M$3-E356>0,M$3-E356,0),0)","v":"00:00:00"},{"$f":"IF(H356>0,IF(F356-N$3>0,F356-N$3,0),0)","v":"00:00:00"},"00:00:00","00:00:00","00:00:00",{"$f":"IF(H356>0,IF(SUM(M356:P356)>0,\"Yes\",\"no\"),0)","v":0},0]
[null,null,null,null,null,null,null,null,null,null,{"$f":"IF(F357<E357,F357+1,F357)","v":"00:00:00"},null,{"$f":"IF(H357>0,IF(M$3-E357>0,M$3-E357,0),0)","v":"00:00:00"},{"$f":"IF(H357>0,IF(F357-N$3>0,F357-N$3,0),0)","v":"00:00:00"},"00:00:00","00:00:00","00:00:00",{"$f":"IF(H357>0,IF(SUM(M357:P357)>0,\"Yes\",\"no\"),0)","v":0},0]
[null,null,null,null,null,null,null,null,null,null,{"$f":"IF(F358<E358,F358+1,F358)","v":0},null,{"$f":"IF(H358>0,IF(M$3-E358>0,M$3-E358,0),0)","v":"00:00:00"},{"$f":"IF(H358>0,IF(F358-N$3>0,F358-N$3,0),0)","v":"00:00:00"},"00:00:00","00:00:00","00:00:00",{"$f":"IF(H358>0,IF(SUM(M358:P358)>0,\"Yes\",\"no\"),0)","v":0},0]
[null,null,null,null,null,null,null,null,null,null,"00:00:00",{"$f":"H359","v":"00:00:00"},"00:00:00","00:00:00","00:00:00","00:00:00","00:00:00",{"$f":"IF(H359>0,\"yes\",0)","v":0},0]
[null,null,null,null,null,null,null,null,null,null,"00:00:00",{"$f":"H360","v":"00:00:00"},"00:00:00","00:00:00","00:00:00","00:00:00","00:00:00",{"$f":"IF(H360>0,\"yes\",0)","v":0},0]
[null,null,null,null,null,null,null,null,null,null,"00:00:00",null,{"$f":"IF(H361>0,IF(M$3-E361>0,M$3-E361,0),0)","v":"00:00:00"},{"$f":"IF(H361>0,IF(F361-N$3>0,F361-N$3,0),0)","v":"00:00:00"},{"$f":"IF(H361>0,IF(F361<E361,IF(F361>O$3,O$3,F361),0),0)","v":"00:00:00"},{"$f":"IF(H361>0,IF(E361>F361,IF(E361>N$3,R$3-E361,R$3-P$3),0),0)","v":"00:00:00"},{"$f":"SUM(M361:P361)","v":"00:00:00"},{"$f":"IF(H361>0,IF(SUM(M361:P361)>0,\"Yes\",\"no\"),0)","v":0},{"$f":"IF(H361>0,IF(F361-E361<0,1,IF(E361<0.25,1,IF(F361>(20/24),1,0))),0)","v":0}]
[null,null,null,null,null,null,null,null,null,null,"00:00:00",null,{"$f":"IF(H362>0,IF(M$3-E362>0,M$3-E362,0),0)","v":"00:00:00"},{"$f":"IF(H362>0,IF(F362-N$3>0,F362-N$3,0),0)","v":"00:00:00"},"00:00:00","00:00:00",{"$f":"SUM(M362:P362)","v":"00:00:00"},{"$f":"IF(H362>0,IF(SUM(M362:P362)>0,\"Yes\",\"no\"),0)","v":0},{"$f":"IF(H362>0,IF(F362-E362<0,1,IF(E362<0.25,1,IF(F362>(20/24),1,0))),0)","v":0}]
[null,null,null,null,null,null,null,null,null,null,{"$f":"IF(F363<E363,F363+1,F363)","v":"00:00:00"},null,{"$f":"IF(H363>0,IF(M$3-E363>0,M$3-E363,0),0)","v":"00:00:00"},{"$f":"IF(H363>0,IF(F363-N$3>0,F363-N$3,0),0)","v":"00:00:00"},"00:00:00","00:00:00","00:00:00",{"$f":"IF(H363>0,IF(SUM(M363:P363)>0,\"Yes\",\"no\"),0)","v":0},0]
[null,null,null,null,null,null,null,null,null,null,{"$f":"IF(F364<E364,F364+1,F364)","v":"00:00:00"},null,{"$f":"IF(H364>0,IF(M$3-E364>0,M$3-E364,0),0)","v":"00:00:00"},{"$f":"IF(H364>0,IF(F364-N$3>0,F364-N$3,0),0)","v":"00:00:00"},"00:00:00","00:00:00","00:00:00",{"$f":"IF(H364>0,IF(SUM(M364:P364)>0,\"Yes\",\"no\"),0)","v":0},0]
[null,null,null,null,null,null,null,null,null,null,{"$f":"IF(F365<E365,F365+1,F365)","v":0},null,{"$f":"IF(H365>0,IF(M$3-E365>0,M$3-E365,0),0)","v":"00:00:00"},{"$f":"IF(H365>0,IF(F365-N$3>0,F365-N$3,0),0)","v":"00:00:00"},"00:00:00","00:00:00","00:00:00",{"$f":"IF(H365>0,IF(SUM(M365:P365)>0,\"Yes\",\"no\"),0)","v":0},0]
[null,null,null,null,null,null,null,null,null,null,"00:00:00",{"$f":"H366","v":"00:00:00"},"00:00:00","00:00:00","00:00:00","00:00:00","00:00:00",{"$f":"IF(H366>0,\"yes\",0)","v":0},0]
[null,null,null,null,null,null,null,null,null,null,"00:00:00",{"$f":"H367","v":"00:00:00"},"00:00:00","00:00:00","00:00:00","00:00:00","00:00:00",{"$f":"IF(H367>0,\"yes\",0)","v":0},0]
[null,null,null,null,null,null,null,null,null,null,"00:00:00",null,{"$f":"IF(H368>0,IF(M$3-E368>0,M$3-E368,0),0)","v":"00:00:00"},{"$f":"IF(H368>0,IF(F368-N$3>0,F368-N$3,0),0)","v":"00:00:00"},{"$f":"IF(H368>0,IF(F368<E368,IF(F368>O$3,O$3,F368),0),0)","v":"00:00:00"},{"$f":"IF(H368>0,IF(E368>F368,IF(E368>N$3,R$3-E368,R$3-P$3),0),0)","v":"00:00:00"},{"$f":"SUM(M368:P368)","v":"00:00:00"},{"$f":"IF(H368>0,IF(SUM(M368:P368)>0,\"Yes\",\"no\"),0)","v":0},{"$f":"IF(H368>0,IF(F368-E368<0,1,IF(E368<0.25,1,IF(F368>(20/24),1,0))),0)","v":0}]
[null,null,null,null,null,null,null,null,null,null,"00:00:00",null,{"$f":"IF(H369>0,IF(M$3-E369>0,M$3-E369,0),0)","v":"00:00:00"},{"$f":"IF(H369>0,IF(F369-N$3>0,F369-N$3,0),0)","v":"00:00:00"},"00:00:00","00:00:00",{"$f":"SUM(M369:P369)","v":"00:00:00"},{"$f":"IF(H369>0,IF(SUM(M369:P369)>0,\"Yes\",\"no\"),0)","v":0},{"$f":"IF(H369>0,IF(F369-E369<0,1,IF(E369<0.25,1,IF(F369>(20/24),1,0))),0)","v":0}]
[null,null,null,null,null,null,null,null,null,null,{"$f":"IF(F370<E370,F370+1,F370)","v":"00:00:00"},null,{"$f":"IF(H370>0,IF(M$3-E370>0,M$3-E370,0),0)","v":"00:00:00"},{"$f":"IF(H370>0,IF(F370-N$3>0,F370-N$3,0),0)","v":"00:00:00"},"00:00:00","00:00:00","00:00:00",{"$f":"IF(H370>0,IF(SUM(M370:P370)>0,\"Yes\",\"no\"),0)","v":0},0]
[null,null,null,null,null,null,null,null,null,null,{"$f":"IF(F371<E371,F371+1,F371)","v":"00:00:00"},null,{"$f":"IF(H371>0,IF(M$3-E371>0,M$3-E371,0),0)","v":"00:00:00"},{"$f":"IF(H371>0,IF(F371-N$3>0,F371-N$3,0),0)","v":"00:00:00"},"00:00:00","00:00:00","00:00:00",{"$f":"IF(H371>0,IF(SUM(M371:P371)>0,\"Yes\",\"no\"),0)","v":0},0]
[null,null,null,null,null,null,null,null,null,null,{"$f":"IF(F372<E372,F372+1,F372)","v":0},null,{"$f":"IF(H372>0,IF(M$3-E372>0,M$3-E372,0),0)","v":"00:00:00"},{"$f":"IF(H372>0,IF(F372-N$3>0,F372-N$3,0),0)","v":"00:00:00"},"00:00:00","00:00:00","00:00:00",{"$f":"IF(H372>0,IF(SUM(M372:P372)>0,\"Yes\",\"no\"),0)","v":0},0]
[null,null,null,null,null,null,null,null,null,null,"00:00:00",{"$f":"H373","v":"00:00:00"},"00:00:00","00:00:00","00:00:00","00:00:00","00:00:00",{"$f":"IF(H373>0,\"yes\",0)","v":0},0]
[null,null,null,null,null,null,null,null,null,null,"00:00:00",{"$f":"H374","v":"00:00:00"},"00:00:00","00:00:00","00:00:00","00:00:00","00:00:00",{"$f":"IF(H374>0,\"yes\",0)","v":0},0]

{"sheet":"Staff current","index":5,"n_rows":374,"n_cols":40,"rows_kept":374,"cut":false,"hidden":false,"merged":[[367,9,373,9],[367,8,373,8],[360,8,366,8],[360,9,366,9],[339,8,345,8],[339,9,345,9],[346,8,352,8],[346,9,352,9],[353,8,359,8],[353,9,359,9],[318,8,324,8],[318,9,324,9],[325,8,331,8],[325,9,331,9],[332,8,338,8],[332,9,338,9],[297,8,303,8],[297,9,303,9],[304,8,310,8],[304,9,310,9],[311,8,317,8],[311,9,317,9],[276,8,282,8],[276,9,282,9],[283,8,289,8],[283,9,289,9],[290,8,296,8],[290,9,296,9],[255,8,261,8],[255,9,261,9],[262,8,268,8],[262,9,268,9],[269,8,275,8],[269,9,275,9],[234,8,240,8],[234,9,240,9],[241,8,247,8],[241,9,247,9],[248,8,254,8],[248,9,254,9],[213,8,219,8],[213,9,219,9],[220,8,226,8],[220,9,226,9],[227,8,233,8],[227,9,233,9],[192,8,198,8],[192,9,198,9],[199,8,205,8],[199,9,205,9],[206,8,212,8],[206,9,212,9],[171,8,177,8],[171,9,177,9],[178,8,184,8],[178,9,184,9],[185,8,191,8],[185,9,191,9],[150,8,156,8],[150,9,156,9],[157,8,163,8],[157,9,163,9],[164,8,170,8],[164,9,170,9],[129,8,135,8],[129,9,135,9],[136,8,142,8],[136,9,142,9],[143,8,149,8],[143,9,149,9],[115,8,121,8],[115,9,121,9],[122,8,128,8],[122,9,128,9],[87,8,93,8],[87,9,93,9],[94,8,100,8],[94,9,100,9],[101,8,107,8],[101,9,107,9],[80,8,86,8],[80,9,86,9],[45,8,51,8],[45,9,51,9],[52,8,58,8],[52,9,58,9],[59,8,65,8],[59,9,65,9],[108,8,114,8],[108,9,114,9],[31,8,37,8],[31,9,37,9],[38,8,44,8],[38,9,44,9],[3,8,9,8],[3,9,9,9],[66,8,72,8],[66,9,72,9],[73,8,79,8],[73,9,79,9],[3,41,5,43],[23,27,25,28],[0,1,0,28],[2,1,2,3],[10,8,16,8],[10,9,16,9],[17,8,23,8],[17,9,23,9],[24,8,30,8],[24,9,30,9],[17,27,19,28]]}
[null,"Note: Please ensure the hours you enter below match the hours you are currently working. If you are unsure, you can see your average weekly hours via your personal Myself record, using the Resource Tab. Where a submission is made and hours do not currently match those held on HR records, this will only delay the progress of your request."]
[]
[null,"Police Staff - Current Pattern",null,null,"Start Time","Finish Time","Unpaid Meal Break","Daily Hours","Week Total","Running Average","latest finish","weekend","07:00:00","18:30:00","07:00:00","18:30:00","sum",1,null,"11 Hours Check","6 Day Check","7 Days","14 Days","14 Days",null,{"$f":"AC7","v":0},null,"Type name here","Type Force No. here"]
[null,null,"Week1","Mon",null,null,null,{"$f":"IF(ISTEXT(E4),0,IF(ISTEXT(F4),0,IF(F4<E4,F4+1,F4)-E4-G4))","v":"00:00:00"},{"$f":"SUM(H4:H10)","v":0},{"$f":"IF(E4=\"\",\"\",AVERAGE(I$4:I4))","v":""},{"$f":"IF(F4<E4,F4+1,F4)","v":"00:00:00"},null,{"$f":"IF(H4>0,IF(M$3-E4>0,M$3-E4,0),0)","v":"00:00:00"},{"$f":"IF(H4>0,IF(F4-N$3>0,F4-N$3,0),0)","v":"00:00:00"},{"$f":"IF(H4>0,IF(F4<E4,IF(F4>O$3,O$3,F4),0),0)","v":"00:00:00"},{"$f":"IF(H4>0,IF(E4>F4,IF(E4>N$3,R$3-E4,R$3-P$3),0),0)","v":"00:00:00"},{"$f":"SUM(M4:P4)","v":"00:00:00"},{"$f":"IF(H4>0,IF(SUM(M4:P4)>0,\"Yes\",\"no\"),0)","v":0},{"$f":"IF(H4>0,IF(F4-E4<0,1,IF(E4<0.25,1,IF(F4>(20/24),1,0))),0)","v":0},{"$f":"IF(ISTEXT(E5),\"\",IF('PS-Calcs'!J2=\"Under\",\"Check\", 0))","v":0},{"$f":"IF('PS-Calcs'!M2=\"Exceeds\",\"Check\",0)","v":0},{"$f":"'PS-Calcs'!O2","v":"B"},null,{"$f":"'PS-Calcs'!P2","v":"B"},null,null,null,{"$f":"IF(AC5<=52,AC5,52.143)","v":52.143000000000001},{"$f":"IF(AB4<=52,AB4,52.143)","v":52.143000000000001},null,null,null,null,null,null,null,null,null,{"$f":"SUM($L$4:OFFSET($L$4,(($AC$4*7)-1),0))","v":"00:00:00"}]
[null,null,null,"Tue",null,null,null,{"$f":"IF(ISTEXT(E5),0,IF(ISTEXT(F5),0,IF(F5<E5,F5+1,F5)-E5-G5))","v":"00:00:00"},null,null,"00:00:00",null,"00:00:00","00:00:00","00:00:00","00:00:00",{"$f":"SUM(M5:P5)","v":"00:00:00"},{"$f":"IF(H5>0,IF(SUM(M5:P5)>0,\"Yes\",\"no\"),0)","v":0},0,{"$f":"IF(ISTEXT(E6),\"\",IF('PS-Calcs'!J3=\"Under\",\"Check\", 0))","v":0},{"$f":"IF('PS-Calcs'!M3=\"Exceeds\",\"Check\",0)","v":0},{"$f":"'PS-Calcs'!O3","v":"B"},null,{"$f":"'PS-Calcs'!P3","v":"B"},null,null,null,"Please select number of weeks in pattern",53,null,null,null,null,null,null,null,"Earliest start time =",{"$f":"MIN($E$4:OFFSET($E$4,(($AC$4*7)-1),0))","v":"00:00:00"}]
[null,null,null,"Wed",null,null,null,"00:00:00",null,null,"00:00:00",null,"00:00:00","00:00:00","00:00:00","00:00:00","00:00:00",{"$f":"IF(H6>0,IF(SUM(M6:P6)>0,\"Yes\",\"no\"),0)","v":0},0,{"$f":"IF(ISTEXT(E7),\"\",IF('PS-Calcs'!J4=\"Under\",\"Check\", 0))","v":0},{"$f":"IF('PS-Calcs'!M4=\"Exceeds\",\"Check\",0)","v":0},{"$f":"'PS-Calcs'!O4","v":"B"},null,{"$f":"'PS-Calcs'!P4","v":"B"},null,null,null,null,null,null,null,null,null,null,null,null,"Latest start time =",{"$f":"MAX($E$4:OFFSET($E$4,(($AC$4*7)-1),0))","v":"00:00:00"}]
[null,null,null,"Thu",null,null,null,"00:00:00",null,null,"00:00:00",null,"00:00:00","00:00:00","00:00:00","00:00:00","00:00:00",{"$f":"IF(H7>0,IF(SUM(M7:P7)>0,\"Yes\",\"no\"),0)","v":0},0,{"$f":"IF(ISTEXT(E8),\"\",IF('PS-Calcs'!J5=\"Under\",\"Check\", 0))","v":0},{"$f":"IF('PS-Calcs'!M5=\"Exceeds\",\"Check\",0)","v":0},{"$f":"'PS-Calcs'!O5","v":"B"},null,{"$f":"'PS-Calcs'!P5","v":"B"},null,null,null,"Average Weekly Hours",{"$f":"IF(AB4>\"\",SUM($I$4:OFFSET($I$4,(($AC$4*7)-1),0))/AC4,SUM($I$4:OFFSET($I$4,(($AC$4*7)-1),0))/AB4)","v":0},null,null,null,null,null,null,null,"Latest finish time =",{"$f":"MAX($K$4:OFFSET($K$4,(($AC$4*7)-1),0))","v":"00:00:00"},null,{"$f":"(AC7*24)","v":0}]
[null,null,null,"Fri",null,null,null,"00:00:00",null,null,0,null,"00:00:00","00:00:00","00:00:00","00:00:00","00:00:00",{"$f":"IF(H8>0,IF(SUM(M8:P8)>0,\"Yes\",\"no\"),0)","v":0},0,{"$f":"IF(ISTEXT(E9),\"\",IF('PS-Calcs'!J6=\"Under\",\"Check\", 0))","v":0},{"$f":"IF('PS-Calcs'!M6=\"Exceeds\",\"Check\",0)","v":0},{"$f":"'PS-Calcs'!O6","v":"B"},null,{"$f":"'PS-Calcs'!P6","v":"B"},null,null,null,"Decimalised Hours",{"$f":"AC7*24","v":0},null,null,null,null,null,null,null,"More than 50% unsocial hours shifts?",{"$f":"IF(AD10>=AE10,\"yes\",\"no\")","v":"yes"}]
[null,null,null,"Sat",null,null,null,"00:00:00",null,null,"00:00:00",{"$f":"H9","v":"00:00:00"},"00:00:00","00:00:00","00:00:00","00:00:00","00:00:00",{"$f":"IF(H9>0,\"yes\",0)","v":0},0,{"$f":"IF(ISTEXT(E10),\"\",IF('PS-Calcs'!J7=\"Under\",\"Check\", 0))","v":0},{"$f":"IF('PS-Calcs'!M7=\"Exceeds\",\"Check\",0)","v":0},{"$f":"'PS-Calcs'!O7","v":"B"},null,{"$f":"'PS-Calcs'!P7","v":"B"},null,null,null,null,null,null,null,null,null,null,null,null,"Shift period >= 18 hours?",{"$f":"IF(AD11>=0.75,\"yes\",\"no\")","v":"no"}]
[null,null,null,"Sun",null,null,null,"00:00:00",null,null,"00:00:00",{"$f":"H10","v":"00:00:00"},"00:00:00","00:00:00","00:00:00","00:00:00","00:00:00",{"$f":"IF(H10>0,\"yes\",0)","v":0},0,{"$f":"IF(C11=0,\"\",IF(ISTEXT(E11),\"\",IF('PS-Calcs'!J8=\"Under\",\"Check\",0)))","v":0},{"$f":"IF('PS-Calcs'!M8=\"Exceeds\",\"Check\",0)","v":0},{"$f":"'PS-Calcs'!O8","v":"NB"},null,{"$f":"'PS-Calcs'!P8","v":"B"},null,null,null,"Allowances",null,{"$f":"COUNTIF($R$4:OFFSET($R$4,(($AC$4*7)-1),0),\"yes\")","v":0},{"$f":"COUNTIF($R$4:OFFSET($R$4,(($AC$4*7)-1),0),\"no\")","v":0},null,null,null,null,null,"Shift period > 14 hours AND <18 hours?",{"$f":"IF(AL9=\"no\",IF(AD11>0.584,\"yes\",\"no\"),\"no\")","v":"no"}]
[null,null,"Week2","Mon",null,null,null,"00:00:00",{"$f":"SUM(H11:H17)","v":0},{"$f":"IF(E11=\"\",\"\",AVERAGE(I$4:I11))","v":""},{"$f":"IF(F11<E11,F11+1,F11)","v":"00:00:00"},null,{"$f":"IF(H11>0,IF(M$3-E11>0,M$3-E11,0),0)","v":"00:00:00"},{"$f":"IF(H11>0,IF(F11-N$3>0,F11-N$3,0),0)","v":"00:00:00"},{"$f":"IF(H11>0,IF(F11<E11,IF(F11>O$3,O$3,F11),0),0)","v":"00:00:00"},{"$f":"IF(H11>0,IF(E11>F11,IF(E11>N$3,R$3-E11,R$3-P$3),0),0)","v":"00:00:00"},"00:00:00",{"$f":"IF(H11>0,IF(SUM(M11:P11)>0,\"Yes\",\"no\"),0)","v":0},{"$f":"IF(H11>0,IF(F11-E11<0,1,IF(E11<0.25,1,IF(F11>(20/24),1,0))),0)","v":0},{"$f":"IF(ISTEXT(E12),\"\",IF('PS-Calcs'!J9=\"Under\",\"Check\", 0))","v":0},{"$f":"IF('PS-Calcs'!M9=\"Exceeds\",\"Check\",0)","v":0},{"$f":"'PS-Calcs'!O9","v":"NB"},null,{"$f":"'PS-Calcs'!P9","v":"B"},null,null,null,"Shift Allowance",{"$f":"IF(AC4=1,\"N/A\",IF((AL6-AL5)<(4/24),\"N/A\",IF(AL8=\"no\",\"N/A\",IF(AL9=\"yes\",\"20%\",IF(AL10=\"yes\",\"14%\",IF(AL11=\"yes\",\"12.5%\",\"N/A\"))))))","v":"N/A"},{"$f":"$AL$7-$AL$5","v":0},null,null,null,null,null,null,"Shift period >= 11 AND <= 14 hours?",{"$f":"IF(AL9=\"no\",IF(AL10=\"no\",IF(AD11>=0.4583,\"yes\",\"no\"),\"no\"),\"no\")","v":"no"}]
[null,null,null,"Tue",null,null,null,{"$f":"IF(ISTEXT(E12),0,IF(ISTEXT(F12),0,IF(F12<E12,F12+1,F12)-E12-G12))","v":"00:00:00"},null,null,"00:00:00",null,"00:00:00","00:00:00","00:00:00","00:00:00",{"$f":"SUM(M12:P12)","v":"00:00:00"},0,0,{"$f":"IF(ISTEXT(E13),\"\",IF('PS-Calcs'!J10=\"Under\",\"Check\", 0))","v":0},{"$f":"IF('PS-Calcs'!M10=\"Exceeds\",\"Check\",0)","v":0},{"$f":"'PS-Calcs'!O10","v":"NB"},null,{"$f":"'PS-Calcs'!P10","v":"B"},null,null,null,"Weekend Payment",{"$f":"IF(AL12=\"yes\",\"Time and a Half\",\"No Payment\")","v":"No Payment"},null,null,null,null,null,null,null,"Work weekends?",{"$f":"IF(AM4>0,\"yes\",\"no\")","v":"no"}]
[null,null,null,"Wed",null,null,null,"00:00:00",null,null,"00:00:00",null,"00:00:00","00:00:00","00:00:00","00:00:00","00:00:00",0,0,{"$f":"IF(ISTEXT(E14),\"\",IF('PS-Calcs'!J11=\"Under\",\"Check\", 0))","v":0},{"$f":"IF('PS-Calcs'!M11=\"Exceeds\",\"Check\",0)","v":0},{"$f":"'PS-Calcs'!O11","v":"NB"},null,{"$f":"'PS-Calcs'!P11","v":"B"},null,null,null,"Irregular Hours Payment",{"$f":"IF(AC4=1,\"No Payment\",IF(AC11=\"N/A\",IF(AL13=\"yes\",\"10%\",IF(AL14=\"yes\",\"7.5%\",\"No Payment\")),\"No Payment\"))","v":"No Payment"},null,null,null,null,null,null,null,"> 8hours pw before 07:00 or after 18:30?",{"$f":"IF((SUM($Q$4:OFFSET($Q$4,(($AC$4*7)-1),0))/AC$4)>0.333,\"yes\",\"no\")","v":"no"}]
[null,null,null,"Thu",null,null,null,"00:00:00",null,null,"00:00:00",null,"00:00:00","00:00:00","00:00:00","00:00:00","00:00:00",0,0,{"$f":"IF(ISTEXT(E15),\"\",IF('PS-Calcs'!J12=\"Under\",\"Check\", 0))","v":0},{"$f":"IF('PS-Calcs'!M12=\"Exceeds\",\"Check\",0)","v":0},{"$f":"'PS-Calcs'!O12","v":"NB"},null,{"$f":"'PS-Calcs'!P12","v":"B"},null,null,null,"Night Work Payment",{"$f":"IF(AC11=\"N/A\",IF(AL15=\"yes\",IF(AC13=\"No Payment\",\"Time and a Third\",\"No Payment\"),\"No Payment\"),\"No Payment\")","v":"No Payment"},null,null,null,null,null,null,null,">4 AND <8 hrs pw before 07:00 or after 18:30?",{"$f":"IF(AL13=\"no\",IF((SUM($Q$4:OFFSET($Q$4,(($AC$4*7)-1),0))/AC$4)>0.166,\"yes\",\"no\"),\"no\")","v":"no"}]
[null,null,null,"Fri",null,null,null,"00:00:00",null,null,0,null,"00:00:00","00:00:00","00:00:00","00:00:00","00:00:00",0,0,{"$f":"IF(ISTEXT(E16),\"\",IF('PS-Calcs'!J13=\"Under\",\"Check\", 0))","v":0},{"$f":"IF('PS-Calcs'!M13=\"Exceeds\",\"Check\",0)","v":0},{"$f":"'PS-Calcs'!O13","v":"NB"},null,{"$f":"'PS-Calcs'!P13","v":"B"},null,null,null,null,null,null,null,null,null,null,null,null,"Work between 20:00 and 06:00?",{"$f":"IF((SUM($R$4:OFFSET($S$4,(($AC$4*7)-1),0))/$AC$4)>0,\"yes\",\"no\")","v":"no"}]
[null,null,null,"Sat",null,null,null,"00:00:00",null,null,"00:00:00",{"$f":"H16","v":"00:00:00"},"00:00:00","00:00:00","00:00:00","00:00:00","00:00:00",{"$f":"IF(H16>0,\"yes\",0)","v":0},0,{"$f":"IF(ISTEXT(E17),\"\",IF('PS-Calcs'!J14=\"Under\",\"Check\", 0))","v":0},{"$f":"IF('PS-Calcs'!M14=\"Exceeds\",\"Check\",0)","v":0},{"$f":"'PS-Calcs'!O14","v":"NB"},null,{"$f":"'PS-Calcs'!P14","v":"B"}]
[null,null,null,"Sun",null,null,null,"00:00:00",null,null,"00:00:00","00:00:00","00:00:00","00:00:00","00:00:00","00:00:00","00:00:00",0,0,{"$f":"IF(C18=0,\"\",IF(ISTEXT(E18),\"\",IF('PS-Calcs'!J15=\"Under\",\"Check\",0)))","v":0},{"$f":"IF('PS-Calcs'!M15=\"Exceeds\",\"Check\",0)","v":0},{"$f":"'PS-Calcs'!O15","v":"NB"},null,{"$f":"'PS-Calcs'!P15","v":"B"}]
[null,null,"Week3","Mon",null,null,null,"00:00:00",{"$f":"SUM(H18:H24)","v":0},{"$f":"IF(E18=\"\",\"\",AVERAGE(I$4:I18))","v":""},"00:00:00",null,"00:00:00","00:00:00","00:00:00","00:00:00","00:00:00",{"$f":"IF(H18>0,IF(SUM(M18:P18)>0,\"Yes\",\"no\"),0)","v":0},0,{"$f":"IF(ISTEXT(E19),\"\",IF('PS-Calcs'!J16=\"Under\",\"Check\", 0))","v":0},{"$f":"IF('PS-Calcs'!M16=\"Exceeds\",\"Check\",0)","v":0},{"$f":"'PS-Calcs'!O16","v":"NB"},null,{"$f":"'PS-Calcs'!P16","v":"NB"},null,null,null,"Please note: you only need to complete the relevant number of weeks in your working pattern. "]
[null,null,null,"Tue",null,null,null,"00:00:00",null,null,"00:00:00",null,"00:00:00","00:00:00","00:00:00","00:00:00","00:00:00",0,0,{"$f":"IF(ISTEXT(E20),\"\",IF('PS-Calcs'!J17=\"Under\",\"Check\", 0))","v":0},{"$f":"IF('PS-Calcs'!M17=\"Exceeds\",\"Check\",0)","v":0},{"$f":"'PS-Calcs'!O17","v":"NB"},null,{"$f":"'PS-Calcs'!P17","v":"NB"}]
[null,null,null,"Wed",null,null,null,"00:00:00",null,null,"00:00:00",null,"00:00:00","00:00:00","00:00:00","00:00:00","00:00:00",0,0,{"$f":"IF(ISTEXT(E21),\"\",IF('PS-Calcs'!J18=\"Under\",\"Check\", 0))","v":0},{"$f":"IF('PS-Calcs'!M18=\"Exceeds\",\"Check\",0)","v":0},{"$f":"'PS-Calcs'!O18","v":"NB"},null,{"$f":"'PS-Calcs'!P18","v":"NB"}]
[null,null,null,"Thu",null,null,null,"00:00:00",null,null,"00:00:00",null,"00:00:00","00:00:00","00:00:00","00:00:00","00:00:00",0,0,{"$f":"IF(ISTEXT(E22),\"\",IF('PS-Calcs'!J19=\"Under\",\"Check\", 0))","v":0},{"$f":"IF('PS-Calcs'!M19=\"Exceeds\",\"Check\",0)","v":0},{"$f":"'PS-Calcs'!O19","v":"NB"},null,{"$f":"'PS-Calcs'!P19","v":"NB"}]
[null,null,null,"Fri",null,null,null,"00:00:00",null,null,0,null,"00:00:00","00:00:00","00:00:00","00:00:00","00:00:00",0,0,{"$f":"IF(ISTEXT(E23),\"\",IF('PS-Calcs'!J20=\"Under\",\"Check\", 0))","v":0},{"$f":"IF('PS-Calcs'!M20=\"Exceeds\",\"Check\",0)","v":0},{"$f":"'PS-Calcs'!O20","v":"NB"},null,{"$f":"'PS-Calcs'!P20","v":"NB"}]
[null,null,null,"Sat",null,null,null,"00:00:00",null,null,"00:00:00",{"$f":"H23","v":"00:00:00"},"00:00:00","00:00:00","00:00:00","00:00:00","00:00:00",{"$f":"IF(H23>0,\"yes\",0)","v":0},0,{"$f":"IF(ISTEXT(E24),\"\",IF('PS-Calcs'!J21=\"Under\",\"Check\", 0))","v":0},{"$f":"IF('PS-Calcs'!M21=\"Exceeds\",\"Check\",0)","v":0},{"$f":"'PS-Calcs'!O21","v":"NB"},null,{"$f":"'PS-Calcs'!P21","v":"NB"}]
[null,null,null,"Sun",null,null,null,"00:00:00",null,null,"00:00:00","00:00:00","00:00:00","00:00:00","00:00:00","00:00:00","00:00:00",0,0,{"$f":"IF(C25=0,\"\",IF(ISTEXT(E25),\"\",IF('PS-Calcs'!J22=\"Under\",\"Check\",0)))","v":0},{"$f":"IF('PS-Calcs'!M22=\"Exceeds\",\"Check\",0)","v":0},{"$f":"'PS-Calcs'!O22","v":"NB"},null,{"$f":"'PS-Calcs'!P22","v":"NB"},null,null,null,{"$f":"IF(AC7>'PS-Calcs'!Q1,\"The average number of hours exceeds 37, please review\",\"\")","v":""}]
[null,null,"Week4","Mon",null,null,null,"00:00:00",{"$f":"SUM(H25:H31)","v":0},{"$f":"IF(E25=\"\",\"\",AVERAGE(I$4:I25))","v":""},"00:00:00",null,"00:00:00","00:00:00","00:00:00","00:00:00","00:00:00",{"$f":"IF(H25>0,IF(SUM(M25:P25)>0,\"Yes\",\"no\"),0)","v":0},0,{"$f":"IF(ISTEXT(E26),\"\",IF('PS-Calcs'!J23=\"Under\",\"Check\", 0))","v":0},{"$f":"IF('PS-Calcs'!M23=\"Exceeds\",\"Check\",0)","v":0},{"$f":"'PS-Calcs'!O23","v":"NB"},null,{"$f":"'PS-Calcs'!P23","v":"NB"}]
[null,null,null,"Tue",null,null,null,"00:00:00",null,null,"00:00:00",null,"00:00:00","00:00:00","00:00:00","00:00:00","00:00:00",0,0,{"$f":"IF(ISTEXT(E27),\"\",IF('PS-Calcs'!J24=\"Under\",\"Check\", 0))","v":0},{"$f":"IF('PS-Calcs'!M24=\"Exceeds\",\"Check\",0)","v":0},{"$f":"'PS-Calcs'!O24","v":"NB"},null,{"$f":"'PS-Calcs'!P24","v":"NB"}]
[null,null,null,"Wed",null,null,null,"00:00:00",null,null,"00:00:00",null,"00:00:00","00:00:00","00:00:00","00:00:00","00:00:00",0,0,{"$f":"IF(ISTEXT(E28),\"\",IF('PS-Calcs'!J25=\"Under\",\"Check\", 0))","v":0},{"$f":"IF('PS-Calcs'!M25=\"Exceeds\",\"Check\",0)","v":0},{"$f":"'PS-Calcs'!O25","v":"NB"},null,{"$f":"'PS-Calcs'!P25","v":"NB"}]
[null,null,null,"Thu",null,null,null,"00:00:00",null,null,"00:00:00",null,"00:00:00","00:00:00","00:00:00","00:00:00","00:00:00",0,0,{"$f":"IF(ISTEXT(E29),\"\",IF('PS-Calcs'!J26=\"Under\",\"Check\", 0))","v":0},{"$f":"IF('PS-Calcs'!M26=\"Exceeds\",\"Check\",0)","v":0},{"$f":"'PS-Calcs'!O26","v":"NB"},null,{"$f":"'PS-Calcs'!P26","v":"NB"}]
[null,null,null,"Fri",null,null,null,"00:00:00",null,null,0,null,"00:00:00","00:00:00","00:00:00","00:00:00","00:00:00",0,0,{"$f":"IF(ISTEXT(E30),\"\",IF('PS-Calcs'!J27=\"Under\",\"Check\", 0))","v":0},{"$f":"IF('PS-Calcs'!M27=\"Exceeds\",\"Check\",0)","v":0},{"$f":"'PS-Calcs'!O27","v":"NB"},null,{"$f":"'PS-Calcs'!P27","v":"NB"}]
[null,null,null,"Sat",null,null,null,"00:00:00",null,null,"00:00:00",{"$f":"H30","v":"00:00:00"},"00:00:00","00:00:00","00:00:00","00:00:00","00:00:00",{"$f":"IF(H30>0,\"yes\",0)","v":0},0,{"$f":"IF(ISTEXT(E31),\"\",IF('PS-Calcs'!J28=\"Under\",\"Check\", 0))","v":0},{"$f":"IF('PS-Calcs'!M28=\"Exceeds\",\"Check\",0)","v":0},{"$f":"'PS-Calcs'!O28","v":"NB"},null,{"$f":"'PS-Calcs'!P28","v":"NB"}]
[null,null,null,"Sun",null,null,null,"00:00:00",null,null,"00:00:00","00:00:00","00:00:00","00:00:00","00:00:00","00:00:00","00:00:00",0,0,{"$f":"IF(C32=0,\"\",IF(ISTEXT(E32),\"\",IF('PS-Calcs'!J29=\"Under\",\"Check\",0)))","v":0},{"$f":"IF('PS-Calcs'!M29=\"Exceeds\",\"Check\",0)","v":0},{"$f":"'PS-Calcs'!O29","v":"NB"},null,{"$f":"'PS-Calcs'!P29","v":"NB"}]
[null,null,"Week5","Mon",null,null,null,"00:00:00",{"$f":"SUM(H32:H38)","v":0},{"$f":"IF(E32=\"\",\"\",AVERAGE(I$4:I32))","v":""},"00:00:00",null,"00:00:00","00:00:00","00:00:00","00:00:00","00:00:00",{"$f":"IF(H32>0,IF(SUM(M32:P32)>0,\"Yes\",\"no\"),0)","v":0},0,{"$f":"IF(ISTEXT(E33),\"\",IF('PS-Calcs'!J30=\"Under\",\"Check\", 0))","v":0},{"$f":"IF('PS-Calcs'!M30=\"Exceeds\",\"Check\",0)","v":0},{"$f":"'PS-Calcs'!O30","v":"NB"},null,{"$f":"'PS-Calcs'!P30","v":"NB"}]
[null,null,null,"Tue",null,null,null,"00:00:00",null,null,"00:00:00",null,"00:00:00","00:00:00","00:00:00","00:00:00","00:00:00",0,0,{"$f":"IF(ISTEXT(E34),\"\",IF('PS-Calcs'!J31=\"Under\",\"Check\", 0))","v":0},{"$f":"IF('PS-Calcs'!M31=\"Exceeds\",\"Check\",0)","v":0},{"$f":"'PS-Calcs'!O31","v":"NB"},null,{"$f":"'PS-Calcs'!P31","v":"NB"}]
[null,null,null,"Wed",null,null,null,"00:00:00",null,null,"00:00:00",null,"00:00:00","00:00:00","00:00:00","00:00:00","00:00:00",0,0,{"$f":"IF(ISTEXT(E35),\"\",IF('PS-Calcs'!J32=\"Under\",\"Check\", 0))","v":0},{"$f":"IF('PS-Calcs'!M32=\"Exceeds\",\"Check\",0)","v":0},{"$f":"'PS-Calcs'!O32","v":"NB"},null,{"$f":"'PS-Calcs'!P32","v":"NB"}]
[null,null,null,"Thu",null,null,null,"00:00:00",null,null,"00:00:00",null,"00:00:00","00:00:00","00:00:00","00:00:00","00:00:00",0,0,{"$f":"IF(ISTEXT(E36),\"\",IF('PS-Calcs'!J33=\"Under\",\"Check\", 0))","v":0},{"$f":"IF('PS-Calcs'!M33=\"Exceeds\",\"Check\",0)","v":0},{"$f":"'PS-Calcs'!O33","v":"NB"},null,{"$f":"'PS-Calcs'!P33","v":"NB"}]
[null,null,null,"Fri",null,null,null,"00:00:00",null,null,0,null,"00:00:00","00:00:00","00:00:00","00:00:00","00:00:00",0,0,{"$f":"IF(ISTEXT(E37),\"\",IF('PS-Calcs'!J34=\"Under\",\"Check\", 0))","v":0},{"$f":"IF('PS-Calcs'!M34=\"Exceeds\",\"Check\",0)","v":0},{"$f":"'PS-Calcs'!O34","v":"NB"},null,{"$f":"'PS-Calcs'!P34","v":"NB"}]
[null,null,null,"Sat",null,null,null,"00:00:00",null,null,"00:00:00",{"$f":"H37","v":"00:00:00"},"00:00:00","00:00:00","00:00:00","00:00:00","00:00:00",{"$f":"IF(H37>0,\"yes\",0)","v":0},0,{"$f":"IF(ISTEXT(E38),\"\",IF('PS-Calcs'!J35=\"Under\",\"Check\", 0))","v":0},{"$f":"IF('PS-Calcs'!M35=\"Exceeds\",\"Check\",0)","v":0},{"$f":"'PS-Calcs'!O35","v":"NB"},null,{"$f":"'PS-Calcs'!P35","v":"NB"}]
[null,null,null,"Sun",null,null,null,"00:00:00",null,null,"00:00:00","00:00:00","00:00:00","00:00:00","00:00:00","00:00:00","00:00:00",0,0,{"$f":"IF(C39=0,\"\",IF(ISTEXT(E39),\"\",IF('PS-Calcs'!J36=\"Under\",\"Check\",0)))","v":0},{"$f":"IF('PS-Calcs'!M36=\"Exceeds\",\"Check\",0)","v":0},{"$f":"'PS-Calcs'!O36","v":"NB"},null,{"$f":"'PS-Calcs'!P36","v":"NB"}]
[null,null,"Week6","Mon",null,null,null,{"$f":"IF(ISTEXT(E39),0,IF(ISTEXT(F39),0,IF(F39<E39,F39+1,F39)-E39-G39))","v":"00:00:00"},{"$f":"SUM(H39:H45)","v":0},{"$f":"IF(E39=\"\",\"\",AVERAGE(I$4:I39))","v":""},{"$f":"IF(F39<E39,F39+1,F39)","v":"00:00:00"},null,{"$f":"IF(H39>0,IF(M$3-E39>0,M$3-E39,0),0)","v":"00:00:00"},{"$f":"IF(H39>0,IF(F39-N$3>0,F39-N$3,0),0)","v":"00:00:00"},{"$f":"IF(H39>0,IF(F39<E39,IF(F39>O$3,O$3,F39),0),0)","v":"00:00:00"},{"$f":"IF(H39>0,IF(E39>F39,IF(E39>N$3,R$3-E39,R$3-P$3),0),0)","v":"00:00:00"},{"$f":"SUM(M39:P39)","v":"00:00:00"},{"$f":"IF(H39>0,IF(SUM(M39:P39)>0,\"Yes\",\"no\"),0)","v":0},{"$f":"IF(H39>0,IF(F39-E39<0,1,IF(E39<0.25,1,IF(F39>(20/24),1,0))),0)","v":0},{"$f":"IF(ISTEXT(E40),\"\",IF('PS-Calcs'!J37=\"Under\",\"Check\", 0))","v":0},{"$f":"IF('PS-Calcs'!M37=\"Exceeds\",\"Check\",0)","v":0},{"$f":"'PS-Calcs'!O37","v":"NB"},null,{"$f":"'PS-Calcs'!P37","v":"NB"}]
[null,null,null,"Tue",null,null,null,"00:00:00",null,null,"00:00:00",null,"00:00:00","00:00:00","00:00:00","00:00:00","00:00:00",0,0,{"$f":"IF(ISTEXT(E41),\"\",IF('PS-Calcs'!J38=\"Under\",\"Check\", 0))","v":0},{"$f":"IF('PS-Calcs'!M38=\"Exceeds\",\"Check\",0)","v":0},{"$f":"'PS-Calcs'!O38","v":"NB"},null,{"$f":"'PS-Calcs'!P38","v":"NB"}]
[null,null,null,"Wed",null,null,null,"00:00:00",null,null,"00:00:00",null,"00:00:00","00:00:00","00:00:00","00:00:00","00:00:00",0,0,{"$f":"IF(ISTEXT(E42),\"\",IF('PS-Calcs'!J39=\"Under\",\"Check\", 0))","v":0},{"$f":"IF('PS-Calcs'!M39=\"Exceeds\",\"Check\",0)","v":0},{"$f":"'PS-Calcs'!O39","v":"NB"},null,{"$f":"'PS-Calcs'!P39","v":"NB"}]
[null,null,null,"Thu",null,null,null,"00:00:00",null,null,"00:00:00",null,"00:00:00","00:00:00","00:00:00","00:00:00","00:00:00",0,0,{"$f":"IF(ISTEXT(E43),\"\",IF('PS-Calcs'!J40=\"Under\",\"Check\", 0))","v":0},{"$f":"IF('PS-Calcs'!M40=\"Exceeds\",\"Check\",0)","v":0},{"$f":"'PS-Calcs'!O40","v":"NB"},null,{"$f":"'PS-Calcs'!P40","v":"NB"}]
[null,null,null,"Fri",null,null,null,"00:00:00",null,null,0,null,"00:00:00","00:00:00","00:00:00","00:00:00","00:00:00",0,0,{"$f":"IF(ISTEXT(E44),\"\",IF('PS-Calcs'!J41=\"Under\",\"Check\", 0))","v":0},{"$f":"IF('PS-Calcs'!M41=\"Exceeds\",\"Check\",0)","v":0},{"$f":"'PS-Calcs'!O41","v":"NB"},null,{"$f":"'PS-Calcs'!P41","v":"NB"}]
[null,null,null,"Sat",null,null,null,"00:00:00",null,null,"00:00:00",{"$f":"H44","v":"00:00:00"},"00:00:00","00:00:00","00:00:00","00:00:00","00:00:00",{"$f":"IF(H44>0,\"yes\",0)","v":0},0,{"$f":"IF(ISTEXT(E45),\"\",IF('PS-Calcs'!J42=\"Under\",\"Check\", 0))","v":0},{"$f":"IF('PS-Calcs'!M42=\"Exceeds\",\"Check\",0)","v":0},{"$f":"'PS-Calcs'!O42","v":"NB"},null,{"$f":"'PS-Calcs'!P42","v":"NB"}]
[null,null,null,"Sun",null,null,null,"00:00:00",null,null,"00:00:00","00:00:00","00:00:00","00:00:00","00:00:00","00:00:00","00:00:00",0,0,{"$f":"IF(C46=0,\"\",IF(ISTEXT(E46),\"\",IF('PS-Calcs'!J43=\"Under\",\"Check\",0)))","v":0},{"$f":"IF('PS-Calcs'!M43=\"Exceeds\",\"Check\",0)","v":0},{"$f":"'PS-Calcs'!O43","v":"NB"},null,{"$f":"'PS-Calcs'!P43","v":"NB"}]
[null,null,"Week7","Mon",null,null,null,"00:00:00",0,{"$f":"IF(E46=\"\",\"\",AVERAGE(I$4:I46))","v":""},"00:00:00",null,"00:00:00","00:00:00","00:00:00","00:00:00","00:00:00",{"$f":"IF(H46>0,IF(SUM(M46:P46)>0,\"Yes\",\"no\"),0)","v":0},0,{"$f":"IF(ISTEXT(E47),\"\",IF('PS-Calcs'!J44=\"Under\",\"Check\", 0))","v":0},{"$f":"IF('PS-Calcs'!M44=\"Exceeds\",\"Check\",0)","v":0},{"$f":"'PS-Calcs'!O44","v":"NB"},null,{"$f":"'PS-Calcs'!P44","v":"NB"}]
[null,null,null,"Tue",null,null,null,"00:00:00",null,null,"00:00:00",null,"00:00:00","00:00:00","00:00:00","00:00:00","00:00:00",0,0,{"$f":"IF(ISTEXT(E48),\"\",IF('PS-Calcs'!J45=\"Under\",\"Check\", 0))","v":0},{"$f":"IF('PS-Calcs'!M45=\"Exceeds\",\"Check\",0)","v":0},{"$f":"'PS-Calcs'!O45","v":"NB"},null,{"$f":"'PS-Calcs'!P45","v":"NB"}]
[null,null,null,"Wed",null,null,null,"00:00:00",null,null,"00:00:00",null,"00:00:00","00:00:00","00:00:00","00:00:00","00:00:00",0,0,{"$f":"IF(ISTEXT(E49),\"\",IF('PS-Calcs'!J46=\"Under\",\"Check\", 0))","v":0},{"$f":"IF('PS-Calcs'!M46=\"Exceeds\",\"Check\",0)","v":0},{"$f":"'PS-Calcs'!O46","v":"NB"},null,{"$f":"'PS-Calcs'!P46","v":"NB"}]
[null,null,null,"Thu",null,null,null,"00:00:00",null,null,"00:00:00",null,"00:00:00","00:00:00","00:00:00","00:00:00","00:00:00",0,0,{"$f":"IF(ISTEXT(E50),\"\",IF('PS-Calcs'!J47=\"Under\",\"Check\", 0))","v":0},{"$f":"IF('PS-Calcs'!M47=\"Exceeds\",\"Check\",0)","v":0},{"$f":"'PS-Calcs'!O47","v":"NB"},null,{"$f":"'PS-Calcs'!P47","v":"NB"}]
[null,null,null,"Fri",null,null,null,"00:00:00",null,null,0,null,"00:00:00","00:00:00","00:00:00","00:00:00","00:00:00",0,0,{"$f":"IF(ISTEXT(E51),\"\",IF('PS-Calcs'!J48=\"Under\",\"Check\", 0))","v":0},{"$f":"IF('PS-Calcs'!M48=\"Exceeds\",\"Check\",0)","v":0},{"$f":"'PS-Calcs'!O48","v":"NB"},null,{"$f":"'PS-Calcs'!P48","v":"NB"}]
[null,null,null,"Sat",null,null,null,"00:00:00",null,null,"00:00:00",{"$f":"H51","v":"00:00:00"},"00:00:00","00:00:00","00:00:00","00:00:00","00:00:00",{"$f":"IF(H51>0,\"yes\",0)","v":0},0,{"$f":"IF(ISTEXT(E52),\"\",IF('PS-Calcs'!J49=\"Under\",\"Check\", 0))","v":0},{"$f":"IF('PS-Calcs'!M49=\"Exceeds\",\"Check\",0)","v":0},{"$f":"'PS-Calcs'!O49","v":"NB"},null,{"$f":"'PS-Calcs'!P49","v":"NB"}]
[null,null,null,"Sun",null,null,null,"00:00:00",null,null,"00:00:00","00:00:00","00:00:00","00:00:00","00:00:00","00:00:00","00:00:00",0,0,{"$f":"IF(C53=0,\"\",IF(ISTEXT(E53),\"\",IF('PS-Calcs'!J50=\"Under\",\"Check\",0)))","v":0},{"$f":"IF('PS-Calcs'!M50=\"Exceeds\",\"Check\",0)","v":0},{"$f":"'PS-Calcs'!O50","v":"NB"},null,{"$f":"'PS-Calcs'!P50","v":"NB"}]
[null,null,"Week8","Mon",null,null,null,"00:00:00",0,{"$f":"IF(E53=\"\",\"\",AVERAGE(I$4:I53))","v":""},"00:00:00",null,"00:00:00","00:00:00","00:00:00","00:00:00","00:00:00",{"$f":"IF(H53>0,IF(SUM(M53:P53)>0,\"Yes\",\"no\"),0)","v":0},0,{"$f":"IF(ISTEXT(E54),\"\",IF('PS-Calcs'!J51=\"Under\",\"Check\", 0))","v":0},{"$f":"IF('PS-Calcs'!M51=\"Exceeds\",\"Check\",0)","v":0},{"$f":"'PS-Calcs'!O51","v":"NB"},null,{"$f":"'PS-Calcs'!P51","v":"NB"}]
[null,null,null,"Tue",null,null,null,"00:00:00",null,null,"00:00:00",null,"00:00:00","00:00:00","00:00:00","00:00:00","00:00:00",0,0,{"$f":"IF(ISTEXT(E55),\"\",IF('PS-Calcs'!J52=\"Under\",\"Check\", 0))","v":0},{"$f":"IF('PS-Calcs'!M52=\"Exceeds\",\"Check\",0)","v":0},{"$f":"'PS-Calcs'!O52","v":"NB"},null,{"$f":"'PS-Calcs'!P52","v":"NB"}]
[null,null,null,"Wed",null,null,null,"00:00:00",null,null,"00:00:00",null,"00:00:00","00:00:00","00:00:00","00:00:00","00:00:00",0,0,{"$f":"IF(ISTEXT(E56),\"\",IF('PS-Calcs'!J53=\"Under\",\"Check\", 0))","v":0},{"$f":"IF('PS-Calcs'!M53=\"Exceeds\",\"Check\",0)","v":0},{"$f":"'PS-Calcs'!O53","v":"NB"},null,{"$f":"'PS-Calcs'!P53","v":"NB"}]
[null,null,null,"Thu",null,null,null,"00:00:00",null,null,"00:00:00",null,"00:00:00","00:00:00","00:00:00","00:00:00","00:00:00",0,0,{"$f":"IF(ISTEXT(E57),\"\",IF('PS-Calcs'!J54=\"Under\",\"Check\", 0))","v":0},{"$f":"IF('PS-Calcs'!M54=\"Exceeds\",\"Check\",0)","v":0},{"$f":"'PS-Calcs'!O54","v":"NB"},null,{"$f":"'PS-Calcs'!P54","v":"NB"}]
[null,null,null,"Fri",null,null,null,"00:00:00",null,null,0,null,"00:00:00","00:00:00","00:00:00","00:00:00","00:00:00",0,0,{"$f":"IF(ISTEXT(E58),\"\",IF('PS-Calcs'!J55=\"Under\",\"Check\", 0))","v":0},{"$f":"IF('PS-Calcs'!M55=\"Exceeds\",\"Check\",0)","v":0},{"$f":"'PS-Calcs'!O55","v":"NB"},null,{"$f":"'PS-Calcs'!P55","v":"NB"}]
[null,null,null,"Sat",null,null,null,"00:00:00",null,null,"00:00:00",{"$f":"H58","v":"00:00:00"},"00:00:00","00:00:00","00:00:00","00:00:00","00:00:00",{"$f":"IF(H58>0,\"yes\",0)","v":0},0,{"$f":"IF(ISTEXT(E59),\"\",IF('PS-Calcs'!J56=\"Under\",\"Check\", 0))","v":0},{"$f":"IF('PS-Calcs'!M56=\"Exceeds\",\"Check\",0)","v":0},{"$f":"'PS-Calcs'!O56","v":"NB"},null,{"$f":"'PS-Calcs'!P56","v":"NB"}]
[null,null,null,"Sun",null,null,null,"00:00:00",null,null,"00:00:00","00:00:00","00:00:00","00:00:00","00:00:00","00:00:00","00:00:00",0,0,{"$f":"IF(C60=0,\"\",IF(ISTEXT(E60),\"\",IF('PS-Calcs'!J57=\"Under\",\"Check\",0)))","v":0},{"$f":"IF('PS-Calcs'!M57=\"Exceeds\",\"Check\",0)","v":0},{"$f":"'PS-Calcs'!O57","v":"NB"},null,{"$f":"'PS-Calcs'!P57","v":"NB"}]
[null,null,"Week9","Mon",null,null,null,"00:00:00",0,{"$f":"IF(E60=\"\",\"\",AVERAGE(I$4:I60))","v":""},"00:00:00",null,"00:00:00","00:00:00","00:00:00","00:00:00","00:00:00",{"$f":"IF(H60>0,IF(SUM(M60:P60)>0,\"Yes\",\"no\"),0)","v":0},0,{"$f":"IF(ISTEXT(E61),\"\",IF('PS-Calcs'!J58=\"Under\",\"Check\", 0))","v":0},{"$f":"IF('PS-Calcs'!M58=\"Exceeds\",\"Check\",0)","v":0},{"$f":"'PS-Calcs'!O58","v":"NB"},null,{"$f":"'PS-Calcs'!P58","v":"NB"}]
[null,null,null,"Tue",null,null,null,"00:00:00",null,null,"00:00:00",null,"00:00:00","00:00:00","00:00:00","00:00:00","00:00:00",0,0,{"$f":"IF(ISTEXT(E62),\"\",IF('PS-Calcs'!J59=\"Under\",\"Check\", 0))","v":0},{"$f":"IF('PS-Calcs'!M59=\"Exceeds\",\"Check\",0)","v":0},{"$f":"'PS-Calcs'!O59","v":"NB"},null,{"$f":"'PS-Calcs'!P59","v":"NB"}]
[null,null,null,"Wed",null,null,null,"00:00:00",null,null,"00:00:00",null,"00:00:00","00:00:00","00:00:00","00:00:00","00:00:00",0,0,{"$f":"IF(ISTEXT(E63),\"\",IF('PS-Calcs'!J60=\"Under\",\"Check\", 0))","v":0},{"$f":"IF('PS-Calcs'!M60=\"Exceeds\",\"Check\",0)","v":0},{"$f":"'PS-Calcs'!O60","v":"NB"},null,{"$f":"'PS-Calcs'!P60","v":"NB"}]
[null,null,null,"Thu",null,null,null,"00:00:00",null,null,"00:00:00",null,"00:00:00","00:00:00","00:00:00","00:00:00","00:00:00",0,0,{"$f":"IF(ISTEXT(E64),\"\",IF('PS-Calcs'!J61=\"Under\",\"Check\", 0))","v":0},{"$f":"IF('PS-Calcs'!M61=\"Exceeds\",\"Check\",0)","v":0},{"$f":"'PS-Calcs'!O61","v":"NB"},null,{"$f":"'PS-Calcs'!P61","v":"NB"}]
[null,null,null,"Fri",null,null,null,"00:00:00",null,null,0,null,"00:00:00","00:00:00","00:00:00","00:00:00","00:00:00",0,0,{"$f":"IF(ISTEXT(E65),\"\",IF('PS-Calcs'!J62=\"Under\",\"Check\", 0))","v":0},{"$f":"IF('PS-Calcs'!M62=\"Exceeds\",\"Check\",0)","v":0},{"$f":"'PS-Calcs'!O62","v":"NB"},null,{"$f":"'PS-Calcs'!P62","v":"NB"}]
[null,null,null,"Sat",null,null,null,"00:00:00",null,null,"00:00:00",{"$f":"H65","v":"00:00:00"},"00:00:00","00:00:00","00:00:00","00:00:00","00:00:00",{"$f":"IF(H65>0,\"yes\",0)","v":0},0,{"$f":"IF(ISTEXT(E66),\"\",IF('PS-Calcs'!J63=\"Under\",\"Check\", 0))","v":0},{"$f":"IF('PS-Calcs'!M63=\"Exceeds\",\"Check\",0)","v":0},{"$f":"'PS-Calcs'!O63","v":"NB"},null,{"$f":"'PS-Calcs'!P63","v":"NB"}]
[null,null,null,"Sun",null,null,null,"00:00:00",null,null,"00:00:00","00:00:00","00:00:00","00:00:00","00:00:00","00:00:00","00:00:00",0,0,{"$f":"IF(C67=0,\"\",IF(ISTEXT(E67),\"\",IF('PS-Calcs'!J64=\"Under\",\"Check\",0)))","v":0},{"$f":"IF('PS-Calcs'!M64=\"Exceeds\",\"Check\",0)","v":0},{"$f":"'PS-Calcs'!O64","v":"NB"},null,{"$f":"'PS-Calcs'!P64","v":"NB"}]
[null,null,"Week10","Mon",null,null,null,"00:00:00",0,{"$f":"IF(E67=\"\",\"\",AVERAGE(I$4:I67))","v":""},"00:00:00",null,"00:00:00","00:00:00","00:00:00","00:00:00","00:00:00",{"$f":"IF(H67>0,IF(SUM(M67:P67)>0,\"Yes\",\"no\"),0)","v":0},0,{"$f":"IF(ISTEXT(E68),\"\",IF('PS-Calcs'!J65=\"Under\",\"Check\", 0))","v":0},{"$f":"IF('PS-Calcs'!M65=\"Exceeds\",\"Check\",0)","v":0},{"$f":"'PS-Calcs'!O65","v":"NB"},null,{"$f":"'PS-Calcs'!P65","v":"NB"}]
[null,null,null,"Tue",null,null,null,"00:00:00",null,null,"00:00:00",null,"00:00:00","00:00:00","00:00:00","00:00:00","00:00:00",0,0,{"$f":"IF(ISTEXT(E69),\"\",IF('PS-Calcs'!J66=\"Under\",\"Check\", 0))","v":0},{"$f":"IF('PS-Calcs'!M66=\"Exceeds\",\"Check\",0)","v":0},{"$f":"'PS-Calcs'!O66","v":"NB"},null,{"$f":"'PS-Calcs'!P66","v":"NB"}]
[null,null,null,"Wed",null,null,null,"00:00:00",null,null,"00:00:00",null,"00:00:00","00:00:00","00:00:00","00:00:00","00:00:00",0,0,{"$f":"IF(ISTEXT(E70),\"\",IF('PS-Calcs'!J67=\"Under\",\"Check\", 0))","v":0},{"$f":"IF('PS-Calcs'!M67=\"Exceeds\",\"Check\",0)","v":0},{"$f":"'PS-Calcs'!O67","v":"NB"},null,{"$f":"'PS-Calcs'!P67","v":"NB"}]
[null,null,null,"Thu",null,null,null,"00:00:00",null,null,"00:00:00",null,"00:00:00","00:00:00","00:00:00","00:00:00","00:00:00",0,0,{"$f":"IF(ISTEXT(E71),\"\",IF('PS-Calcs'!J68=\"Under\",\"Check\", 0))","v":0},{"$f":"IF('PS-Calcs'!M68=\"Exceeds\",\"Check\",0)","v":0},{"$f":"'PS-Calcs'!O68","v":"NB"},null,{"$f":"'PS-Calcs'!P68","v":"NB"}]
[null,null,null,"Fri",null,null,null,"00:00:00",null,null,0,null,"00:00:00","00:00:00","00:00:00","00:00:00","00:00:00",0,0,{"$f":"IF(ISTEXT(E72),\"\",IF('PS-Calcs'!J69=\"Under\",\"Check\", 0))","v":0},{"$f":"IF('PS-Calcs'!M69=\"Exceeds\",\"Check\",0)","v":0},{"$f":"'PS-Calcs'!O69","v":"NB"},null,{"$f":"'PS-Calcs'!P69","v":"NB"}]
[null,null,null,"Sat",null,null,null,"00:00:00",null,null,"00:00:00",{"$f":"H72","v":"00:00:00"},"00:00:00","00:00:00","00:00:00","00:00:00","00:00:00",{"$f":"IF(H72>0,\"yes\",0)","v":0},0,{"$f":"IF(ISTEXT(E73),\"\",IF('PS-Calcs'!J70=\"Under\",\"Check\", 0))","v":0},{"$f":"IF('PS-Calcs'!M70=\"Exceeds\",\"Check\",0)","v":0},{"$f":"'PS-Calcs'!O70","v":"NB"},null,{"$f":"'PS-Calcs'!P70","v":"NB"}]
[null,null,null,"Sun",null,null,null,"00:00:00",null,null,"00:00:00","00:00:00","00:00:00","00:00:00","00:00:00","00:00:00","00:00:00",0,0,{"$f":"IF(C74=0,\"\",IF(ISTEXT(E74),\"\",IF('PS-Calcs'!J71=\"Under\",\"Check\",0)))","v":0},{"$f":"IF('PS-Calcs'!M71=\"Exceeds\",\"Check\",0)","v":0},{"$f":"'PS-Calcs'!O71","v":"NB"},null,{"$f":"'PS-Calcs'!P71","v":"NB"}]
[null,null,"Week11","Mon",null,null,null,"00:00:00",0,{"$f":"IF(E74=\"\",\"\",AVERAGE(I$4:I74))","v":""},"00:00:00",null,"00:00:00","00:00:00","00:00:00","00:00:00","00:00:00",{"$f":"IF(H74>0,IF(SUM(M74:P74)>0,\"Yes\",\"no\"),0)","v":0},0,{"$f":"IF(ISTEXT(E75),\"\",IF('PS-Calcs'!J72=\"Under\",\"Check\", 0))","v":0},{"$f":"IF('PS-Calcs'!M72=\"Exceeds\",\"Check\",0)","v":0},{"$f":"'PS-Calcs'!O72","v":"NB"},null,{"$f":"'PS-Calcs'!P72","v":"NB"}]
[null,null,null,"Tue",null,null,null,"00:00:00",null,null,"00:00:00",null,"00:00:00","00:00:00","00:00:00","00:00:00","00:00:00",0,0,{"$f":"IF(ISTEXT(E76),\"\",IF('PS-Calcs'!J73=\"Under\",\"Check\", 0))","v":0},{"$f":"IF('PS-Calcs'!M73=\"Exceeds\",\"Check\",0)","v":0},{"$f":"'PS-Calcs'!O73","v":"NB"},null,{"$f":"'PS-Calcs'!P73","v":"NB"}]
[null,null,null,"Wed",null,null,null,"00:00:00",null,null,"00:00:00",null,"00:00:00","00:00:00","00:00:00","00:00:00","00:00:00",0,0,{"$f":"IF(ISTEXT(E77),\"\",IF('PS-Calcs'!J74=\"Under\",\"Check\", 0))","v":0},{"$f":"IF('PS-Calcs'!M74=\"Exceeds\",\"Check\",0)","v":0},{"$f":"'PS-Calcs'!O74","v":"NB"},null,{"$f":"'PS-Calcs'!P74","v":"NB"}]
[null,null,null,"Thu",null,null,null,"00:00:00",null,null,"00:00:00",null,"00:00:00","00:00:00","00:00:00","00:00:00","00:00:00",0,0,{"$f":"IF(ISTEXT(E78),\"\",IF('PS-Calcs'!J75=\"Under\",\"Check\", 0))","v":0},{"$f":"IF('PS-Calcs'!M75=\"Exceeds\",\"Check\",0)","v":0},{"$f":"'PS-Calcs'!O75","v":"NB"},null,{"$f":"'PS-Calcs'!P75","v":"NB"}]
[null,null,null,"Fri",null,null,null,"00:00:00",null,null,0,null,"00:00:00","00:00:00","00:00:00","00:00:00","00:00:00",0,0,{"$f":"IF(ISTEXT(E79),\"\",IF('PS-Calcs'!J76=\"Under\",\"Check\", 0))","v":0},{"$f":"IF('PS-Calcs'!M76=\"Exceeds\",\"Check\",0)","v":0},{"$f":"'PS-Calcs'!O76","v":"NB"},null,{"$f":"'PS-Calcs'!P76","v":"NB"}]
[null,null,null,"Sat",null,null,null,"00:00:00",null,null,"00:00:00",{"$f":"H79","v":"00:00:00"},"00:00:00","00:00:00","00:00:00","00:00:00","00:00:00",{"$f":"IF(H79>0,\"yes\",0)","v":0},0,{"$f":"IF(ISTEXT(E80),\"\",IF('PS-Calcs'!J77=\"Under\",\"Check\", 0))","v":0},{"$f":"IF('PS-Calcs'!M77=\"Exceeds\",\"Check\",0)","v":0},{"$f":"'PS-Calcs'!O77","v":"NB"},null,{"$f":"'PS-Calcs'!P77","v":"NB"}]
[null,null,null,"Sun",null,null,null,"00:00:00",null,null,"00:00:00","00:00:00","00:00:00","00:00:00","00:00:00","00:00:00","00:00:00",0,0,{"$f":"IF(C81=0,\"\",IF(ISTEXT(E81),\"\",IF('PS-Calcs'!J78=\"Under\",\"Check\",0)))","v":0},{"$f":"IF('PS-Calcs'!M78=\"Exceeds\",\"Check\",0)","v":0},{"$f":"'PS-Calcs'!O78","v":"NB"},null,{"$f":"'PS-Calcs'!P78","v":"NB"}]
[null,null,"Week12","Mon",null,null,null,"00:00:00",0,{"$f":"IF(E81=\"\",\"\",AVERAGE(I$4:I81))","v":""},"00:00:00",null,"00:00:00","00:00:00","00:00:00","00:00:00","00:00:00",{"$f":"IF(H81>0,IF(SUM(M81:P81)>0,\"Yes\",\"no\"),0)","v":0},0,{"$f":"IF(ISTEXT(E82),\"\",IF('PS-Calcs'!J79=\"Under\",\"Check\", 0))","v":0},{"$f":"IF('PS-Calcs'!M79=\"Exceeds\",\"Check\",0)","v":0},{"$f":"'PS-Calcs'!O79","v":"NB"},null,{"$f":"'PS-Calcs'!P79","v":"NB"}]
[null,null,null,"Tue",null,null,null,"00:00:00",null,null,"00:00:00",null,"00:00:00","00:00:00","00:00:00","00:00:00","00:00:00",0,0,{"$f":"IF(ISTEXT(E83),\"\",IF('PS-Calcs'!J80=\"Under\",\"Check\", 0))","v":0},{"$f":"IF('PS-Calcs'!M80=\"Exceeds\",\"Check\",0)","v":0},{"$f":"'PS-Calcs'!O80","v":"NB"},null,{"$f":"'PS-Calcs'!P80","v":"NB"}]
[null,null,null,"Wed",null,null,null,"00:00:00",null,null,"00:00:00",null,"00:00:00","00:00:00","00:00:00","00:00:00","00:00:00",0,0,{"$f":"IF(ISTEXT(E84),\"\",IF('PS-Calcs'!J81=\"Under\",\"Check\", 0))","v":0},{"$f":"IF('PS-Calcs'!M81=\"Exceeds\",\"Check\",0)","v":0},{"$f":"'PS-Calcs'!O81","v":"NB"},null,{"$f":"'PS-Calcs'!P81","v":"NB"}]
[null,null,null,"Thu",null,null,null,"00:00:00",null,null,"00:00:00",null,"00:00:00","00:00:00","00:00:00","00:00:00","00:00:00",0,0,{"$f":"IF(ISTEXT(E85),\"\",IF('PS-Calcs'!J82=\"Under\",\"Check\", 0))","v":0},{"$f":"IF('PS-Calcs'!M82=\"Exceeds\",\"Check\",0)","v":0},{"$f":"'PS-Calcs'!O82","v":"NB"},null,{"$f":"'PS-Calcs'!P82","v":"NB"}]
[null,null,null,"Fri",null,null,null,"00:00:00",null,null,0,null,"00:00:00","00:00:00","00:00:00","00:00:00","00:00:00",0,0,{"$f":"IF(ISTEXT(E86),\"\",IF('PS-Calcs'!J83=\"Under\",\"Check\", 0))","v":0},{"$f":"IF('PS-Calcs'!M83=\"Exceeds\",\"Check\",0)","v":0},{"$f":"'PS-Calcs'!O83","v":"NB"},null,{"$f":"'PS-Calcs'!P83","v":"NB"}]
[null,null,null,"Sat",null,null,null,"00:00:00",null,null,"00:00:00",{"$f":"H86","v":"00:00:00"},"00:00:00","00:00:00","00:00:00","00:00:00","00:00:00",{"$f":"IF(H86>0,\"yes\",0)","v":0},0,{"$f":"IF(ISTEXT(E87),\"\",IF('PS-Calcs'!J84=\"Under\",\"Check\", 0))","v":0},{"$f":"IF('PS-Calcs'!M84=\"Exceeds\",\"Check\",0)","v":0},{"$f":"'PS-Calcs'!O84","v":"NB"},null,{"$f":"'PS-Calcs'!P84","v":"NB"}]
[null,null,null,"Sun",null,null,null,"00:00:00",null,null,"00:00:00","00:00:00","00:00:00","00:00:00","00:00:00","00:00:00","00:00:00",0,0,{"$f":"IF(C88=0,\"\",IF(ISTEXT(E88),\"\",IF('PS-Calcs'!J85=\"Under\",\"Check\",0)))","v":0},{"$f":"IF('PS-Calcs'!M85=\"Exceeds\",\"Check\",0)","v":0},{"$f":"'PS-Calcs'!O85","v":"NB"},null,{"$f":"'PS-Calcs'!P85","v":"NB"}]
[null,null,"Week13","Mon",null,null,null,"00:00:00",0,{"$f":"IF(E88=\"\",\"\",AVERAGE(I$4:I88))","v":""},"00:00:00",null,"00:00:00","00:00:00","00:00:00","00:00:00","00:00:00",{"$f":"IF(H88>0,IF(SUM(M88:P88)>0,\"Yes\",\"no\"),0)","v":0},0,{"$f":"IF(ISTEXT(E89),\"\",IF('PS-Calcs'!J86=\"Under\",\"Check\", 0))","v":0},{"$f":"IF('PS-Calcs'!M86=\"Exceeds\",\"Check\",0)","v":0},{"$f":"'PS-Calcs'!O86","v":"NB"},null,{"$f":"'PS-Calcs'!P86","v":"NB"}]
[null,null,null,"Tue",null,null,null,"00:00:00",null,null,"00:00:00",null,"00:00:00","00:00:00","00:00:00","00:00:00","00:00:00",0,0,{"$f":"IF(ISTEXT(E90),\"\",IF('PS-Calcs'!J87=\"Under\",\"Check\", 0))","v":0},{"$f":"IF('PS-Calcs'!M87=\"Exceeds\",\"Check\",0)","v":0},{"$f":"'PS-Calcs'!O87","v":"NB"},null,{"$f":"'PS-Calcs'!P87","v":"NB"}]
[null,null,null,"Wed",null,null,null,"00:00:00",null,null,"00:00:00",null,"00:00:00","00:00:00","00:00:00","00:00:00","00:00:00",0,0,{"$f":"IF(ISTEXT(E91),\"\",IF('PS-Calcs'!J88=\"Under\",\"Check\", 0))","v":0},{"$f":"IF('PS-Calcs'!M88=\"Exceeds\",\"Check\",0)","v":0},{"$f":"'PS-Calcs'!O88","v":"NB"},null,{"$f":"'PS-Calcs'!P88","v":"NB"}]
[null,null,null,"Thu",null,null,null,"00:00:00",null,null,"00:00:00",null,"00:00:00","00:00:00","00:00:00","00:00:00","00:00:00",0,0,{"$f":"IF(ISTEXT(E92),\"\",IF('PS-Calcs'!J89=\"Under\",\"Check\", 0))","v":0},{"$f":"IF('PS-Calcs'!M89=\"Exceeds\",\"Check\",0)","v":0},{"$f":"'PS-Calcs'!O89","v":"NB"},null,{"$f":"'PS-Calcs'!P89","v":"NB"}]
[null,null,null,"Fri",null,null,null,"00:00:00",null,null,0,null,"00:00:00","00:00:00","00:00:00","00:00:00","00:00:00",0,0,{"$f":"IF(ISTEXT(E93),\"\",IF('PS-Calcs'!J90=\"Under\",\"Check\", 0))","v":0},{"$f":"IF('PS-Calcs'!M90=\"Exceeds\",\"Check\",0)","v":0},{"$f":"'PS-Calcs'!O90","v":"NB"},null,{"$f":"'PS-Calcs'!P90","v":"NB"}]
[null,null,null,"Sat",null,null,null,"00:00:00",null,null,"00:00:00",{"$f":"H93","v":"00:00:00"},"00:00:00","00:00:00","00:00:00","00:00:00","00:00:00",{"$f":"IF(H93>0,\"yes\",0)","v":0},0,{"$f":"IF(ISTEXT(E94),\"\",IF('PS-Calcs'!J91=\"Under\",\"Check\", 0))","v":0},{"$f":"IF('PS-Calcs'!M91=\"Exceeds\",\"Check\",0)","v":0},{"$f":"'PS-Calcs'!O91","v":"NB"},null,{"$f":"'PS-Calcs'!P91","v":"NB"}]
[null,null,null,"Sun",null,null,null,"00:00:00",null,null,"00:00:00","00:00:00","00:00:00","00:00:00","00:00:00","00:00:00","00:00:00",0,0,{"$f":"IF(C95=0,\"\",IF(ISTEXT(E95),\"\",IF('PS-Calcs'!J92=\"Under\",\"Check\",0)))","v":0},{"$f":"IF('PS-Calcs'!M92=\"Exceeds\",\"Check\",0)","v":0},{"$f":"'PS-Calcs'!O92","v":"NB"},null,{"$f":"'PS-Calcs'!P92","v":"NB"}]
[null,null,"Week14","Mon",null,null,null,"00:00:00",0,{"$f":"IF(E95=\"\",\"\",AVERAGE(I$4:I95))","v":""},"00:00:00",null,"00:00:00","00:00:00","00:00:00","00:00:00","00:00:00",{"$f":"IF(H95>0,IF(SUM(M95:P95)>0,\"Yes\",\"no\"),0)","v":0},0,{"$f":"IF(ISTEXT(E96),\"\",IF('PS-Calcs'!J93=\"Under\",\"Check\", 0))","v":0},{"$f":"IF('PS-Calcs'!M93=\"Exceeds\",\"Check\",0)","v":0},{"$f":"'PS-Calcs'!O93","v":"NB"},null,{"$f":"'PS-Calcs'!P93","v":"NB"}]
[null,null,null,"Tue",null,null,null,"00:00:00",null,null,"00:00:00",null,"00:00:00","00:00:00","00:00:00","00:00:00","00:00:00",0,0,{"$f":"IF(ISTEXT(E97),\"\",IF('PS-Calcs'!J94=\"Under\",\"Check\", 0))","v":0},{"$f":"IF('PS-Calcs'!M94=\"Exceeds\",\"Check\",0)","v":0},{"$f":"'PS-Calcs'!O94","v":"NB"},null,{"$f":"'PS-Calcs'!P94","v":"NB"}]
[null,null,null,"Wed",null,null,null,"00:00:00",null,null,"00:00:00",null,"00:00:00","00:00:00","00:00:00","00:00:00","00:00:00",0,0,{"$f":"IF(ISTEXT(E98),\"\",IF('PS-Calcs'!J95=\"Under\",\"Check\", 0))","v":0},{"$f":"IF('PS-Calcs'!M95=\"Exceeds\",\"Check\",0)","v":0},{"$f":"'PS-Calcs'!O95","v":"NB"},null,{"$f":"'PS-Calcs'!P95","v":"NB"}]
[null,null,null,"Thu",null,null,null,"00:00:00",null,null,"00:00:00",null,"00:00:00","00:00:00","00:00:00","00:00:00","00:00:00",0,0,{"$f":"IF(ISTEXT(E99),\"\",IF('PS-Calcs'!J96=\"Under\",\"Check\", 0))","v":0},{"$f":"IF('PS-Calcs'!M96=\"Exceeds\",\"Check\",0)","v":0},{"$f":"'PS-Calcs'!O96","v":"NB"},null,{"$f":"'PS-Calcs'!P96","v":"NB"}]
[null,null,null,"Fri",null,null,null,"00:00:00",null,null,0,null,"00:00:00","00:00:00","00:00:00","00:00:00","00:00:00",0,0,{"$f":"IF(ISTEXT(E100),\"\",IF('PS-Calcs'!J97=\"Under\",\"Check\", 0))","v":0},{"$f":"IF('PS-Calcs'!M97=\"Exceeds\",\"Check\",0)","v":0},{"$f":"'PS-Calcs'!O97","v":"NB"},null,{"$f":"'PS-Calcs'!P97","v":"NB"}]
[null,null,null,"Sat",null,null,null,"00:00:00",null,null,"00:00:00",{"$f":"H100","v":"00:00:00"},"00:00:00","00:00:00","00:00:00","00:00:00","00:00:00",{"$f":"IF(H100>0,\"yes\",0)","v":0},0,{"$f":"IF(ISTEXT(E101),\"\",IF('PS-Calcs'!J98=\"Under\",\"Check\", 0))","v":0},{"$f":"IF('PS-Calcs'!M98=\"Exceeds\",\"Check\",0)","v":0},{"$f":"'PS-Calcs'!O98","v":"NB"},null,{"$f":"'PS-Calcs'!P98","v":"NB"}]
[null,null,null,"Sun",null,null,null,"00:00:00",null,null,"00:00:00","00:00:00","00:00:00","00:00:00","00:00:00","00:00:00","00:00:00",0,0,{"$f":"IF(C102=0,\"\",IF(ISTEXT(E102),\"\",IF('PS-Calcs'!J99=\"Under\",\"Check\",0)))","v":0},{"$f":"IF('PS-Calcs'!M99=\"Exceeds\",\"Check\",0)","v":0},{"$f":"'PS-Calcs'!O99","v":"NB"},null,{"$f":"'PS-Calcs'!P99","v":"NB"}]
[null,null,"Week15","Mon",null,null,null,"00:00:00",0,{"$f":"IF(E102=\"\",\"\",AVERAGE(I$4:I102))","v":""},"00:00:00",null,"00:00:00","00:00:00","00:00:00","00:00:00","00:00:00",{"$f":"IF(H102>0,IF(SUM(M102:P102)>0,\"Yes\",\"no\"),0)","v":0},0,{"$f":"IF(ISTEXT(E103),\"\",IF('PS-Calcs'!J100=\"Under\",\"Check\", 0))","v":0},{"$f":"IF('PS-Calcs'!M100=\"Exceeds\",\"Check\",0)","v":0},{"$f":"'PS-Calcs'!O100","v":"NB"},null,{"$f":"'PS-Calcs'!P100","v":"NB"}]
[null,null,null,"Tue",null,null,null,{"$f":"IF(ISTEXT(E103),0,IF(ISTEXT(F103),0,IF(F103<E103,F103+1,F103)-E103-G103))","v":"00:00:00"},null,null,{"$f":"IF(F103<E103,F103+1,F103)","v":"00:00:00"},null,{"$f":"IF(H103>0,IF(M$3-E103>0,M$3-E103,0),0)","v":"00:00:00"},{"$f":"IF(H103>0,IF(F103-N$3>0,F103-N$3,0),0)","v":"00:00:00"},{"$f":"IF(H103>0,IF(F103<E103,IF(F103>O$3,O$3,F103),0),0)","v":"00:00:00"},{"$f":"IF(H103>0,IF(E103>F103,IF(E103>N$3,R$3-E103,R$3-P$3),0),0)","v":"00:00:00"},{"$f":"SUM(M103:P103)","v":"00:00:00"},0,{"$f":"IF(H103>0,IF(F103-E103<0,1,IF(E103<0.25,1,IF(F103>(20/24),1,0))),0)","v":0},{"$f":"IF(ISTEXT(E104),\"\",IF('PS-Calcs'!J101=\"Under\",\"Check\", 0))","v":0},{"$f":"IF('PS-Calcs'!M101=\"Exceeds\",\"Check\",0)","v":0},{"$f":"'PS-Calcs'!O101","v":"NB"},null,{"$f":"'PS-Calcs'!P101","v":"NB"}]
[null,null,null,"Wed",null,null,null,"00:00:00",null,null,"00:00:00",null,"00:00:00","00:00:00","00:00:00","00:00:00","00:00:00",0,0,{"$f":"IF(ISTEXT(E105),\"\",IF('PS-Calcs'!J102=\"Under\",\"Check\", 0))","v":0},{"$f":"IF('PS-Calcs'!M102=\"Exceeds\",\"Check\",0)","v":0},{"$f":"'PS-Calcs'!O102","v":"NB"},null,{"$f":"'PS-Calcs'!P102","v":"NB"}]
[null,null,null,"Thu",null,null,null,"00:00:00",null,null,"00:00:00",null,"00:00:00","00:00:00","00:00:00","00:00:00","00:00:00",0,0,{"$f":"IF(ISTEXT(E106),\"\",IF('PS-Calcs'!J103=\"Under\",\"Check\", 0))","v":0},{"$f":"IF('PS-Calcs'!M103=\"Exceeds\",\"Check\",0)","v":0},{"$f":"'PS-Calcs'!O103","v":"NB"},null,{"$f":"'PS-Calcs'!P103","v":"NB"}]
[null,null,null,"Fri",null,null,null,"00:00:00",null,null,0,null,"00:00:00","00:00:00","00:00:00","00:00:00","00:00:00",0,0,{"$f":"IF(ISTEXT(E107),\"\",IF('PS-Calcs'!J104=\"Under\",\"Check\", 0))","v":0},{"$f":"IF('PS-Calcs'!M104=\"Exceeds\",\"Check\",0)","v":0},{"$f":"'PS-Calcs'!O104","v":"NB"},null,{"$f":"'PS-Calcs'!P104","v":"NB"}]
[null,null,null,"Sat",null,null,null,"00:00:00",null,null,"00:00:00",{"$f":"H107","v":"00:00:00"},"00:00:00","00:00:00","00:00:00","00:00:00","00:00:00",{"$f":"IF(H107>0,\"yes\",0)","v":0},0,{"$f":"IF(ISTEXT(E108),\"\",IF('PS-Calcs'!J105=\"Under\",\"Check\", 0))","v":0},{"$f":"IF('PS-Calcs'!M105=\"Exceeds\",\"Check\",0)","v":0},{"$f":"'PS-Calcs'!O105","v":"NB"},null,{"$f":"'PS-Calcs'!P105","v":"NB"}]
[null,null,null,"Sun",null,null,null,"00:00:00",null,null,"00:00:00","00:00:00","00:00:00","00:00:00","00:00:00","00:00:00","00:00:00",0,0,{"$f":"IF(C109=0,\"\",IF(ISTEXT(E109),\"\",IF('PS-Calcs'!J106=\"Under\",\"Check\",0)))","v":0},{"$f":"IF('PS-Calcs'!M106=\"Exceeds\",\"Check\",0)","v":0},{"$f":"'PS-Calcs'!O106","v":"NB"},null,{"$f":"'PS-Calcs'!P106","v":"NB"}]
[null,null,"Week16","Mon",null,null,null,"00:00:00",{"$f":"SUM(H109:H115)","v":0},{"$f":"IF(E109=\"\",\"\",AVERAGE(I$4:I109))","v":""},"00:00:00",null,"00:00:00","00:00:00","00:00:00","00:00:00","00:00:00",{"$f":"IF(H109>0,IF(SUM(M109:P109)>0,\"Yes\",\"no\"),0)","v":0},0,{"$f":"IF(ISTEXT(E110),\"\",IF('PS-Calcs'!J107=\"Under\",\"Check\", 0))","v":0},{"$f":"IF('PS-Calcs'!M107=\"Exceeds\",\"Check\",0)","v":0},{"$f":"'PS-Calcs'!O107","v":"NB"},null,{"$f":"'PS-Calcs'!P107","v":"NB"}]
[null,null,null,"Tue",null,null,null,"00:00:00",null,null,"00:00:00",null,"00:00:00","00:00:00","00:00:00","00:00:00","00:00:00",0,0,{"$f":"IF(ISTEXT(E111),\"\",IF('PS-Calcs'!J108=\"Under\",\"Check\", 0))","v":0},{"$f":"IF('PS-Calcs'!M108=\"Exceeds\",\"Check\",0)","v":0},{"$f":"'PS-Calcs'!O108","v":"NB"},null,{"$f":"'PS-Calcs'!P108","v":"NB"}]
[null,null,null,"Wed",null,null,null,"00:00:00",null,null,"00:00:00",null,"00:00:00","00:00:00","00:00:00","00:00:00","00:00:00",0,0,{"$f":"IF(ISTEXT(E112),\"\",IF('PS-Calcs'!J109=\"Under\",\"Check\", 0))","v":0},{"$f":"IF('PS-Calcs'!M109=\"Exceeds\",\"Check\",0)","v":0},{"$f":"'PS-Calcs'!O109","v":"NB"},null,{"$f":"'PS-Calcs'!P109","v":"NB"}]
[null,null,null,"Thu",null,null,null,"00:00:00",null,null,"00:00:00",null,"00:00:00","00:00:00","00:00:00","00:00:00","00:00:00",0,0,{"$f":"IF(ISTEXT(E113),\"\",IF('PS-Calcs'!J110=\"Under\",\"Check\", 0))","v":0},{"$f":"IF('PS-Calcs'!M110=\"Exceeds\",\"Check\",0)","v":0},{"$f":"'PS-Calcs'!O110","v":"NB"},null,{"$f":"'PS-Calcs'!P110","v":"NB"}]
[null,null,null,"Fri",null,null,null,"00:00:00",null,null,0,null,"00:00:00","00:00:00","00:00:00","00:00:00","00:00:00",0,0,{"$f":"IF(ISTEXT(E114),\"\",IF('PS-Calcs'!J111=\"Under\",\"Check\", 0))","v":0},{"$f":"IF('PS-Calcs'!M111=\"Exceeds\",\"Check\",0)","v":0},{"$f":"'PS-Calcs'!O111","v":"NB"},null,{"$f":"'PS-Calcs'!P111","v":"NB"}]
[null,null,null,"Sat",null,null,null,"00:00:00",null,null,"00:00:00",{"$f":"H114","v":"00:00:00"},"00:00:00","00:00:00","00:00:00","00:00:00","00:00:00",{"$f":"IF(H114>0,\"yes\",0)","v":0},0,{"$f":"IF(ISTEXT(E115),\"\",IF('PS-Calcs'!J112=\"Under\",\"Check\", 0))","v":0},{"$f":"IF('PS-Calcs'!M112=\"Exceeds\",\"Check\",0)","v":0},{"$f":"'PS-Calcs'!O112","v":"NB"},null,{"$f":"'PS-Calcs'!P112","v":"NB"}]
[null,null,null,"Sun",null,null,null,"00:00:00",null,null,"00:00:00","00:00:00","00:00:00","00:00:00","00:00:00","00:00:00","00:00:00",0,0,{"$f":"IF(C116=0,\"\",IF(ISTEXT(E116),\"\",IF('PS-Calcs'!J113=\"Under\",\"Check\",0)))","v":0},{"$f":"IF('PS-Calcs'!M113=\"Exceeds\",\"Check\",0)","v":0},{"$f":"'PS-Calcs'!O113","v":"NB"},null,{"$f":"'PS-Calcs'!P113","v":"NB"}]
[null,null,"Week17","Mon",null,null,null,"00:00:00",0,{"$f":"IF(E116=\"\",\"\",AVERAGE(I$4:I116))","v":""},"00:00:00",null,"00:00:00","00:00:00","00:00:00","00:00:00","00:00:00",{"$f":"IF(H116>0,IF(SUM(M116:P116)>0,\"Yes\",\"no\"),0)","v":0},0,{"$f":"IF(ISTEXT(E117),\"\",IF('PS-Calcs'!J114=\"Under\",\"Check\", 0))","v":0},{"$f":"IF('PS-Calcs'!M114=\"Exceeds\",\"Check\",0)","v":0},{"$f":"'PS-Calcs'!O114","v":"NB"},null,{"$f":"'PS-Calcs'!P114","v":"NB"}]
[null,null,null,"Tue",null,null,null,"00:00:00",null,null,"00:00:00",null,"00:00:00","00:00:00","00:00:00","00:00:00","00:00:00",0,0,{"$f":"IF(ISTEXT(E118),\"\",IF('PS-Calcs'!J115=\"Under\",\"Check\", 0))","v":0},{"$f":"IF('PS-Calcs'!M115=\"Exceeds\",\"Check\",0)","v":0},{"$f":"'PS-Calcs'!O115","v":"NB"},null,{"$f":"'PS-Calcs'!P115","v":"NB"}]
[null,null,null,"Wed",null,null,null,"00:00:00",null,null,"00:00:00",null,"00:00:00","00:00:00","00:00:00","00:00:00","00:00:00",0,0,{"$f":"IF(ISTEXT(E119),\"\",IF('PS-Calcs'!J116=\"Under\",\"Check\", 0))","v":0},{"$f":"IF('PS-Calcs'!M116=\"Exceeds\",\"Check\",0)","v":0},{"$f":"'PS-Calcs'!O116","v":"NB"},null,{"$f":"'PS-Calcs'!P116","v":"NB"}]
[null,null,null,"Thu",null,null,null,"00:00:00",null,null,"00:00:00",null,"00:00:00","00:00:00","00:00:00","00:00:00","00:00:00",0,0,{"$f":"IF(ISTEXT(E120),\"\",IF('PS-Calcs'!J117=\"Under\",\"Check\", 0))","v":0},{"$f":"IF('PS-Calcs'!M117=\"Exceeds\",\"Check\",0)","v":0},{"$f":"'PS-Calcs'!O117","v":"NB"},null,{"$f":"'PS-Calcs'!P117","v":"NB"}]
[null,null,null,"Fri",null,null,null,"00:00:00",null,null,0,null,"00:00:00","00:00:00","00:00:00","00:00:00","00:00:00",0,0,{"$f":"IF(ISTEXT(E121),\"\",IF('PS-Calcs'!J118=\"Under\",\"Check\", 0))","v":0},{"$f":"IF('PS-Calcs'!M118=\"Exceeds\",\"Check\",0)","v":0},{"$f":"'PS-Calcs'!O118","v":"NB"},null,{"$f":"'PS-Calcs'!P118","v":"NB"}]
[null,null,null,"Sat",null,null,null,"00:00:00",null,null,"00:00:00",{"$f":"H121","v":"00:00:00"},"00:00:00","00:00:00","00:00:00","00:00:00","00:00:00",{"$f":"IF(H121>0,\"yes\",0)","v":0},0,{"$f":"IF(ISTEXT(E122),\"\",IF('PS-Calcs'!J119=\"Under\",\"Check\", 0))","v":0},{"$f":"IF('PS-Calcs'!M119=\"Exceeds\",\"Check\",0)","v":0},{"$f":"'PS-Calcs'!O119","v":"NB"},null,{"$f":"'PS-Calcs'!P119","v":"NB"}]
[null,null,null,"Sun",null,null,null,"00:00:00",null,null,"00:00:00","00:00:00","00:00:00","00:00:00","00:00:00","00:00:00","00:00:00",0,0,{"$f":"IF(C123=0,\"\",IF(ISTEXT(E123),\"\",IF('PS-Calcs'!J120=\"Under\",\"Check\",0)))","v":0},{"$f":"IF('PS-Calcs'!M120=\"Exceeds\",\"Check\",0)","v":0},{"$f":"'PS-Calcs'!O120","v":"NB"},null,{"$f":"'PS-Calcs'!P120","v":"NB"}]
[null,null,"Week18","Mon",null,null,null,"00:00:00",0,{"$f":"IF(E123=\"\",\"\",AVERAGE(I$4:I123))","v":""},"00:00:00",null,"00:00:00","00:00:00","00:00:00","00:00:00","00:00:00",{"$f":"IF(H123>0,IF(SUM(M123:P123)>0,\"Yes\",\"no\"),0)","v":0},0,{"$f":"IF(ISTEXT(E124),\"\",IF('PS-Calcs'!J121=\"Under\",\"Check\", 0))","v":0},{"$f":"IF('PS-Calcs'!M121=\"Exceeds\",\"Check\",0)","v":0},{"$f":"'PS-Calcs'!O121","v":"NB"},null,{"$f":"'PS-Calcs'!P121","v":"NB"}]
[null,null,null,"Tue",null,null,null,"00:00:00",null,null,"00:00:00",null,"00:00:00","00:00:00","00:00:00","00:00:00","00:00:00",0,0,{"$f":"IF(ISTEXT(E125),\"\",IF('PS-Calcs'!J122=\"Under\",\"Check\", 0))","v":0},{"$f":"IF('PS-Calcs'!M122=\"Exceeds\",\"Check\",0)","v":0},{"$f":"'PS-Calcs'!O122","v":"NB"},null,{"$f":"'PS-Calcs'!P122","v":"NB"}]
[null,null,null,"Wed",null,null,null,"00:00:00",null,null,"00:00:00",null,"00:00:00","00:00:00","00:00:00","00:00:00","00:00:00",0,0,{"$f":"IF(ISTEXT(E126),\"\",IF('PS-Calcs'!J123=\"Under\",\"Check\", 0))","v":0},{"$f":"IF('PS-Calcs'!M123=\"Exceeds\",\"Check\",0)","v":0},{"$f":"'PS-Calcs'!O123","v":"NB"},null,{"$f":"'PS-Calcs'!P123","v":"NB"}]
[null,null,null,"Thu",null,null,null,"00:00:00",null,null,"00:00:00",null,"00:00:00","00:00:00","00:00:00","00:00:00","00:00:00",0,0,{"$f":"IF(ISTEXT(E127),\"\",IF('PS-Calcs'!J124=\"Under\",\"Check\", 0))","v":0},{"$f":"IF('PS-Calcs'!M124=\"Exceeds\",\"Check\",0)","v":0},{"$f":"'PS-Calcs'!O124","v":"NB"},null,{"$f":"'PS-Calcs'!P124","v":"NB"}]
[null,null,null,"Fri",null,null,null,"00:00:00",null,null,0,null,"00:00:00","00:00:00","00:00:00","00:00:00","00:00:00",0,0,{"$f":"IF(ISTEXT(E128),\"\",IF('PS-Calcs'!J125=\"Under\",\"Check\", 0))","v":0},{"$f":"IF('PS-Calcs'!M125=\"Exceeds\",\"Check\",0)","v":0},{"$f":"'PS-Calcs'!O125","v":"NB"},null,{"$f":"'PS-Calcs'!P125","v":"NB"}]
[null,null,null,"Sat",null,null,null,"00:00:00",null,null,"00:00:00",{"$f":"H128","v":"00:00:00"},"00:00:00","00:00:00","00:00:00","00:00:00","00:00:00",{"$f":"IF(H128>0,\"yes\",0)","v":0},0,{"$f":"IF(ISTEXT(E129),\"\",IF('PS-Calcs'!J126=\"Under\",\"Check\", 0))","v":0},{"$f":"IF('PS-Calcs'!M126=\"Exceeds\",\"Check\",0)","v":0},{"$f":"'PS-Calcs'!O126","v":"NB"},null,{"$f":"'PS-Calcs'!P126","v":"NB"}]
[null,null,null,"Sun",null,null,null,"00:00:00",null,null,"00:00:00","00:00:00","00:00:00","00:00:00","00:00:00","00:00:00","00:00:00",0,0,{"$f":"IF(C130=0,\"\",IF(ISTEXT(E130),\"\",IF('PS-Calcs'!J127=\"Under\",\"Check\",0)))","v":0},{"$f":"IF('PS-Calcs'!M127=\"Exceeds\",\"Check\",0)","v":0},{"$f":"'PS-Calcs'!O127","v":"NB"},null,{"$f":"'PS-Calcs'!P127","v":"NB"}]
[null,null,"Week19","Mon",null,null,null,"00:00:00",0,{"$f":"IF(E130=\"\",\"\",AVERAGE(I$4:I130))","v":""},"00:00:00",null,"00:00:00","00:00:00","00:00:00","00:00:00","00:00:00",{"$f":"IF(H130>0,IF(SUM(M130:P130)>0,\"Yes\",\"no\"),0)","v":0},0,{"$f":"IF(ISTEXT(E131),\"\",IF('PS-Calcs'!J128=\"Under\",\"Check\", 0))","v":0},{"$f":"IF('PS-Calcs'!M128=\"Exceeds\",\"Check\",0)","v":0},{"$f":"'PS-Calcs'!O128","v":"NB"},null,{"$f":"'PS-Calcs'!P128","v":"NB"}]
[null,null,null,"Tue",null,null,null,"00:00:00",null,null,"00:00:00",null,"00:00:00","00:00:00","00:00:00","00:00:00","00:00:00",0,0,{"$f":"IF(ISTEXT(E132),\"\",IF('PS-Calcs'!J129=\"Under\",\"Check\", 0))","v":0},{"$f":"IF('PS-Calcs'!M129=\"Exceeds\",\"Check\",0)","v":0},{"$f":"'PS-Calcs'!O129","v":"NB"},null,{"$f":"'PS-Calcs'!P129","v":"NB"}]
[null,null,null,"Wed",null,null,null,"00:00:00",null,null,"00:00:00",null,"00:00:00","00:00:00","00:00:00","00:00:00","00:00:00",0,0,{"$f":"IF(ISTEXT(E133),\"\",IF('PS-Calcs'!J130=\"Under\",\"Check\", 0))","v":0},{"$f":"IF('PS-Calcs'!M130=\"Exceeds\",\"Check\",0)","v":0},{"$f":"'PS-Calcs'!O130","v":"NB"},null,{"$f":"'PS-Calcs'!P130","v":"NB"}]
[null,null,null,"Thu",null,null,null,"00:00:00",null,null,"00:00:00",null,"00:00:00","00:00:00","00:00:00","00:00:00","00:00:00",0,0,{"$f":"IF(ISTEXT(E134),\"\",IF('PS-Calcs'!J131=\"Under\",\"Check\", 0))","v":0},{"$f":"IF('PS-Calcs'!M131=\"Exceeds\",\"Check\",0)","v":0},{"$f":"'PS-Calcs'!O131","v":"NB"},null,{"$f":"'PS-Calcs'!P131","v":"NB"}]
[null,null,null,"Fri",null,null,null,"00:00:00",null,null,0,null,"00:00:00","00:00:00","00:00:00","00:00:00","00:00:00",0,0,{"$f":"IF(ISTEXT(E135),\"\",IF('PS-Calcs'!J132=\"Under\",\"Check\", 0))","v":0},{"$f":"IF('PS-Calcs'!M132=\"Exceeds\",\"Check\",0)","v":0},{"$f":"'PS-Calcs'!O132","v":"NB"},null,{"$f":"'PS-Calcs'!P132","v":"NB"}]
[null,null,null,"Sat",null,null,null,"00:00:00",null,null,"00:00:00",{"$f":"H135","v":"00:00:00"},"00:00:00","00:00:00","00:00:00","00:00:00","00:00:00",{"$f":"IF(H135>0,\"yes\",0)","v":0},0,{"$f":"IF(ISTEXT(E136),\"\",IF('PS-Calcs'!J133=\"Under\",\"Check\", 0))","v":0},{"$f":"IF('PS-Calcs'!M133=\"Exceeds\",\"Check\",0)","v":0},{"$f":"'PS-Calcs'!O133","v":"NB"},null,{"$f":"'PS-Calcs'!P133","v":"NB"}]
[null,null,null,"Sun",null,null,null,"00:00:00",null,null,"00:00:00","00:00:00","00:00:00","00:00:00","00:00:00","00:00:00","00:00:00",0,0,{"$f":"IF(C137=0,\"\",IF(ISTEXT(E137),\"\",IF('PS-Calcs'!J134=\"Under\",\"Check\",0)))","v":0},{"$f":"IF('PS-Calcs'!M134=\"Exceeds\",\"Check\",0)","v":0},{"$f":"'PS-Calcs'!O134","v":"NB"},null,{"$f":"'PS-Calcs'!P134","v":"NB"}]
[null,null,"Week20","Mon",null,null,null,"00:00:00",0,{"$f":"IF(E137=\"\",\"\",AVERAGE(I$4:I137))","v":""},"00:00:00",null,"00:00:00","00:00:00","00:00:00","00:00:00","00:00:00",{"$f":"IF(H137>0,IF(SUM(M137:P137)>0,\"Yes\",\"no\"),0)","v":0},0,{"$f":"IF(ISTEXT(E138),\"\",IF('PS-Calcs'!J135=\"Under\",\"Check\", 0))","v":0},{"$f":"IF('PS-Calcs'!M135=\"Exceeds\",\"Check\",0)","v":0},{"$f":"'PS-Calcs'!O135","v":"NB"},null,{"$f":"'PS-Calcs'!P135","v":"NB"}]
[null,null,null,"Tue",null,null,null,"00:00:00",null,null,"00:00:00",null,"00:00:00","00:00:00","00:00:00","00:00:00","00:00:00",0,0,{"$f":"IF(ISTEXT(E139),\"\",IF('PS-Calcs'!J136=\"Under\",\"Check\", 0))","v":0},{"$f":"IF('PS-Calcs'!M136=\"Exceeds\",\"Check\",0)","v":0},{"$f":"'PS-Calcs'!O136","v":"NB"},null,{"$f":"'PS-Calcs'!P136","v":"NB"}]
[null,null,null,"Wed",null,null,null,"00:00:00",null,null,"00:00:00",null,"00:00:00","00:00:00","00:00:00","00:00:00","00:00:00",0,0,{"$f":"IF(ISTEXT(E140),\"\",IF('PS-Calcs'!J137=\"Under\",\"Check\", 0))","v":0},{"$f":"IF('PS-Calcs'!M137=\"Exceeds\",\"Check\",0)","v":0},{"$f":"'PS-Calcs'!O137","v":"NB"},null,{"$f":"'PS-Calcs'!P137","v":"NB"}]
[null,null,null,"Thu",null,null,null,"00:00:00",null,null,"00:00:00",null,"00:00:00","00:00:00","00:00:00","00:00:00","00:00:00",0,0,{"$f":"IF(ISTEXT(E141),\"\",IF('PS-Calcs'!J138=\"Under\",\"Check\", 0))","v":0},{"$f":"IF('PS-Calcs'!M138=\"Exceeds\",\"Check\",0)","v":0},{"$f":"'PS-Calcs'!O138","v":"NB"},null,{"$f":"'PS-Calcs'!P138","v":"NB"}]
[null,null,null,"Fri",null,null,null,"00:00:00",null,null,0,null,"00:00:00","00:00:00","00:00:00","00:00:00","00:00:00",0,0,{"$f":"IF(ISTEXT(E142),\"\",IF('PS-Calcs'!J139=\"Under\",\"Check\", 0))","v":0},{"$f":"IF('PS-Calcs'!M139=\"Exceeds\",\"Check\",0)","v":0},{"$f":"'PS-Calcs'!O139","v":"NB"},null,{"$f":"'PS-Calcs'!P139","v":"NB"}]
[null,null,null,"Sat",null,null,null,"00:00:00",null,null,"00:00:00",{"$f":"H142","v":"00:00:00"},"00:00:00","00:00:00","00:00:00","00:00:00","00:00:00",{"$f":"IF(H142>0,\"yes\",0)","v":0},0,{"$f":"IF(ISTEXT(E143),\"\",IF('PS-Calcs'!J140=\"Under\",\"Check\", 0))","v":0},{"$f":"IF('PS-Calcs'!M140=\"Exceeds\",\"Check\",0)","v":0},{"$f":"'PS-Calcs'!O140","v":"NB"},null,{"$f":"'PS-Calcs'!P140","v":"NB"}]
[null,null,null,"Sun",null,null,null,"00:00:00",null,null,"00:00:00","00:00:00","00:00:00","00:00:00","00:00:00","00:00:00","00:00:00",0,0,{"$f":"IF(C144=0,\"\",IF(ISTEXT(E144),\"\",IF('PS-Calcs'!J141=\"Under\",\"Check\",0)))","v":0},{"$f":"IF('PS-Calcs'!M141=\"Exceeds\",\"Check\",0)","v":0},{"$f":"'PS-Calcs'!O141","v":"NB"},null,{"$f":"'PS-Calcs'!P141","v":"NB"}]
[null,null,"Week21","Mon",null,null,null,"00:00:00",0,{"$f":"IF(E144=\"\",\"\",AVERAGE(I$4:I144))","v":""},"00:00:00",null,"00:00:00","00:00:00","00:00:00","00:00:00","00:00:00",{"$f":"IF(H144>0,IF(SUM(M144:P144)>0,\"Yes\",\"no\"),0)","v":0},0,{"$f":"IF(ISTEXT(E145),\"\",IF('PS-Calcs'!J142=\"Under\",\"Check\", 0))","v":0},{"$f":"IF('PS-Calcs'!M142=\"Exceeds\",\"Check\",0)","v":0},{"$f":"'PS-Calcs'!O142","v":"NB"},null,{"$f":"'PS-Calcs'!P142","v":"NB"}]
[null,null,null,"Tue",null,null,null,"00:00:00",null,null,"00:00:00",null,"00:00:00","00:00:00","00:00:00","00:00:00","00:00:00",0,0,{"$f":"IF(ISTEXT(E146),\"\",IF('PS-Calcs'!J143=\"Under\",\"Check\", 0))","v":0},{"$f":"IF('PS-Calcs'!M143=\"Exceeds\",\"Check\",0)","v":0},{"$f":"'PS-Calcs'!O143","v":"NB"},null,{"$f":"'PS-Calcs'!P143","v":"NB"}]
[null,null,null,"Wed",null,null,null,"00:00:00",null,null,"00:00:00",null,"00:00:00","00:00:00","00:00:00","00:00:00","00:00:00",0,0,{"$f":"IF(ISTEXT(E147),\"\",IF('PS-Calcs'!J144=\"Under\",\"Check\", 0))","v":0},{"$f":"IF('PS-Calcs'!M144=\"Exceeds\",\"Check\",0)","v":0},{"$f":"'PS-Calcs'!O144","v":"NB"},null,{"$f":"'PS-Calcs'!P144","v":"NB"}]
[null,null,null,"Thu",null,null,null,"00:00:00",null,null,"00:00:00",null,"00:00:00","00:00:00","00:00:00","00:00:00","00:00:00",0,0,{"$f":"IF(ISTEXT(E148),\"\",IF('PS-Calcs'!J145=\"Under\",\"Check\", 0))","v":0},{"$f":"IF('PS-Calcs'!M145=\"Exceeds\",\"Check\",0)","v":0},{"$f":"'PS-Calcs'!O145","v":"NB"},null,{"$f":"'PS-Calcs'!P145","v":"NB"}]
[null,null,null,"Fri",null,null,null,"00:00:00",null,null,0,null,"00:00:00","00:00:00","00:00:00","00:00:00","00:00:00",0,0,{"$f":"IF(ISTEXT(E149),\"\",IF('PS-Calcs'!J146=\"Under\",\"Check\", 0))","v":0},{"$f":"IF('PS-Calcs'!M146=\"Exceeds\",\"Check\",0)","v":0},{"$f":"'PS-Calcs'!O146","v":"NB"},null,{"$f":"'PS-Calcs'!P146","v":"NB"}]
[null,null,null,"Sat",null,null,null,"00:00:00",null,null,"00:00:00",{"$f":"H149","v":"00:00:00"},"00:00:00","00:00:00","00:00:00","00:00:00","00:00:00",{"$f":"IF(H149>0,\"yes\",0)","v":0},0,{"$f":"IF(ISTEXT(E150),\"\",IF('PS-Calcs'!J147=\"Under\",\"Check\", 0))","v":0},{"$f":"IF('PS-Calcs'!M147=\"Exceeds\",\"Check\",0)","v":0},{"$f":"'PS-Calcs'!O147","v":"NB"},null,{"$f":"'PS-Calcs'!P147","v":"NB"}]
[null,null,null,"Sun",null,null,null,"00:00:00",null,null,"00:00:00","00:00:00","00:00:00","00:00:00","00:00:00","00:00:00","00:00:00",0,0,{"$f":"IF(C151=0,\"\",IF(ISTEXT(E151),\"\",IF('PS-Calcs'!J148=\"Under\",\"Check\",0)))","v":0},{"$f":"IF('PS-Calcs'!M148=\"Exceeds\",\"Check\",0)","v":0},{"$f":"'PS-Calcs'!O148","v":"NB"},null,{"$f":"'PS-Calcs'!P148","v":"NB"}]
[null,null,"Week22","Mon",null,null,null,"00:00:00",0,{"$f":"IF(E151=\"\",\"\",AVERAGE(I$4:I151))","v":""},"00:00:00",null,"00:00:00","00:00:00","00:00:00","00:00:00","00:00:00",{"$f":"IF(H151>0,IF(SUM(M151:P151)>0,\"Yes\",\"no\"),0)","v":0},0,{"$f":"IF(ISTEXT(E152),\"\",IF('PS-Calcs'!J149=\"Under\",\"Check\", 0))","v":0},{"$f":"IF('PS-Calcs'!M149=\"Exceeds\",\"Check\",0)","v":0},{"$f":"'PS-Calcs'!O149","v":"NB"},null,{"$f":"'PS-Calcs'!P149","v":"NB"}]
[null,null,null,"Tue",null,null,null,"00:00:00",null,null,"00:00:00",null,"00:00:00","00:00:00","00:00:00","00:00:00","00:00:00",0,0,{"$f":"IF(ISTEXT(E153),\"\",IF('PS-Calcs'!J150=\"Under\",\"Check\", 0))","v":0},{"$f":"IF('PS-Calcs'!M150=\"Exceeds\",\"Check\",0)","v":0},{"$f":"'PS-Calcs'!O150","v":"NB"},null,{"$f":"'PS-Calcs'!P150","v":"NB"}]
[null,null,null,"Wed",null,null,null,"00:00:00",null,null,"00:00:00",null,"00:00:00","00:00:00","00:00:00","00:00:00","00:00:00",0,0,{"$f":"IF(ISTEXT(E154),\"\",IF('PS-Calcs'!J151=\"Under\",\"Check\", 0))","v":0},{"$f":"IF('PS-Calcs'!M151=\"Exceeds\",\"Check\",0)","v":0},{"$f":"'PS-Calcs'!O151","v":"NB"},null,{"$f":"'PS-Calcs'!P151","v":"NB"}]
[null,null,null,"Thu",null,null,null,"00:00:00",null,null,"00:00:00",null,"00:00:00","00:00:00","00:00:00","00:00:00","00:00:00",0,0,{"$f":"IF(ISTEXT(E155),\"\",IF('PS-Calcs'!J152=\"Under\",\"Check\", 0))","v":0},{"$f":"IF('PS-Calcs'!M152=\"Exceeds\",\"Check\",0)","v":0},{"$f":"'PS-Calcs'!O152","v":"NB"},null,{"$f":"'PS-Calcs'!P152","v":"NB"}]
[null,null,null,"Fri",null,null,null,"00:00:00",null,null,0,null,"00:00:00","00:00:00","00:00:00","00:00:00","00:00:00",0,0,{"$f":"IF(ISTEXT(E156),\"\",IF('PS-Calcs'!J153=\"Under\",\"Check\", 0))","v":0},{"$f":"IF('PS-Calcs'!M153=\"Exceeds\",\"Check\",0)","v":0},{"$f":"'PS-Calcs'!O153","v":"NB"},null,{"$f":"'PS-Calcs'!P153","v":"NB"}]
[null,null,null,"Sat",null,null,null,"00:00:00",null,null,"00:00:00",{"$f":"H156","v":"00:00:00"},"00:00:00","00:00:00","00:00:00","00:00:00","00:00:00",{"$f":"IF(H156>0,\"yes\",0)","v":0},0,{"$f":"IF(ISTEXT(E157),\"\",IF('PS-Calcs'!J154=\"Under\",\"Check\", 0))","v":0},{"$f":"IF('PS-Calcs'!M154=\"Exceeds\",\"Check\",0)","v":0},{"$f":"'PS-Calcs'!O154","v":"NB"},null,{"$f":"'PS-Calcs'!P154","v":"NB"}]
[null,null,null,"Sun",null,null,null,"00:00:00",null,null,"00:00:00","00:00:00","00:00:00","00:00:00","00:00:00","00:00:00","00:00:00",0,0,{"$f":"IF(C158=0,\"\",IF(ISTEXT(E158),\"\",IF('PS-Calcs'!J155=\"Under\",\"Check\",0)))","v":0},{"$f":"IF('PS-Calcs'!M155=\"Exceeds\",\"Check\",0)","v":0},{"$f":"'PS-Calcs'!O155","v":"NB"},null,{"$f":"'PS-Calcs'!P155","v":"NB"}]
[null,null,"Week23","Mon",null,null,null,{"$f":"IF(ISTEXT(E158),0,IF(ISTEXT(F158),0,IF(F158<E158,F158+1,F158)-E158-G158))","v":"00:00:00"},{"$f":"SUM(H158:H164)","v":0},{"$f":"IF(E158=\"\",\"\",AVERAGE(I$4:I158))","v":""},{"$f":"IF(F158<E158,F158+1,F158)","v":"00:00:00"},null,{"$f":"IF(H158>0,IF(M$3-E158>0,M$3-E158,0),0)","v":"00:00:00"},{"$f":"IF(H158>0,IF(F158-N$3>0,F158-N$3,0),0)","v":"00:00:00"},{"$f":"IF(H158>0,IF(F158<E158,IF(F158>O$3,O$3,F158),0),0)","v":"00:00:00"},{"$f":"IF(H158>0,IF(E158>F158,IF(E158>N$3,R$3-E158,R$3-P$3),0),0)","v":"00:00:00"},{"$f":"SUM(M158:P158)","v":"00:00:00"},{"$f":"IF(H158>0,IF(SUM(M158:P158)>0,\"Yes\",\"no\"),0)","v":0},{"$f":"IF(H158>0,IF(F158-E158<0,1,IF(E158<0.25,1,IF(F158>(20/24),1,0))),0)","v":0},{"$f":"IF(ISTEXT(E159),\"\",IF('PS-Calcs'!J156=\"Under\",\"Check\", 0))","v":0},{"$f":"IF('PS-Calcs'!M156=\"Exceeds\",\"Check\",0)","v":0},{"$f":"'PS-Calcs'!O156","v":"NB"},null,{"$f":"'PS-Calcs'!P156","v":"NB"}]
[null,null,null,"Tue",null,null,null,"00:00:00",null,null,"00:00:00",null,"00:00:00","00:00:00","00:00:00","00:00:00","00:00:00",0,0,{"$f":"IF(ISTEXT(E160),\"\",IF('PS-Calcs'!J157=\"Under\",\"Check\", 0))","v":0},{"$f":"IF('PS-Calcs'!M157=\"Exceeds\",\"Check\",0)","v":0},{"$f":"'PS-Calcs'!O157","v":"NB"},null,{"$f":"'PS-Calcs'!P157","v":"NB"}]
[null,null,null,"Wed",null,null,null,"00:00:00",null,null,"00:00:00",null,"00:00:00","00:00:00","00:00:00","00:00:00","00:00:00",0,0,{"$f":"IF(ISTEXT(E161),\"\",IF('PS-Calcs'!J158=\"Under\",\"Check\", 0))","v":0},{"$f":"IF('PS-Calcs'!M158=\"Exceeds\",\"Check\",0)","v":0},{"$f":"'PS-Calcs'!O158","v":"NB"},null,{"$f":"'PS-Calcs'!P158","v":"NB"}]
[null,null,null,"Thu",null,null,null,"00:00:00",null,null,"00:00:00",null,"00:00:00","00:00:00","00:00:00","00:00:00","00:00:00",0,0,{"$f":"IF(ISTEXT(E162),\"\",IF('PS-Calcs'!J159=\"Under\",\"Check\", 0))","v":0},{"$f":"IF('PS-Calcs'!M159=\"Exceeds\",\"Check\",0)","v":0},{"$f":"'PS-Calcs'!O159","v":"NB"},null,{"$f":"'PS-Calcs'!P159","v":"NB"}]
[null,null,null,"Fri",null,null,null,"00:00:00",null,null,0,null,"00:00:00","00:00:00","00:00:00","00:00:00","00:00:00",0,0,{"$f":"IF(ISTEXT(E163),\"\",IF('PS-Calcs'!J160=\"Under\",\"Check\", 0))","v":0},{"$f":"IF('PS-Calcs'!M160=\"Exceeds\",\"Check\",0)","v":0},{"$f":"'PS-Calcs'!O160","v":"NB"},null,{"$f":"'PS-Calcs'!P160","v":"NB"}]
[null,null,null,"Sat",null,null,null,"00:00:00",null,null,"00:00:00",{"$f":"H163","v":"00:00:00"},"00:00:00","00:00:00","00:00:00","00:00:00","00:00:00",{"$f":"IF(H163>0,\"yes\",0)","v":0},0,{"$f":"IF(ISTEXT(E164),\"\",IF('PS-Calcs'!J161=\"Under\",\"Check\", 0))","v":0},{"$f":"IF('PS-Calcs'!M161=\"Exceeds\",\"Check\",0)","v":0},{"$f":"'PS-Calcs'!O161","v":"NB"},null,{"$f":"'PS-Calcs'!P161","v":"NB"}]
[null,null,null,"Sun",null,null,null,"00:00:00",null,null,"00:00:00","00:00:00","00:00:00","00:00:00","00:00:00","00:00:00","00:00:00",0,0,{"$f":"IF(C165=0,\"\",IF(ISTEXT(E165),\"\",IF('PS-Calcs'!J162=\"Under\",\"Check\",0)))","v":0},{"$f":"IF('PS-Calcs'!M162=\"Exceeds\",\"Check\",0)","v":0},{"$f":"'PS-Calcs'!O162","v":"NB"},null,{"$f":"'PS-Calcs'!P162","v":"NB"}]
[null,null,"Week24","Mon",null,null,null,"00:00:00",0,{"$f":"IF(E165=\"\",\"\",AVERAGE(I$4:I165))","v":""},"00:00:00",null,"00:00:00","00:00:00","00:00:00","00:00:00","00:00:00",{"$f":"IF(H165>0,IF(SUM(M165:P165)>0,\"Yes\",\"no\"),0)","v":0},0,{"$f":"IF(ISTEXT(E166),\"\",IF('PS-Calcs'!J163=\"Under\",\"Check\", 0))","v":0},{"$f":"IF('PS-Calcs'!M163=\"Exceeds\",\"Check\",0)","v":0},{"$f":"'PS-Calcs'!O163","v":"NB"},null,{"$f":"'PS-Calcs'!P163","v":"NB"}]
[null,null,null,"Tue",null,null,null,"00:00:00",null,null,"00:00:00",null,"00:00:00","00:00:00","00:00:00","00:00:00","00:00:00",0,0,{"$f":"IF(ISTEXT(E167),\"\",IF('PS-Calcs'!J164=\"Under\",\"Check\", 0))","v":0},{"$f":"IF('PS-Calcs'!M164=\"Exceeds\",\"Check\",0)","v":0},{"$f":"'PS-Calcs'!O164","v":"NB"},null,{"$f":"'PS-Calcs'!P164","v":"NB"}]
[null,null,null,"Wed",null,null,null,"00:00:00",null,null,"00:00:00",null,"00:00:00","00:00:00","00:00:00","00:00:00","00:00:00",0,0,{"$f":"IF(ISTEXT(E168),\"\",IF('PS-Calcs'!J165=\"Under\",\"Check\", 0))","v":0},{"$f":"IF('PS-Calcs'!M165=\"Exceeds\",\"Check\",0)","v":0},{"$f":"'PS-Calcs'!O165","v":"NB"},null,{"$f":"'PS-Calcs'!P165","v":"NB"}]
[null,null,null,"Thu",null,null,null,"00:00:00",null,null,"00:00:00",null,"00:00:00","00:00:00","00:00:00","00:00:00","00:00:00",0,0,{"$f":"IF(ISTEXT(E169),\"\",IF('PS-Calcs'!J166=\"Under\",\"Check\", 0))","v":0},{"$f":"IF('PS-Calcs'!M166=\"Exceeds\",\"Check\",0)","v":0},{"$f":"'PS-Calcs'!O166","v":"NB"},null,{"$f":"'PS-Calcs'!P166","v":"NB"}]
[null,null,null,"Fri",null,null,null,"00:00:00",null,null,0,null,"00:00:00","00:00:00","00:00:00","00:00:00","00:00:00",0,0,{"$f":"IF(ISTEXT(E170),\"\",IF('PS-Calcs'!J167=\"Under\",\"Check\", 0))","v":0},{"$f":"IF('PS-Calcs'!M167=\"Exceeds\",\"Check\",0)","v":0},{"$f":"'PS-Calcs'!O167","v":"NB"},null,{"$f":"'PS-Calcs'!P167","v":"NB"}]
[null,null,null,"Sat",null,null,null,"00:00:00",null,null,"00:00:00",{"$f":"H170","v":"00:00:00"},"00:00:00","00:00:00","00:00:00","00:00:00","00:00:00",{"$f":"IF(H170>0,\"yes\",0)","v":0},0,{"$f":"IF(ISTEXT(E171),\"\",IF('PS-Calcs'!J168=\"Under\",\"Check\", 0))","v":0},{"$f":"IF('PS-Calcs'!M168=\"Exceeds\",\"Check\",0)","v":0},{"$f":"'PS-Calcs'!O168","v":"NB"},null,{"$f":"'PS-Calcs'!P168","v":"NB"}]
[null,null,null,"Sun",null,null,null,"00:00:00",null,null,"00:00:00","00:00:00","00:00:00","00:00:00","00:00:00","00:00:00","00:00:00",0,0,{"$f":"IF(C172=0,\"\",IF(ISTEXT(E172),\"\",IF('PS-Calcs'!J169=\"Under\",\"Check\",0)))","v":0},{"$f":"IF('PS-Calcs'!M169=\"Exceeds\",\"Check\",0)","v":0},{"$f":"'PS-Calcs'!O169","v":"NB"},null,{"$f":"'PS-Calcs'!P169","v":"NB"}]
[null,null,"Week25","Mon",null,null,null,"00:00:00",0,{"$f":"IF(E172=\"\",\"\",AVERAGE(I$4:I172))","v":""},"00:00:00",null,"00:00:00","00:00:00","00:00:00","00:00:00","00:00:00",{"$f":"IF(H172>0,IF(SUM(M172:P172)>0,\"Yes\",\"no\"),0)","v":0},0,{"$f":"IF(ISTEXT(E173),\"\",IF('PS-Calcs'!J170=\"Under\",\"Check\", 0))","v":0},{"$f":"IF('PS-Calcs'!M170=\"Exceeds\",\"Check\",0)","v":0},{"$f":"'PS-Calcs'!O170","v":"NB"},null,{"$f":"'PS-Calcs'!P170","v":"NB"}]
[null,null,null,"Tue",null,null,null,"00:00:00",null,null,"00:00:00",null,"00:00:00","00:00:00","00:00:00","00:00:00","00:00:00",0,0,{"$f":"IF(ISTEXT(E174),\"\",IF('PS-Calcs'!J171=\"Under\",\"Check\", 0))","v":0},{"$f":"IF('PS-Calcs'!M171=\"Exceeds\",\"Check\",0)","v":0},{"$f":"'PS-Calcs'!O171","v":"NB"},null,{"$f":"'PS-Calcs'!P171","v":"NB"}]
[null,null,null,"Wed",null,null,null,"00:00:00",null,null,"00:00:00",null,"00:00:00","00:00:00","00:00:00","00:00:00","00:00:00",0,0,{"$f":"IF(ISTEXT(E175),\"\",IF('PS-Calcs'!J172=\"Under\",\"Check\", 0))","v":0},{"$f":"IF('PS-Calcs'!M172=\"Exceeds\",\"Check\",0)","v":0},{"$f":"'PS-Calcs'!O172","v":"NB"},null,{"$f":"'PS-Calcs'!P172","v":"NB"}]
[null,null,null,"Thu",null,null,null,"00:00:00",null,null,"00:00:00",null,"00:00:00","00:00:00","00:00:00","00:00:00","00:00:00",0,0,{"$f":"IF(ISTEXT(E176),\"\",IF('PS-Calcs'!J173=\"Under\",\"Check\", 0))","v":0},{"$f":"IF('PS-Calcs'!M173=\"Exceeds\",\"Check\",0)","v":0},{"$f":"'PS-Calcs'!O173","v":"NB"},null,{"$f":"'PS-Calcs'!P173","v":"NB"}]
[null,null,null,"Fri",null,null,null,"00:00:00",null,null,0,null,"00:00:00","00:00:00","00:00:00","00:00:00","00:00:00",0,0,{"$f":"IF(ISTEXT(E177),\"\",IF('PS-Calcs'!J174=\"Under\",\"Check\", 0))","v":0},{"$f":"IF('PS-Calcs'!M174=\"Exceeds\",\"Check\",0)","v":0},{"$f":"'PS-Calcs'!O174","v":"NB"},null,{"$f":"'PS-Calcs'!P174","v":"NB"}]
[null,null,null,"Sat",null,null,null,"00:00:00",null,null,"00:00:00",{"$f":"H177","v":"00:00:00"},"00:00:00","00:00:00","00:00:00","00:00:00","00:00:00",{"$f":"IF(H177>0,\"yes\",0)","v":0},0,{"$f":"IF(ISTEXT(E178),\"\",IF('PS-Calcs'!J175=\"Under\",\"Check\", 0))","v":0},{"$f":"IF('PS-Calcs'!M175=\"Exceeds\",\"Check\",0)","v":0},{"$f":"'PS-Calcs'!O175","v":"NB"},null,{"$f":"'PS-Calcs'!P175","v":"NB"}]
[null,null,null,"Sun",null,null,null,"00:00:00",null,null,"00:00:00","00:00:00","00:00:00","00:00:00","00:00:00","00:00:00","00:00:00",0,0,{"$f":"IF(C179=0,\"\",IF(ISTEXT(E179),\"\",IF('PS-Calcs'!J176=\"Under\",\"Check\",0)))","v":0},{"$f":"IF('PS-Calcs'!M176=\"Exceeds\",\"Check\",0)","v":0},{"$f":"'PS-Calcs'!O176","v":"NB"},null,{"$f":"'PS-Calcs'!P176","v":"NB"}]
[null,null,"Week26","Mon",null,null,null,{"$f":"IF(ISTEXT(E179),0,IF(ISTEXT(F179),0,IF(F179<E179,F179+1,F179)-E179-G179))","v":"00:00:00"},{"$f":"SUM(H179:H185)","v":0},{"$f":"IF(E179=\"\",\"\",AVERAGE(I$4:I179))","v":""},{"$f":"IF(F179<E179,F179+1,F179)","v":"00:00:00"},null,{"$f":"IF(H179>0,IF(M$3-E179>0,M$3-E179,0),0)","v":"00:00:00"},{"$f":"IF(H179>0,IF(F179-N$3>0,F179-N$3,0),0)","v":"00:00:00"},{"$f":"IF(H179>0,IF(F179<E179,IF(F179>O$3,O$3,F179),0),0)","v":"00:00:00"},{"$f":"IF(H179>0,IF(E179>F179,IF(E179>N$3,R$3-E179,R$3-P$3),0),0)","v":"00:00:00"},{"$f":"SUM(M179:P179)","v":"00:00:00"},{"$f":"IF(H179>0,IF(SUM(M179:P179)>0,\"Yes\",\"no\"),0)","v":0},{"$f":"IF(H179>0,IF(F179-E179<0,1,IF(E179<0.25,1,IF(F179>(20/24),1,0))),0)","v":0},{"$f":"IF(ISTEXT(E180),\"\",IF('PS-Calcs'!J177=\"Under\",\"Check\", 0))","v":0},{"$f":"IF('PS-Calcs'!M177=\"Exceeds\",\"Check\",0)","v":0},{"$f":"'PS-Calcs'!O177","v":"NB"},null,{"$f":"'PS-Calcs'!P177","v":"NB"}]
[null,null,null,"Tue",null,null,null,"00:00:00",null,null,"00:00:00",null,"00:00:00","00:00:00","00:00:00","00:00:00","00:00:00",0,0,{"$f":"IF(ISTEXT(E181),\"\",IF('PS-Calcs'!J178=\"Under\",\"Check\", 0))","v":0},{"$f":"IF('PS-Calcs'!M178=\"Exceeds\",\"Check\",0)","v":0},{"$f":"'PS-Calcs'!O178","v":"NB"},null,{"$f":"'PS-Calcs'!P178","v":"NB"}]
[null,null,null,"Wed",null,null,null,"00:00:00",null,null,"00:00:00",null,"00:00:00","00:00:00","00:00:00","00:00:00","00:00:00",0,0,{"$f":"IF(ISTEXT(E182),\"\",IF('PS-Calcs'!J179=\"Under\",\"Check\", 0))","v":0},{"$f":"IF('PS-Calcs'!M179=\"Exceeds\",\"Check\",0)","v":0},{"$f":"'PS-Calcs'!O179","v":"NB"},null,{"$f":"'PS-Calcs'!P179","v":"NB"}]
[null,null,null,"Thu",null,null,null,"00:00:00",null,null,"00:00:00",null,"00:00:00","00:00:00","00:00:00","00:00:00","00:00:00",0,0,{"$f":"IF(ISTEXT(E183),\"\",IF('PS-Calcs'!J180=\"Under\",\"Check\", 0))","v":0},{"$f":"IF('PS-Calcs'!M180=\"Exceeds\",\"Check\",0)","v":0},{"$f":"'PS-Calcs'!O180","v":"NB"},null,{"$f":"'PS-Calcs'!P180","v":"NB"}]
[null,null,null,"Fri",null,null,null,"00:00:00",null,null,0,null,"00:00:00","00:00:00","00:00:00","00:00:00","00:00:00",0,0,{"$f":"IF(ISTEXT(E184),\"\",IF('PS-Calcs'!J181=\"Under\",\"Check\", 0))","v":0},{"$f":"IF('PS-Calcs'!M181=\"Exceeds\",\"Check\",0)","v":0},{"$f":"'PS-Calcs'!O181","v":"NB"},null,{"$f":"'PS-Calcs'!P181","v":"NB"}]
[null,null,null,"Sat",null,null,null,"00:00:00",null,null,"00:00:00",{"$f":"H184","v":"00:00:00"},"00:00:00","00:00:00","00:00:00","00:00:00","00:00:00",{"$f":"IF(H184>0,\"yes\",0)","v":0},0,{"$f":"IF(ISTEXT(E185),\"\",IF('PS-Calcs'!J182=\"Under\",\"Check\", 0))","v":0},{"$f":"IF('PS-Calcs'!M182=\"Exceeds\",\"Check\",0)","v":0},{"$f":"'PS-Calcs'!O182","v":"NB"},null,{"$f":"'PS-Calcs'!P182","v":"NB"}]
[null,null,null,"Sun",null,null,null,"00:00:00",null,null,"00:00:00","00:00:00","00:00:00","00:00:00","00:00:00","00:00:00","00:00:00",0,0,{"$f":"IF(C186=0,\"\",IF(ISTEXT(E186),\"\",IF('PS-Calcs'!J183=\"Under\",\"Check\",0)))","v":0},{"$f":"IF('PS-Calcs'!M183=\"Exceeds\",\"Check\",0)","v":0},{"$f":"'PS-Calcs'!O183","v":"NB"},null,{"$f":"'PS-Calcs'!P183","v":"NB"}]
[null,null,"Week27","Mon",null,null,null,"00:00:00",0,{"$f":"IF(E186=\"\",\"\",AVERAGE(I$4:I186))","v":""},"00:00:00",null,"00:00:00","00:00:00","00:00:00","00:00:00","00:00:00",{"$f":"IF(H186>0,IF(SUM(M186:P186)>0,\"Yes\",\"no\"),0)","v":0},0,{"$f":"IF(ISTEXT(E187),\"\",IF('PS-Calcs'!J184=\"Under\",\"Check\", 0))","v":0},{"$f":"IF('PS-Calcs'!M184=\"Exceeds\",\"Check\",0)","v":0},{"$f":"'PS-Calcs'!O184","v":"NB"},null,{"$f":"'PS-Calcs'!P184","v":"NB"}]
[null,null,null,"Tue",null,null,null,"00:00:00",null,null,"00:00:00",null,"00:00:00","00:00:00","00:00:00","00:00:00","00:00:00",0,0,{"$f":"IF(ISTEXT(E188),\"\",IF('PS-Calcs'!J185=\"Under\",\"Check\", 0))","v":0},{"$f":"IF('PS-Calcs'!M185=\"Exceeds\",\"Check\",0)","v":0},{"$f":"'PS-Calcs'!O185","v":"NB"},null,{"$f":"'PS-Calcs'!P185","v":"NB"}]
[null,null,null,"Wed",null,null,null,"00:00:00",null,null,"00:00:00",null,"00:00:00","00:00:00","00:00:00","00:00:00","00:00:00",0,0,{"$f":"IF(ISTEXT(E189),\"\",IF('PS-Calcs'!J186=\"Under\",\"Check\", 0))","v":0},{"$f":"IF('PS-Calcs'!M186=\"Exceeds\",\"Check\",0)","v":0},{"$f":"'PS-Calcs'!O186","v":"NB"},null,{"$f":"'PS-Calcs'!P186","v":"NB"}]
[null,null,null,"Thu",null,null,null,"00:00:00",null,null,"00:00:00",null,"00:00:00","00:00:00","00:00:00","00:00:00","00:00:00",0,0,{"$f":"IF(ISTEXT(E190),\"\",IF('PS-Calcs'!J187=\"Under\",\"Check\", 0))","v":0},{"$f":"IF('PS-Calcs'!M187=\"Exceeds\",\"Check\",0)","v":0},{"$f":"'PS-Calcs'!O187","v":"NB"},null,{"$f":"'PS-Calcs'!P187","v":"NB"}]
[null,null,null,"Fri",null,null,null,"00:00:00",null,null,0,null,"00:00:00","00:00:00","00:00:00","00:00:00","00:00:00",0,0,{"$f":"IF(ISTEXT(E191),\"\",IF('PS-Calcs'!J188=\"Under\",\"Check\", 0))","v":0},{"$f":"IF('PS-Calcs'!M188=\"Exceeds\",\"Check\",0)","v":0},{"$f":"'PS-Calcs'!O188","v":"NB"},null,{"$f":"'PS-Calcs'!P188","v":"NB"}]
[null,null,null,"Sat",null,null,null,"00:00:00",null,null,"00:00:00",{"$f":"H191","v":"00:00:00"},"00:00:00","00:00:00","00:00:00","00:00:00","00:00:00",{"$f":"IF(H191>0,\"yes\",0)","v":0},0,{"$f":"IF(ISTEXT(E192),\"\",IF('PS-Calcs'!J189=\"Under\",\"Check\", 0))","v":0},{"$f":"IF('PS-Calcs'!M189=\"Exceeds\",\"Check\",0)","v":0},{"$f":"'PS-Calcs'!O189","v":"NB"},null,{"$f":"'PS-Calcs'!P189","v":"NB"}]
[null,null,null,"Sun",null,null,null,"00:00:00",null,null,"00:00:00","00:00:00","00:00:00","00:00:00","00:00:00","00:00:00","00:00:00",0,0,{"$f":"IF(C193=0,\"\",IF(ISTEXT(E193),\"\",IF('PS-Calcs'!J190=\"Under\",\"Check\",0)))","v":0},{"$f":"IF('PS-Calcs'!M190=\"Exceeds\",\"Check\",0)","v":0},{"$f":"'PS-Calcs'!O190","v":"NB"},null,{"$f":"'PS-Calcs'!P190","v":"NB"}]
[null,null,"Week28","Mon",null,null,null,"00:00:00",0,{"$f":"IF(E193=\"\",\"\",AVERAGE(I$4:I193))","v":""},"00:00:00",null,"00:00:00","00:00:00","00:00:00","00:00:00","00:00:00",{"$f":"IF(H193>0,IF(SUM(M193:P193)>0,\"Yes\",\"no\"),0)","v":0},0,{"$f":"IF(ISTEXT(E194),\"\",IF('PS-Calcs'!J191=\"Under\",\"Check\", 0))","v":0},{"$f":"IF('PS-Calcs'!M191=\"Exceeds\",\"Check\",0)","v":0},{"$f":"'PS-Calcs'!O191","v":"NB"},null,{"$f":"'PS-Calcs'!P191","v":"NB"}]
[null,null,null,"Tue",null,null,null,"00:00:00",null,null,"00:00:00",null,"00:00:00","00:00:00","00:00:00","00:00:00","00:00:00",0,0,{"$f":"IF(ISTEXT(E195),\"\",IF('PS-Calcs'!J192=\"Under\",\"Check\", 0))","v":0},{"$f":"IF('PS-Calcs'!M192=\"Exceeds\",\"Check\",0)","v":0},{"$f":"'PS-Calcs'!O192","v":"NB"},null,{"$f":"'PS-Calcs'!P192","v":"NB"}]
[null,null,null,"Wed",null,null,null,"00:00:00",null,null,"00:00:00",null,"00:00:00","00:00:00","00:00:00","00:00:00","00:00:00",0,0,{"$f":"IF(ISTEXT(E196),\"\",IF('PS-Calcs'!J193=\"Under\",\"Check\", 0))","v":0},{"$f":"IF('PS-Calcs'!M193=\"Exceeds\",\"Check\",0)","v":0},{"$f":"'PS-Calcs'!O193","v":"NB"},null,{"$f":"'PS-Calcs'!P193","v":"NB"}]
[null,null,null,"Thu",null,null,null,"00:00:00",null,null,"00:00:00",null,"00:00:00","00:00:00","00:00:00","00:00:00","00:00:00",0,0,{"$f":"IF(ISTEXT(E197),\"\",IF('PS-Calcs'!J194=\"Under\",\"Check\", 0))","v":0},{"$f":"IF('PS-Calcs'!M194=\"Exceeds\",\"Check\",0)","v":0},{"$f":"'PS-Calcs'!O194","v":"NB"},null,{"$f":"'PS-Calcs'!P194","v":"NB"}]
[null,null,null,"Fri",null,null,null,"00:00:00",null,null,0,null,"00:00:00","00:00:00","00:00:00","00:00:00","00:00:00",0,0,{"$f":"IF(ISTEXT(E198),\"\",IF('PS-Calcs'!J195=\"Under\",\"Check\", 0))","v":0},{"$f":"IF('PS-Calcs'!M195=\"Exceeds\",\"Check\",0)","v":0},{"$f":"'PS-Calcs'!O195","v":"NB"},null,{"$f":"'PS-Calcs'!P195","v":"NB"}]
[null,null,null,"Sat",null,null,null,"00:00:00",null,null,"00:00:00",{"$f":"H198","v":"00:00:00"},"00:00:00","00:00:00","00:00:00","00:00:00","00:00:00",{"$f":"IF(H198>0,\"yes\",0)","v":0},0,{"$f":"IF(ISTEXT(E199),\"\",IF('PS-Calcs'!J196=\"Under\",\"Check\", 0))","v":0},{"$f":"IF('PS-Calcs'!M196=\"Exceeds\",\"Check\",0)","v":0},{"$f":"'PS-Calcs'!O196","v":"NB"},null,{"$f":"'PS-Calcs'!P196","v":"NB"}]
[null,null,null,"Sun",null,null,null,"00:00:00",null,null,"00:00:00","00:00:00","00:00:00","00:00:00","00:00:00","00:00:00","00:00:00",0,0,{"$f":"IF(C200=0,\"\",IF(ISTEXT(E200),\"\",IF('PS-Calcs'!J197=\"Under\",\"Check\",0)))","v":0},{"$f":"IF('PS-Calcs'!M197=\"Exceeds\",\"Check\",0)","v":0},{"$f":"'PS-Calcs'!O197","v":"NB"},null,{"$f":"'PS-Calcs'!P197","v":"NB"}]
[null,null,"Week29","Mon",null,null,null,"00:00:00",0,{"$f":"IF(E200=\"\",\"\",AVERAGE(I$4:I200))","v":""},"00:00:00",null,"00:00:00","00:00:00","00:00:00","00:00:00","00:00:00",{"$f":"IF(H200>0,IF(SUM(M200:P200)>0,\"Yes\",\"no\"),0)","v":0},0,{"$f":"IF(ISTEXT(E201),\"\",IF('PS-Calcs'!J198=\"Under\",\"Check\", 0))","v":0},{"$f":"IF('PS-Calcs'!M198=\"Exceeds\",\"Check\",0)","v":0},{"$f":"'PS-Calcs'!O198","v":"NB"},null,{"$f":"'PS-Calcs'!P198","v":"NB"}]
[null,null,null,"Tue",null,null,null,"00:00:00",null,null,"00:00:00",null,"00:00:00","00:00:00","00:00:00","00:00:00","00:00:00",0,0,{"$f":"IF(ISTEXT(E202),\"\",IF('PS-Calcs'!J199=\"Under\",\"Check\", 0))","v":0},{"$f":"IF('PS-Calcs'!M199=\"Exceeds\",\"Check\",0)","v":0},{"$f":"'PS-Calcs'!O199","v":"NB"},null,{"$f":"'PS-Calcs'!P199","v":"NB"}]
[null,null,null,"Wed",null,null,null,"00:00:00",null,null,"00:00:00",null,"00:00:00","00:00:00","00:00:00","00:00:00","00:00:00",0,0,{"$f":"IF(ISTEXT(E203),\"\",IF('PS-Calcs'!J200=\"Under\",\"Check\", 0))","v":0},{"$f":"IF('PS-Calcs'!M200=\"Exceeds\",\"Check\",0)","v":0},{"$f":"'PS-Calcs'!O200","v":"NB"},null,{"$f":"'PS-Calcs'!P200","v":"NB"}]
[null,null,null,"Thu",null,null,null,"00:00:00",null,null,"00:00:00",null,"00:00:00","00:00:00","00:00:00","00:00:00","00:00:00",0,0,{"$f":"IF(ISTEXT(E204),\"\",IF('PS-Calcs'!J201=\"Under\",\"Check\", 0))","v":0},{"$f":"IF('PS-Calcs'!M201=\"Exceeds\",\"Check\",0)","v":0},{"$f":"'PS-Calcs'!O201","v":"NB"},null,{"$f":"'PS-Calcs'!P201","v":"NB"}]
[null,null,null,"Fri",null,null,null,"00:00:00",null,null,0,null,"00:00:00","00:00:00","00:00:00","00:00:00","00:00:00",0,0,{"$f":"IF(ISTEXT(E205),\"\",IF('PS-Calcs'!J202=\"Under\",\"Check\", 0))","v":0},{"$f":"IF('PS-Calcs'!M202=\"Exceeds\",\"Check\",0)","v":0},{"$f":"'PS-Calcs'!O202","v":"NB"},null,{"$f":"'PS-Calcs'!P202","v":"NB"}]
[null,null,null,"Sat",null,null,null,"00:00:00",null,null,"00:00:00",{"$f":"H205","v":"00:00:00"},"00:00:00","00:00:00","00:00:00","00:00:00","00:00:00",{"$f":"IF(H205>0,\"yes\",0)","v":0},0,{"$f":"IF(ISTEXT(E206),\"\",IF('PS-Calcs'!J203=\"Under\",\"Check\", 0))","v":0},{"$f":"IF('PS-Calcs'!M203=\"Exceeds\",\"Check\",0)","v":0},{"$f":"'PS-Calcs'!O203","v":"NB"},null,{"$f":"'PS-Calcs'!P203","v":"NB"}]
[null,null,null,"Sun",null,null,null,"00:00:00",null,null,"00:00:00","00:00:00","00:00:00","00:00:00","00:00:00","00:00:00","00:00:00",0,0,{"$f":"IF(C207=0,\"\",IF(ISTEXT(E207),\"\",IF('PS-Calcs'!J204=\"Under\",\"Check\",0)))","v":0},{"$f":"IF('PS-Calcs'!M204=\"Exceeds\",\"Check\",0)","v":0},{"$f":"'PS-Calcs'!O204","v":"NB"},null,{"$f":"'PS-Calcs'!P204","v":"NB"}]
[null,null,"Week30","Mon",null,null,null,"00:00:00",0,{"$f":"IF(E207=\"\",\"\",AVERAGE(I$4:I207))","v":""},"00:00:00",null,"00:00:00","00:00:00","00:00:00","00:00:00","00:00:00",{"$f":"IF(H207>0,IF(SUM(M207:P207)>0,\"Yes\",\"no\"),0)","v":0},0,{"$f":"IF(ISTEXT(E208),\"\",IF('PS-Calcs'!J205=\"Under\",\"Check\", 0))","v":0},{"$f":"IF('PS-Calcs'!M205=\"Exceeds\",\"Check\",0)","v":0},{"$f":"'PS-Calcs'!O205","v":"NB"},null,{"$f":"'PS-Calcs'!P205","v":"NB"}]
[null,null,null,"Tue",null,null,null,"00:00:00",null,null,"00:00:00",null,"00:00:00","00:00:00","00:00:00","00:00:00","00:00:00",0,0,{"$f":"IF(ISTEXT(E209),\"\",IF('PS-Calcs'!J206=\"Under\",\"Check\", 0))","v":0},{"$f":"IF('PS-Calcs'!M206=\"Exceeds\",\"Check\",0)","v":0},{"$f":"'PS-Calcs'!O206","v":"NB"},null,{"$f":"'PS-Calcs'!P206","v":"NB"}]
[null,null,null,"Wed",null,null,null,"00:00:00",null,null,"00:00:00",null,"00:00:00","00:00:00","00:00:00","00:00:00","00:00:00",0,0,{"$f":"IF(ISTEXT(E210),\"\",IF('PS-Calcs'!J207=\"Under\",\"Check\", 0))","v":0},{"$f":"IF('PS-Calcs'!M207=\"Exceeds\",\"Check\",0)","v":0},{"$f":"'PS-Calcs'!O207","v":"NB"},null,{"$f":"'PS-Calcs'!P207","v":"NB"}]
[null,null,null,"Thu",null,null,null,"00:00:00",null,null,"00:00:00",null,"00:00:00","00:00:00","00:00:00","00:00:00","00:00:00",0,0,{"$f":"IF(ISTEXT(E211),\"\",IF('PS-Calcs'!J208=\"Under\",\"Check\", 0))","v":0},{"$f":"IF('PS-Calcs'!M208=\"Exceeds\",\"Check\",0)","v":0},{"$f":"'PS-Calcs'!O208","v":"NB"},null,{"$f":"'PS-Calcs'!P208","v":"NB"}]
[null,null,null,"Fri",null,null,null,"00:00:00",null,null,0,null,"00:00:00","00:00:00","00:00:00","00:00:00","00:00:00",0,0,{"$f":"IF(ISTEXT(E212),\"\",IF('PS-Calcs'!J209=\"Under\",\"Check\", 0))","v":0},{"$f":"IF('PS-Calcs'!M209=\"Exceeds\",\"Check\",0)","v":0},{"$f":"'PS-Calcs'!O209","v":"NB"},null,{"$f":"'PS-Calcs'!P209","v":"NB"}]
[null,null,null,"Sat",null,null,null,"00:00:00",null,null,"00:00:00",{"$f":"H212","v":"00:00:00"},"00:00:00","00:00:00","00:00:00","00:00:00","00:00:00",{"$f":"IF(H212>0,\"yes\",0)","v":0},0,{"$f":"IF(ISTEXT(E213),\"\",IF('PS-Calcs'!J210=\"Under\",\"Check\", 0))","v":0},{"$f":"IF('PS-Calcs'!M210=\"Exceeds\",\"Check\",0)","v":0},{"$f":"'PS-Calcs'!O210","v":"NB"},null,{"$f":"'PS-Calcs'!P210","v":"NB"}]
[null,null,null,"Sun",null,null,null,"00:00:00",null,null,"00:00:00","00:00:00","00:00:00","00:00:00","00:00:00","00:00:00","00:00:00",0,0,{"$f":"IF(C214=0,\"\",IF(ISTEXT(E214),\"\",IF('PS-Calcs'!J211=\"Under\",\"Check\",0)))","v":0},{"$f":"IF('PS-Calcs'!M211=\"Exceeds\",\"Check\",0)","v":0},{"$f":"'PS-Calcs'!O211","v":"NB"},null,{"$f":"'PS-Calcs'!P211","v":"NB"}]
[null,null,"Week31","Mon",null,null,null,"00:00:00",0,{"$f":"IF(E214=\"\",\"\",AVERAGE(I$4:I214))","v":""},"00:00:00",null,"00:00:00","00:00:00","00:00:00","00:00:00","00:00:00",{"$f":"IF(H214>0,IF(SUM(M214:P214)>0,\"Yes\",\"no\"),0)","v":0},0,{"$f":"IF(ISTEXT(E215),\"\",IF('PS-Calcs'!J212=\"Under\",\"Check\", 0))","v":0},{"$f":"IF('PS-Calcs'!M212=\"Exceeds\",\"Check\",0)","v":0},{"$f":"'PS-Calcs'!O212","v":"NB"},null,{"$f":"'PS-Calcs'!P212","v":"NB"}]
[null,null,null,"Tue",null,null,null,"00:00:00",null,null,"00:00:00",null,"00:00:00","00:00:00","00:00:00","00:00:00","00:00:00",0,0,{"$f":"IF(ISTEXT(E216),\"\",IF('PS-Calcs'!J213=\"Under\",\"Check\", 0))","v":0},{"$f":"IF('PS-Calcs'!M213=\"Exceeds\",\"Check\",0)","v":0},{"$f":"'PS-Calcs'!O213","v":"NB"},null,{"$f":"'PS-Calcs'!P213","v":"NB"}]
[null,null,null,"Wed",null,null,null,"00:00:00",null,null,"00:00:00",null,"00:00:00","00:00:00","00:00:00","00:00:00","00:00:00",0,0,{"$f":"IF(ISTEXT(E217),\"\",IF('PS-Calcs'!J214=\"Under\",\"Check\", 0))","v":0},{"$f":"IF('PS-Calcs'!M214=\"Exceeds\",\"Check\",0)","v":0},{"$f":"'PS-Calcs'!O214","v":"NB"},null,{"$f":"'PS-Calcs'!P214","v":"NB"}]
[null,null,null,"Thu",null,null,null,"00:00:00",null,null,"00:00:00",null,"00:00:00","00:00:00","00:00:00","00:00:00","00:00:00",0,0,{"$f":"IF(ISTEXT(E218),\"\",IF('PS-Calcs'!J215=\"Under\",\"Check\", 0))","v":0},{"$f":"IF('PS-Calcs'!M215=\"Exceeds\",\"Check\",0)","v":0},{"$f":"'PS-Calcs'!O215","v":"NB"},null,{"$f":"'PS-Calcs'!P215","v":"NB"}]
[null,null,null,"Fri",null,null,null,"00:00:00",null,null,0,null,"00:00:00","00:00:00","00:00:00","00:00:00","00:00:00",0,0,{"$f":"IF(ISTEXT(E219),\"\",IF('PS-Calcs'!J216=\"Under\",\"Check\", 0))","v":0},{"$f":"IF('PS-Calcs'!M216=\"Exceeds\",\"Check\",0)","v":0},{"$f":"'PS-Calcs'!O216","v":"NB"},null,{"$f":"'PS-Calcs'!P216","v":"NB"}]
[null,null,null,"Sat",null,null,null,"00:00:00",null,null,"00:00:00",{"$f":"H219","v":"00:00:00"},"00:00:00","00:00:00","00:00:00","00:00:00","00:00:00",{"$f":"IF(H219>0,\"yes\",0)","v":0},0,{"$f":"IF(ISTEXT(E220),\"\",IF('PS-Calcs'!J217=\"Under\",\"Check\", 0))","v":0},{"$f":"IF('PS-Calcs'!M217=\"Exceeds\",\"Check\",0)","v":0},{"$f":"'PS-Calcs'!O217","v":"NB"},null,{"$f":"'PS-Calcs'!P217","v":"NB"}]
[null,null,null,"Sun",null,null,null,"00:00:00",null,null,"00:00:00","00:00:00","00:00:00","00:00:00","00:00:00","00:00:00","00:00:00",0,0,{"$f":"IF(C221=0,\"\",IF(ISTEXT(E221),\"\",IF('PS-Calcs'!J218=\"Under\",\"Check\",0)))","v":0},{"$f":"IF('PS-Calcs'!M218=\"Exceeds\",\"Check\",0)","v":0},{"$f":"'PS-Calcs'!O218","v":"NB"},null,{"$f":"'PS-Calcs'!P218","v":"NB"}]
[null,null,"Week32","Mon",null,null,null,"00:00:00",0,{"$f":"IF(E221=\"\",\"\",AVERAGE(I$4:I221))","v":""},"00:00:00",null,"00:00:00","00:00:00","00:00:00","00:00:00","00:00:00",{"$f":"IF(H221>0,IF(SUM(M221:P221)>0,\"Yes\",\"no\"),0)","v":0},0,{"$f":"IF(ISTEXT(E222),\"\",IF('PS-Calcs'!J219=\"Under\",\"Check\", 0))","v":0},{"$f":"IF('PS-Calcs'!M219=\"Exceeds\",\"Check\",0)","v":0},{"$f":"'PS-Calcs'!O219","v":"NB"},null,{"$f":"'PS-Calcs'!P219","v":"NB"}]
[null,null,null,"Tue",null,null,null,"00:00:00",null,null,"00:00:00",null,"00:00:00","00:00:00","00:00:00","00:00:00","00:00:00",0,0,{"$f":"IF(ISTEXT(E223),\"\",IF('PS-Calcs'!J220=\"Under\",\"Check\", 0))","v":0},{"$f":"IF('PS-Calcs'!M220=\"Exceeds\",\"Check\",0)","v":0},{"$f":"'PS-Calcs'!O220","v":"NB"},null,{"$f":"'PS-Calcs'!P220","v":"NB"}]
[null,null,null,"Wed",null,null,null,"00:00:00",null,null,"00:00:00",null,"00:00:00","00:00:00","00:00:00","00:00:00","00:00:00",0,0,{"$f":"IF(ISTEXT(E224),\"\",IF('PS-Calcs'!J221=\"Under\",\"Check\", 0))","v":0},{"$f":"IF('PS-Calcs'!M221=\"Exceeds\",\"Check\",0)","v":0},{"$f":"'PS-Calcs'!O221","v":"NB"},null,{"$f":"'PS-Calcs'!P221","v":"NB"}]
[null,null,null,"Thu",null,null,null,"00:00:00",null,null,"00:00:00",null,"00:00:00","00:00:00","00:00:00","00:00:00","00:00:00",0,0,{"$f":"IF(ISTEXT(E225),\"\",IF('PS-Calcs'!J222=\"Under\",\"Check\", 0))","v":0},{"$f":"IF('PS-Calcs'!M222=\"Exceeds\",\"Check\",0)","v":0},{"$f":"'PS-Calcs'!O222","v":"NB"},null,{"$f":"'PS-Calcs'!P222","v":"NB"}]
[null,null,null,"Fri",null,null,null,"00:00:00",null,null,0,null,"00:00:00","00:00:00","00:00:00","00:00:00","00:00:00",0,0,{"$f":"IF(ISTEXT(E226),\"\",IF('PS-Calcs'!J223=\"Under\",\"Check\", 0))","v":0},{"$f":"IF('PS-Calcs'!M223=\"Exceeds\",\"Check\",0)","v":0},{"$f":"'PS-Calcs'!O223","v":"NB"},null,{"$f":"'PS-Calcs'!P223","v":"NB"}]
[null,null,null,"Sat",null,null,null,"00:00:00",null,null,"00:00:00",{"$f":"H226","v":"00:00:00"},"00:00:00","00:00:00","00:00:00","00:00:00","00:00:00",{"$f":"IF(H226>0,\"yes\",0)","v":0},0,{"$f":"IF(ISTEXT(E227),\"\",IF('PS-Calcs'!J224=\"Under\",\"Check\", 0))","v":0},{"$f":"IF('PS-Calcs'!M224=\"Exceeds\",\"Check\",0)","v":0},{"$f":"'PS-Calcs'!O224","v":"NB"},null,{"$f":"'PS-Calcs'!P224","v":"NB"}]
[null,null,null,"Sun",null,null,null,"00:00:00",null,null,"00:00:00","00:00:00","00:00:00","00:00:00","00:00:00","00:00:00","00:00:00",0,0,{"$f":"IF(C228=0,\"\",IF(ISTEXT(E228),\"\",IF('PS-Calcs'!J225=\"Under\",\"Check\",0)))","v":0},{"$f":"IF('PS-Calcs'!M225=\"Exceeds\",\"Check\",0)","v":0},{"$f":"'PS-Calcs'!O225","v":"NB"},null,{"$f":"'PS-Calcs'!P225","v":"NB"}]
[null,null,"Week33","Mon",null,null,null,"00:00:00",0,{"$f":"IF(E228=\"\",\"\",AVERAGE(I$4:I228))","v":""},"00:00:00",null,"00:00:00","00:00:00","00:00:00","00:00:00","00:00:00",{"$f":"IF(H228>0,IF(SUM(M228:P228)>0,\"Yes\",\"no\"),0)","v":0},0,{"$f":"IF(ISTEXT(E229),\"\",IF('PS-Calcs'!J226=\"Under\",\"Check\", 0))","v":0},{"$f":"IF('PS-Calcs'!M226=\"Exceeds\",\"Check\",0)","v":0},{"$f":"'PS-Calcs'!O226","v":"NB"},null,{"$f":"'PS-Calcs'!P226","v":"NB"}]
[null,null,null,"Tue",null,null,null,"00:00:00",null,null,"00:00:00",null,"00:00:00","00:00:00","00:00:00","00:00:00","00:00:00",0,0,{"$f":"IF(ISTEXT(E230),\"\",IF('PS-Calcs'!J227=\"Under\",\"Check\", 0))","v":0},{"$f":"IF('PS-Calcs'!M227=\"Exceeds\",\"Check\",0)","v":0},{"$f":"'PS-Calcs'!O227","v":"NB"},null,{"$f":"'PS-Calcs'!P227","v":"NB"}]
[null,null,null,"Wed",null,null,null,"00:00:00",null,null,"00:00:00",null,"00:00:00","00:00:00","00:00:00","00:00:00","00:00:00",0,0,{"$f":"IF(ISTEXT(E231),\"\",IF('PS-Calcs'!J228=\"Under\",\"Check\", 0))","v":0},{"$f":"IF('PS-Calcs'!M228=\"Exceeds\",\"Check\",0)","v":0},{"$f":"'PS-Calcs'!O228","v":"NB"},null,{"$f":"'PS-Calcs'!P228","v":"NB"}]
[null,null,null,"Thu",null,null,null,"00:00:00",null,null,"00:00:00",null,"00:00:00","00:00:00","00:00:00","00:00:00","00:00:00",0,0,{"$f":"IF(ISTEXT(E232),\"\",IF('PS-Calcs'!J229=\"Under\",\"Check\", 0))","v":0},{"$f":"IF('PS-Calcs'!M229=\"Exceeds\",\"Check\",0)","v":0},{"$f":"'PS-Calcs'!O229","v":"NB"},null,{"$f":"'PS-Calcs'!P229","v":"NB"}]
[null,null,null,"Fri",null,null,null,"00:00:00",null,null,0,null,"00:00:00","00:00:00","00:00:00","00:00:00","00:00:00",0,0,{"$f":"IF(ISTEXT(E233),\"\",IF('PS-Calcs'!J230=\"Under\",\"Check\", 0))","v":0},{"$f":"IF('PS-Calcs'!M230=\"Exceeds\",\"Check\",0)","v":0},{"$f":"'PS-Calcs'!O230","v":"NB"},null,{"$f":"'PS-Calcs'!P230","v":"NB"}]
[null,null,null,"Sat",null,null,null,"00:00:00",null,null,"00:00:00",{"$f":"H233","v":"00:00:00"},"00:00:00","00:00:00","00:00:00","00:00:00","00:00:00",{"$f":"IF(H233>0,\"yes\",0)","v":0},0,{"$f":"IF(ISTEXT(E234),\"\",IF('PS-Calcs'!J231=\"Under\",\"Check\", 0))","v":0},{"$f":"IF('PS-Calcs'!M231=\"Exceeds\",\"Check\",0)","v":0},{"$f":"'PS-Calcs'!O231","v":"NB"},null,{"$f":"'PS-Calcs'!P231","v":"NB"}]
[null,null,null,"Sun",null,null,null,"00:00:00",null,null,"00:00:00","00:00:00","00:00:00","00:00:00","00:00:00","00:00:00","00:00:00",0,0,{"$f":"IF(C235=0,\"\",IF(ISTEXT(E235),\"\",IF('PS-Calcs'!J232=\"Under\",\"Check\",0)))","v":0},{"$f":"IF('PS-Calcs'!M232=\"Exceeds\",\"Check\",0)","v":0},{"$f":"'PS-Calcs'!O232","v":"NB"},null,{"$f":"'PS-Calcs'!P232","v":"NB"}]
[null,null,"Week34","Mon",null,null,null,"00:00:00",0,{"$f":"IF(E235=\"\",\"\",AVERAGE(I$4:I235))","v":""},"00:00:00",null,"00:00:00","00:00:00","00:00:00","00:00:00","00:00:00",{"$f":"IF(H235>0,IF(SUM(M235:P235)>0,\"Yes\",\"no\"),0)","v":0},0,{"$f":"IF(ISTEXT(E236),\"\",IF('PS-Calcs'!J233=\"Under\",\"Check\", 0))","v":0},{"$f":"IF('PS-Calcs'!M233=\"Exceeds\",\"Check\",0)","v":0},{"$f":"'PS-Calcs'!O233","v":"NB"},null,{"$f":"'PS-Calcs'!P233","v":"NB"}]
[null,null,null,"Tue",null,null,null,"00:00:00",null,null,"00:00:00",null,"00:00:00","00:00:00","00:00:00","00:00:00","00:00:00",0,0,{"$f":"IF(ISTEXT(E237),\"\",IF('PS-Calcs'!J234=\"Under\",\"Check\", 0))","v":0},{"$f":"IF('PS-Calcs'!M234=\"Exceeds\",\"Check\",0)","v":0},{"$f":"'PS-Calcs'!O234","v":"NB"},null,{"$f":"'PS-Calcs'!P234","v":"NB"}]
[null,null,null,"Wed",null,null,null,"00:00:00",null,null,"00:00:00",null,"00:00:00","00:00:00","00:00:00","00:00:00","00:00:00",0,0,{"$f":"IF(ISTEXT(E238),\"\",IF('PS-Calcs'!J235=\"Under\",\"Check\", 0))","v":0},{"$f":"IF('PS-Calcs'!M235=\"Exceeds\",\"Check\",0)","v":0},{"$f":"'PS-Calcs'!O235","v":"NB"},null,{"$f":"'PS-Calcs'!P235","v":"NB"}]
[null,null,null,"Thu",null,null,null,"00:00:00",null,null,"00:00:00",null,"00:00:00","00:00:00","00:00:00","00:00:00","00:00:00",0,0,{"$f":"IF(ISTEXT(E239),\"\",IF('PS-Calcs'!J236=\"Under\",\"Check\", 0))","v":0},{"$f":"IF('PS-Calcs'!M236=\"Exceeds\",\"Check\",0)","v":0},{"$f":"'PS-Calcs'!O236","v":"NB"},null,{"$f":"'PS-Calcs'!P236","v":"NB"}]
[null,null,null,"Fri",null,null,null,"00:00:00",null,null,0,null,"00:00:00","00:00:00","00:00:00","00:00:00","00:00:00",0,0,{"$f":"IF(ISTEXT(E240),\"\",IF('PS-Calcs'!J237=\"Under\",\"Check\", 0))","v":0},{"$f":"IF('PS-Calcs'!M237=\"Exceeds\",\"Check\",0)","v":0},{"$f":"'PS-Calcs'!O237","v":"NB"},null,{"$f":"'PS-Calcs'!P237","v":"NB"}]
[null,null,null,"Sat",null,null,null,"00:00:00",null,null,"00:00:00",{"$f":"H240","v":"00:00:00"},"00:00:00","00:00:00","00:00:00","00:00:00","00:00:00",{"$f":"IF(H240>0,\"yes\",0)","v":0},0,{"$f":"IF(ISTEXT(E241),\"\",IF('PS-Calcs'!J238=\"Under\",\"Check\", 0))","v":0},{"$f":"IF('PS-Calcs'!M238=\"Exceeds\",\"Check\",0)","v":0},{"$f":"'PS-Calcs'!O238","v":"NB"},null,{"$f":"'PS-Calcs'!P238","v":"NB"}]
[null,null,null,"Sun",null,null,null,"00:00:00",null,null,"00:00:00","00:00:00","00:00:00","00:00:00","00:00:00","00:00:00","00:00:00",0,0,{"$f":"IF(C242=0,\"\",IF(ISTEXT(E242),\"\",IF('PS-Calcs'!J239=\"Under\",\"Check\",0)))","v":0},{"$f":"IF('PS-Calcs'!M239=\"Exceeds\",\"Check\",0)","v":0},{"$f":"'PS-Calcs'!O239","v":"NB"},null,{"$f":"'PS-Calcs'!P239","v":"NB"}]
[null,null,"Week35","Mon",null,null,null,"00:00:00",0,{"$f":"IF(E242=\"\",\"\",AVERAGE(I$4:I242))","v":""},"00:00:00",null,"00:00:00","00:00:00","00:00:00","00:00:00","00:00:00",{"$f":"IF(H242>0,IF(SUM(M242:P242)>0,\"Yes\",\"no\"),0)","v":0},0,{"$f":"IF(ISTEXT(E243),\"\",IF('PS-Calcs'!J240=\"Under\",\"Check\", 0))","v":0},{"$f":"IF('PS-Calcs'!M240=\"Exceeds\",\"Check\",0)","v":0},{"$f":"'PS-Calcs'!O240","v":"NB"},null,{"$f":"'PS-Calcs'!P240","v":"NB"}]
[null,null,null,"Tue",null,null,null,{"$f":"IF(ISTEXT(E243),0,IF(ISTEXT(F243),0,IF(F243<E243,F243+1,F243)-E243-G243))","v":"00:00:00"},null,null,{"$f":"IF(F243<E243,F243+1,F243)","v":"00:00:00"},null,{"$f":"IF(H243>0,IF(M$3-E243>0,M$3-E243,0),0)","v":"00:00:00"},{"$f":"IF(H243>0,IF(F243-N$3>0,F243-N$3,0),0)","v":"00:00:00"},{"$f":"IF(H243>0,IF(F243<E243,IF(F243>O$3,O$3,F243),0),0)","v":"00:00:00"},{"$f":"IF(H243>0,IF(E243>F243,IF(E243>N$3,R$3-E243,R$3-P$3),0),0)","v":"00:00:00"},{"$f":"SUM(M243:P243)","v":"00:00:00"},0,{"$f":"IF(H243>0,IF(F243-E243<0,1,IF(E243<0.25,1,IF(F243>(20/24),1,0))),0)","v":0},{"$f":"IF(ISTEXT(E244),\"\",IF('PS-Calcs'!J241=\"Under\",\"Check\", 0))","v":0},{"$f":"IF('PS-Calcs'!M241=\"Exceeds\",\"Check\",0)","v":0},{"$f":"'PS-Calcs'!O241","v":"NB"},null,{"$f":"'PS-Calcs'!P241","v":"NB"}]
[null,null,null,"Wed",null,null,null,"00:00:00",null,null,"00:00:00",null,"00:00:00","00:00:00","00:00:00","00:00:00","00:00:00",0,0,{"$f":"IF(ISTEXT(E245),\"\",IF('PS-Calcs'!J242=\"Under\",\"Check\", 0))","v":0},{"$f":"IF('PS-Calcs'!M242=\"Exceeds\",\"Check\",0)","v":0},{"$f":"'PS-Calcs'!O242","v":"NB"},null,{"$f":"'PS-Calcs'!P242","v":"NB"}]
[null,null,null,"Thu",null,null,null,"00:00:00",null,null,"00:00:00",null,"00:00:00","00:00:00","00:00:00","00:00:00","00:00:00",0,0,{"$f":"IF(ISTEXT(E246),\"\",IF('PS-Calcs'!J243=\"Under\",\"Check\", 0))","v":0},{"$f":"IF('PS-Calcs'!M243=\"Exceeds\",\"Check\",0)","v":0},{"$f":"'PS-Calcs'!O243","v":"NB"},null,{"$f":"'PS-Calcs'!P243","v":"NB"}]
[null,null,null,"Fri",null,null,null,"00:00:00",null,null,0,null,"00:00:00","00:00:00","00:00:00","00:00:00","00:00:00",0,0,{"$f":"IF(ISTEXT(E247),\"\",IF('PS-Calcs'!J244=\"Under\",\"Check\", 0))","v":0},{"$f":"IF('PS-Calcs'!M244=\"Exceeds\",\"Check\",0)","v":0},{"$f":"'PS-Calcs'!O244","v":"NB"},null,{"$f":"'PS-Calcs'!P244","v":"NB"}]
[null,null,null,"Sat",null,null,null,"00:00:00",null,null,"00:00:00",{"$f":"H247","v":"00:00:00"},"00:00:00","00:00:00","00:00:00","00:00:00","00:00:00",{"$f":"IF(H247>0,\"yes\",0)","v":0},0,{"$f":"IF(ISTEXT(E248),\"\",IF('PS-Calcs'!J245=\"Under\",\"Check\", 0))","v":0},{"$f":"IF('PS-Calcs'!M245=\"Exceeds\",\"Check\",0)","v":0},{"$f":"'PS-Calcs'!O245","v":"NB"},null,{"$f":"'PS-Calcs'!P245","v":"NB"}]
[null,null,null,"Sun",null,null,null,"00:00:00",null,null,"00:00:00","00:00:00","00:00:00","00:00:00","00:00:00","00:00:00","00:00:00",0,0,{"$f":"IF(C249=0,\"\",IF(ISTEXT(E249),\"\",IF('PS-Calcs'!J246=\"Under\",\"Check\",0)))","v":0},{"$f":"IF('PS-Calcs'!M246=\"Exceeds\",\"Check\",0)","v":0},{"$f":"'PS-Calcs'!O246","v":"NB"},null,{"$f":"'PS-Calcs'!P246","v":"NB"}]
[null,null,"Week36","Mon",null,null,null,"00:00:00",{"$f":"SUM(H249:H255)","v":0},{"$f":"IF(E249=\"\",\"\",AVERAGE(I$4:I249))","v":""},"00:00:00",null,"00:00:00","00:00:00","00:00:00","00:00:00","00:00:00",{"$f":"IF(H249>0,IF(SUM(M249:P249)>0,\"Yes\",\"no\"),0)","v":0},0,{"$f":"IF(ISTEXT(E250),\"\",IF('PS-Calcs'!J247=\"Under\",\"Check\", 0))","v":0},{"$f":"IF('PS-Calcs'!M247=\"Exceeds\",\"Check\",0)","v":0},{"$f":"'PS-Calcs'!O247","v":"NB"},null,{"$f":"'PS-Calcs'!P247","v":"NB"}]
[null,null,null,"Tue",null,null,null,"00:00:00",null,null,"00:00:00",null,"00:00:00","00:00:00","00:00:00","00:00:00","00:00:00",0,0,{"$f":"IF(ISTEXT(E251),\"\",IF('PS-Calcs'!J248=\"Under\",\"Check\", 0))","v":0},{"$f":"IF('PS-Calcs'!M248=\"Exceeds\",\"Check\",0)","v":0},{"$f":"'PS-Calcs'!O248","v":"NB"},null,{"$f":"'PS-Calcs'!P248","v":"NB"}]
[null,null,null,"Wed",null,null,null,"00:00:00",null,null,"00:00:00",null,"00:00:00","00:00:00","00:00:00","00:00:00","00:00:00",0,0,{"$f":"IF(ISTEXT(E252),\"\",IF('PS-Calcs'!J249=\"Under\",\"Check\", 0))","v":0},{"$f":"IF('PS-Calcs'!M249=\"Exceeds\",\"Check\",0)","v":0},{"$f":"'PS-Calcs'!O249","v":"NB"},null,{"$f":"'PS-Calcs'!P249","v":"NB"}]
[null,null,null,"Thu",null,null,null,"00:00:00",null,null,"00:00:00",null,"00:00:00","00:00:00","00:00:00","00:00:00","00:00:00",0,0,{"$f":"IF(ISTEXT(E253),\"\",IF('PS-Calcs'!J250=\"Under\",\"Check\", 0))","v":0},{"$f":"IF('PS-Calcs'!M250=\"Exceeds\",\"Check\",0)","v":0},{"$f":"'PS-Calcs'!O250","v":"NB"},null,{"$f":"'PS-Calcs'!P250","v":"NB"}]
[null,null,null,"Fri",null,null,null,"00:00:00",null,null,0,null,"00:00:00","00:00:00","00:00:00","00:00:00","00:00:00",0,0,{"$f":"IF(ISTEXT(E254),\"\",IF('PS-Calcs'!J251=\"Under\",\"Check\", 0))","v":0},{"$f":"IF('PS-Calcs'!M251=\"Exceeds\",\"Check\",0)","v":0},{"$f":"'PS-Calcs'!O251","v":"NB"},null,{"$f":"'PS-Calcs'!P251","v":"NB"}]
[null,null,null,"Sat",null,null,null,"00:00:00",null,null,"00:00:00",{"$f":"H254","v":"00:00:00"},"00:00:00","00:00:00","00:00:00","00:00:00","00:00:00",{"$f":"IF(H254>0,\"yes\",0)","v":0},0,{"$f":"IF(ISTEXT(E255),\"\",IF('PS-Calcs'!J252=\"Under\",\"Check\", 0))","v":0},{"$f":"IF('PS-Calcs'!M252=\"Exceeds\",\"Check\",0)","v":0},{"$f":"'PS-Calcs'!O252","v":"NB"},null,{"$f":"'PS-Calcs'!P252","v":"NB"}]
[null,null,null,"Sun",null,null,null,"00:00:00",null,null,"00:00:00","00:00:00","00:00:00","00:00:00","00:00:00","00:00:00","00:00:00",0,0,{"$f":"IF(C256=0,\"\",IF(ISTEXT(E256),\"\",IF('PS-Calcs'!J253=\"Under\",\"Check\",0)))","v":0},{"$f":"IF('PS-Calcs'!M253=\"Exceeds\",\"Check\",0)","v":0},{"$f":"'PS-Calcs'!O253","v":"NB"},null,{"$f":"'PS-Calcs'!P253","v":"NB"}]
[null,null,"Week37","Mon",null,null,null,"00:00:00",0,{"$f":"IF(E256=\"\",\"\",AVERAGE(I$4:I256))","v":""},"00:00:00",null,"00:00:00","00:00:00","00:00:00","00:00:00","00:00:00",{"$f":"IF(H256>0,IF(SUM(M256:P256)>0,\"Yes\",\"no\"),0)","v":0},0,{"$f":"IF(ISTEXT(E257),\"\",IF('PS-Calcs'!J254=\"Under\",\"Check\", 0))","v":0},{"$f":"IF('PS-Calcs'!M254=\"Exceeds\",\"Check\",0)","v":0},{"$f":"'PS-Calcs'!O254","v":"NB"},null,{"$f":"'PS-Calcs'!P254","v":"NB"}]
[null,null,null,"Tue",null,null,null,"00:00:00",null,null,"00:00:00",null,"00:00:00","00:00:00","00:00:00","00:00:00","00:00:00",0,0,{"$f":"IF(ISTEXT(E258),\"\",IF('PS-Calcs'!J255=\"Under\",\"Check\", 0))","v":0},{"$f":"IF('PS-Calcs'!M255=\"Exceeds\",\"Check\",0)","v":0},{"$f":"'PS-Calcs'!O255","v":"NB"},null,{"$f":"'PS-Calcs'!P255","v":"NB"}]
[null,null,null,"Wed",null,null,null,"00:00:00",null,null,"00:00:00",null,"00:00:00","00:00:00","00:00:00","00:00:00","00:00:00",0,0,{"$f":"IF(ISTEXT(E259),\"\",IF('PS-Calcs'!J256=\"Under\",\"Check\", 0))","v":0},{"$f":"IF('PS-Calcs'!M256=\"Exceeds\",\"Check\",0)","v":0},{"$f":"'PS-Calcs'!O256","v":"NB"},null,{"$f":"'PS-Calcs'!P256","v":"NB"}]
[null,null,null,"Thu",null,null,null,"00:00:00",null,null,"00:00:00",null,"00:00:00","00:00:00","00:00:00","00:00:00","00:00:00",0,0,{"$f":"IF(ISTEXT(E260),\"\",IF('PS-Calcs'!J257=\"Under\",\"Check\", 0))","v":0},{"$f":"IF('PS-Calcs'!M257=\"Exceeds\",\"Check\",0)","v":0},{"$f":"'PS-Calcs'!O257","v":"NB"},null,{"$f":"'PS-Calcs'!P257","v":"NB"}]
[null,null,null,"Fri",null,null,null,"00:00:00",null,null,0,null,"00:00:00","00:00:00","00:00:00","00:00:00","00:00:00",0,0,{"$f":"IF(ISTEXT(E261),\"\",IF('PS-Calcs'!J258=\"Under\",\"Check\", 0))","v":0},{"$f":"IF('PS-Calcs'!M258=\"Exceeds\",\"Check\",0)","v":0},{"$f":"'PS-Calcs'!O258","v":"NB"},null,{"$f":"'PS-Calcs'!P258","v":"NB"}]
[null,null,null,"Sat",null,null,null,"00:00:00",null,null,"00:00:00",{"$f":"H261","v":"00:00:00"},"00:00:00","00:00:00","00:00:00","00:00:00","00:00:00",{"$f":"IF(H261>0,\"yes\",0)","v":0},0,{"$f":"IF(ISTEXT(E262),\"\",IF('PS-Calcs'!J259=\"Under\",\"Check\", 0))","v":0},{"$f":"IF('PS-Calcs'!M259=\"Exceeds\",\"Check\",0)","v":0},{"$f":"'PS-Calcs'!O259","v":"NB"},null,{"$f":"'PS-Calcs'!P259","v":"NB"}]
[null,null,null,"Sun",null,null,null,"00:00:00",null,null,"00:00:00","00:00:00","00:00:00","00:00:00","00:00:00","00:00:00","00:00:00",0,0,{"$f":"IF(C263=0,\"\",IF(ISTEXT(E263),\"\",IF('PS-Calcs'!J260=\"Under\",\"Check\",0)))","v":0},{"$f":"IF('PS-Calcs'!M260=\"Exceeds\",\"Check\",0)","v":0},{"$f":"'PS-Calcs'!O260","v":"NB"},null,{"$f":"'PS-Calcs'!P260","v":"NB"}]
[null,null,"Week38","Mon",null,null,null,"00:00:00",0,{"$f":"IF(E263=\"\",\"\",AVERAGE(I$4:I263))","v":""},"00:00:00",null,"00:00:00","00:00:00","00:00:00","00:00:00","00:00:00",{"$f":"IF(H263>0,IF(SUM(M263:P263)>0,\"Yes\",\"no\"),0)","v":0},0,{"$f":"IF(ISTEXT(E264),\"\",IF('PS-Calcs'!J261=\"Under\",\"Check\", 0))","v":0},{"$f":"IF('PS-Calcs'!M261=\"Exceeds\",\"Check\",0)","v":0},{"$f":"'PS-Calcs'!O261","v":"NB"},null,{"$f":"'PS-Calcs'!P261","v":"NB"}]
[null,null,null,"Tue",null,null,null,"00:00:00",null,null,"00:00:00",null,"00:00:00","00:00:00","00:00:00","00:00:00","00:00:00",0,0,{"$f":"IF(ISTEXT(E265),\"\",IF('PS-Calcs'!J262=\"Under\",\"Check\", 0))","v":0},{"$f":"IF('PS-Calcs'!M262=\"Exceeds\",\"Check\",0)","v":0},{"$f":"'PS-Calcs'!O262","v":"NB"},null,{"$f":"'PS-Calcs'!P262","v":"NB"}]
[null,null,null,"Wed",null,null,null,"00:00:00",null,null,"00:00:00",null,"00:00:00","00:00:00","00:00:00","00:00:00","00:00:00",0,0,{"$f":"IF(ISTEXT(E266),\"\",IF('PS-Calcs'!J263=\"Under\",\"Check\", 0))","v":0},{"$f":"IF('PS-Calcs'!M263=\"Exceeds\",\"Check\",0)","v":0},{"$f":"'PS-Calcs'!O263","v":"NB"},null,{"$f":"'PS-Calcs'!P263","v":"NB"}]
[null,null,null,"Thu",null,null,null,"00:00:00",null,null,"00:00:00",null,"00:00:00","00:00:00","00:00:00","00:00:00","00:00:00",0,0,{"$f":"IF(ISTEXT(E267),\"\",IF('PS-Calcs'!J264=\"Under\",\"Check\", 0))","v":0},{"$f":"IF('PS-Calcs'!M264=\"Exceeds\",\"Check\",0)","v":0},{"$f":"'PS-Calcs'!O264","v":"NB"},null,{"$f":"'PS-Calcs'!P264","v":"NB"}]
[null,null,null,"Fri",null,null,null,"00:00:00",null,null,0,null,"00:00:00","00:00:00","00:00:00","00:00:00","00:00:00",0,0,{"$f":"IF(ISTEXT(E268),\"\",IF('PS-Calcs'!J265=\"Under\",\"Check\", 0))","v":0},{"$f":"IF('PS-Calcs'!M265=\"Exceeds\",\"Check\",0)","v":0},{"$f":"'PS-Calcs'!O265","v":"NB"},null,{"$f":"'PS-Calcs'!P265","v":"NB"}]
[null,null,null,"Sat",null,null,null,"00:00:00",null,null,"00:00:00",{"$f":"H268","v":"00:00:00"},"00:00:00","00:00:00","00:00:00","00:00:00","00:00:00",{"$f":"IF(H268>0,\"yes\",0)","v":0},0,{"$f":"IF(ISTEXT(E269),\"\",IF('PS-Calcs'!J266=\"Under\",\"Check\", 0))","v":0},{"$f":"IF('PS-Calcs'!M266=\"Exceeds\",\"Check\",0)","v":0},{"$f":"'PS-Calcs'!O266","v":"NB"},null,{"$f":"'PS-Calcs'!P266","v":"NB"}]
[null,null,null,"Sun",null,null,null,"00:00:00",null,null,"00:00:00","00:00:00","00:00:00","00:00:00","00:00:00","00:00:00","00:00:00",0,0,{"$f":"IF(C270=0,\"\",IF(ISTEXT(E270),\"\",IF('PS-Calcs'!J267=\"Under\",\"Check\",0)))","v":0},{"$f":"IF('PS-Calcs'!M267=\"Exceeds\",\"Check\",0)","v":0},{"$f":"'PS-Calcs'!O267","v":"NB"},null,{"$f":"'PS-Calcs'!P267","v":"NB"}]
[null,null,"Week39","Mon",null,null,null,"00:00:00",0,{"$f":"IF(E270=\"\",\"\",AVERAGE(I$4:I270))","v":""},"00:00:00",null,"00:00:00","00:00:00","00:00:00","00:00:00","00:00:00",{"$f":"IF(H270>0,IF(SUM(M270:P270)>0,\"Yes\",\"no\"),0)","v":0},0,{"$f":"IF(ISTEXT(E271),\"\",IF('PS-Calcs'!J268=\"Under\",\"Check\", 0))","v":0},{"$f":"IF('PS-Calcs'!M268=\"Exceeds\",\"Check\",0)","v":0},{"$f":"'PS-Calcs'!O268","v":"NB"},null,{"$f":"'PS-Calcs'!P268","v":"NB"}]
[null,null,null,"Tue",null,null,null,"00:00:00",null,null,"00:00:00",null,"00:00:00","00:00:00","00:00:00","00:00:00","00:00:00",0,0,{"$f":"IF(ISTEXT(E272),\"\",IF('PS-Calcs'!J269=\"Under\",\"Check\", 0))","v":0},{"$f":"IF('PS-Calcs'!M269=\"Exceeds\",\"Check\",0)","v":0},{"$f":"'PS-Calcs'!O269","v":"NB"},null,{"$f":"'PS-Calcs'!P269","v":"NB"}]
[null,null,null,"Wed",null,null,null,"00:00:00",null,null,"00:00:00",null,"00:00:00","00:00:00","00:00:00","00:00:00","00:00:00",0,0,{"$f":"IF(ISTEXT(E273),\"\",IF('PS-Calcs'!J270=\"Under\",\"Check\", 0))","v":0},{"$f":"IF('PS-Calcs'!M270=\"Exceeds\",\"Check\",0)","v":0},{"$f":"'PS-Calcs'!O270","v":"NB"},null,{"$f":"'PS-Calcs'!P270","v":"NB"}]
[null,null,null,"Thu",null,null,null,"00:00:00",null,null,"00:00:00",null,"00:00:00","00:00:00","00:00:00","00:00:00","00:00:00",0,0,{"$f":"IF(ISTEXT(E274),\"\",IF('PS-Calcs'!J271=\"Under\",\"Check\", 0))","v":0},{"$f":"IF('PS-Calcs'!M271=\"Exceeds\",\"Check\",0)","v":0},{"$f":"'PS-Calcs'!O271","v":"NB"},null,{"$f":"'PS-Calcs'!P271","v":"NB"}]
[null,null,null,"Fri",null,null,null,"00:00:00",null,null,0,null,"00:00:00","00:00:00","00:00:00","00:00:00","00:00:00",0,0,{"$f":"IF(ISTEXT(E275),\"\",IF('PS-Calcs'!J272=\"Under\",\"Check\", 0))","v":0},{"$f":"IF('PS-Calcs'!M272=\"Exceeds\",\"Check\",0)","v":0},{"$f":"'PS-Calcs'!O272","v":"NB"},null,{"$f":"'PS-Calcs'!P272","v":"NB"}]
[null,null,null,"Sat",null,null,null,"00:00:00",null,null,"00:00:00",{"$f":"H275","v":"00:00:00"},"00:00:00","00:00:00","00:00:00","00:00:00","00:00:00",{"$f":"IF(H275>0,\"yes\",0)","v":0},0,{"$f":"IF(ISTEXT(E276),\"\",IF('PS-Calcs'!J273=\"Under\",\"Check\", 0))","v":0},{"$f":"IF('PS-Calcs'!M273=\"Exceeds\",\"Check\",0)","v":0},{"$f":"'PS-Calcs'!O273","v":"NB"},null,{"$f":"'PS-Calcs'!P273","v":"NB"}]
[null,null,null,"Sun",null,null,null,"00:00:00",null,null,"00:00:00","00:00:00","00:00:00","00:00:00","00:00:00","00:00:00","00:00:00",0,0,{"$f":"IF(C277=0,\"\",IF(ISTEXT(E277),\"\",IF('PS-Calcs'!J274=\"Under\",\"Check\",0)))","v":0},{"$f":"IF('PS-Calcs'!M274=\"Exceeds\",\"Check\",0)","v":0},{"$f":"'PS-Calcs'!O274","v":"NB"},null,{"$f":"'PS-Calcs'!P274","v":"NB"}]
[null,null,"Week40","Mon",null,null,null,"00:00:00",0,{"$f":"IF(E277=\"\",\"\",AVERAGE(I$4:I277))","v":""},"00:00:00",null,"00:00:00","00:00:00","00:00:00","00:00:00","00:00:00",{"$f":"IF(H277>0,IF(SUM(M277:P277)>0,\"Yes\",\"no\"),0)","v":0},0,{"$f":"IF(ISTEXT(E278),\"\",IF('PS-Calcs'!J275=\"Under\",\"Check\", 0))","v":0},{"$f":"IF('PS-Calcs'!M275=\"Exceeds\",\"Check\",0)","v":0},{"$f":"'PS-Calcs'!O275","v":"NB"},null,{"$f":"'PS-Calcs'!P275","v":"NB"}]
[null,null,null,"Tue",null,null,null,"00:00:00",null,null,"00:00:00",null,"00:00:00","00:00:00","00:00:00","00:00:00","00:00:00",0,0,{"$f":"IF(ISTEXT(E279),\"\",IF('PS-Calcs'!J276=\"Under\",\"Check\", 0))","v":0},{"$f":"IF('PS-Calcs'!M276=\"Exceeds\",\"Check\",0)","v":0},{"$f":"'PS-Calcs'!O276","v":"NB"},null,{"$f":"'PS-Calcs'!P276","v":"NB"}]
[null,null,null,"Wed",null,null,null,"00:00:00",null,null,"00:00:00",null,"00:00:00","00:00:00","00:00:00","00:00:00","00:00:00",0,0,{"$f":"IF(ISTEXT(E280),\"\",IF('PS-Calcs'!J277=\"Under\",\"Check\", 0))","v":0},{"$f":"IF('PS-Calcs'!M277=\"Exceeds\",\"Check\",0)","v":0},{"$f":"'PS-Calcs'!O277","v":"NB"},null,{"$f":"'PS-Calcs'!P277","v":"NB"}]
[null,null,null,"Thu",null,null,null,"00:00:00",null,null,"00:00:00",null,"00:00:00","00:00:00","00:00:00","00:00:00","00:00:00",0,0,{"$f":"IF(ISTEXT(E281),\"\",IF('PS-Calcs'!J278=\"Under\",\"Check\", 0))","v":0},{"$f":"IF('PS-Calcs'!M278=\"Exceeds\",\"Check\",0)","v":0},{"$f":"'PS-Calcs'!O278","v":"NB"},null,{"$f":"'PS-Calcs'!P278","v":"NB"}]
[null,null,null,"Fri",null,null,null,"00:00:00",null,null,0,null,"00:00:00","00:00:00","00:00:00","00:00:00","00:00:00",0,0,{"$f":"IF(ISTEXT(E282),\"\",IF('PS-Calcs'!J279=\"Under\",\"Check\", 0))","v":0},{"$f":"IF('PS-Calcs'!M279=\"Exceeds\",\"Check\",0)","v":0},{"$f":"'PS-Calcs'!O279","v":"NB"},null,{"$f":"'PS-Calcs'!P279","v":"NB"}]
[null,null,null,"Sat",null,null,null,"00:00:00",null,null,"00:00:00",{"$f":"H282","v":"00:00:00"},"00:00:00","00:00:00","00:00:00","00:00:00","00:00:00",{"$f":"IF(H282>0,\"yes\",0)","v":0},0,{"$f":"IF(ISTEXT(E283),\"\",IF('PS-Calcs'!J280=\"Under\",\"Check\", 0))","v":0},{"$f":"IF('PS-Calcs'!M280=\"Exceeds\",\"Check\",0)","v":0},{"$f":"'PS-Calcs'!O280","v":"NB"},null,{"$f":"'PS-Calcs'!P280","v":"NB"}]
[null,null,null,"Sun",null,null,null,"00:00:00",null,null,"00:00:00","00:00:00","00:00:00","00:00:00","00:00:00","00:00:00","00:00:00",0,0,{"$f":"IF(C284=0,\"\",IF(ISTEXT(E284),\"\",IF('PS-Calcs'!J281=\"Under\",\"Check\",0)))","v":0},{"$f":"IF('PS-Calcs'!M281=\"Exceeds\",\"Check\",0)","v":0},{"$f":"'PS-Calcs'!O281","v":"NB"},null,{"$f":"'PS-Calcs'!P281","v":"NB"}]
[null,null,"Week41","Mon",null,null,null,"00:00:00",0,{"$f":"IF(E284=\"\",\"\",AVERAGE(I$4:I284))","v":""},"00:00:00",null,"00:00:00","00:00:00","00:00:00","00:00:00","00:00:00",{"$f":"IF(H284>0,IF(SUM(M284:P284)>0,\"Yes\",\"no\"),0)","v":0},0,{"$f":"IF(ISTEXT(E285),\"\",IF('PS-Calcs'!J282=\"Under\",\"Check\", 0))","v":0},{"$f":"IF('PS-Calcs'!M282=\"Exceeds\",\"Check\",0)","v":0},{"$f":"'PS-Calcs'!O282","v":"NB"},null,{"$f":"'PS-Calcs'!P282","v":"NB"}]
[null,null,null,"Tue",null,null,null,"00:00:00",null,null,"00:00:00",null,"00:00:00","00:00:00","00:00:00","00:00:00","00:00:00",0,0,{"$f":"IF(ISTEXT(E286),\"\",IF('PS-Calcs'!J283=\"Under\",\"Check\", 0))","v":0},{"$f":"IF('PS-Calcs'!M283=\"Exceeds\",\"Check\",0)","v":0},{"$f":"'PS-Calcs'!O283","v":"NB"},null,{"$f":"'PS-Calcs'!P283","v":"NB"}]
[null,null,null,"Wed",null,null,null,"00:00:00",null,null,"00:00:00",null,"00:00:00","00:00:00","00:00:00","00:00:00","00:00:00",0,0,{"$f":"IF(ISTEXT(E287),\"\",IF('PS-Calcs'!J284=\"Under\",\"Check\", 0))","v":0},{"$f":"IF('PS-Calcs'!M284=\"Exceeds\",\"Check\",0)","v":0},{"$f":"'PS-Calcs'!O284","v":"NB"},null,{"$f":"'PS-Calcs'!P284","v":"NB"}]
[null,null,null,"Thu",null,null,null,"00:00:00",null,null,"00:00:00",null,"00:00:00","00:00:00","00:00:00","00:00:00","00:00:00",0,0,{"$f":"IF(ISTEXT(E288),\"\",IF('PS-Calcs'!J285=\"Under\",\"Check\", 0))","v":0},{"$f":"IF('PS-Calcs'!M285=\"Exceeds\",\"Check\",0)","v":0},{"$f":"'PS-Calcs'!O285","v":"NB"},null,{"$f":"'PS-Calcs'!P285","v":"NB"}]
[null,null,null,"Fri",null,null,null,"00:00:00",null,null,0,null,"00:00:00","00:00:00","00:00:00","00:00:00","00:00:00",0,0,{"$f":"IF(ISTEXT(E289),\"\",IF('PS-Calcs'!J286=\"Under\",\"Check\", 0))","v":0},{"$f":"IF('PS-Calcs'!M286=\"Exceeds\",\"Check\",0)","v":0},{"$f":"'PS-Calcs'!O286","v":"NB"},null,{"$f":"'PS-Calcs'!P286","v":"NB"}]
[null,null,null,"Sat",null,null,null,"00:00:00",null,null,"00:00:00",{"$f":"H289","v":"00:00:00"},"00:00:00","00:00:00","00:00:00","00:00:00","00:00:00",{"$f":"IF(H289>0,\"yes\",0)","v":0},0,{"$f":"IF(ISTEXT(E290),\"\",IF('PS-Calcs'!J287=\"Under\",\"Check\", 0))","v":0},{"$f":"IF('PS-Calcs'!M287=\"Exceeds\",\"Check\",0)","v":0},{"$f":"'PS-Calcs'!O287","v":"NB"},null,{"$f":"'PS-Calcs'!P287","v":"NB"}]
[null,null,null,"Sun",null,null,null,"00:00:00",null,null,"00:00:00","00:00:00","00:00:00","00:00:00","00:00:00","00:00:00","00:00:00",0,0,{"$f":"IF(C291=0,\"\",IF(ISTEXT(E291),\"\",IF('PS-Calcs'!J288=\"Under\",\"Check\",0)))","v":0},{"$f":"IF('PS-Calcs'!M288=\"Exceeds\",\"Check\",0)","v":0},{"$f":"'PS-Calcs'!O288","v":"NB"},null,{"$f":"'PS-Calcs'!P288","v":"NB"}]
[null,null,"Week42","Mon",null,null,null,"00:00:00",0,{"$f":"IF(E291=\"\",\"\",AVERAGE(I$4:I291))","v":""},"00:00:00",null,"00:00:00","00:00:00","00:00:00","00:00:00","00:00:00",{"$f":"IF(H291>0,IF(SUM(M291:P291)>0,\"Yes\",\"no\"),0)","v":0},0,{"$f":"IF(ISTEXT(E292),\"\",IF('PS-Calcs'!J289=\"Under\",\"Check\", 0))","v":0},{"$f":"IF('PS-Calcs'!M289=\"Exceeds\",\"Check\",0)","v":0},{"$f":"'PS-Calcs'!O289","v":"NB"},null,{"$f":"'PS-Calcs'!P289","v":"NB"}]
[null,null,null,"Tue",null,null,null,"00:00:00",null,null,"00:00:00",null,"00:00:00","00:00:00","00:00:00","00:00:00","00:00:00",0,0,{"$f":"IF(ISTEXT(E293),\"\",IF('PS-Calcs'!J290=\"Under\",\"Check\", 0))","v":0},{"$f":"IF('PS-Calcs'!M290=\"Exceeds\",\"Check\",0)","v":0},{"$f":"'PS-Calcs'!O290","v":"NB"},null,{"$f":"'PS-Calcs'!P290","v":"NB"}]
[null,null,null,"Wed",null,null,null,"00:00:00",null,null,"00:00:00",null,"00:00:00","00:00:00","00:00:00","00:00:00","00:00:00",0,0,{"$f":"IF(ISTEXT(E294),\"\",IF('PS-Calcs'!J291=\"Under\",\"Check\", 0))","v":0},{"$f":"IF('PS-Calcs'!M291=\"Exceeds\",\"Check\",0)","v":0},{"$f":"'PS-Calcs'!O291","v":"NB"},null,{"$f":"'PS-Calcs'!P291","v":"NB"}]
[null,null,null,"Thu",null,null,null,"00:00:00",null,null,"00:00:00",null,"00:00:00","00:00:00","00:00:00","00:00:00","00:00:00",0,0,{"$f":"IF(ISTEXT(E295),\"\",IF('PS-Calcs'!J292=\"Under\",\"Check\", 0))","v":0},{"$f":"IF('PS-Calcs'!M292=\"Exceeds\",\"Check\",0)","v":0},{"$f":"'PS-Calcs'!O292","v":"NB"},null,{"$f":"'PS-Calcs'!P292","v":"NB"}]
[null,null,null,"Fri",null,null,null,"00:00:00",null,null,0,null,"00:00:00","00:00:00","00:00:00","00:00:00","00:00:00",0,0,{"$f":"IF(ISTEXT(E296),\"\",IF('PS-Calcs'!J293=\"Under\",\"Check\", 0))","v":0},{"$f":"IF('PS-Calcs'!M293=\"Exceeds\",\"Check\",0)","v":0},{"$f":"'PS-Calcs'!O293","v":"NB"},null,{"$f":"'PS-Calcs'!P293","v":"NB"}]
[null,null,null,"Sat",null,null,null,"00:00:00",null,null,"00:00:00",{"$f":"H296","v":"00:00:00"},"00:00:00","00:00:00","00:00:00","00:00:00","00:00:00",{"$f":"IF(H296>0,\"yes\",0)","v":0},0,{"$f":"IF(ISTEXT(E297),\"\",IF('PS-Calcs'!J294=\"Under\",\"Check\", 0))","v":0},{"$f":"IF('PS-Calcs'!M294=\"Exceeds\",\"Check\",0)","v":0},{"$f":"'PS-Calcs'!O294","v":"NB"},null,{"$f":"'PS-Calcs'!P294","v":"NB"}]
[null,null,null,"Sun",null,null,null,"00:00:00",null,null,"00:00:00","00:00:00","00:00:00","00:00:00","00:00:00","00:00:00","00:00:00",0,0,{"$f":"IF(C298=0,\"\",IF(ISTEXT(E298),\"\",IF('PS-Calcs'!J295=\"Under\",\"Check\",0)))","v":0},{"$f":"IF('PS-Calcs'!M295=\"Exceeds\",\"Check\",0)","v":0},{"$f":"'PS-Calcs'!O295","v":"NB"},null,{"$f":"'PS-Calcs'!P295","v":"NB"}]
[null,null,"Week43","Mon",null,null,null,"00:00:00",0,{"$f":"IF(E298=\"\",\"\",AVERAGE(I$4:I298))","v":""},"00:00:00",null,"00:00:00","00:00:00","00:00:00","00:00:00","00:00:00",{"$f":"IF(H298>0,IF(SUM(M298:P298)>0,\"Yes\",\"no\"),0)","v":0},0,{"$f":"IF(ISTEXT(E299),\"\",IF('PS-Calcs'!J296=\"Under\",\"Check\", 0))","v":0},{"$f":"IF('PS-Calcs'!M296=\"Exceeds\",\"Check\",0)","v":0},{"$f":"'PS-Calcs'!O296","v":"NB"},null,{"$f":"'PS-Calcs'!P296","v":"NB"}]
[null,null,null,"Tue",null,null,null,"00:00:00",null,null,"00:00:00",null,"00:00:00","00:00:00","00:00:00","00:00:00","00:00:00",0,0,{"$f":"IF(ISTEXT(E300),\"\",IF('PS-Calcs'!J297=\"Under\",\"Check\", 0))","v":0},{"$f":"IF('PS-Calcs'!M297=\"Exceeds\",\"Check\",0)","v":0},{"$f":"'PS-Calcs'!O297","v":"NB"},null,{"$f":"'PS-Calcs'!P297","v":"NB"}]
[null,null,null,"Wed",null,null,null,"00:00:00",null,null,"00:00:00",null,"00:00:00","00:00:00","00:00:00","00:00:00","00:00:00",0,0,{"$f":"IF(ISTEXT(E301),\"\",IF('PS-Calcs'!J298=\"Under\",\"Check\", 0))","v":0},{"$f":"IF('PS-Calcs'!M298=\"Exceeds\",\"Check\",0)","v":0},{"$f":"'PS-Calcs'!O298","v":"NB"},null,{"$f":"'PS-Calcs'!P298","v":"NB"}]
[null,null,null,"Thu",null,null,null,"00:00:00",null,null,"00:00:00",null,"00:00:00","00:00:00","00:00:00","00:00:00","00:00:00",0,0,{"$f":"IF(ISTEXT(E302),\"\",IF('PS-Calcs'!J299=\"Under\",\"Check\", 0))","v":0},{"$f":"IF('PS-Calcs'!M299=\"Exceeds\",\"Check\",0)","v":0},{"$f":"'PS-Calcs'!O299","v":"NB"},null,{"$f":"'PS-Calcs'!P299","v":"NB"}]
[null,null,null,"Fri",null,null,null,"00:00:00",null,null,0,null,"00:00:00","00:00:00","00:00:00","00:00:00","00:00:00",0,0,{"$f":"IF(ISTEXT(E303),\"\",IF('PS-Calcs'!J300=\"Under\",\"Check\", 0))","v":0},{"$f":"IF('PS-Calcs'!M300=\"Exceeds\",\"Check\",0)","v":0},{"$f":"'PS-Calcs'!O300","v":"NB"},null,{"$f":"'PS-Calcs'!P300","v":"NB"}]
[null,null,null,"Sat",null,null,null,"00:00:00",null,null,"00:00:00",{"$f":"H303","v":"00:00:00"},"00:00:00","00:00:00","00:00:00","00:00:00","00:00:00",{"$f":"IF(H303>0,\"yes\",0)","v":0},0,{"$f":"IF(ISTEXT(E304),\"\",IF('PS-Calcs'!J301=\"Under\",\"Check\", 0))","v":0},{"$f":"IF('PS-Calcs'!M301=\"Exceeds\",\"Check\",0)","v":0},{"$f":"'PS-Calcs'!O301","v":"NB"},null,{"$f":"'PS-Calcs'!P301","v":"NB"}]
[null,null,null,"Sun",null,null,null,"00:00:00",null,null,"00:00:00","00:00:00","00:00:00","00:00:00","00:00:00","00:00:00","00:00:00",0,0,{"$f":"IF(C305=0,\"\",IF(ISTEXT(E305),\"\",IF('PS-Calcs'!J302=\"Under\",\"Check\",0)))","v":0},{"$f":"IF('PS-Calcs'!M302=\"Exceeds\",\"Check\",0)","v":0},{"$f":"'PS-Calcs'!O302","v":"NB"},null,{"$f":"'PS-Calcs'!P302","v":"NB"}]
[null,null,"Week44","Mon",null,null,null,"00:00:00",0,{"$f":"IF(E305=\"\",\"\",AVERAGE(I$4:I305))","v":""},"00:00:00",null,"00:00:00","00:00:00","00:00:00","00:00:00","00:00:00",{"$f":"IF(H305>0,IF(SUM(M305:P305)>0,\"Yes\",\"no\"),0)","v":0},0,{"$f":"IF(ISTEXT(E306),\"\",IF('PS-Calcs'!J303=\"Under\",\"Check\", 0))","v":0},{"$f":"IF('PS-Calcs'!M303=\"Exceeds\",\"Check\",0)","v":0},{"$f":"'PS-Calcs'!O303","v":"NB"},null,{"$f":"'PS-Calcs'!P303","v":"NB"}]
[null,null,null,"Tue",null,null,null,"00:00:00",null,null,"00:00:00",null,"00:00:00","00:00:00","00:00:00","00:00:00","00:00:00",0,0,{"$f":"IF(ISTEXT(E307),\"\",IF('PS-Calcs'!J304=\"Under\",\"Check\", 0))","v":0},{"$f":"IF('PS-Calcs'!M304=\"Exceeds\",\"Check\",0)","v":0},{"$f":"'PS-Calcs'!O304","v":"NB"},null,{"$f":"'PS-Calcs'!P304","v":"NB"}]
[null,null,null,"Wed",null,null,null,{"$f":"IF(ISTEXT(E307),0,IF(ISTEXT(F307),0,IF(F307<E307,F307+1,F307)-E307-G307))","v":"00:00:00"},null,null,{"$f":"IF(F307<E307,F307+1,F307)","v":"00:00:00"},null,{"$f":"IF(H307>0,IF(M$3-E307>0,M$3-E307,0),0)","v":"00:00:00"},{"$f":"IF(H307>0,IF(F307-N$3>0,F307-N$3,0),0)","v":"00:00:00"},{"$f":"IF(H307>0,IF(F307<E307,IF(F307>O$3,O$3,F307),0),0)","v":"00:00:00"},{"$f":"IF(H307>0,IF(E307>F307,IF(E307>N$3,R$3-E307,R$3-P$3),0),0)","v":"00:00:00"},{"$f":"SUM(M307:P307)","v":"00:00:00"},0,{"$f":"IF(H307>0,IF(F307-E307<0,1,IF(E307<0.25,1,IF(F307>(20/24),1,0))),0)","v":0},{"$f":"IF(ISTEXT(E308),\"\",IF('PS-Calcs'!J305=\"Under\",\"Check\", 0))","v":0},{"$f":"IF('PS-Calcs'!M305=\"Exceeds\",\"Check\",0)","v":0},{"$f":"'PS-Calcs'!O305","v":"NB"},null,{"$f":"'PS-Calcs'!P305","v":"NB"}]
[null,null,null,"Thu",null,null,null,"00:00:00",null,null,"00:00:00",null,"00:00:00","00:00:00","00:00:00","00:00:00","00:00:00",0,0,{"$f":"IF(ISTEXT(E309),\"\",IF('PS-Calcs'!J306=\"Under\",\"Check\", 0))","v":0},{"$f":"IF('PS-Calcs'!M306=\"Exceeds\",\"Check\",0)","v":0},{"$f":"'PS-Calcs'!O306","v":"NB"},null,{"$f":"'PS-Calcs'!P306","v":"NB"}]
[null,null,null,"Fri",null,null,null,"00:00:00",null,null,0,null,"00:00:00","00:00:00","00:00:00","00:00:00","00:00:00",0,0,{"$f":"IF(ISTEXT(E310),\"\",IF('PS-Calcs'!J307=\"Under\",\"Check\", 0))","v":0},{"$f":"IF('PS-Calcs'!M307=\"Exceeds\",\"Check\",0)","v":0},{"$f":"'PS-Calcs'!O307","v":"NB"},null,{"$f":"'PS-Calcs'!P307","v":"NB"}]
[null,null,null,"Sat",null,null,null,"00:00:00",null,null,"00:00:00",{"$f":"H310","v":"00:00:00"},"00:00:00","00:00:00","00:00:00","00:00:00","00:00:00",{"$f":"IF(H310>0,\"yes\",0)","v":0},0,{"$f":"IF(ISTEXT(E311),\"\",IF('PS-Calcs'!J308=\"Under\",\"Check\", 0))","v":0},{"$f":"IF('PS-Calcs'!M308=\"Exceeds\",\"Check\",0)","v":0},{"$f":"'PS-Calcs'!O308","v":"NB"},null,{"$f":"'PS-Calcs'!P308","v":"NB"}]
[null,null,null,"Sun",null,null,null,"00:00:00",null,null,"00:00:00","00:00:00","00:00:00","00:00:00","00:00:00","00:00:00","00:00:00",0,0,{"$f":"IF(C312=0,\"\",IF(ISTEXT(E312),\"\",IF('PS-Calcs'!J309=\"Under\",\"Check\",0)))","v":0},{"$f":"IF('PS-Calcs'!M309=\"Exceeds\",\"Check\",0)","v":0},{"$f":"'PS-Calcs'!O309","v":"NB"},null,{"$f":"'PS-Calcs'!P309","v":"NB"}]
[null,null,"Week45","Mon",null,null,null,"00:00:00",0,{"$f":"IF(E312=\"\",\"\",AVERAGE(I$4:I312))","v":""},"00:00:00",null,"00:00:00","00:00:00","00:00:00","00:00:00","00:00:00",{"$f":"IF(H312>0,IF(SUM(M312:P312)>0,\"Yes\",\"no\"),0)","v":0},0,{"$f":"IF(ISTEXT(E313),\"\",IF('PS-Calcs'!J310=\"Under\",\"Check\", 0))","v":0},{"$f":"IF('PS-Calcs'!M310=\"Exceeds\",\"Check\",0)","v":0},{"$f":"'PS-Calcs'!O310","v":"NB"},null,{"$f":"'PS-Calcs'!P310","v":"NB"}]
[null,null,null,"Tue",null,null,null,"00:00:00",null,null,"00:00:00",null,"00:00:00","00:00:00","00:00:00","00:00:00","00:00:00",0,0,{"$f":"IF(ISTEXT(E314),\"\",IF('PS-Calcs'!J311=\"Under\",\"Check\", 0))","v":0},{"$f":"IF('PS-Calcs'!M311=\"Exceeds\",\"Check\",0)","v":0},{"$f":"'PS-Calcs'!O311","v":"NB"},null,{"$f":"'PS-Calcs'!P311","v":"NB"}]
[null,null,null,"Wed",null,null,null,"00:00:00",null,null,"00:00:00",null,"00:00:00","00:00:00","00:00:00","00:00:00","00:00:00",0,0,{"$f":"IF(ISTEXT(E315),\"\",IF('PS-Calcs'!J312=\"Under\",\"Check\", 0))","v":0},{"$f":"IF('PS-Calcs'!M312=\"Exceeds\",\"Check\",0)","v":0},{"$f":"'PS-Calcs'!O312","v":"NB"},null,{"$f":"'PS-Calcs'!P312","v":"NB"}]
[null,null,null,"Thu",null,null,null,"00:00:00",null,null,"00:00:00",null,"00:00:00","00:00:00","00:00:00","00:00:00","00:00:00",0,0,{"$f":"IF(ISTEXT(E316),\"\",IF('PS-Calcs'!J313=\"Under\",\"Check\", 0))","v":0},{"$f":"IF('PS-Calcs'!M313=\"Exceeds\",\"Check\",0)","v":0},{"$f":"'PS-Calcs'!O313","v":"NB"},null,{"$f":"'PS-Calcs'!P313","v":"NB"}]
[null,null,null,"Fri",null,null,null,"00:00:00",null,null,0,null,"00:00:00","00:00:00","00:00:00","00:00:00","00:00:00",0,0,{"$f":"IF(ISTEXT(E317),\"\",IF('PS-Calcs'!J314=\"Under\",\"Check\", 0))","v":0},{"$f":"IF('PS-Calcs'!M314=\"Exceeds\",\"Check\",0)","v":0},{"$f":"'PS-Calcs'!O314","v":"NB"},null,{"$f":"'PS-Calcs'!P314","v":"NB"}]
[null,null,null,"Sat",null,null,null,"00:00:00",null,null,"00:00:00",{"$f":"H317","v":"00:00:00"},"00:00:00","00:00:00","00:00:00","00:00:00","00:00:00",{"$f":"IF(H317>0,\"yes\",0)","v":0},0,{"$f":"IF(ISTEXT(E318),\"\",IF('PS-Calcs'!J315=\"Under\",\"Check\", 0))","v":0},{"$f":"IF('PS-Calcs'!M315=\"Exceeds\",\"Check\",0)","v":0},{"$f":"'PS-Calcs'!O315","v":"NB"},null,{"$f":"'PS-Calcs'!P315","v":"NB"}]
[null,null,null,"Sun",null,null,null,"00:00:00",null,null,"00:00:00","00:00:00","00:00:00","00:00:00","00:00:00","00:00:00","00:00:00",0,0,{"$f":"IF(C319=0,\"\",IF(ISTEXT(E319),\"\",IF('PS-Calcs'!J316=\"Under\",\"Check\",0)))","v":0},{"$f":"IF('PS-Calcs'!M316=\"Exceeds\",\"Check\",0)","v":0},{"$f":"'PS-Calcs'!O316","v":"NB"},null,{"$f":"'PS-Calcs'!P316","v":"NB"}]
[null,null,"Week46","Mon",null,null,null,"00:00:00",{"$f":"SUM(H319:H325)","v":0},{"$f":"IF(E319=\"\",\"\",AVERAGE(I$4:I319))","v":""},"00:00:00",null,"00:00:00","00:00:00","00:00:00","00:00:00","00:00:00",{"$f":"IF(H319>0,IF(SUM(M319:P319)>0,\"Yes\",\"no\"),0)","v":0},0,{"$f":"IF(ISTEXT(E320),\"\",IF('PS-Calcs'!J317=\"Under\",\"Check\", 0))","v":0},{"$f":"IF('PS-Calcs'!M317=\"Exceeds\",\"Check\",0)","v":0},{"$f":"'PS-Calcs'!O317","v":"NB"},null,{"$f":"'PS-Calcs'!P317","v":"NB"}]
[null,null,null,"Tue",null,null,null,"00:00:00",null,null,"00:00:00",null,"00:00:00","00:00:00","00:00:00","00:00:00","00:00:00",0,0,{"$f":"IF(ISTEXT(E321),\"\",IF('PS-Calcs'!J318=\"Under\",\"Check\", 0))","v":0},{"$f":"IF('PS-Calcs'!M318=\"Exceeds\",\"Check\",0)","v":0},{"$f":"'PS-Calcs'!O318","v":"NB"},null,{"$f":"'PS-Calcs'!P318","v":"NB"}]
[null,null,null,"Wed",null,null,null,"00:00:00",null,null,"00:00:00",null,"00:00:00","00:00:00","00:00:00","00:00:00","00:00:00",0,0,{"$f":"IF(ISTEXT(E322),\"\",IF('PS-Calcs'!J319=\"Under\",\"Check\", 0))","v":0},{"$f":"IF('PS-Calcs'!M319=\"Exceeds\",\"Check\",0)","v":0},{"$f":"'PS-Calcs'!O319","v":"NB"},null,{"$f":"'PS-Calcs'!P319","v":"NB"}]
[null,null,null,"Thu",null,null,null,"00:00:00",null,null,"00:00:00",null,"00:00:00","00:00:00","00:00:00","00:00:00","00:00:00",0,0,{"$f":"IF(ISTEXT(E323),\"\",IF('PS-Calcs'!J320=\"Under\",\"Check\", 0))","v":0},{"$f":"IF('PS-Calcs'!M320=\"Exceeds\",\"Check\",0)","v":0},{"$f":"'PS-Calcs'!O320","v":"NB"},null,{"$f":"'PS-Calcs'!P320","v":"NB"}]
[null,null,null,"Fri",null,null,null,"00:00:00",null,null,0,null,"00:00:00","00:00:00","00:00:00","00:00:00","00:00:00",0,0,{"$f":"IF(ISTEXT(E324),\"\",IF('PS-Calcs'!J321=\"Under\",\"Check\", 0))","v":0},{"$f":"IF('PS-Calcs'!M321=\"Exceeds\",\"Check\",0)","v":0},{"$f":"'PS-Calcs'!O321","v":"NB"},null,{"$f":"'PS-Calcs'!P321","v":"NB"}]
[null,null,null,"Sat",null,null,null,"00:00:00",null,null,"00:00:00",{"$f":"H324","v":"00:00:00"},"00:00:00","00:00:00","00:00:00","00:00:00","00:00:00",{"$f":"IF(H324>0,\"yes\",0)","v":0},0,{"$f":"IF(ISTEXT(E325),\"\",IF('PS-Calcs'!J322=\"Under\",\"Check\", 0))","v":0},{"$f":"IF('PS-Calcs'!M322=\"Exceeds\",\"Check\",0)","v":0},{"$f":"'PS-Calcs'!O322","v":"NB"},null,{"$f":"'PS-Calcs'!P322","v":"NB"}]
[null,null,null,"Sun",null,null,null,"00:00:00",null,null,"00:00:00","00:00:00","00:00:00","00:00:00","00:00:00","00:00:00","00:00:00",0,0,{"$f":"IF(C326=0,\"\",IF(ISTEXT(E326),\"\",IF('PS-Calcs'!J323=\"Under\",\"Check\",0)))","v":0},{"$f":"IF('PS-Calcs'!M323=\"Exceeds\",\"Check\",0)","v":0},{"$f":"'PS-Calcs'!O323","v":"NB"},null,{"$f":"'PS-Calcs'!P323","v":"NB"}]
[null,null,"Week47","Mon",null,null,null,"00:00:00",0,{"$f":"IF(E326=\"\",\"\",AVERAGE(I$4:I326))","v":""},"00:00:00",null,"00:00:00","00:00:00","00:00:00","00:00:00","00:00:00",{"$f":"IF(H326>0,IF(SUM(M326:P326)>0,\"Yes\",\"no\"),0)","v":0},0,{"$f":"IF(ISTEXT(E327),\"\",IF('PS-Calcs'!J324=\"Under\",\"Check\", 0))","v":0},{"$f":"IF('PS-Calcs'!M324=\"Exceeds\",\"Check\",0)","v":0},{"$f":"'PS-Calcs'!O324","v":"NB"},null,{"$f":"'PS-Calcs'!P324","v":"NB"}]
[null,null,null,"Tue",null,null,null,"00:00:00",null,null,"00:00:00",null,"00:00:00","00:00:00","00:00:00","00:00:00","00:00:00",0,0,{"$f":"IF(ISTEXT(E328),\"\",IF('PS-Calcs'!J325=\"Under\",\"Check\", 0))","v":0},{"$f":"IF('PS-Calcs'!M325=\"Exceeds\",\"Check\",0)","v":0},{"$f":"'PS-Calcs'!O325","v":"NB"},null,{"$f":"'PS-Calcs'!P325","v":"NB"}]
[null,null,null,"Wed",null,null,null,"00:00:00",null,null,"00:00:00",null,"00:00:00","00:00:00","00:00:00","00:00:00","00:00:00",0,0,{"$f":"IF(ISTEXT(E329),\"\",IF('PS-Calcs'!J326=\"Under\",\"Check\", 0))","v":0},{"$f":"IF('PS-Calcs'!M326=\"Exceeds\",\"Check\",0)","v":0},{"$f":"'PS-Calcs'!O326","v":"NB"},null,{"$f":"'PS-Calcs'!P326","v":"NB"}]
[null,null,null,"Thu",null,null,null,"00:00:00",null,null,"00:00:00",null,"00:00:00","00:00:00","00:00:00","00:00:00","00:00:00",0,0,{"$f":"IF(ISTEXT(E330),\"\",IF('PS-Calcs'!J327=\"Under\",\"Check\", 0))","v":0},{"$f":"IF('PS-Calcs'!M327=\"Exceeds\",\"Check\",0)","v":0},{"$f":"'PS-Calcs'!O327","v":"NB"},null,{"$f":"'PS-Calcs'!P327","v":"NB"}]
[null,null,null,"Fri",null,null,null,"00:00:00",null,null,0,null,"00:00:00","00:00:00","00:00:00","00:00:00","00:00:00",0,0,{"$f":"IF(ISTEXT(E331),\"\",IF('PS-Calcs'!J328=\"Under\",\"Check\", 0))","v":0},{"$f":"IF('PS-Calcs'!M328=\"Exceeds\",\"Check\",0)","v":0},{"$f":"'PS-Calcs'!O328","v":"NB"},null,{"$f":"'PS-Calcs'!P328","v":"NB"}]
[null,null,null,"Sat",null,null,null,"00:00:00",null,null,"00:00:00",{"$f":"H331","v":"00:00:00"},"00:00:00","00:00:00","00:00:00","00:00:00","00:00:00",{"$f":"IF(H331>0,\"yes\",0)","v":0},0,{"$f":"IF(ISTEXT(E332),\"\",IF('PS-Calcs'!J329=\"Under\",\"Check\", 0))","v":0},{"$f":"IF('PS-Calcs'!M329=\"Exceeds\",\"Check\",0)","v":0},{"$f":"'PS-Calcs'!O329","v":"NB"},null,{"$f":"'PS-Calcs'!P329","v":"NB"}]
[null,null,null,"Sun",null,null,null,"00:00:00",null,null,"00:00:00","00:00:00","00:00:00","00:00:00","00:00:00","00:00:00","00:00:00",0,0,{"$f":"IF(C333=0,\"\",IF(ISTEXT(E333),\"\",IF('PS-Calcs'!J330=\"Under\",\"Check\",0)))","v":0},{"$f":"IF('PS-Calcs'!M330=\"Exceeds\",\"Check\",0)","v":0},{"$f":"'PS-Calcs'!O330","v":"NB"},null,{"$f":"'PS-Calcs'!P330","v":"NB"}]
[null,null,"Week48","Mon",null,null,null,"00:00:00",0,{"$f":"IF(E333=\"\",\"\",AVERAGE(I$4:I333))","v":""},"00:00:00",null,"00:00:00","00:00:00","00:00:00","00:00:00","00:00:00",{"$f":"IF(H333>0,IF(SUM(M333:P333)>0,\"Yes\",\"no\"),0)","v":0},0,{"$f":"IF(ISTEXT(E334),\"\",IF('PS-Calcs'!J331=\"Under\",\"Check\", 0))","v":0},{"$f":"IF('PS-Calcs'!M331=\"Exceeds\",\"Check\",0)","v":0},{"$f":"'PS-Calcs'!O331","v":"NB"},null,{"$f":"'PS-Calcs'!P331","v":"NB"}]
[null,null,null,"Tue",null,null,null,"00:00:00",null,null,"00:00:00",null,"00:00:00","00:00:00","00:00:00","00:00:00","00:00:00",0,0,{"$f":"IF(ISTEXT(E335),\"\",IF('PS-Calcs'!J332=\"Under\",\"Check\", 0))","v":0},{"$f":"IF('PS-Calcs'!M332=\"Exceeds\",\"Check\",0)","v":0},{"$f":"'PS-Calcs'!O332","v":"NB"},null,{"$f":"'PS-Calcs'!P332","v":"NB"}]
[null,null,null,"Wed",null,null,null,"00:00:00",null,null,"00:00:00",null,"00:00:00","00:00:00","00:00:00","00:00:00","00:00:00",0,0,{"$f":"IF(ISTEXT(E336),\"\",IF('PS-Calcs'!J333=\"Under\",\"Check\", 0))","v":0},{"$f":"IF('PS-Calcs'!M333=\"Exceeds\",\"Check\",0)","v":0},{"$f":"'PS-Calcs'!O333","v":"NB"},null,{"$f":"'PS-Calcs'!P333","v":"NB"}]
[null,null,null,"Thu",null,null,null,"00:00:00",null,null,"00:00:00",null,"00:00:00","00:00:00","00:00:00","00:00:00","00:00:00",0,0,{"$f":"IF(ISTEXT(E337),\"\",IF('PS-Calcs'!J334=\"Under\",\"Check\", 0))","v":0},{"$f":"IF('PS-Calcs'!M334=\"Exceeds\",\"Check\",0)","v":0},{"$f":"'PS-Calcs'!O334","v":"NB"},null,{"$f":"'PS-Calcs'!P334","v":"NB"}]
[null,null,null,"Fri",null,null,null,"00:00:00",null,null,0,null,"00:00:00","00:00:00","00:00:00","00:00:00","00:00:00",0,0,{"$f":"IF(ISTEXT(E338),\"\",IF('PS-Calcs'!J335=\"Under\",\"Check\", 0))","v":0},{"$f":"IF('PS-Calcs'!M335=\"Exceeds\",\"Check\",0)","v":0},{"$f":"'PS-Calcs'!O335","v":"NB"},null,{"$f":"'PS-Calcs'!P335","v":"NB"}]
[null,null,null,"Sat",null,null,null,"00:00:00",null,null,"00:00:00",{"$f":"H338","v":"00:00:00"},"00:00:00","00:00:00","00:00:00","00:00:00","00:00:00",{"$f":"IF(H338>0,\"yes\",0)","v":0},0,{"$f":"IF(ISTEXT(E339),\"\",IF('PS-Calcs'!J336=\"Under\",\"Check\", 0))","v":0},{"$f":"IF('PS-Calcs'!M336=\"Exceeds\",\"Check\",0)","v":0},{"$f":"'PS-Calcs'!O336","v":"NB"},null,{"$f":"'PS-Calcs'!P336","v":"NB"}]
[null,null,null,"Sun",null,null,null,"00:00:00",null,null,"00:00:00","00:00:00","00:00:00","00:00:00","00:00:00","00:00:00","00:00:00",0,0,{"$f":"IF(C340=0,\"\",IF(ISTEXT(E340),\"\",IF('PS-Calcs'!J337=\"Under\",\"Check\",0)))","v":0},{"$f":"IF('PS-Calcs'!M337=\"Exceeds\",\"Check\",0)","v":0},{"$f":"'PS-Calcs'!O337","v":"NB"},null,{"$f":"'PS-Calcs'!P337","v":"NB"}]
[null,null,"Week49","Mon",null,null,null,"00:00:00",0,{"$f":"IF(E340=\"\",\"\",AVERAGE(I$4:I340))","v":""},"00:00:00",null,"00:00:00","00:00:00","00:00:00","00:00:00","00:00:00",{"$f":"IF(H340>0,IF(SUM(M340:P340)>0,\"Yes\",\"no\"),0)","v":0},0,{"$f":"IF(ISTEXT(E341),\"\",IF('PS-Calcs'!J338=\"Under\",\"Check\", 0))","v":0},{"$f":"IF('PS-Calcs'!M338=\"Exceeds\",\"Check\",0)","v":0},{"$f":"'PS-Calcs'!O338","v":"NB"},null,{"$f":"'PS-Calcs'!P338","v":"NB"}]
[null,null,null,"Tue",null,null,null,"00:00:00",null,null,"00:00:00",null,"00:00:00","00:00:00","00:00:00","00:00:00","00:00:00",0,0,{"$f":"IF(ISTEXT(E342),\"\",IF('PS-Calcs'!J339=\"Under\",\"Check\", 0))","v":0},{"$f":"IF('PS-Calcs'!M339=\"Exceeds\",\"Check\",0)","v":0},{"$f":"'PS-Calcs'!O339","v":"NB"},null,{"$f":"'PS-Calcs'!P339","v":"NB"}]
[null,null,null,"Wed",null,null,null,"00:00:00",null,null,"00:00:00",null,"00:00:00","00:00:00","00:00:00","00:00:00","00:00:00",0,0,{"$f":"IF(ISTEXT(E343),\"\",IF('PS-Calcs'!J340=\"Under\",\"Check\", 0))","v":0},{"$f":"IF('PS-Calcs'!M340=\"Exceeds\",\"Check\",0)","v":0},{"$f":"'PS-Calcs'!O340","v":"NB"},null,{"$f":"'PS-Calcs'!P340","v":"NB"}]
[null,null,null,"Thu",null,null,null,"00:00:00",null,null,"00:00:00",null,"00:00:00","00:00:00","00:00:00","00:00:00","00:00:00",0,0,{"$f":"IF(ISTEXT(E344),\"\",IF('PS-Calcs'!J341=\"Under\",\"Check\", 0))","v":0},{"$f":"IF('PS-Calcs'!M341=\"Exceeds\",\"Check\",0)","v":0},{"$f":"'PS-Calcs'!O341","v":"NB"},null,{"$f":"'PS-Calcs'!P341","v":"NB"}]
[null,null,null,"Fri",null,null,null,"00:00:00",null,null,0,null,"00:00:00","00:00:00","00:00:00","00:00:00","00:00:00",0,0,{"$f":"IF(ISTEXT(E345),\"\",IF('PS-Calcs'!J342=\"Under\",\"Check\", 0))","v":0},{"$f":"IF('PS-Calcs'!M342=\"Exceeds\",\"Check\",0)","v":0},{"$f":"'PS-Calcs'!O342","v":"NB"},null,{"$f":"'PS-Calcs'!P342","v":"NB"}]
[null,null,null,"Sat",null,null,null,"00:00:00",null,null,"00:00:00",{"$f":"H345","v":"00:00:00"},"00:00:00","00:00:00","00:00:00","00:00:00","00:00:00",{"$f":"IF(H345>0,\"yes\",0)","v":0},0,{"$f":"IF(ISTEXT(E346),\"\",IF('PS-Calcs'!J343=\"Under\",\"Check\", 0))","v":0},{"$f":"IF('PS-Calcs'!M343=\"Exceeds\",\"Check\",0)","v":0},{"$f":"'PS-Calcs'!O343","v":"NB"},null,{"$f":"'PS-Calcs'!P343","v":"NB"}]
[null,null,null,"Sun",null,null,null,"00:00:00",null,null,"00:00:00","00:00:00","00:00:00","00:00:00","00:00:00","00:00:00","00:00:00",0,0,{"$f":"IF(C347=0,\"\",IF(ISTEXT(E347),\"\",IF('PS-Calcs'!J344=\"Under\",\"Check\",0)))","v":0},{"$f":"IF('PS-Calcs'!M344=\"Exceeds\",\"Check\",0)","v":0},{"$f":"'PS-Calcs'!O344","v":"NB"},null,{"$f":"'PS-Calcs'!P344","v":"NB"}]
[null,null,"Week50","Mon",null,null,null,"00:00:00",0,{"$f":"IF(E347=\"\",\"\",AVERAGE(I$4:I347))","v":""},"00:00:00",null,"00:00:00","00:00:00","00:00:00","00:00:00","00:00:00",{"$f":"IF(H347>0,IF(SUM(M347:P347)>0,\"Yes\",\"no\"),0)","v":0},0,{"$f":"IF(ISTEXT(E348),\"\",IF('PS-Calcs'!J345=\"Under\",\"Check\", 0))","v":0},{"$f":"IF('PS-Calcs'!M345=\"Exceeds\",\"Check\",0)","v":0},{"$f":"'PS-Calcs'!O345","v":"NB"},null,{"$f":"'PS-Calcs'!P345","v":"NB"}]
[null,null,null,"Tue",null,null,null,"00:00:00",null,null,"00:00:00",null,"00:00:00","00:00:00","00:00:00","00:00:00","00:00:00",0,0,{"$f":"IF(ISTEXT(E349),\"\",IF('PS-Calcs'!J346=\"Under\",\"Check\", 0))","v":0},{"$f":"IF('PS-Calcs'!M346=\"Exceeds\",\"Check\",0)","v":0},{"$f":"'PS-Calcs'!O346","v":"NB"},null,{"$f":"'PS-Calcs'!P346","v":"NB"}]
[null,null,null,"Wed",null,null,null,"00:00:00",null,null,"00:00:00",null,"00:00:00","00:00:00","00:00:00","00:00:00","00:00:00",0,0,{"$f":"IF(ISTEXT(E350),\"\",IF('PS-Calcs'!J347=\"Under\",\"Check\", 0))","v":0},{"$f":"IF('PS-Calcs'!M347=\"Exceeds\",\"Check\",0)","v":0},{"$f":"'PS-Calcs'!O347","v":"NB"},null,{"$f":"'PS-Calcs'!P347","v":"NB"}]
[null,null,null,"Thu",null,null,null,"00:00:00",null,null,"00:00:00",null,"00:00:00","00:00:00","00:00:00","00:00:00","00:00:00",0,0,{"$f":"IF(ISTEXT(E351),\"\",IF('PS-Calcs'!J348=\"Under\",\"Check\", 0))","v":0},{"$f":"IF('PS-Calcs'!M348=\"Exceeds\",\"Check\",0)","v":0},{"$f":"'PS-Calcs'!O348","v":"NB"},null,{"$f":"'PS-Calcs'!P348","v":"NB"}]
[null,null,null,"Fri",null,null,null,"00:00:00",null,null,0,null,"00:00:00","00:00:00","00:00:00","00:00:00","00:00:00",0,0,{"$f":"IF(ISTEXT(E352),\"\",IF('PS-Calcs'!J349=\"Under\",\"Check\", 0))","v":0},{"$f":"IF('PS-Calcs'!M349=\"Exceeds\",\"Check\",0)","v":0},{"$f":"'PS-Calcs'!O349","v":"NB"},null,{"$f":"'PS-Calcs'!P349","v":"NB"}]
[null,null,null,"Sat",null,null,null,"00:00:00",null,null,"00:00:00",{"$f":"H352","v":"00:00:00"},"00:00:00","00:00:00","00:00:00","00:00:00","00:00:00",{"$f":"IF(H352>0,\"yes\",0)","v":0},0,{"$f":"IF(ISTEXT(E353),\"\",IF('PS-Calcs'!J350=\"Under\",\"Check\", 0))","v":0},{"$f":"IF('PS-Calcs'!M350=\"Exceeds\",\"Check\",0)","v":0},{"$f":"'PS-Calcs'!O350","v":"NB"},null,{"$f":"'PS-Calcs'!P350","v":"NB"}]
[null,null,null,"Sun",null,null,null,"00:00:00",null,null,"00:00:00","00:00:00","00:00:00","00:00:00","00:00:00","00:00:00","00:00:00",0,0,{"$f":"IF(C354=0,\"\",IF(ISTEXT(E354),\"\",IF('PS-Calcs'!J351=\"Under\",\"Check\",0)))","v":0},{"$f":"IF('PS-Calcs'!M351=\"Exceeds\",\"Check\",0)","v":0},{"$f":"'PS-Calcs'!O351","v":"NB"},null,{"$f":"'PS-Calcs'!P351","v":"NB"}]
[null,null,"Week51","Mon",null,null,null,"00:00:00",0,{"$f":"IF(E354=\"\",\"\",AVERAGE(I$4:I354))","v":""},"00:00:00",null,"00:00:00","00:00:00","00:00:00","00:00:00","00:00:00",{"$f":"IF(H354>0,IF(SUM(M354:P354)>0,\"Yes\",\"no\"),0)","v":0},0,{"$f":"IF(ISTEXT(E355),\"\",IF('PS-Calcs'!J352=\"Under\",\"Check\", 0))","v":0},{"$f":"IF('PS-Calcs'!M352=\"Exceeds\",\"Check\",0)","v":0},{"$f":"'PS-Calcs'!O352","v":"NB"},null,{"$f":"'PS-Calcs'!P352","v":"NB"}]
[null,null,null,"Tue",null,null,null,"00:00:00",null,null,"00:00:00",null,"00:00:00","00:00:00","00:00:00","00:00:00","00:00:00",0,0,{"$f":"IF(ISTEXT(E356),\"\",IF('PS-Calcs'!J353=\"Under\",\"Check\", 0))","v":0},{"$f":"IF('PS-Calcs'!M353=\"Exceeds\",\"Check\",0)","v":0},{"$f":"'PS-Calcs'!O353","v":"NB"},null,{"$f":"'PS-Calcs'!P353","v":"NB"}]
[null,null,null,"Wed",null,null,null,"00:00:00",null,null,"00:00:00",null,"00:00:00","00:00:00","00:00:00","00:00:00","00:00:00",0,0,{"$f":"IF(ISTEXT(E357),\"\",IF('PS-Calcs'!J354=\"Under\",\"Check\", 0))","v":0},{"$f":"IF('PS-Calcs'!M354=\"Exceeds\",\"Check\",0)","v":0},{"$f":"'PS-Calcs'!O354","v":"NB"},null,{"$f":"'PS-Calcs'!P354","v":"NB"}]
[null,null,null,"Thu",null,null,null,"00:00:00",null,null,"00:00:00",null,"00:00:00","00:00:00","00:00:00","00:00:00","00:00:00",0,0,{"$f":"IF(ISTEXT(E358),\"\",IF('PS-Calcs'!J355=\"Under\",\"Check\", 0))","v":0},{"$f":"IF('PS-Calcs'!M355=\"Exceeds\",\"Check\",0)","v":0},{"$f":"'PS-Calcs'!O355","v":"NB"},null,{"$f":"'PS-Calcs'!P355","v":"NB"}]
[null,null,null,"Fri",null,null,null,"00:00:00",null,null,0,null,"00:00:00","00:00:00","00:00:00","00:00:00","00:00:00",0,0,{"$f":"IF(ISTEXT(E359),\"\",IF('PS-Calcs'!J356=\"Under\",\"Check\", 0))","v":0},{"$f":"IF('PS-Calcs'!M356=\"Exceeds\",\"Check\",0)","v":0},{"$f":"'PS-Calcs'!O356","v":"NB"},null,{"$f":"'PS-Calcs'!P356","v":"NB"}]
[null,null,null,"Sat",null,null,null,"00:00:00",null,null,"00:00:00",{"$f":"H359","v":"00:00:00"},"00:00:00","00:00:00","00:00:00","00:00:00","00:00:00",{"$f":"IF(H359>0,\"yes\",0)","v":0},0,{"$f":"IF(ISTEXT(E360),\"\",IF('PS-Calcs'!J357=\"Under\",\"Check\", 0))","v":0},{"$f":"IF('PS-Calcs'!M357=\"Exceeds\",\"Check\",0)","v":0},{"$f":"'PS-Calcs'!O357","v":"NB"},null,{"$f":"'PS-Calcs'!P357","v":"NB"}]
[null,null,null,"Sun",null,null,null,"00:00:00",null,null,"00:00:00","00:00:00","00:00:00","00:00:00","00:00:00","00:00:00","00:00:00",0,0,{"$f":"IF(C361=0,\"\",IF(ISTEXT(E361),\"\",IF('PS-Calcs'!J358=\"Under\",\"Check\",0)))","v":0},{"$f":"IF('PS-Calcs'!M358=\"Exceeds\",\"Check\",0)","v":0},{"$f":"'PS-Calcs'!O358","v":"NB"},null,{"$f":"'PS-Calcs'!P358","v":"NB"}]
[null,null,"Week52","Mon",null,null,null,"00:00:00",0,{"$f":"IF(E361=\"\",\"\",AVERAGE(I$4:I361))","v":""},"00:00:00",null,"00:00:00","00:00:00","00:00:00","00:00:00","00:00:00",{"$f":"IF(H361>0,IF(SUM(M361:P361)>0,\"Yes\",\"no\"),0)","v":0},0,{"$f":"IF(ISTEXT(E362),\"\",IF('PS-Calcs'!J359=\"Under\",\"Check\", 0))","v":0},{"$f":"IF('PS-Calcs'!M359=\"Exceeds\",\"Check\",0)","v":0},{"$f":"'PS-Calcs'!O359","v":"NB"},null,{"$f":"'PS-Calcs'!P359","v":"NB"}]
[null,null,null,"Tue",null,null,null,"00:00:00",null,null,"00:00:00",null,"00:00:00","00:00:00","00:00:00","00:00:00","00:00:00",0,0,{"$f":"IF(ISTEXT(E363),\"\",IF('PS-Calcs'!J360=\"Under\",\"Check\", 0))","v":0},{"$f":"IF('PS-Calcs'!M360=\"Exceeds\",\"Check\",0)","v":0},{"$f":"'PS-Calcs'!O360","v":"NB"},null,{"$f":"'PS-Calcs'!P360","v":"NB"}]
[null,null,null,"Wed",null,null,null,"00:00:00",null,null,"00:00:00",null,"00:00:00","00:00:00","00:00:00","00:00:00","00:00:00",0,0,{"$f":"IF(ISTEXT(E364),\"\",IF('PS-Calcs'!J361=\"Under\",\"Check\", 0))","v":0},{"$f":"IF('PS-Calcs'!M361=\"Exceeds\",\"Check\",0)","v":0},{"$f":"'PS-Calcs'!O361","v":"NB"},null,{"$f":"'PS-Calcs'!P361","v":"NB"}]
[null,null,null,"Thu",null,null,null,"00:00:00",null,null,"00:00:00",null,"00:00:00","00:00:00","00:00:00","00:00:00","00:00:00",0,0,{"$f":"IF(ISTEXT(E365),\"\",IF('PS-Calcs'!J362=\"Under\",\"Check\", 0))","v":0},{"$f":"IF('PS-Calcs'!M362=\"Exceeds\",\"Check\",0)","v":0},{"$f":"'PS-Calcs'!O362","v":"NB"},null,{"$f":"'PS-Calcs'!P362","v":"NB"}]
[null,null,null,"Fri",null,null,null,"00:00:00",null,null,0,null,"00:00:00","00:00:00","00:00:00","00:00:00","00:00:00",0,0,{"$f":"IF(ISTEXT(E366),\"\",IF('PS-Calcs'!J363=\"Under\",\"Check\", 0))","v":0},{"$f":"IF('PS-Calcs'!M363=\"Exceeds\",\"Check\",0)","v":0},{"$f":"'PS-Calcs'!O363","v":"NB"},null,{"$f":"'PS-Calcs'!P363","v":"NB"}]
[null,null,null,"Sat",null,null,null,"00:00:00",null,null,"00:00:00",{"$f":"H366","v":"00:00:00"},"00:00:00","00:00:00","00:00:00","00:00:00","00:00:00",{"$f":"IF(H366>0,\"yes\",0)","v":0},0,{"$f":"IF(ISTEXT(E367),\"\",IF('PS-Calcs'!J364=\"Under\",\"Check\", 0))","v":0},{"$f":"IF('PS-Calcs'!M364=\"Exceeds\",\"Check\",0)","v":0},{"$f":"'PS-Calcs'!O364","v":"NB"},null,{"$f":"'PS-Calcs'!P364","v":"NB"}]
[null,null,null,"Sun",null,null,null,"00:00:00",null,null,"00:00:00","00:00:00","00:00:00","00:00:00","00:00:00","00:00:00","00:00:00",0,0,{"$f":"IF(C368=0,\"\",IF(ISTEXT(E368),\"\",IF('PS-Calcs'!J365=\"Under\",\"Check\",0)))","v":0},{"$f":"IF('PS-Calcs'!M365=\"Exceeds\",\"Check\",0)","v":0},{"$f":"'PS-Calcs'!O365","v":"NB"},null,{"$f":"'PS-Calcs'!P365","v":"NB"}]
[null,null,"Week53","Mon",null,null,null,{"$f":"IF(ISTEXT(E368),0,IF(ISTEXT(F368),0,IF(F368<E368,F368+1,F368)-E368-G368))","v":"00:00:00"},{"$f":"SUM(H368:H374)","v":0},{"$f":"IF(E368=\"\",\"\",AVERAGE(I$4:I368))","v":""},{"$f":"IF(F368<E368,F368+1,F368)","v":"00:00:00"},null,{"$f":"IF(H368>0,IF(M$3-E368>0,M$3-E368,0),0)","v":"00:00:00"},{"$f":"IF(H368>0,IF(F368-N$3>0,F368-N$3,0),0)","v":"00:00:00"},{"$f":"IF(H368>0,IF(F368<E368,IF(F368>O$3,O$3,F368),0),0)","v":"00:00:00"},{"$f":"IF(H368>0,IF(E368>F368,IF(E368>N$3,R$3-E368,R$3-P$3),0),0)","v":"00:00:00"},{"$f":"SUM(M368:P368)","v":"00:00:00"},{"$f":"IF(H368>0,IF(SUM(M368:P368)>0,\"Yes\",\"no\"),0)","v":0},{"$f":"IF(H368>0,IF(F368-E368<0,1,IF(E368<0.25,1,IF(F368>(20/24),1,0))),0)","v":0},{"$f":"IF(ISTEXT(E369),\"\",IF('PS-Calcs'!J366=\"Under\",\"Check\", 0))","v":0},null,{"$f":"'PS-Calcs'!O366","v":"NB"},null,{"$f":"'PS-Calcs'!P366","v":"NB"}]
[null,null,null,"Tue",null,null,null,"00:00:00",null,null,"00:00:00",null,"00:00:00","00:00:00","00:00:00","00:00:00","00:00:00",0,0,{"$f":"IF(ISTEXT(E370),\"\",IF('PS-Calcs'!J367=\"Under\",\"Check\", 0))","v":0},null,{"$f":"'PS-Calcs'!O367","v":"B"},null,{"$f":"'PS-Calcs'!P367","v":"NB"}]
[null,null,null,"Wed",null,null,null,"00:00:00",null,null,"00:00:00",null,"00:00:00","00:00:00","00:00:00","00:00:00","00:00:00",0,0,{"$f":"IF(ISTEXT(E371),\"\",IF('PS-Calcs'!J368=\"Under\",\"Check\", 0))","v":0},null,{"$f":"'PS-Calcs'!O368","v":"B"},null,{"$f":"'PS-Calcs'!P368","v":"NB"}]
[null,null,null,"Thu",null,null,null,"00:00:00",null,null,"00:00:00",null,"00:00:00","00:00:00","00:00:00","00:00:00","00:00:00",0,0,{"$f":"IF(ISTEXT(E372),\"\",IF('PS-Calcs'!J369=\"Under\",\"Check\", 0))","v":0},null,{"$f":"'PS-Calcs'!O369","v":"B"},null,{"$f":"'PS-Calcs'!P369","v":"NB"}]
[null,null,null,"Fri",null,null,null,"00:00:00",null,null,0,null,"00:00:00","00:00:00","00:00:00","00:00:00","00:00:00",0,0,{"$f":"IF(ISTEXT(E373),\"\",IF('PS-Calcs'!J370=\"Under\",\"Check\", 0))","v":0},null,{"$f":"'PS-Calcs'!O370","v":"B"},null,{"$f":"'PS-Calcs'!P370","v":"NB"}]
[null,null,null,"Sat",null,null,null,"00:00:00",null,null,"00:00:00",{"$f":"H373","v":"00:00:00"},"00:00:00","00:00:00","00:00:00","00:00:00","00:00:00",{"$f":"IF(H373>0,\"yes\",0)","v":0},0,{"$f":"IF(ISTEXT(E374),\"\",IF('PS-Calcs'!J371=\"Under\",\"Check\", 0))","v":0},null,{"$f":"'PS-Calcs'!O371","v":"B"},null,{"$f":"'PS-Calcs'!P371","v":"NB"}]
[null,null,null,"Sun",null,null,null,"00:00:00",null,null,"00:00:00","00:00:00","00:00:00","00:00:00","00:00:00","00:00:00","00:00:00",0,0,{"$f":"IF(C375=0,\"\",IF(ISTEXT(E375),\"\",IF('PS-Calcs'!J372=\"Under\",\"Check\",0)))","v":""},null,{"$f":"'PS-Calcs'!O372","v":"B"},null,{"$f":"'PS-Calcs'!P372","v":"NB"}]

{"sheet":"Staff proposed","index":6,"n_rows":373,"n_cols":40,"rows_kept":373,"cut":false,"hidden":false,"merged":[[366,8,372,8],[366,9,372,9],[345,8,351,8],[345,9,351,9],[352,8,358,8],[352,9,358,9],[359,8,365,8],[359,9,365,9],[324,8,330,8],[324,9,330,9],[331,8,337,8],[331,9,337,9],[338,8,344,8],[338,9,344,9],[303,8,309,8],[303,9,309,9],[310,8,316,8],[310,9,316,9],[317,8,323,8],[317,9,323,9],[282,8,288,8],[282,9,288,9],[289,8,295,8],[289,9,295,9],[296,8,302,8],[296,9,302,9],[261,8,267,8],[261,9,267,9],[268,8,274,8],[268,9,274,9],[275,8,281,8],[275,9,281,9],[240,8,246,8],[240,9,246,9],[247,8,253,8],[247,9,253,9],[254,8,260,8],[254,9,260,9],[219,8,225,8],[219,9,225,9],[226,8,232,8],[226,9,232,9],[233,8,239,8],[233,9,239,9],[198,8,204,8],[198,9,204,9],[205,8,211,8],[205,9,211,9],[212,8,218,8],[212,9,218,9],[177,8,183,8],[177,9,183,9],[184,8,190,8],[184,9,190,9],[191,8,197,8],[191,9,197,9],[156,8,162,8],[156,9,162,9],[163,8,169,8],[163,9,169,9],[170,8,176,8],[170,9,176,9],[135,8,141,8],[135,9,141,9],[142,8,148,8],[142,9,148,9],[149,8,155,8],[149,9,155,9],[114,8,120,8],[114,9,120,9],[121,8,127,8],[121,9,127,9],[128,8,134,8],[128,9,134,9],[93,8,99,8],[93,9,99,9],[100,8,106,8],[100,9,106,9],[107,8,113,8],[107,9,113,9],[72,8,78,8],[72,9,78,9],[79,8,85,8],[79,9,85,9],[86,8,92,8],[86,9,92,9],[51,8,57,8],[51,9,57,9],[58,8,64,8],[58,9,64,9],[65,8,71,8],[65,9,71,9],[30,8,36,8],[30,9,36,9],[37,8,43,8],[37,9,43,9],[44,8,50,8],[44,9,50,9],[1,1,1,3],[9,8,15,8],[9,9,15,9],[16,8,22,8],[16,9,22,9],[2,41,4,43],[22,27,24,28],[2,8,8,8],[2,9,8,9],[23,8,29,8],[23,9,29,9],[26,27,28,28]]}
[]
[null,"Police Staff - Proposed Pattern",null,null,"Start Time","Finish Time","Unpaid Meal Break","Daily Hours","Week Total","Running Average","latest finish","weekend","07:00:00","18:30:00","07:00:00","18:30:00","sum",1,null,"11 Hours Check","6 Day Check","7 Days","14 Days","14 Days",null,{"$f":"AC6","v":0},null,{"$f":"'Staff current'!AB3","v":"Type name here"},{"$f":"'Staff current'!AC3","v":"Type Force No. here"}]
[null,null,"Week1","Mon",null,null,null,{"$f":"IF(ISTEXT(E3),0,IF(ISTEXT(F3),0,IF(F3<E3,F3+1,F3)-E3-G3))","v":"00:00:00"},{"$f":"SUM(H3:H9)","v":0},{"$f":"IF(E3=\"\",\"\",AVERAGE(I$3:I3))","v":""},{"$f":"IF(F3<E3,F3+1,F3)","v":"00:00:00"},null,{"$f":"IF(H3>0,IF(M$2-E3>0,M$2-E3,0),0)","v":"00:00:00"},{"$f":"IF(H3>0,IF(F3-N$2>0,F3-N$2,0),0)","v":"00:00:00"},{"$f":"IF(H3>0,IF(F3<E3,IF(F3>O$2,O$2,F3),0),0)","v":"00:00:00"},{"$f":"IF(H3>0,IF(E3>F3,IF(E3>N$2,R$2-E3,R$2-P$2),0),0)","v":"00:00:00"},{"$f":"SUM(M3:P3)","v":"00:00:00"},{"$f":"IF(H3>0,IF(SUM(M3:P3)>0,\"Yes\",\"no\"),0)","v":0},{"$f":"IF(H3>0,IF(F3-E3<0,1,IF(E3<0.25,1,IF(F3>(20/24),1,0))),0)","v":0},{"$f":"IF(ISTEXT(E4),\"\",IF('PS-Calcs'!J2=\"Under\",\"Check\", 0))","v":0},{"$f":"IF('PS-Calcs'!M2=\"Exceeds\",\"Check\",0)","v":0},{"$f":"'PS-Calcs'!O2","v":"B"},null,{"$f":"'PS-Calcs'!P2","v":"B"},null,null,null,{"$f":"IF(AC4<=52,AC4,52.143)","v":52.143000000000001},{"$f":"IF(AB3<=52,AB3,52.143)","v":52.143000000000001},null,null,null,null,null,null,null,null,null,{"$f":"SUM($L$3:OFFSET($L$3,(($AC$3*7)-1),0))","v":"00:00:00"}]
[null,null,null,"Tue",null,null,null,{"$f":"IF(ISTEXT(E4),0,IF(ISTEXT(F4),0,IF(F4<E4,F4+1,F4)-E4-G4))","v":"00:00:00"},null,null,"00:00:00",null,"00:00:00","00:00:00","00:00:00","00:00:00",{"$f":"SUM(M4:P4)","v":"00:00:00"},{"$f":"IF(H4>0,IF(SUM(M4:P4)>0,\"Yes\",\"no\"),0)","v":0},0,{"$f":"IF(ISTEXT(E5),\"\",IF('PS-Calcs'!J3=\"Under\",\"Check\", 0))","v":0},{"$f":"IF('PS-Calcs'!M3=\"Exceeds\",\"Check\",0)","v":0},{"$f":"'PS-Calcs'!O3","v":"B"},null,{"$f":"'PS-Calcs'!P3","v":"B"},null,null,null,"Please select number of weeks in pattern",53,null,null,null,null,null,null,null,"Earliest start time =",{"$f":"MIN($E$3:OFFSET($E$3,(($AC$3*7)-1),0))","v":"00:00:00"}]
[null,null,null,"Wed",null,null,null,"00:00:00",null,null,"00:00:00",null,"00:00:00","00:00:00","00:00:00","00:00:00","00:00:00",{"$f":"IF(H5>0,IF(SUM(M5:P5)>0,\"Yes\",\"no\"),0)","v":0},0,{"$f":"IF(ISTEXT(E6),\"\",IF('PS-Calcs'!J4=\"Under\",\"Check\", 0))","v":0},{"$f":"IF('PS-Calcs'!M4=\"Exceeds\",\"Check\",0)","v":0},{"$f":"'PS-Calcs'!O4","v":"B"},null,{"$f":"'PS-Calcs'!P4","v":"B"},null,null,null,null,null,null,null,null,null,null,null,null,"Latest start time =",{"$f":"MAX($E$3:OFFSET($E$3,(($AC$3*7)-1),0))","v":"00:00:00"}]
[null,null,null,"Thu",null,null,null,"00:00:00",null,null,"00:00:00",null,"00:00:00","00:00:00","00:00:00","00:00:00","00:00:00",{"$f":"IF(H6>0,IF(SUM(M6:P6)>0,\"Yes\",\"no\"),0)","v":0},0,{"$f":"IF(ISTEXT(E7),\"\",IF('PS-Calcs'!J5=\"Under\",\"Check\", 0))","v":0},{"$f":"IF('PS-Calcs'!M5=\"Exceeds\",\"Check\",0)","v":0},{"$f":"'PS-Calcs'!O5","v":"B"},null,{"$f":"'PS-Calcs'!P5","v":"B"},null,null,null,"Average Weekly Hours",{"$f":"IF(AB3>\"\",SUM($I$3:OFFSET($I$3,(($AC$3*7)-1),0))/AC3,SUM($I$3:OFFSET($I$3,(($AC$3*7)-1),0))/AB3)","v":0},null,null,null,null,null,null,null,"Latest finish time =",{"$f":"MAX($K$3:OFFSET($K$3,(($AC$3*7)-1),0))","v":"00:00:00"},null,{"$f":"(AC6*24)","v":0}]
[null,null,null,"Fri",null,null,null,"00:00:00",null,null,0,null,"00:00:00","00:00:00","00:00:00","00:00:00","00:00:00",{"$f":"IF(H7>0,IF(SUM(M7:P7)>0,\"Yes\",\"no\"),0)","v":0},0,{"$f":"IF(ISTEXT(E8),\"\",IF('PS-Calcs'!J6=\"Under\",\"Check\", 0))","v":0},{"$f":"IF('PS-Calcs'!M6=\"Exceeds\",\"Check\",0)","v":0},{"$f":"'PS-Calcs'!O6","v":"B"},null,{"$f":"'PS-Calcs'!P6","v":"B"},null,null,null,"Decimalised Hours",{"$f":"AC6*24","v":0},null,null,null,null,null,null,null,"More than 50% unsocial hours shifts?",{"$f":"IF(AD9>=AE9,\"yes\",\"no\")","v":"yes"}]
[null,null,null,"Sat",null,null,null,"00:00:00",null,null,"00:00:00",{"$f":"H8","v":"00:00:00"},"00:00:00","00:00:00","00:00:00","00:00:00","00:00:00",{"$f":"IF(H8>0,\"yes\",0)","v":0},0,{"$f":"IF(ISTEXT(E9),\"\",IF('PS-Calcs'!J7=\"Under\",\"Check\", 0))","v":0},{"$f":"IF('PS-Calcs'!M7=\"Exceeds\",\"Check\",0)","v":0},{"$f":"'PS-Calcs'!O7","v":"B"},null,{"$f":"'PS-Calcs'!P7","v":"B"},null,null,null,null,null,null,null,null,null,null,null,null,"Shift period >= 18 hours?",{"$f":"IF(AD10>=0.75,\"yes\",\"no\")","v":"no"}]
[null,null,null,"Sun",null,null,null,"00:00:00",null,null,"00:00:00",{"$f":"H9","v":"00:00:00"},"00:00:00","00:00:00","00:00:00","00:00:00","00:00:00",{"$f":"IF(H9>0,\"yes\",0)","v":0},0,{"$f":"IF(C10=0,\"\",IF(ISTEXT(E10),\"\",IF('PS-Calcs'!J8=\"Under\",\"Check\",0)))","v":0},{"$f":"IF('PS-Calcs'!M8=\"Exceeds\",\"Check\",0)","v":0},{"$f":"'PS-Calcs'!O8","v":"NB"},null,{"$f":"'PS-Calcs'!P8","v":"B"},null,null,null,"Allowances",null,{"$f":"COUNTIF($R$3:OFFSET($R$3,(($AC$3*7)-1),0),\"yes\")","v":0},{"$f":"COUNTIF($R$3:OFFSET($R$3,(($AC$3*7)-1),0),\"no\")","v":0},null,null,null,null,null,"Shift period > 14 hours AND <18 hours?",{"$f":"IF(AL8=\"no\",IF(AD10>0.584,\"yes\",\"no\"),\"no\")","v":"no"}]
[null,null,"Week2","Mon",null,null,null,"00:00:00",{"$f":"SUM(H10:H16)","v":0},{"$f":"IF(E10=\"\",\"\",AVERAGE(I$3:I10))","v":""},{"$f":"IF(F10<E10,F10+1,F10)","v":"00:00:00"},null,{"$f":"IF(H10>0,IF(M$2-E10>0,M$2-E10,0),0)","v":"00:00:00"},{"$f":"IF(H10>0,IF(F10-N$2>0,F10-N$2,0),0)","v":"00:00:00"},{"$f":"IF(H10>0,IF(F10<E10,IF(F10>O$2,O$2,F10),0),0)","v":"00:00:00"},{"$f":"IF(H10>0,IF(E10>F10,IF(E10>N$2,R$2-E10,R$2-P$2),0),0)","v":"00:00:00"},"00:00:00",{"$f":"IF(H10>0,IF(SUM(M10:P10)>0,\"Yes\",\"no\"),0)","v":0},{"$f":"IF(H10>0,IF(F10-E10<0,1,IF(E10<0.25,1,IF(F10>(20/24),1,0))),0)","v":0},{"$f":"IF(ISTEXT(E11),\"\",IF('PS-Calcs'!J9=\"Under\",\"Check\", 0))","v":0},{"$f":"IF('PS-Calcs'!M9=\"Exceeds\",\"Check\",0)","v":0},{"$f":"'PS-Calcs'!O9","v":"NB"},null,{"$f":"'PS-Calcs'!P9","v":"B"},null,null,null,"Shift Allowance",{"$f":"IF(AC3=1,\"N/A\",IF((AL5-AL4)<(4/24),\"N/A\",IF(AL7=\"no\",\"N/A\",IF(AL8=\"yes\",\"20%\",IF(AL9=\"yes\",\"14%\",IF(AL10=\"yes\",\"12.5%\",\"N/A\"))))))","v":"N/A"},{"$f":"$AL$6-$AL$4","v":0},null,null,null,null,null,null,"Shift period >= 11 AND <= 14 hours?",{"$f":"IF(AL8=\"no\",IF(AL9=\"no\",IF(AD10>=0.4583,\"yes\",\"no\"),\"no\"),\"no\")","v":"no"}]
[null,null,null,"Tue",null,null,null,{"$f":"IF(ISTEXT(E11),0,IF(ISTEXT(F11),0,IF(F11<E11,F11+1,F11)-E11-G11))","v":"00:00:00"},null,null,"00:00:00",null,"00:00:00","00:00:00","00:00:00","00:00:00",{"$f":"SUM(M11:P11)","v":"00:00:00"},0,0,{"$f":"IF(ISTEXT(E12),\"\",IF('PS-Calcs'!J10=\"Under\",\"Check\", 0))","v":0},{"$f":"IF('PS-Calcs'!M10=\"Exceeds\",\"Check\",0)","v":0},{"$f":"'PS-Calcs'!O10","v":"NB"},null,{"$f":"'PS-Calcs'!P10","v":"B"},null,null,null,"Weekend Payment",{"$f":"IF(AL11=\"yes\",\"Time and a Half\",\"No Payment\")","v":"No Payment"},null,null,null,null,null,null,null,"Work weekends?",{"$f":"IF(AM3>0,\"yes\",\"no\")","v":"no"}]
[null,null,null,"Wed",null,null,null,"00:00:00",null,null,"00:00:00",null,"00:00:00","00:00:00","00:00:00","00:00:00","00:00:00",0,0,{"$f":"IF(ISTEXT(E13),\"\",IF('PS-Calcs'!J11=\"Under\",\"Check\", 0))","v":0},{"$f":"IF('PS-Calcs'!M11=\"Exceeds\",\"Check\",0)","v":0},{"$f":"'PS-Calcs'!O11","v":"NB"},null,{"$f":"'PS-Calcs'!P11","v":"B"},null,null,null,"Irregular Hours Payment",{"$f":"IF(AC3=1,\"No Payment\",IF(AC10=\"N/A\",IF(AL12=\"yes\",\"10%\",IF(AL13=\"yes\",\"7.5%\",\"No Payment\")),\"No Payment\"))","v":"No Payment"},null,null,null,null,null,null,null,"> 8hours pw before 07:00 or after 18:30?",{"$f":"IF((SUM($Q$3:OFFSET($Q$3,(($AC$3*7)-1),0))/AC$3)>0.333,\"yes\",\"no\")","v":"no"}]
[null,null,null,"Thu",null,null,null,"00:00:00",null,null,"00:00:00",null,"00:00:00","00:00:00","00:00:00","00:00:00","00:00:00",0,0,{"$f":"IF(ISTEXT(E14),\"\",IF('PS-Calcs'!J12=\"Under\",\"Check\", 0))","v":0},{"$f":"IF('PS-Calcs'!M12=\"Exceeds\",\"Check\",0)","v":0},{"$f":"'PS-Calcs'!O12","v":"NB"},null,{"$f":"'PS-Calcs'!P12","v":"B"},null,null,null,"Night Work Payment",{"$f":"IF(AC10=\"N/A\",IF(AL14=\"yes\",IF(AC12=\"No Payment\",\"Time and a Third\",\"No Payment\"),\"No Payment\"),\"No Payment\")","v":"No Payment"},null,null,null,null,null,null,null,">4 AND <8 hrs pw before 07:00 or after 18:30?",{"$f":"IF(AL12=\"no\",IF((SUM($Q$3:OFFSET($Q$3,(($AC$3*7)-1),0))/AC$3)>0.166,\"yes\",\"no\"),\"no\")","v":"no"}]
[null,null,null,"Fri",null,null,null,"00:00:00",null,null,0,null,"00:00:00","00:00:00","00:00:00","00:00:00","00:00:00",0,0,{"$f":"IF(ISTEXT(E15),\"\",IF('PS-Calcs'!J13=\"Under\",\"Check\", 0))","v":0},{"$f":"IF('PS-Calcs'!M13=\"Exceeds\",\"Check\",0)","v":0},{"$f":"'PS-Calcs'!O13","v":"NB"},null,{"$f":"'PS-Calcs'!P13","v":"B"},null,null,null,null,null,null,null,null,null,null,null,null,"Work between 20:00 and 06:00?",{"$f":"IF((SUM($R$3:OFFSET($S$3,(($AC$3*7)-1),0))/$AC$3)>0,\"yes\",\"no\")","v":"no"}]
[null,null,null,"Sat",null,null,null,"00:00:00",null,null,"00:00:00",{"$f":"H15","v":"00:00:00"},"00:00:00","00:00:00","00:00:00","00:00:00","00:00:00",{"$f":"IF(H15>0,\"yes\",0)","v":0},0,{"$f":"IF(ISTEXT(E16),\"\",IF('PS-Calcs'!J14=\"Under\",\"Check\", 0))","v":0},{"$f":"IF('PS-Calcs'!M14=\"Exceeds\",\"Check\",0)","v":0},{"$f":"'PS-Calcs'!O14","v":"NB"},null,{"$f":"'PS-Calcs'!P14","v":"B"}]
[null,null,null,"Sun",null,null,null,"00:00:00",null,null,"00:00:00","00:00:00","00:00:00","00:00:00","00:00:00","00:00:00","00:00:00",0,0,{"$f":"IF(C17=0,\"\",IF(ISTEXT(E17),\"\",IF('PS-Calcs'!J15=\"Under\",\"Check\",0)))","v":0},{"$f":"IF('PS-Calcs'!M15=\"Exceeds\",\"Check\",0)","v":0},{"$f":"'PS-Calcs'!O15","v":"NB"},null,{"$f":"'PS-Calcs'!P15","v":"B"}]
[null,null,"Week3","Mon",null,null,null,"00:00:00",{"$f":"SUM(H17:H23)","v":0},{"$f":"IF(E17=\"\",\"\",AVERAGE(I$3:I17))","v":""},"00:00:00",null,"00:00:00","00:00:00","00:00:00","00:00:00","00:00:00",{"$f":"IF(H17>0,IF(SUM(M17:P17)>0,\"Yes\",\"no\"),0)","v":0},0,{"$f":"IF(ISTEXT(E18),\"\",IF('PS-Calcs'!J16=\"Under\",\"Check\", 0))","v":0},{"$f":"IF('PS-Calcs'!M16=\"Exceeds\",\"Check\",0)","v":0},{"$f":"'PS-Calcs'!O16","v":"NB"},null,{"$f":"'PS-Calcs'!P16","v":"NB"},null,null,null,"Start Date for Shift Pattern:"]
[null,null,null,"Tue",null,null,null,"00:00:00",null,null,"00:00:00",null,"00:00:00","00:00:00","00:00:00","00:00:00","00:00:00",0,0,{"$f":"IF(ISTEXT(E19),\"\",IF('PS-Calcs'!J17=\"Under\",\"Check\", 0))","v":0},{"$f":"IF('PS-Calcs'!M17=\"Exceeds\",\"Check\",0)","v":0},{"$f":"'PS-Calcs'!O17","v":"NB"},null,{"$f":"'PS-Calcs'!P17","v":"NB"},null,null,null,null,{"$f":"TEXT(AB18, \"ddd\")","v":"Sat"}]
[null,null,null,"Wed",null,null,null,"00:00:00",null,null,"00:00:00",null,"00:00:00","00:00:00","00:00:00","00:00:00","00:00:00",0,0,{"$f":"IF(ISTEXT(E20),\"\",IF('PS-Calcs'!J18=\"Under\",\"Check\", 0))","v":0},{"$f":"IF('PS-Calcs'!M18=\"Exceeds\",\"Check\",0)","v":0},{"$f":"'PS-Calcs'!O18","v":"NB"},null,{"$f":"'PS-Calcs'!P18","v":"NB"}]
[null,null,null,"Thu",null,null,null,"00:00:00",null,null,"00:00:00",null,"00:00:00","00:00:00","00:00:00","00:00:00","00:00:00",0,0,{"$f":"IF(ISTEXT(E21),\"\",IF('PS-Calcs'!J19=\"Under\",\"Check\", 0))","v":0},{"$f":"IF('PS-Calcs'!M19=\"Exceeds\",\"Check\",0)","v":0},{"$f":"'PS-Calcs'!O19","v":"NB"},null,{"$f":"'PS-Calcs'!P19","v":"NB"},null,null,null,"Week number you wish the pattern to start on:"]
[null,null,null,"Fri",null,null,null,"00:00:00",null,null,0,null,"00:00:00","00:00:00","00:00:00","00:00:00","00:00:00",0,0,{"$f":"IF(ISTEXT(E22),\"\",IF('PS-Calcs'!J20=\"Under\",\"Check\", 0))","v":0},{"$f":"IF('PS-Calcs'!M20=\"Exceeds\",\"Check\",0)","v":0},{"$f":"'PS-Calcs'!O20","v":"NB"},null,{"$f":"'PS-Calcs'!P20","v":"NB"}]
[null,null,null,"Sat",null,null,null,"00:00:00",null,null,"00:00:00",{"$f":"H22","v":"00:00:00"},"00:00:00","00:00:00","00:00:00","00:00:00","00:00:00",{"$f":"IF(H22>0,\"yes\",0)","v":0},0,{"$f":"IF(ISTEXT(E23),\"\",IF('PS-Calcs'!J21=\"Under\",\"Check\", 0))","v":0},{"$f":"IF('PS-Calcs'!M21=\"Exceeds\",\"Check\",0)","v":0},{"$f":"'PS-Calcs'!O21","v":"NB"},null,{"$f":"'PS-Calcs'!P21","v":"NB"}]
[null,null,null,"Sun",null,null,null,"00:00:00",null,null,"00:00:00","00:00:00","00:00:00","00:00:00","00:00:00","00:00:00","00:00:00",0,0,{"$f":"IF(C24=0,\"\",IF(ISTEXT(E24),\"\",IF('PS-Calcs'!J22=\"Under\",\"Check\",0)))","v":0},{"$f":"IF('PS-Calcs'!M22=\"Exceeds\",\"Check\",0)","v":0},{"$f":"'PS-Calcs'!O22","v":"NB"},null,{"$f":"'PS-Calcs'!P22","v":"NB"},null,null,null,{"$f":"IF(AC6>'PS-Calcs'!Q1,\"The average number of hours exceeds 37, please review\",\"\")","v":""}]
[null,null,"Week4","Mon",null,null,null,"00:00:00",{"$f":"SUM(H24:H30)","v":0},{"$f":"IF(E24=\"\",\"\",AVERAGE(I$3:I24))","v":""},"00:00:00",null,"00:00:00","00:00:00","00:00:00","00:00:00","00:00:00",{"$f":"IF(H24>0,IF(SUM(M24:P24)>0,\"Yes\",\"no\"),0)","v":0},0,{"$f":"IF(ISTEXT(E25),\"\",IF('PS-Calcs'!J23=\"Under\",\"Check\", 0))","v":0},{"$f":"IF('PS-Calcs'!M23=\"Exceeds\",\"Check\",0)","v":0},{"$f":"'PS-Calcs'!O23","v":"NB"},null,{"$f":"'PS-Calcs'!P23","v":"NB"}]
[null,null,null,"Tue",null,null,null,"00:00:00",null,null,"00:00:00",null,"00:00:00","00:00:00","00:00:00","00:00:00","00:00:00",0,0,{"$f":"IF(ISTEXT(E26),\"\",IF('PS-Calcs'!J24=\"Under\",\"Check\", 0))","v":0},{"$f":"IF('PS-Calcs'!M24=\"Exceeds\",\"Check\",0)","v":0},{"$f":"'PS-Calcs'!O24","v":"NB"},null,{"$f":"'PS-Calcs'!P24","v":"NB"}]
[null,null,null,"Wed",null,null,null,"00:00:00",null,null,"00:00:00",null,"00:00:00","00:00:00","00:00:00","00:00:00","00:00:00",0,0,{"$f":"IF(ISTEXT(E27),\"\",IF('PS-Calcs'!J25=\"Under\",\"Check\", 0))","v":0},{"$f":"IF('PS-Calcs'!M25=\"Exceeds\",\"Check\",0)","v":0},{"$f":"'PS-Calcs'!O25","v":"NB"},null,{"$f":"'PS-Calcs'!P25","v":"NB"}]
[null,null,null,"Thu",null,null,null,"00:00:00",null,null,"00:00:00",null,"00:00:00","00:00:00","00:00:00","00:00:00","00:00:00",0,0,{"$f":"IF(ISTEXT(E28),\"\",IF('PS-Calcs'!J26=\"Under\",\"Check\", 0))","v":0},{"$f":"IF('PS-Calcs'!M26=\"Exceeds\",\"Check\",0)","v":0},{"$f":"'PS-Calcs'!O26","v":"NB"},null,{"$f":"'PS-Calcs'!P26","v":"NB"},null,null,null,"Please note: you only need to complete the relevant number of weeks in your working pattern. "]
[null,null,null,"Fri",null,null,null,"00:00:00",null,null,0,null,"00:00:00","00:00:00","00:00:00","00:00:00","00:00:00",0,0,{"$f":"IF(ISTEXT(E29),\"\",IF('PS-Calcs'!J27=\"Under\",\"Check\", 0))","v":0},{"$f":"IF('PS-Calcs'!M27=\"Exceeds\",\"Check\",0)","v":0},{"$f":"'PS-Calcs'!O27","v":"NB"},null,{"$f":"'PS-Calcs'!P27","v":"NB"}]
[null,null,null,"Sat",null,null,null,"00:00:00",null,null,"00:00:00",{"$f":"H29","v":"00:00:00"},"00:00:00","00:00:00","00:00:00","00:00:00","00:00:00",{"$f":"IF(H29>0,\"yes\",0)","v":0},0,{"$f":"IF(ISTEXT(E30),\"\",IF('PS-Calcs'!J28=\"Under\",\"Check\", 0))","v":0},{"$f":"IF('PS-Calcs'!M28=\"Exceeds\",\"Check\",0)","v":0},{"$f":"'PS-Calcs'!O28","v":"NB"},null,{"$f":"'PS-Calcs'!P28","v":"NB"}]
[null,null,null,"Sun",null,null,null,"00:00:00",null,null,"00:00:00","00:00:00","00:00:00","00:00:00","00:00:00","00:00:00","00:00:00",0,0,{"$f":"IF(C31=0,\"\",IF(ISTEXT(E31),\"\",IF('PS-Calcs'!J29=\"Under\",\"Check\",0)))","v":0},{"$f":"IF('PS-Calcs'!M29=\"Exceeds\",\"Check\",0)","v":0},{"$f":"'PS-Calcs'!O29","v":"NB"},null,{"$f":"'PS-Calcs'!P29","v":"NB"}]
[null,null,"Week5","Mon",null,null,null,"00:00:00",{"$f":"SUM(H31:H37)","v":0},{"$f":"IF(E31=\"\",\"\",AVERAGE(I$3:I31))","v":""},"00:00:00",null,"00:00:00","00:00:00","00:00:00","00:00:00","00:00:00",{"$f":"IF(H31>0,IF(SUM(M31:P31)>0,\"Yes\",\"no\"),0)","v":0},0,{"$f":"IF(ISTEXT(E32),\"\",IF('PS-Calcs'!J30=\"Under\",\"Check\", 0))","v":0},{"$f":"IF('PS-Calcs'!M30=\"Exceeds\",\"Check\",0)","v":0},{"$f":"'PS-Calcs'!O30","v":"NB"},null,{"$f":"'PS-Calcs'!P30","v":"NB"}]
[null,null,null,"Tue",null,null,null,"00:00:00",null,null,"00:00:00",null,"00:00:00","00:00:00","00:00:00","00:00:00","00:00:00",0,0,{"$f":"IF(ISTEXT(E33),\"\",IF('PS-Calcs'!J31=\"Under\",\"Check\", 0))","v":0},{"$f":"IF('PS-Calcs'!M31=\"Exceeds\",\"Check\",0)","v":0},{"$f":"'PS-Calcs'!O31","v":"NB"},null,{"$f":"'PS-Calcs'!P31","v":"NB"}]
[null,null,null,"Wed",null,null,null,"00:00:00",null,null,"00:00:00",null,"00:00:00","00:00:00","00:00:00","00:00:00","00:00:00",0,0,{"$f":"IF(ISTEXT(E34),\"\",IF('PS-Calcs'!J32=\"Under\",\"Check\", 0))","v":0},{"$f":"IF('PS-Calcs'!M32=\"Exceeds\",\"Check\",0)","v":0},{"$f":"'PS-Calcs'!O32","v":"NB"},null,{"$f":"'PS-Calcs'!P32","v":"NB"}]
[null,null,null,"Thu",null,null,null,"00:00:00",null,null,"00:00:00",null,"00:00:00","00:00:00","00:00:00","00:00:00","00:00:00",0,0,{"$f":"IF(ISTEXT(E35),\"\",IF('PS-Calcs'!J33=\"Under\",\"Check\", 0))","v":0},{"$f":"IF('PS-Calcs'!M33=\"Exceeds\",\"Check\",0)","v":0},{"$f":"'PS-Calcs'!O33","v":"NB"},null,{"$f":"'PS-Calcs'!P33","v":"NB"}]
[null,null,null,"Fri",null,null,null,"00:00:00",null,null,0,null,"00:00:00","00:00:00","00:00:00","00:00:00","00:00:00",0,0,{"$f":"IF(ISTEXT(E36),\"\",IF('PS-Calcs'!J34=\"Under\",\"Check\", 0))","v":0},{"$f":"IF('PS-Calcs'!M34=\"Exceeds\",\"Check\",0)","v":0},{"$f":"'PS-Calcs'!O34","v":"NB"},null,{"$f":"'PS-Calcs'!P34","v":"NB"}]
[null,null,null,"Sat",null,null,null,"00:00:00",null,null,"00:00:00",{"$f":"H36","v":"00:00:00"},"00:00:00","00:00:00","00:00:00","00:00:00","00:00:00",{"$f":"IF(H36>0,\"yes\",0)","v":0},0,{"$f":"IF(ISTEXT(E37),\"\",IF('PS-Calcs'!J35=\"Under\",\"Check\", 0))","v":0},{"$f":"IF('PS-Calcs'!M35=\"Exceeds\",\"Check\",0)","v":0},{"$f":"'PS-Calcs'!O35","v":"NB"},null,{"$f":"'PS-Calcs'!P35","v":"NB"}]
[null,null,null,"Sun",null,null,null,"00:00:00",null,null,"00:00:00","00:00:00","00:00:00","00:00:00","00:00:00","00:00:00","00:00:00",0,0,{"$f":"IF(C38=0,\"\",IF(ISTEXT(E38),\"\",IF('PS-Calcs'!J36=\"Under\",\"Check\",0)))","v":0},{"$f":"IF('PS-Calcs'!M36=\"Exceeds\",\"Check\",0)","v":0},{"$f":"'PS-Calcs'!O36","v":"NB"},null,{"$f":"'PS-Calcs'!P36","v":"NB"}]
[null,null,"Week6","Mon",null,null,null,"00:00:00",{"$f":"SUM(H38:H44)","v":0},{"$f":"IF(E38=\"\",\"\",AVERAGE(I$3:I38))","v":""},"00:00:00",null,"00:00:00","00:00:00","00:00:00","00:00:00","00:00:00",{"$f":"IF(H38>0,IF(SUM(M38:P38)>0,\"Yes\",\"no\"),0)","v":0},0,{"$f":"IF(ISTEXT(E39),\"\",IF('PS-Calcs'!J37=\"Under\",\"Check\", 0))","v":0},{"$f":"IF('PS-Calcs'!M37=\"Exceeds\",\"Check\",0)","v":0},{"$f":"'PS-Calcs'!O37","v":"NB"},null,{"$f":"'PS-Calcs'!P37","v":"NB"}]
[null,null,null,"Tue",null,null,null,"00:00:00",null,null,"00:00:00",null,"00:00:00","00:00:00","00:00:00","00:00:00","00:00:00",0,0,{"$f":"IF(ISTEXT(E40),\"\",IF('PS-Calcs'!J38=\"Under\",\"Check\", 0))","v":0},{"$f":"IF('PS-Calcs'!M38=\"Exceeds\",\"Check\",0)","v":0},{"$f":"'PS-Calcs'!O38","v":"NB"},null,{"$f":"'PS-Calcs'!P38","v":"NB"}]
[null,null,null,"Wed",null,null,null,"00:00:00",null,null,"00:00:00",null,"00:00:00","00:00:00","00:00:00","00:00:00","00:00:00",0,0,{"$f":"IF(ISTEXT(E41),\"\",IF('PS-Calcs'!J39=\"Under\",\"Check\", 0))","v":0},{"$f":"IF('PS-Calcs'!M39=\"Exceeds\",\"Check\",0)","v":0},{"$f":"'PS-Calcs'!O39","v":"NB"},null,{"$f":"'PS-Calcs'!P39","v":"NB"}]
[null,null,null,"Thu",null,null,null,"00:00:00",null,null,"00:00:00",null,"00:00:00","00:00:00","00:00:00","00:00:00","00:00:00",0,0,{"$f":"IF(ISTEXT(E42),\"\",IF('PS-Calcs'!J40=\"Under\",\"Check\", 0))","v":0},{"$f":"IF('PS-Calcs'!M40=\"Exceeds\",\"Check\",0)","v":0},{"$f":"'PS-Calcs'!O40","v":"NB"},null,{"$f":"'PS-Calcs'!P40","v":"NB"}]
[null,null,null,"Fri",null,null,null,"00:00:00",null,null,0,null,"00:00:00","00:00:00","00:00:00","00:00:00","00:00:00",0,0,{"$f":"IF(ISTEXT(E43),\"\",IF('PS-Calcs'!J41=\"Under\",\"Check\", 0))","v":0},{"$f":"IF('PS-Calcs'!M41=\"Exceeds\",\"Check\",0)","v":0},{"$f":"'PS-Calcs'!O41","v":"NB"},null,{"$f":"'PS-Calcs'!P41","v":"NB"}]
[null,null,null,"Sat",null,null,null,"00:00:00",null,null,"00:00:00",{"$f":"H43","v":"00:00:00"},"00:00:00","00:00:00","00:00:00","00:00:00","00:00:00",{"$f":"IF(H43>0,\"yes\",0)","v":0},0,{"$f":"IF(ISTEXT(E44),\"\",IF('PS-Calcs'!J42=\"Under\",\"Check\", 0))","v":0},{"$f":"IF('PS-Calcs'!M42=\"Exceeds\",\"Check\",0)","v":0},{"$f":"'PS-Calcs'!O42","v":"NB"},null,{"$f":"'PS-Calcs'!P42","v":"NB"}]
[null,null,null,"Sun",null,null,null,"00:00:00",null,null,"00:00:00","00:00:00","00:00:00","00:00:00","00:00:00","00:00:00","00:00:00",0,0,{"$f":"IF(C45=0,\"\",IF(ISTEXT(E45),\"\",IF('PS-Calcs'!J43=\"Under\",\"Check\",0)))","v":0},{"$f":"IF('PS-Calcs'!M43=\"Exceeds\",\"Check\",0)","v":0},{"$f":"'PS-Calcs'!O43","v":"NB"},null,{"$f":"'PS-Calcs'!P43","v":"NB"}]
[null,null,"Week7","Mon",null,null,null,"00:00:00",{"$f":"SUM(H45:H51)","v":0},{"$f":"IF(E45=\"\",\"\",AVERAGE(I$3:I45))","v":""},"00:00:00",null,"00:00:00","00:00:00","00:00:00","00:00:00","00:00:00",{"$f":"IF(H45>0,IF(SUM(M45:P45)>0,\"Yes\",\"no\"),0)","v":0},0,{"$f":"IF(ISTEXT(E46),\"\",IF('PS-Calcs'!J44=\"Under\",\"Check\", 0))","v":0},{"$f":"IF('PS-Calcs'!M44=\"Exceeds\",\"Check\",0)","v":0},{"$f":"'PS-Calcs'!O44","v":"NB"},null,{"$f":"'PS-Calcs'!P44","v":"NB"}]
[null,null,null,"Tue",null,null,null,"00:00:00",null,null,"00:00:00",null,"00:00:00","00:00:00","00:00:00","00:00:00","00:00:00",0,0,{"$f":"IF(ISTEXT(E47),\"\",IF('PS-Calcs'!J45=\"Under\",\"Check\", 0))","v":0},{"$f":"IF('PS-Calcs'!M45=\"Exceeds\",\"Check\",0)","v":0},{"$f":"'PS-Calcs'!O45","v":"NB"},null,{"$f":"'PS-Calcs'!P45","v":"NB"}]
[null,null,null,"Wed",null,null,null,"00:00:00",null,null,"00:00:00",null,"00:00:00","00:00:00","00:00:00","00:00:00","00:00:00",0,0,{"$f":"IF(ISTEXT(E48),\"\",IF('PS-Calcs'!J46=\"Under\",\"Check\", 0))","v":0},{"$f":"IF('PS-Calcs'!M46=\"Exceeds\",\"Check\",0)","v":0},{"$f":"'PS-Calcs'!O46","v":"NB"},null,{"$f":"'PS-Calcs'!P46","v":"NB"}]
[null,null,null,"Thu",null,null,null,"00:00:00",null,null,"00:00:00",null,"00:00:00","00:00:00","00:00:00","00:00:00","00:00:00",0,0,{"$f":"IF(ISTEXT(E49),\"\",IF('PS-Calcs'!J47=\"Under\",\"Check\", 0))","v":0},{"$f":"IF('PS-Calcs'!M47=\"Exceeds\",\"Check\",0)","v":0},{"$f":"'PS-Calcs'!O47","v":"NB"},null,{"$f":"'PS-Calcs'!P47","v":"NB"}]
[null,null,null,"Fri",null,null,null,"00:00:00",null,null,0,null,"00:00:00","00:00:00","00:00:00","00:00:00","00:00:00",0,0,{"$f":"IF(ISTEXT(E50),\"\",IF('PS-Calcs'!J48=\"Under\",\"Check\", 0))","v":0},{"$f":"IF('PS-Calcs'!M48=\"Exceeds\",\"Check\",0)","v":0},{"$f":"'PS-Calcs'!O48","v":"NB"},null,{"$f":"'PS-Calcs'!P48","v":"NB"}]
[null,null,null,"Sat",null,null,null,"00:00:00",null,null,"00:00:00",{"$f":"H50","v":"00:00:00"},"00:00:00","00:00:00","00:00:00","00:00:00","00:00:00",{"$f":"IF(H50>0,\"yes\",0)","v":0},0,{"$f":"IF(ISTEXT(E51),\"\",IF('PS-Calcs'!J49=\"Under\",\"Check\", 0))","v":0},{"$f":"IF('PS-Calcs'!M49=\"Exceeds\",\"Check\",0)","v":0},{"$f":"'PS-Calcs'!O49","v":"NB"},null,{"$f":"'PS-Calcs'!P49","v":"NB"}]
[null,null,null,"Sun",null,null,null,"00:00:00",null,null,"00:00:00","00:00:00","00:00:00","00:00:00","00:00:00","00:00:00","00:00:00",0,0,{"$f":"IF(C52=0,\"\",IF(ISTEXT(E52),\"\",IF('PS-Calcs'!J50=\"Under\",\"Check\",0)))","v":0},{"$f":"IF('PS-Calcs'!M50=\"Exceeds\",\"Check\",0)","v":0},{"$f":"'PS-Calcs'!O50","v":"NB"},null,{"$f":"'PS-Calcs'!P50","v":"NB"}]
[null,null,"Week8","Mon",null,null,null,"00:00:00",{"$f":"SUM(H52:H58)","v":0},{"$f":"IF(E52=\"\",\"\",AVERAGE(I$3:I52))","v":""},"00:00:00",null,"00:00:00","00:00:00","00:00:00","00:00:00","00:00:00",{"$f":"IF(H52>0,IF(SUM(M52:P52)>0,\"Yes\",\"no\"),0)","v":0},0,{"$f":"IF(ISTEXT(E53),\"\",IF('PS-Calcs'!J51=\"Under\",\"Check\", 0))","v":0},{"$f":"IF('PS-Calcs'!M51=\"Exceeds\",\"Check\",0)","v":0},{"$f":"'PS-Calcs'!O51","v":"NB"},null,{"$f":"'PS-Calcs'!P51","v":"NB"}]
[null,null,null,"Tue",null,null,null,"00:00:00",null,null,"00:00:00",null,"00:00:00","00:00:00","00:00:00","00:00:00","00:00:00",0,0,{"$f":"IF(ISTEXT(E54),\"\",IF('PS-Calcs'!J52=\"Under\",\"Check\", 0))","v":0},{"$f":"IF('PS-Calcs'!M52=\"Exceeds\",\"Check\",0)","v":0},{"$f":"'PS-Calcs'!O52","v":"NB"},null,{"$f":"'PS-Calcs'!P52","v":"NB"}]
[null,null,null,"Wed",null,null,null,"00:00:00",null,null,"00:00:00",null,"00:00:00","00:00:00","00:00:00","00:00:00","00:00:00",0,0,{"$f":"IF(ISTEXT(E55),\"\",IF('PS-Calcs'!J53=\"Under\",\"Check\", 0))","v":0},{"$f":"IF('PS-Calcs'!M53=\"Exceeds\",\"Check\",0)","v":0},{"$f":"'PS-Calcs'!O53","v":"NB"},null,{"$f":"'PS-Calcs'!P53","v":"NB"}]
[null,null,null,"Thu",null,null,null,"00:00:00",null,null,"00:00:00",null,"00:00:00","00:00:00","00:00:00","00:00:00","00:00:00",0,0,{"$f":"IF(ISTEXT(E56),\"\",IF('PS-Calcs'!J54=\"Under\",\"Check\", 0))","v":0},{"$f":"IF('PS-Calcs'!M54=\"Exceeds\",\"Check\",0)","v":0},{"$f":"'PS-Calcs'!O54","v":"NB"},null,{"$f":"'PS-Calcs'!P54","v":"NB"}]
[null,null,null,"Fri",null,null,null,"00:00:00",null,null,0,null,"00:00:00","00:00:00","00:00:00","00:00:00","00:00:00",0,0,{"$f":"IF(ISTEXT(E57),\"\",IF('PS-Calcs'!J55=\"Under\",\"Check\", 0))","v":0},{"$f":"IF('PS-Calcs'!M55=\"Exceeds\",\"Check\",0)","v":0},{"$f":"'PS-Calcs'!O55","v":"NB"},null,{"$f":"'PS-Calcs'!P55","v":"NB"}]
[null,null,null,"Sat",null,null,null,"00:00:00",null,null,"00:00:00",{"$f":"H57","v":"00:00:00"},"00:00:00","00:00:00","00:00:00","00:00:00","00:00:00",{"$f":"IF(H57>0,\"yes\",0)","v":0},0,{"$f":"IF(ISTEXT(E58),\"\",IF('PS-Calcs'!J56=\"Under\",\"Check\", 0))","v":0},{"$f":"IF('PS-Calcs'!M56=\"Exceeds\",\"Check\",0)","v":0},{"$f":"'PS-Calcs'!O56","v":"NB"},null,{"$f":"'PS-Calcs'!P56","v":"NB"}]
[null,null,null,"Sun",null,null,null,"00:00:00",null,null,"00:00:00","00:00:00","00:00:00","00:00:00","00:00:00","00:00:00","00:00:00",0,0,{"$f":"IF(C59=0,\"\",IF(ISTEXT(E59),\"\",IF('PS-Calcs'!J57=\"Under\",\"Check\",0)))","v":0},{"$f":"IF('PS-Calcs'!M57=\"Exceeds\",\"Check\",0)","v":0},{"$f":"'PS-Calcs'!O57","v":"NB"},null,{"$f":"'PS-Calcs'!P57","v":"NB"}]
[null,null,"Week9","Mon",null,null,null,"00:00:00",{"$f":"SUM(H59:H65)","v":0},{"$f":"IF(E59=\"\",\"\",AVERAGE(I$3:I59))","v":""},"00:00:00",null,"00:00:00","00:00:00","00:00:00","00:00:00","00:00:00",{"$f":"IF(H59>0,IF(SUM(M59:P59)>0,\"Yes\",\"no\"),0)","v":0},0,{"$f":"IF(ISTEXT(E60),\"\",IF('PS-Calcs'!J58=\"Under\",\"Check\", 0))","v":0},{"$f":"IF('PS-Calcs'!M58=\"Exceeds\",\"Check\",0)","v":0},{"$f":"'PS-Calcs'!O58","v":"NB"},null,{"$f":"'PS-Calcs'!P58","v":"NB"}]
[null,null,null,"Tue",null,null,null,"00:00:00",null,null,"00:00:00",null,"00:00:00","00:00:00","00:00:00","00:00:00","00:00:00",0,0,{"$f":"IF(ISTEXT(E61),\"\",IF('PS-Calcs'!J59=\"Under\",\"Check\", 0))","v":0},{"$f":"IF('PS-Calcs'!M59=\"Exceeds\",\"Check\",0)","v":0},{"$f":"'PS-Calcs'!O59","v":"NB"},null,{"$f":"'PS-Calcs'!P59","v":"NB"}]
[null,null,null,"Wed",null,null,null,"00:00:00",null,null,"00:00:00",null,"00:00:00","00:00:00","00:00:00","00:00:00","00:00:00",0,0,{"$f":"IF(ISTEXT(E62),\"\",IF('PS-Calcs'!J60=\"Under\",\"Check\", 0))","v":0},{"$f":"IF('PS-Calcs'!M60=\"Exceeds\",\"Check\",0)","v":0},{"$f":"'PS-Calcs'!O60","v":"NB"},null,{"$f":"'PS-Calcs'!P60","v":"NB"}]
[null,null,null,"Thu",null,null,null,"00:00:00",null,null,"00:00:00",null,"00:00:00","00:00:00","00:00:00","00:00:00","00:00:00",0,0,{"$f":"IF(ISTEXT(E63),\"\",IF('PS-Calcs'!J61=\"Under\",\"Check\", 0))","v":0},{"$f":"IF('PS-Calcs'!M61=\"Exceeds\",\"Check\",0)","v":0},{"$f":"'PS-Calcs'!O61","v":"NB"},null,{"$f":"'PS-Calcs'!P61","v":"NB"}]
[null,null,null,"Fri",null,null,null,"00:00:00",null,null,0,null,"00:00:00","00:00:00","00:00:00","00:00:00","00:00:00",0,0,{"$f":"IF(ISTEXT(E64),\"\",IF('PS-Calcs'!J62=\"Under\",\"Check\", 0))","v":0},{"$f":"IF('PS-Calcs'!M62=\"Exceeds\",\"Check\",0)","v":0},{"$f":"'PS-Calcs'!O62","v":"NB"},null,{"$f":"'PS-Calcs'!P62","v":"NB"}]
[null,null,null,"Sat",null,null,null,"00:00:00",null,null,"00:00:00",{"$f":"H64","v":"00:00:00"},"00:00:00","00:00:00","00:00:00","00:00:00","00:00:00",{"$f":"IF(H64>0,\"yes\",0)","v":0},0,{"$f":"IF(ISTEXT(E65),\"\",IF('PS-Calcs'!J63=\"Under\",\"Check\", 0))","v":0},{"$f":"IF('PS-Calcs'!M63=\"Exceeds\",\"Check\",0)","v":0},{"$f":"'PS-Calcs'!O63","v":"NB"},null,{"$f":"'PS-Calcs'!P63","v":"NB"}]
[null,null,null,"Sun",null,null,null,"00:00:00",null,null,"00:00:00","00:00:00","00:00:00","00:00:00","00:00:00","00:00:00","00:00:00",0,0,{"$f":"IF(C66=0,\"\",IF(ISTEXT(E66),\"\",IF('PS-Calcs'!J64=\"Under\",\"Check\",0)))","v":0},{"$f":"IF('PS-Calcs'!M64=\"Exceeds\",\"Check\",0)","v":0},{"$f":"'PS-Calcs'!O64","v":"NB"},null,{"$f":"'PS-Calcs'!P64","v":"NB"}]
[null,null,"Week10","Mon",null,null,null,"00:00:00",{"$f":"SUM(H66:H72)","v":0},{"$f":"IF(E66=\"\",\"\",AVERAGE(I$3:I66))","v":""},"00:00:00",null,"00:00:00","00:00:00","00:00:00","00:00:00","00:00:00",{"$f":"IF(H66>0,IF(SUM(M66:P66)>0,\"Yes\",\"no\"),0)","v":0},0,{"$f":"IF(ISTEXT(E67),\"\",IF('PS-Calcs'!J65=\"Under\",\"Check\", 0))","v":0},{"$f":"IF('PS-Calcs'!M65=\"Exceeds\",\"Check\",0)","v":0},{"$f":"'PS-Calcs'!O65","v":"NB"},null,{"$f":"'PS-Calcs'!P65","v":"NB"}]
[null,null,null,"Tue",null,null,null,"00:00:00",null,null,"00:00:00",null,"00:00:00","00:00:00","00:00:00","00:00:00","00:00:00",0,0,{"$f":"IF(ISTEXT(E68),\"\",IF('PS-Calcs'!J66=\"Under\",\"Check\", 0))","v":0},{"$f":"IF('PS-Calcs'!M66=\"Exceeds\",\"Check\",0)","v":0},{"$f":"'PS-Calcs'!O66","v":"NB"},null,{"$f":"'PS-Calcs'!P66","v":"NB"}]
[null,null,null,"Wed",null,null,null,"00:00:00",null,null,"00:00:00",null,"00:00:00","00:00:00","00:00:00","00:00:00","00:00:00",0,0,{"$f":"IF(ISTEXT(E69),\"\",IF('PS-Calcs'!J67=\"Under\",\"Check\", 0))","v":0},{"$f":"IF('PS-Calcs'!M67=\"Exceeds\",\"Check\",0)","v":0},{"$f":"'PS-Calcs'!O67","v":"NB"},null,{"$f":"'PS-Calcs'!P67","v":"NB"}]
[null,null,null,"Thu",null,null,null,"00:00:00",null,null,"00:00:00",null,"00:00:00","00:00:00","00:00:00","00:00:00","00:00:00",0,0,{"$f":"IF(ISTEXT(E70),\"\",IF('PS-Calcs'!J68=\"Under\",\"Check\", 0))","v":0},{"$f":"IF('PS-Calcs'!M68=\"Exceeds\",\"Check\",0)","v":0},{"$f":"'PS-Calcs'!O68","v":"NB"},null,{"$f":"'PS-Calcs'!P68","v":"NB"}]
[null,null,null,"Fri",null,null,null,"00:00:00",null,null,0,null,"00:00:00","00:00:00","00:00:00","00:00:00","00:00:00",0,0,{"$f":"IF(ISTEXT(E71),\"\",IF('PS-Calcs'!J69=\"Under\",\"Check\", 0))","v":0},{"$f":"IF('PS-Calcs'!M69=\"Exceeds\",\"Check\",0)","v":0},{"$f":"'PS-Calcs'!O69","v":"NB"},null,{"$f":"'PS-Calcs'!P69","v":"NB"}]
[null,null,null,"Sat",null,null,null,"00:00:00",null,null,"00:00:00",{"$f":"H71","v":"00:00:00"},"00:00:00","00:00:00","00:00:00","00:00:00","00:00:00",{"$f":"IF(H71>0,\"yes\",0)","v":0},0,{"$f":"IF(ISTEXT(E72),\"\",IF('PS-Calcs'!J70=\"Under\",\"Check\", 0))","v":0},{"$f":"IF('PS-Calcs'!M70=\"Exceeds\",\"Check\",0)","v":0},{"$f":"'PS-Calcs'!O70","v":"NB"},null,{"$f":"'PS-Calcs'!P70","v":"NB"}]
[null,null,null,"Sun",null,null,null,"00:00:00",null,null,"00:00:00","00:00:00","00:00:00","00:00:00","00:00:00","00:00:00","00:00:00",0,0,{"$f":"IF(C73=0,\"\",IF(ISTEXT(E73),\"\",IF('PS-Calcs'!J71=\"Under\",\"Check\",0)))","v":0},{"$f":"IF('PS-Calcs'!M71=\"Exceeds\",\"Check\",0)","v":0},{"$f":"'PS-Calcs'!O71","v":"NB"},null,{"$f":"'PS-Calcs'!P71","v":"NB"}]
[null,null,"Week11","Mon",null,null,null,"00:00:00",{"$f":"SUM(H73:H79)","v":0},{"$f":"IF(E73=\"\",\"\",AVERAGE(I$3:I73))","v":""},"00:00:00",null,"00:00:00","00:00:00","00:00:00","00:00:00","00:00:00",{"$f":"IF(H73>0,IF(SUM(M73:P73)>0,\"Yes\",\"no\"),0)","v":0},0,{"$f":"IF(ISTEXT(E74),\"\",IF('PS-Calcs'!J72=\"Under\",\"Check\", 0))","v":0},{"$f":"IF('PS-Calcs'!M72=\"Exceeds\",\"Check\",0)","v":0},{"$f":"'PS-Calcs'!O72","v":"NB"},null,{"$f":"'PS-Calcs'!P72","v":"NB"}]
[null,null,null,"Tue",null,null,null,"00:00:00",null,null,{"$f":"IF(F74<E74,F74+1,F74)","v":"00:00:00"},null,{"$f":"IF(H74>0,IF(M$2-E74>0,M$2-E74,0),0)","v":"00:00:00"},{"$f":"IF(H74>0,IF(F74-N$2>0,F74-N$2,0),0)","v":"00:00:00"},{"$f":"IF(H74>0,IF(F74<E74,IF(F74>O$2,O$2,F74),0),0)","v":"00:00:00"},{"$f":"IF(H74>0,IF(E74>F74,IF(E74>N$2,R$2-E74,R$2-P$2),0),0)","v":"00:00:00"},"00:00:00",0,{"$f":"IF(H74>0,IF(F74-E74<0,1,IF(E74<0.25,1,IF(F74>(20/24),1,0))),0)","v":0},{"$f":"IF(ISTEXT(E75),\"\",IF('PS-Calcs'!J73=\"Under\",\"Check\", 0))","v":0},{"$f":"IF('PS-Calcs'!M73=\"Exceeds\",\"Check\",0)","v":0},{"$f":"'PS-Calcs'!O73","v":"NB"},null,{"$f":"'PS-Calcs'!P73","v":"NB"}]
[null,null,null,"Wed",null,null,null,{"$f":"IF(ISTEXT(E75),0,IF(ISTEXT(F75),0,IF(F75<E75,F75+1,F75)-E75-G75))","v":"00:00:00"},null,null,"00:00:00",null,"00:00:00","00:00:00","00:00:00","00:00:00",{"$f":"SUM(M75:P75)","v":"00:00:00"},0,0,{"$f":"IF(ISTEXT(E76),\"\",IF('PS-Calcs'!J74=\"Under\",\"Check\", 0))","v":0},{"$f":"IF('PS-Calcs'!M74=\"Exceeds\",\"Check\",0)","v":0},{"$f":"'PS-Calcs'!O74","v":"NB"},null,{"$f":"'PS-Calcs'!P74","v":"NB"}]
[null,null,null,"Thu",null,null,null,"00:00:00",null,null,"00:00:00",null,"00:00:00","00:00:00","00:00:00","00:00:00","00:00:00",0,0,{"$f":"IF(ISTEXT(E77),\"\",IF('PS-Calcs'!J75=\"Under\",\"Check\", 0))","v":0},{"$f":"IF('PS-Calcs'!M75=\"Exceeds\",\"Check\",0)","v":0},{"$f":"'PS-Calcs'!O75","v":"NB"},null,{"$f":"'PS-Calcs'!P75","v":"NB"}]
[null,null,null,"Fri",null,null,null,"00:00:00",null,null,0,null,"00:00:00","00:00:00","00:00:00","00:00:00","00:00:00",0,0,{"$f":"IF(ISTEXT(E78),\"\",IF('PS-Calcs'!J76=\"Under\",\"Check\", 0))","v":0},{"$f":"IF('PS-Calcs'!M76=\"Exceeds\",\"Check\",0)","v":0},{"$f":"'PS-Calcs'!O76","v":"NB"},null,{"$f":"'PS-Calcs'!P76","v":"NB"}]
[null,null,null,"Sat",null,null,null,"00:00:00",null,null,"00:00:00",{"$f":"H78","v":"00:00:00"},"00:00:00","00:00:00","00:00:00","00:00:00","00:00:00",{"$f":"IF(H78>0,\"yes\",0)","v":0},0,{"$f":"IF(ISTEXT(E79),\"\",IF('PS-Calcs'!J77=\"Under\",\"Check\", 0))","v":0},{"$f":"IF('PS-Calcs'!M77=\"Exceeds\",\"Check\",0)","v":0},{"$f":"'PS-Calcs'!O77","v":"NB"},null,{"$f":"'PS-Calcs'!P77","v":"NB"}]
[null,null,null,"Sun",null,null,null,"00:00:00",null,null,"00:00:00","00:00:00","00:00:00","00:00:00","00:00:00","00:00:00","00:00:00",0,0,{"$f":"IF(C80=0,\"\",IF(ISTEXT(E80),\"\",IF('PS-Calcs'!J78=\"Under\",\"Check\",0)))","v":0},{"$f":"IF('PS-Calcs'!M78=\"Exceeds\",\"Check\",0)","v":0},{"$f":"'PS-Calcs'!O78","v":"NB"},null,{"$f":"'PS-Calcs'!P78","v":"NB"}]
[null,null,"Week12","Mon",null,null,null,"00:00:00",{"$f":"SUM(H80:H86)","v":0},{"$f":"IF(E80=\"\",\"\",AVERAGE(I$3:I80))","v":""},"00:00:00",null,"00:00:00","00:00:00","00:00:00","00:00:00","00:00:00",{"$f":"IF(H80>0,IF(SUM(M80:P80)>0,\"Yes\",\"no\"),0)","v":0},0,{"$f":"IF(ISTEXT(E81),\"\",IF('PS-Calcs'!J79=\"Under\",\"Check\", 0))","v":0},{"$f":"IF('PS-Calcs'!M79=\"Exceeds\",\"Check\",0)","v":0},{"$f":"'PS-Calcs'!O79","v":"NB"},null,{"$f":"'PS-Calcs'!P79","v":"NB"}]
[null,null,null,"Tue",null,null,null,"00:00:00",null,null,"00:00:00",null,"00:00:00","00:00:00","00:00:00","00:00:00","00:00:00",0,0,{"$f":"IF(ISTEXT(E82),\"\",IF('PS-Calcs'!J80=\"Under\",\"Check\", 0))","v":0},{"$f":"IF('PS-Calcs'!M80=\"Exceeds\",\"Check\",0)","v":0},{"$f":"'PS-Calcs'!O80","v":"NB"},null,{"$f":"'PS-Calcs'!P80","v":"NB"}]
[null,null,null,"Wed",null,null,null,"00:00:00",null,null,"00:00:00",null,"00:00:00","00:00:00","00:00:00","00:00:00","00:00:00",0,0,{"$f":"IF(ISTEXT(E83),\"\",IF('PS-Calcs'!J81=\"Under\",\"Check\", 0))","v":0},{"$f":"IF('PS-Calcs'!M81=\"Exceeds\",\"Check\",0)","v":0},{"$f":"'PS-Calcs'!O81","v":"NB"},null,{"$f":"'PS-Calcs'!P81","v":"NB"}]
[null,null,null,"Thu",null,null,null,"00:00:00",null,null,"00:00:00",null,"00:00:00","00:00:00","00:00:00","00:00:00","00:00:00",0,0,{"$f":"IF(ISTEXT(E84),\"\",IF('PS-Calcs'!J82=\"Under\",\"Check\", 0))","v":0},{"$f":"IF('PS-Calcs'!M82=\"Exceeds\",\"Check\",0)","v":0},{"$f":"'PS-Calcs'!O82","v":"NB"},null,{"$f":"'PS-Calcs'!P82","v":"NB"}]
[null,null,null,"Fri",null,null,null,"00:00:00",null,null,0,null,"00:00:00","00:00:00","00:00:00","00:00:00","00:00:00",0,0,{"$f":"IF(ISTEXT(E85),\"\",IF('PS-Calcs'!J83=\"Under\",\"Check\", 0))","v":0},{"$f":"IF('PS-Calcs'!M83=\"Exceeds\",\"Check\",0)","v":0},{"$f":"'PS-Calcs'!O83","v":"NB"},null,{"$f":"'PS-Calcs'!P83","v":"NB"}]
[null,null,null,"Sat",null,null,null,"00:00:00",null,null,"00:00:00",{"$f":"H85","v":"00:00:00"},"00:00:00","00:00:00","00:00:00","00:00:00","00:00:00",{"$f":"IF(H85>0,\"yes\",0)","v":0},0,{"$f":"IF(ISTEXT(E86),\"\",IF('PS-Calcs'!J84=\"Under\",\"Check\", 0))","v":0},{"$f":"IF('PS-Calcs'!M84=\"Exceeds\",\"Check\",0)","v":0},{"$f":"'PS-Calcs'!O84","v":"NB"},null,{"$f":"'PS-Calcs'!P84","v":"NB"}]
[null,null,null,"Sun",null,null,null,"00:00:00",null,null,"00:00:00","00:00:00","00:00:00","00:00:00","00:00:00","00:00:00","00:00:00",0,0,{"$f":"IF(C87=0,\"\",IF(ISTEXT(E87),\"\",IF('PS-Calcs'!J85=\"Under\",\"Check\",0)))","v":0},{"$f":"IF('PS-Calcs'!M85=\"Exceeds\",\"Check\",0)","v":0},{"$f":"'PS-Calcs'!O85","v":"NB"},null,{"$f":"'PS-Calcs'!P85","v":"NB"}]
[null,null,"Week13","Mon",null,null,null,"00:00:00",{"$f":"SUM(H87:H93)","v":0},{"$f":"IF(E87=\"\",\"\",AVERAGE(I$3:I87))","v":""},"00:00:00",null,"00:00:00","00:00:00","00:00:00","00:00:00","00:00:00",{"$f":"IF(H87>0,IF(SUM(M87:P87)>0,\"Yes\",\"no\"),0)","v":0},0,{"$f":"IF(ISTEXT(E88),\"\",IF('PS-Calcs'!J86=\"Under\",\"Check\", 0))","v":0},{"$f":"IF('PS-Calcs'!M86=\"Exceeds\",\"Check\",0)","v":0},{"$f":"'PS-Calcs'!O86","v":"NB"},null,{"$f":"'PS-Calcs'!P86","v":"NB"}]
[null,null,null,"Tue",null,null,null,"00:00:00",null,null,"00:00:00",null,"00:00:00","00:00:00","00:00:00","00:00:00","00:00:00",0,0,{"$f":"IF(ISTEXT(E89),\"\",IF('PS-Calcs'!J87=\"Under\",\"Check\", 0))","v":0},{"$f":"IF('PS-Calcs'!M87=\"Exceeds\",\"Check\",0)","v":0},{"$f":"'PS-Calcs'!O87","v":"NB"},null,{"$f":"'PS-Calcs'!P87","v":"NB"}]
[null,null,null,"Wed",null,null,null,"00:00:00",null,null,"00:00:00",null,"00:00:00","00:00:00","00:00:00","00:00:00","00:00:00",0,0,{"$f":"IF(ISTEXT(E90),\"\",IF('PS-Calcs'!J88=\"Under\",\"Check\", 0))","v":0},{"$f":"IF('PS-Calcs'!M88=\"Exceeds\",\"Check\",0)","v":0},{"$f":"'PS-Calcs'!O88","v":"NB"},null,{"$f":"'PS-Calcs'!P88","v":"NB"}]
[null,null,null,"Thu",null,null,null,"00:00:00",null,null,"00:00:00",null,"00:00:00","00:00:00","00:00:00","00:00:00","00:00:00",0,0,{"$f":"IF(ISTEXT(E91),\"\",IF('PS-Calcs'!J89=\"Under\",\"Check\", 0))","v":0},{"$f":"IF('PS-Calcs'!M89=\"Exceeds\",\"Check\",0)","v":0},{"$f":"'PS-Calcs'!O89","v":"NB"},null,{"$f":"'PS-Calcs'!P89","v":"NB"}]
[null,null,null,"Fri",null,null,null,"00:00:00",null,null,0,null,"00:00:00","00:00:00","00:00:00","00:00:00","00:00:00",0,0,{"$f":"IF(ISTEXT(E92),\"\",IF('PS-Calcs'!J90=\"Under\",\"Check\", 0))","v":0},{"$f":"IF('PS-Calcs'!M90=\"Exceeds\",\"Check\",0)","v":0},{"$f":"'PS-Calcs'!O90","v":"NB"},null,{"$f":"'PS-Calcs'!P90","v":"NB"}]
[null,null,null,"Sat",null,null,null,"00:00:00",null,null,"00:00:00",{"$f":"H92","v":"00:00:00"},"00:00:00","00:00:00","00:00:00","00:00:00","00:00:00",{"$f":"IF(H92>0,\"yes\",0)","v":0},0,{"$f":"IF(ISTEXT(E93),\"\",IF('PS-Calcs'!J91=\"Under\",\"Check\", 0))","v":0},{"$f":"IF('PS-Calcs'!M91=\"Exceeds\",\"Check\",0)","v":0},{"$f":"'PS-Calcs'!O91","v":"NB"},null,{"$f":"'PS-Calcs'!P91","v":"NB"}]
[null,null,null,"Sun",null,null,null,"00:00:00",null,null,"00:00:00","00:00:00","00:00:00","00:00:00","00:00:00","00:00:00","00:00:00",0,0,{"$f":"IF(C94=0,\"\",IF(ISTEXT(E94),\"\",IF('PS-Calcs'!J92=\"Under\",\"Check\",0)))","v":0},{"$f":"IF('PS-Calcs'!M92=\"Exceeds\",\"Check\",0)","v":0},{"$f":"'PS-Calcs'!O92","v":"NB"},null,{"$f":"'PS-Calcs'!P92","v":"NB"}]
[null,null,"Week14","Mon",null,null,null,"00:00:00",{"$f":"SUM(H94:H100)","v":0},{"$f":"IF(E94=\"\",\"\",AVERAGE(I$3:I94))","v":""},"00:00:00",null,"00:00:00","00:00:00","00:00:00","00:00:00","00:00:00",{"$f":"IF(H94>0,IF(SUM(M94:P94)>0,\"Yes\",\"no\"),0)","v":0},0,{"$f":"IF(ISTEXT(E95),\"\",IF('PS-Calcs'!J93=\"Under\",\"Check\", 0))","v":0},{"$f":"IF('PS-Calcs'!M93=\"Exceeds\",\"Check\",0)","v":0},{"$f":"'PS-Calcs'!O93","v":"NB"},null,{"$f":"'PS-Calcs'!P93","v":"NB"}]
[null,null,null,"Tue",null,null,null,"00:00:00",null,null,"00:00:00",null,"00:00:00","00:00:00","00:00:00","00:00:00","00:00:00",0,0,{"$f":"IF(ISTEXT(E96),\"\",IF('PS-Calcs'!J94=\"Under\",\"Check\", 0))","v":0},{"$f":"IF('PS-Calcs'!M94=\"Exceeds\",\"Check\",0)","v":0},{"$f":"'PS-Calcs'!O94","v":"NB"},null,{"$f":"'PS-Calcs'!P94","v":"NB"}]
[null,null,null,"Wed",null,null,null,"00:00:00",null,null,"00:00:00",null,"00:00:00","00:00:00","00:00:00","00:00:00","00:00:00",0,0,{"$f":"IF(ISTEXT(E97),\"\",IF('PS-Calcs'!J95=\"Under\",\"Check\", 0))","v":0},{"$f":"IF('PS-Calcs'!M95=\"Exceeds\",\"Check\",0)","v":0},{"$f":"'PS-Calcs'!O95","v":"NB"},null,{"$f":"'PS-Calcs'!P95","v":"NB"}]
[null,null,null,"Thu",null,null,null,"00:00:00",null,null,"00:00:00",null,"00:00:00","00:00:00","00:00:00","00:00:00","00:00:00",0,0,{"$f":"IF(ISTEXT(E98),\"\",IF('PS-Calcs'!J96=\"Under\",\"Check\", 0))","v":0},{"$f":"IF('PS-Calcs'!M96=\"Exceeds\",\"Check\",0)","v":0},{"$f":"'PS-Calcs'!O96","v":"NB"},null,{"$f":"'PS-Calcs'!P96","v":"NB"}]
[null,null,null,"Fri",null,null,null,"00:00:00",null,null,0,null,"00:00:00","00:00:00","00:00:00","00:00:00","00:00:00",0,0,{"$f":"IF(ISTEXT(E99),\"\",IF('PS-Calcs'!J97=\"Under\",\"Check\", 0))","v":0},{"$f":"IF('PS-Calcs'!M97=\"Exceeds\",\"Check\",0)","v":0},{"$f":"'PS-Calcs'!O97","v":"NB"},null,{"$f":"'PS-Calcs'!P97","v":"NB"}]
[null,null,null,"Sat",null,null,null,"00:00:00",null,null,"00:00:00",{"$f":"H99","v":"00:00:00"},"00:00:00","00:00:00","00:00:00","00:00:00","00:00:00",{"$f":"IF(H99>0,\"yes\",0)","v":0},0,{"$f":"IF(ISTEXT(E100),\"\",IF('PS-Calcs'!J98=\"Under\",\"Check\", 0))","v":0},{"$f":"IF('PS-Calcs'!M98=\"Exceeds\",\"Check\",0)","v":0},{"$f":"'PS-Calcs'!O98","v":"NB"},null,{"$f":"'PS-Calcs'!P98","v":"NB"}]
[null,null,null,"Sun",null,null,null,"00:00:00",null,null,"00:00:00","00:00:00","00:00:00","00:00:00","00:00:00","00:00:00","00:00:00",0,0,{"$f":"IF(C101=0,\"\",IF(ISTEXT(E101),\"\",IF('PS-Calcs'!J99=\"Under\",\"Check\",0)))","v":0},{"$f":"IF('PS-Calcs'!M99=\"Exceeds\",\"Check\",0)","v":0},{"$f":"'PS-Calcs'!O99","v":"NB"},null,{"$f":"'PS-Calcs'!P99","v":"NB"}]
[null,null,"Week15","Mon",null,null,null,"00:00:00",{"$f":"SUM(H101:H107)","v":0},{"$f":"IF(E101=\"\",\"\",AVERAGE(I$3:I101))","v":""},"00:00:00",null,"00:00:00","00:00:00","00:00:00","00:00:00","00:00:00",{"$f":"IF(H101>0,IF(SUM(M101:P101)>0,\"Yes\",\"no\"),0)","v":0},0,{"$f":"IF(ISTEXT(E102),\"\",IF('PS-Calcs'!J100=\"Under\",\"Check\", 0))","v":0},{"$f":"IF('PS-Calcs'!M100=\"Exceeds\",\"Check\",0)","v":0},{"$f":"'PS-Calcs'!O100","v":"NB"},null,{"$f":"'PS-Calcs'!P100","v":"NB"}]
[null,null,null,"Tue",null,null,null,"00:00:00",null,null,"00:00:00",null,"00:00:00","00:00:00","00:00:00","00:00:00","00:00:00",0,0,{"$f":"IF(ISTEXT(E103),\"\",IF('PS-Calcs'!J101=\"Under\",\"Check\", 0))","v":0},{"$f":"IF('PS-Calcs'!M101=\"Exceeds\",\"Check\",0)","v":0},{"$f":"'PS-Calcs'!O101","v":"NB"},null,{"$f":"'PS-Calcs'!P101","v":"NB"}]
[null,null,null,"Wed",null,null,null,"00:00:00",null,null,"00:00:00",null,"00:00:00","00:00:00","00:00:00","00:00:00","00:00:00",0,0,{"$f":"IF(ISTEXT(E104),\"\",IF('PS-Calcs'!J102=\"Under\",\"Check\", 0))","v":0},{"$f":"IF('PS-Calcs'!M102=\"Exceeds\",\"Check\",0)","v":0},{"$f":"'PS-Calcs'!O102","v":"NB"},null,{"$f":"'PS-Calcs'!P102","v":"NB"}]
[null,null,null,"Thu",null,null,null,"00:00:00",null,null,"00:00:00",null,"00:00:00","00:00:00","00:00:00","00:00:00","00:00:00",0,0,{"$f":"IF(ISTEXT(E105),\"\",IF('PS-Calcs'!J103=\"Under\",\"Check\", 0))","v":0},{"$f":"IF('PS-Calcs'!M103=\"Exceeds\",\"Check\",0)","v":0},{"$f":"'PS-Calcs'!O103","v":"NB"},null,{"$f":"'PS-Calcs'!P103","v":"NB"}]
[null,null,null,"Fri",null,null,null,"00:00:00",null,null,0,null,"00:00:00","00:00:00","00:00:00","00:00:00","00:00:00",0,0,{"$f":"IF(ISTEXT(E106),\"\",IF('PS-Calcs'!J104=\"Under\",\"Check\", 0))","v":0},{"$f":"IF('PS-Calcs'!M104=\"Exceeds\",\"Check\",0)","v":0},{"$f":"'PS-Calcs'!O104","v":"NB"},null,{"$f":"'PS-Calcs'!P104","v":"NB"}]
[null,null,null,"Sat",null,null,null,"00:00:00",null,null,"00:00:00",{"$f":"H106","v":"00:00:00"},"00:00:00","00:00:00","00:00:00","00:00:00","00:00:00",{"$f":"IF(H106>0,\"yes\",0)","v":0},0,{"$f":"IF(ISTEXT(E107),\"\",IF('PS-Calcs'!J105=\"Under\",\"Check\", 0))","v":0},{"$f":"IF('PS-Calcs'!M105=\"Exceeds\",\"Check\",0)","v":0},{"$f":"'PS-Calcs'!O105","v":"NB"},null,{"$f":"'PS-Calcs'!P105","v":"NB"}]
[null,null,null,"Sun",null,null,null,"00:00:00",null,null,"00:00:00","00:00:00","00:00:00","00:00:00","00:00:00","00:00:00","00:00:00",0,0,{"$f":"IF(C108=0,\"\",IF(ISTEXT(E108),\"\",IF('PS-Calcs'!J106=\"Under\",\"Check\",0)))","v":0},{"$f":"IF('PS-Calcs'!M106=\"Exceeds\",\"Check\",0)","v":0},{"$f":"'PS-Calcs'!O106","v":"NB"},null,{"$f":"'PS-Calcs'!P106","v":"NB"}]
[null,null,"Week16","Mon",null,null,null,"00:00:00",{"$f":"SUM(H108:H114)","v":0},{"$f":"IF(E108=\"\",\"\",AVERAGE(I$3:I108))","v":""},"00:00:00",null,"00:00:00","00:00:00","00:00:00","00:00:00","00:00:00",{"$f":"IF(H108>0,IF(SUM(M108:P108)>0,\"Yes\",\"no\"),0)","v":0},0,{"$f":"IF(ISTEXT(E109),\"\",IF('PS-Calcs'!J107=\"Under\",\"Check\", 0))","v":0},{"$f":"IF('PS-Calcs'!M107=\"Exceeds\",\"Check\",0)","v":0},{"$f":"'PS-Calcs'!O107","v":"NB"},null,{"$f":"'PS-Calcs'!P107","v":"NB"}]
[null,null,null,"Tue",null,null,null,"00:00:00",null,null,"00:00:00",null,"00:00:00","00:00:00","00:00:00","00:00:00","00:00:00",0,0,{"$f":"IF(ISTEXT(E110),\"\",IF('PS-Calcs'!J108=\"Under\",\"Check\", 0))","v":0},{"$f":"IF('PS-Calcs'!M108=\"Exceeds\",\"Check\",0)","v":0},{"$f":"'PS-Calcs'!O108","v":"NB"},null,{"$f":"'PS-Calcs'!P108","v":"NB"}]
[null,null,null,"Wed",null,null,null,"00:00:00",null,null,"00:00:00",null,"00:00:00","00:00:00","00:00:00","00:00:00","00:00:00",0,0,{"$f":"IF(ISTEXT(E111),\"\",IF('PS-Calcs'!J109=\"Under\",\"Check\", 0))","v":0},{"$f":"IF('PS-Calcs'!M109=\"Exceeds\",\"Check\",0)","v":0},{"$f":"'PS-Calcs'!O109","v":"NB"},null,{"$f":"'PS-Calcs'!P109","v":"NB"}]
[null,null,null,"Thu",null,null,null,"00:00:00",null,null,"00:00:00",null,"00:00:00","00:00:00","00:00:00","00:00:00","00:00:00",0,0,{"$f":"IF(ISTEXT(E112),\"\",IF('PS-Calcs'!J110=\"Under\",\"Check\", 0))","v":0},{"$f":"IF('PS-Calcs'!M110=\"Exceeds\",\"Check\",0)","v":0},{"$f":"'PS-Calcs'!O110","v":"NB"},null,{"$f":"'PS-Calcs'!P110","v":"NB"}]
[null,null,null,"Fri",null,null,null,"00:00:00",null,null,0,null,"00:00:00","00:00:00","00:00:00","00:00:00","00:00:00",0,0,{"$f":"IF(ISTEXT(E113),\"\",IF('PS-Calcs'!J111=\"Under\",\"Check\", 0))","v":0},{"$f":"IF('PS-Calcs'!M111=\"Exceeds\",\"Check\",0)","v":0},{"$f":"'PS-Calcs'!O111","v":"NB"},null,{"$f":"'PS-Calcs'!P111","v":"NB"}]
[null,null,null,"Sat",null,null,null,"00:00:00",null,null,"00:00:00",{"$f":"H113","v":"00:00:00"},"00:00:00","00:00:00","00:00:00","00:00:00","00:00:00",{"$f":"IF(H113>0,\"yes\",0)","v":0},0,{"$f":"IF(ISTEXT(E114),\"\",IF('PS-Calcs'!J112=\"Under\",\"Check\", 0))","v":0},{"$f":"IF('PS-Calcs'!M112=\"Exceeds\",\"Check\",0)","v":0},{"$f":"'PS-Calcs'!O112","v":"NB"},null,{"$f":"'PS-Calcs'!P112","v":"NB"}]
[null,null,null,"Sun",null,null,null,"00:00:00",null,null,"00:00:00","00:00:00","00:00:00","00:00:00","00:00:00","00:00:00","00:00:00",0,0,{"$f":"IF(C115=0,\"\",IF(ISTEXT(E115),\"\",IF('PS-Calcs'!J113=\"Under\",\"Check\",0)))","v":0},{"$f":"IF('PS-Calcs'!M113=\"Exceeds\",\"Check\",0)","v":0},{"$f":"'PS-Calcs'!O113","v":"NB"},null,{"$f":"'PS-Calcs'!P113","v":"NB"}]
[null,null,"Week17","Mon",null,null,null,"00:00:00",{"$f":"SUM(H115:H121)","v":0},{"$f":"IF(E115=\"\",\"\",AVERAGE(I$3:I115))","v":""},"00:00:00",null,"00:00:00","00:00:00","00:00:00","00:00:00","00:00:00",{"$f":"IF(H115>0,IF(SUM(M115:P115)>0,\"Yes\",\"no\"),0)","v":0},0,{"$f":"IF(ISTEXT(E116),\"\",IF('PS-Calcs'!J114=\"Under\",\"Check\", 0))","v":0},{"$f":"IF('PS-Calcs'!M114=\"Exceeds\",\"Check\",0)","v":0},{"$f":"'PS-Calcs'!O114","v":"NB"},null,{"$f":"'PS-Calcs'!P114","v":"NB"}]
[null,null,null,"Tue",null,null,null,"00:00:00",null,null,"00:00:00",null,"00:00:00","00:00:00","00:00:00","00:00:00","00:00:00",0,0,{"$f":"IF(ISTEXT(E117),\"\",IF('PS-Calcs'!J115=\"Under\",\"Check\", 0))","v":0},{"$f":"IF('PS-Calcs'!M115=\"Exceeds\",\"Check\",0)","v":0},{"$f":"'PS-Calcs'!O115","v":"NB"},null,{"$f":"'PS-Calcs'!P115","v":"NB"}]
[null,null,null,"Wed",null,null,null,"00:00:00",null,null,"00:00:00",null,"00:00:00","00:00:00","00:00:00","00:00:00","00:00:00",0,0,{"$f":"IF(ISTEXT(E118),\"\",IF('PS-Calcs'!J116=\"Under\",\"Check\", 0))","v":0},{"$f":"IF('PS-Calcs'!M116=\"Exceeds\",\"Check\",0)","v":0},{"$f":"'PS-Calcs'!O116","v":"NB"},null,{"$f":"'PS-Calcs'!P116","v":"NB"}]
[null,null,null,"Thu",null,null,null,"00:00:00",null,null,"00:00:00",null,"00:00:00","00:00:00","00:00:00","00:00:00","00:00:00",0,0,{"$f":"IF(ISTEXT(E119),\"\",IF('PS-Calcs'!J117=\"Under\",\"Check\", 0))","v":0},{"$f":"IF('PS-Calcs'!M117=\"Exceeds\",\"Check\",0)","v":0},{"$f":"'PS-Calcs'!O117","v":"NB"},null,{"$f":"'PS-Calcs'!P117","v":"NB"}]
[null,null,null,"Fri",null,null,null,"00:00:00",null,null,0,null,"00:00:00","00:00:00","00:00:00","00:00:00","00:00:00",0,0,{"$f":"IF(ISTEXT(E120),\"\",IF('PS-Calcs'!J118=\"Under\",\"Check\", 0))","v":0},{"$f":"IF('PS-Calcs'!M118=\"Exceeds\",\"Check\",0)","v":0},{"$f":"'PS-Calcs'!O118","v":"NB"},null,{"$f":"'PS-Calcs'!P118","v":"NB"}]
[null,null,null,"Sat",null,null,null,"00:00:00",null,null,"00:00:00",{"$f":"H120","v":"00:00:00"},"00:00:00","00:00:00","00:00:00","00:00:00","00:00:00",{"$f":"IF(H120>0,\"yes\",0)","v":0},0,{"$f":"IF(ISTEXT(E121),\"\",IF('PS-Calcs'!J119=\"Under\",\"Check\", 0))","v":0},{"$f":"IF('PS-Calcs'!M119=\"Exceeds\",\"Check\",0)","v":0},{"$f":"'PS-Calcs'!O119","v":"NB"},null,{"$f":"'PS-Calcs'!P119","v":"NB"}]
[null,null,null,"Sun",null,null,null,"00:00:00",null,null,"00:00:00","00:00:00","00:00:00","00:00:00","00:00:00","00:00:00","00:00:00",0,0,{"$f":"IF(C122=0,\"\",IF(ISTEXT(E122),\"\",IF('PS-Calcs'!J120=\"Under\",\"Check\",0)))","v":0},{"$f":"IF('PS-Calcs'!M120=\"Exceeds\",\"Check\",0)","v":0},{"$f":"'PS-Calcs'!O120","v":"NB"},null,{"$f":"'PS-Calcs'!P120","v":"NB"}]
[null,null,"Week18","Mon",null,null,null,"00:00:00",{"$f":"SUM(H122:H128)","v":0},{"$f":"IF(E122=\"\",\"\",AVERAGE(I$3:I122))","v":""},"00:00:00",null,"00:00:00","00:00:00","00:00:00","00:00:00","00:00:00",{"$f":"IF(H122>0,IF(SUM(M122:P122)>0,\"Yes\",\"no\"),0)","v":0},0,{"$f":"IF(ISTEXT(E123),\"\",IF('PS-Calcs'!J121=\"Under\",\"Check\", 0))","v":0},{"$f":"IF('PS-Calcs'!M121=\"Exceeds\",\"Check\",0)","v":0},{"$f":"'PS-Calcs'!O121","v":"NB"},null,{"$f":"'PS-Calcs'!P121","v":"NB"}]
[null,null,null,"Tue",null,null,null,"00:00:00",null,null,"00:00:00",null,"00:00:00","00:00:00","00:00:00","00:00:00","00:00:00",0,0,{"$f":"IF(ISTEXT(E124),\"\",IF('PS-Calcs'!J122=\"Under\",\"Check\", 0))","v":0},{"$f":"IF('PS-Calcs'!M122=\"Exceeds\",\"Check\",0)","v":0},{"$f":"'PS-Calcs'!O122","v":"NB"},null,{"$f":"'PS-Calcs'!P122","v":"NB"}]
[null,null,null,"Wed",null,null,null,"00:00:00",null,null,"00:00:00",null,"00:00:00","00:00:00","00:00:00","00:00:00","00:00:00",0,0,{"$f":"IF(ISTEXT(E125),\"\",IF('PS-Calcs'!J123=\"Under\",\"Check\", 0))","v":0},{"$f":"IF('PS-Calcs'!M123=\"Exceeds\",\"Check\",0)","v":0},{"$f":"'PS-Calcs'!O123","v":"NB"},null,{"$f":"'PS-Calcs'!P123","v":"NB"}]
[null,null,null,"Thu",null,null,null,"00:00:00",null,null,"00:00:00",null,"00:00:00","00:00:00","00:00:00","00:00:00","00:00:00",0,0,{"$f":"IF(ISTEXT(E126),\"\",IF('PS-Calcs'!J124=\"Under\",\"Check\", 0))","v":0},{"$f":"IF('PS-Calcs'!M124=\"Exceeds\",\"Check\",0)","v":0},{"$f":"'PS-Calcs'!O124","v":"NB"},null,{"$f":"'PS-Calcs'!P124","v":"NB"}]
[null,null,null,"Fri",null,null,null,"00:00:00",null,null,0,null,"00:00:00","00:00:00","00:00:00","00:00:00","00:00:00",0,0,{"$f":"IF(ISTEXT(E127),\"\",IF('PS-Calcs'!J125=\"Under\",\"Check\", 0))","v":0},{"$f":"IF('PS-Calcs'!M125=\"Exceeds\",\"Check\",0)","v":0},{"$f":"'PS-Calcs'!O125","v":"NB"},null,{"$f":"'PS-Calcs'!P125","v":"NB"}]
[null,null,null,"Sat",null,null,null,"00:00:00",null,null,"00:00:00",{"$f":"H127","v":"00:00:00"},"00:00:00","00:00:00","00:00:00","00:00:00","00:00:00",{"$f":"IF(H127>0,\"yes\",0)","v":0},0,{"$f":"IF(ISTEXT(E128),\"\",IF('PS-Calcs'!J126=\"Under\",\"Check\", 0))","v":0},{"$f":"IF('PS-Calcs'!M126=\"Exceeds\",\"Check\",0)","v":0},{"$f":"'PS-Calcs'!O126","v":"NB"},null,{"$f":"'PS-Calcs'!P126","v":"NB"}]
[null,null,null,"Sun",null,null,null,"00:00:00",null,null,"00:00:00","00:00:00","00:00:00","00:00:00","00:00:00","00:00:00","00:00:00",0,0,{"$f":"IF(C129=0,\"\",IF(ISTEXT(E129),\"\",IF('PS-Calcs'!J127=\"Under\",\"Check\",0)))","v":0},{"$f":"IF('PS-Calcs'!M127=\"Exceeds\",\"Check\",0)","v":0},{"$f":"'PS-Calcs'!O127","v":"NB"},null,{"$f":"'PS-Calcs'!P127","v":"NB"}]
[null,null,"Week19","Mon",null,null,null,"00:00:00",{"$f":"SUM(H129:H135)","v":0},{"$f":"IF(E129=\"\",\"\",AVERAGE(I$3:I129))","v":""},"00:00:00",null,"00:00:00","00:00:00","00:00:00","00:00:00","00:00:00",{"$f":"IF(H129>0,IF(SUM(M129:P129)>0,\"Yes\",\"no\"),0)","v":0},0,{"$f":"IF(ISTEXT(E130),\"\",IF('PS-Calcs'!J128=\"Under\",\"Check\", 0))","v":0},{"$f":"IF('PS-Calcs'!M128=\"Exceeds\",\"Check\",0)","v":0},{"$f":"'PS-Calcs'!O128","v":"NB"},null,{"$f":"'PS-Calcs'!P128","v":"NB"}]
[null,null,null,"Tue",null,null,null,"00:00:00",null,null,"00:00:00",null,"00:00:00","00:00:00","00:00:00","00:00:00","00:00:00",0,0,{"$f":"IF(ISTEXT(E131),\"\",IF('PS-Calcs'!J129=\"Under\",\"Check\", 0))","v":0},{"$f":"IF('PS-Calcs'!M129=\"Exceeds\",\"Check\",0)","v":0},{"$f":"'PS-Calcs'!O129","v":"NB"},null,{"$f":"'PS-Calcs'!P129","v":"NB"}]
[null,null,null,"Wed",null,null,null,"00:00:00",null,null,"00:00:00",null,"00:00:00","00:00:00","00:00:00","00:00:00","00:00:00",0,0,{"$f":"IF(ISTEXT(E132),\"\",IF('PS-Calcs'!J130=\"Under\",\"Check\", 0))","v":0},{"$f":"IF('PS-Calcs'!M130=\"Exceeds\",\"Check\",0)","v":0},{"$f":"'PS-Calcs'!O130","v":"NB"},null,{"$f":"'PS-Calcs'!P130","v":"NB"}]
[null,null,null,"Thu",null,null,null,"00:00:00",null,null,"00:00:00",null,"00:00:00","00:00:00","00:00:00","00:00:00","00:00:00",0,0,{"$f":"IF(ISTEXT(E133),\"\",IF('PS-Calcs'!J131=\"Under\",\"Check\", 0))","v":0},{"$f":"IF('PS-Calcs'!M131=\"Exceeds\",\"Check\",0)","v":0},{"$f":"'PS-Calcs'!O131","v":"NB"},null,{"$f":"'PS-Calcs'!P131","v":"NB"}]
[null,null,null,"Fri",null,null,null,"00:00:00",null,null,0,null,"00:00:00","00:00:00","00:00:00","00:00:00","00:00:00",0,0,{"$f":"IF(ISTEXT(E134),\"\",IF('PS-Calcs'!J132=\"Under\",\"Check\", 0))","v":0},{"$f":"IF('PS-Calcs'!M132=\"Exceeds\",\"Check\",0)","v":0},{"$f":"'PS-Calcs'!O132","v":"NB"},null,{"$f":"'PS-Calcs'!P132","v":"NB"}]
[null,null,null,"Sat",null,null,null,"00:00:00",null,null,"00:00:00",{"$f":"H134","v":"00:00:00"},"00:00:00","00:00:00","00:00:00","00:00:00","00:00:00",{"$f":"IF(H134>0,\"yes\",0)","v":0},0,{"$f":"IF(ISTEXT(E135),\"\",IF('PS-Calcs'!J133=\"Under\",\"Check\", 0))","v":0},{"$f":"IF('PS-Calcs'!M133=\"Exceeds\",\"Check\",0)","v":0},{"$f":"'PS-Calcs'!O133","v":"NB"},null,{"$f":"'PS-Calcs'!P133","v":"NB"}]
[null,null,null,"Sun",null,null,null,"00:00:00",null,null,"00:00:00","00:00:00","00:00:00","00:00:00","00:00:00","00:00:00","00:00:00",0,0,{"$f":"IF(C136=0,\"\",IF(ISTEXT(E136),\"\",IF('PS-Calcs'!J134=\"Under\",\"Check\",0)))","v":0},{"$f":"IF('PS-Calcs'!M134=\"Exceeds\",\"Check\",0)","v":0},{"$f":"'PS-Calcs'!O134","v":"NB"},null,{"$f":"'PS-Calcs'!P134","v":"NB"}]
[null,null,"Week20","Mon",null,null,null,"00:00:00",{"$f":"SUM(H136:H142)","v":0},{"$f":"IF(E136=\"\",\"\",AVERAGE(I$3:I136))","v":""},"00:00:00",null,"00:00:00","00:00:00","00:00:00","00:00:00","00:00:00",{"$f":"IF(H136>0,IF(SUM(M136:P136)>0,\"Yes\",\"no\"),0)","v":0},0,{"$f":"IF(ISTEXT(E137),\"\",IF('PS-Calcs'!J135=\"Under\",\"Check\", 0))","v":0},{"$f":"IF('PS-Calcs'!M135=\"Exceeds\",\"Check\",0)","v":0},{"$f":"'PS-Calcs'!O135","v":"NB"},null,{"$f":"'PS-Calcs'!P135","v":"NB"}]
[null,null,null,"Tue",null,null,null,"00:00:00",null,null,"00:00:00",null,"00:00:00","00:00:00","00:00:00","00:00:00","00:00:00",0,0,{"$f":"IF(ISTEXT(E138),\"\",IF('PS-Calcs'!J136=\"Under\",\"Check\", 0))","v":0},{"$f":"IF('PS-Calcs'!M136=\"Exceeds\",\"Check\",0)","v":0},{"$f":"'PS-Calcs'!O136","v":"NB"},null,{"$f":"'PS-Calcs'!P136","v":"NB"}]
[null,null,null,"Wed",null,null,null,"00:00:00",null,null,{"$f":"IF(F138<E138,F138+1,F138)","v":"00:00:00"},null,{"$f":"IF(H138>0,IF(M$2-E138>0,M$2-E138,0),0)","v":"00:00:00"},{"$f":"IF(H138>0,IF(F138-N$2>0,F138-N$2,0),0)","v":"00:00:00"},{"$f":"IF(H138>0,IF(F138<E138,IF(F138>O$2,O$2,F138),0),0)","v":"00:00:00"},{"$f":"IF(H138>0,IF(E138>F138,IF(E138>N$2,R$2-E138,R$2-P$2),0),0)","v":"00:00:00"},"00:00:00",0,{"$f":"IF(H138>0,IF(F138-E138<0,1,IF(E138<0.25,1,IF(F138>(20/24),1,0))),0)","v":0},{"$f":"IF(ISTEXT(E139),\"\",IF('PS-Calcs'!J137=\"Under\",\"Check\", 0))","v":0},{"$f":"IF('PS-Calcs'!M137=\"Exceeds\",\"Check\",0)","v":0},{"$f":"'PS-Calcs'!O137","v":"NB"},null,{"$f":"'PS-Calcs'!P137","v":"NB"}]
[null,null,null,"Thu",null,null,null,{"$f":"IF(ISTEXT(E139),0,IF(ISTEXT(F139),0,IF(F139<E139,F139+1,F139)-E139-G139))","v":"00:00:00"},null,null,"00:00:00",null,"00:00:00","00:00:00","00:00:00","00:00:00",{"$f":"SUM(M139:P139)","v":"00:00:00"},0,0,{"$f":"IF(ISTEXT(E140),\"\",IF('PS-Calcs'!J138=\"Under\",\"Check\", 0))","v":0},{"$f":"IF('PS-Calcs'!M138=\"Exceeds\",\"Check\",0)","v":0},{"$f":"'PS-Calcs'!O138","v":"NB"},null,{"$f":"'PS-Calcs'!P138","v":"NB"}]
[null,null,null,"Fri",null,null,null,"00:00:00",null,null,0,null,"00:00:00","00:00:00","00:00:00","00:00:00","00:00:00",0,0,{"$f":"IF(ISTEXT(E141),\"\",IF('PS-Calcs'!J139=\"Under\",\"Check\", 0))","v":0},{"$f":"IF('PS-Calcs'!M139=\"Exceeds\",\"Check\",0)","v":0},{"$f":"'PS-Calcs'!O139","v":"NB"},null,{"$f":"'PS-Calcs'!P139","v":"NB"}]
[null,null,null,"Sat",null,null,null,"00:00:00",null,null,"00:00:00",{"$f":"H141","v":"00:00:00"},"00:00:00","00:00:00","00:00:00","00:00:00","00:00:00",{"$f":"IF(H141>0,\"yes\",0)","v":0},0,{"$f":"IF(ISTEXT(E142),\"\",IF('PS-Calcs'!J140=\"Under\",\"Check\", 0))","v":0},{"$f":"IF('PS-Calcs'!M140=\"Exceeds\",\"Check\",0)","v":0},{"$f":"'PS-Calcs'!O140","v":"NB"},null,{"$f":"'PS-Calcs'!P140","v":"NB"}]
[null,null,null,"Sun",null,null,null,"00:00:00",null,null,"00:00:00","00:00:00","00:00:00","00:00:00","00:00:00","00:00:00","00:00:00",0,0,{"$f":"IF(C143=0,\"\",IF(ISTEXT(E143),\"\",IF('PS-Calcs'!J141=\"Under\",\"Check\",0)))","v":0},{"$f":"IF('PS-Calcs'!M141=\"Exceeds\",\"Check\",0)","v":0},{"$f":"'PS-Calcs'!O141","v":"NB"},null,{"$f":"'PS-Calcs'!P141","v":"NB"}]
[null,null,"Week21","Mon",null,null,null,"00:00:00",{"$f":"SUM(H143:H149)","v":0},{"$f":"IF(E143=\"\",\"\",AVERAGE(I$3:I143))","v":""},"00:00:00",null,"00:00:00","00:00:00","00:00:00","00:00:00","00:00:00",{"$f":"IF(H143>0,IF(SUM(M143:P143)>0,\"Yes\",\"no\"),0)","v":0},0,{"$f":"IF(ISTEXT(E144),\"\",IF('PS-Calcs'!J142=\"Under\",\"Check\", 0))","v":0},{"$f":"IF('PS-Calcs'!M142=\"Exceeds\",\"Check\",0)","v":0},{"$f":"'PS-Calcs'!O142","v":"NB"},null,{"$f":"'PS-Calcs'!P142","v":"NB"}]
[null,null,null,"Tue",null,null,null,"00:00:00",null,null,"00:00:00",null,"00:00:00","00:00:00","00:00:00","00:00:00","00:00:00",0,0,{"$f":"IF(ISTEXT(E145),\"\",IF('PS-Calcs'!J143=\"Under\",\"Check\", 0))","v":0},{"$f":"IF('PS-Calcs'!M143=\"Exceeds\",\"Check\",0)","v":0},{"$f":"'PS-Calcs'!O143","v":"NB"},null,{"$f":"'PS-Calcs'!P143","v":"NB"}]
[null,null,null,"Wed",null,null,null,"00:00:00",null,null,"00:00:00",null,"00:00:00","00:00:00","00:00:00","00:00:00","00:00:00",0,0,{"$f":"IF(ISTEXT(E146),\"\",IF('PS-Calcs'!J144=\"Under\",\"Check\", 0))","v":0},{"$f":"IF('PS-Calcs'!M144=\"Exceeds\",\"Check\",0)","v":0},{"$f":"'PS-Calcs'!O144","v":"NB"},null,{"$f":"'PS-Calcs'!P144","v":"NB"}]
[null,null,null,"Thu",null,null,null,"00:00:00",null,null,"00:00:00",null,"00:00:00","00:00:00","00:00:00","00:00:00","00:00:00",0,0,{"$f":"IF(ISTEXT(E147),\"\",IF('PS-Calcs'!J145=\"Under\",\"Check\", 0))","v":0},{"$f":"IF('PS-Calcs'!M145=\"Exceeds\",\"Check\",0)","v":0},{"$f":"'PS-Calcs'!O145","v":"NB"},null,{"$f":"'PS-Calcs'!P145","v":"NB"}]
[null,null,null,"Fri",null,null,null,"00:00:00",null,null,0,null,"00:00:00","00:00:00","00:00:00","00:00:00","00:00:00",0,0,{"$f":"IF(ISTEXT(E148),\"\",IF('PS-Calcs'!J146=\"Under\",\"Check\", 0))","v":0},{"$f":"IF('PS-Calcs'!M146=\"Exceeds\",\"Check\",0)","v":0},{"$f":"'PS-Calcs'!O146","v":"NB"},null,{"$f":"'PS-Calcs'!P146","v":"NB"}]
[null,null,null,"Sat",null,null,null,"00:00:00",null,null,"00:00:00",{"$f":"H148","v":"00:00:00"},"00:00:00","00:00:00","00:00:00","00:00:00","00:00:00",{"$f":"IF(H148>0,\"yes\",0)","v":0},0,{"$f":"IF(ISTEXT(E149),\"\",IF('PS-Calcs'!J147=\"Under\",\"Check\", 0))","v":0},{"$f":"IF('PS-Calcs'!M147=\"Exceeds\",\"Check\",0)","v":0},{"$f":"'PS-Calcs'!O147","v":"NB"},null,{"$f":"'PS-Calcs'!P147","v":"NB"}]
[null,null,null,"Sun",null,null,null,"00:00:00",null,null,"00:00:00","00:00:00","00:00:00","00:00:00","00:00:00","00:00:00","00:00:00",0,0,{"$f":"IF(C150=0,\"\",IF(ISTEXT(E150),\"\",IF('PS-Calcs'!J148=\"Under\",\"Check\",0)))","v":0},{"$f":"IF('PS-Calcs'!M148=\"Exceeds\",\"Check\",0)","v":0},{"$f":"'PS-Calcs'!O148","v":"NB"},null,{"$f":"'PS-Calcs'!P148","v":"NB"}]
[null,null,"Week22","Mon",null,null,null,"00:00:00",{"$f":"SUM(H150:H156)","v":0},{"$f":"IF(E150=\"\",\"\",AVERAGE(I$3:I150))","v":""},"00:00:00",null,"00:00:00","00:00:00","00:00:00","00:00:00","00:00:00",{"$f":"IF(H150>0,IF(SUM(M150:P150)>0,\"Yes\",\"no\"),0)","v":0},0,{"$f":"IF(ISTEXT(E151),\"\",IF('PS-Calcs'!J149=\"Under\",\"Check\", 0))","v":0},{"$f":"IF('PS-Calcs'!M149=\"Exceeds\",\"Check\",0)","v":0},{"$f":"'PS-Calcs'!O149","v":"NB"},null,{"$f":"'PS-Calcs'!P149","v":"NB"}]
[null,null,null,"Tue",null,null,null,"00:00:00",null,null,"00:00:00",null,"00:00:00","00:00:00","00:00:00","00:00:00","00:00:00",0,0,{"$f":"IF(ISTEXT(E152),\"\",IF('PS-Calcs'!J150=\"Under\",\"Check\", 0))","v":0},{"$f":"IF('PS-Calcs'!M150=\"Exceeds\",\"Check\",0)","v":0},{"$f":"'PS-Calcs'!O150","v":"NB"},null,{"$f":"'PS-Calcs'!P150","v":"NB"}]
[null,null,null,"Wed",null,null,null,"00:00:00",null,null,"00:00:00",null,"00:00:00","00:00:00","00:00:00","00:00:00","00:00:00",0,0,{"$f":"IF(ISTEXT(E153),\"\",IF('PS-Calcs'!J151=\"Under\",\"Check\", 0))","v":0},{"$f":"IF('PS-Calcs'!M151=\"Exceeds\",\"Check\",0)","v":0},{"$f":"'PS-Calcs'!O151","v":"NB"},null,{"$f":"'PS-Calcs'!P151","v":"NB"}]
[null,null,null,"Thu",null,null,null,"00:00:00",null,null,"00:00:00",null,"00:00:00","00:00:00","00:00:00","00:00:00","00:00:00",0,0,{"$f":"IF(ISTEXT(E154),\"\",IF('PS-Calcs'!J152=\"Under\",\"Check\", 0))","v":0},{"$f":"IF('PS-Calcs'!M152=\"Exceeds\",\"Check\",0)","v":0},{"$f":"'PS-Calcs'!O152","v":"NB"},null,{"$f":"'PS-Calcs'!P152","v":"NB"}]
[null,null,null,"Fri",null,null,null,"00:00:00",null,null,0,null,"00:00:00","00:00:00","00:00:00","00:00:00","00:00:00",0,0,{"$f":"IF(ISTEXT(E155),\"\",IF('PS-Calcs'!J153=\"Under\",\"Check\", 0))","v":0},{"$f":"IF('PS-Calcs'!M153=\"Exceeds\",\"Check\",0)","v":0},{"$f":"'PS-Calcs'!O153","v":"NB"},null,{"$f":"'PS-Calcs'!P153","v":"NB"}]
[null,null,null,"Sat",null,null,null,"00:00:00",null,null,"00:00:00",{"$f":"H155","v":"00:00:00"},"00:00:00","00:00:00","00:00:00","00:00:00","00:00:00",{"$f":"IF(H155>0,\"yes\",0)","v":0},0,{"$f":"IF(ISTEXT(E156),\"\",IF('PS-Calcs'!J154=\"Under\",\"Check\", 0))","v":0},{"$f":"IF('PS-Calcs'!M154=\"Exceeds\",\"Check\",0)","v":0},{"$f":"'PS-Calcs'!O154","v":"NB"},null,{"$f":"'PS-Calcs'!P154","v":"NB"}]
[null,null,null,"Sun",null,null,null,"00:00:00",null,null,"00:00:00","00:00:00","00:00:00","00:00:00","00:00:00","00:00:00","00:00:00",0,0,{"$f":"IF(C157=0,\"\",IF(ISTEXT(E157),\"\",IF('PS-Calcs'!J155=\"Under\",\"Check\",0)))","v":0},{"$f":"IF('PS-Calcs'!M155=\"Exceeds\",\"Check\",0)","v":0},{"$f":"'PS-Calcs'!O155","v":"NB"},null,{"$f":"'PS-Calcs'!P155","v":"NB"}]
[null,null,"Week23","Mon",null,null,null,"00:00:00",{"$f":"SUM(H157:H163)","v":0},{"$f":"IF(E157=\"\",\"\",AVERAGE(I$3:I157))","v":""},"00:00:00",null,"00:00:00","00:00:00","00:00:00","00:00:00","00:00:00",{"$f":"IF(H157>0,IF(SUM(M157:P157)>0,\"Yes\",\"no\"),0)","v":0},0,{"$f":"IF(ISTEXT(E158),\"\",IF('PS-Calcs'!J156=\"Under\",\"Check\", 0))","v":0},{"$f":"IF('PS-Calcs'!M156=\"Exceeds\",\"Check\",0)","v":0},{"$f":"'PS-Calcs'!O156","v":"NB"},null,{"$f":"'PS-Calcs'!P156","v":"NB"}]
[null,null,null,"Tue",null,null,null,"00:00:00",null,null,"00:00:00",null,"00:00:00","00:00:00","00:00:00","00:00:00","00:00:00",0,0,{"$f":"IF(ISTEXT(E159),\"\",IF('PS-Calcs'!J157=\"Under\",\"Check\", 0))","v":0},{"$f":"IF('PS-Calcs'!M157=\"Exceeds\",\"Check\",0)","v":0},{"$f":"'PS-Calcs'!O157","v":"NB"},null,{"$f":"'PS-Calcs'!P157","v":"NB"}]
[null,null,null,"Wed",null,null,null,"00:00:00",null,null,"00:00:00",null,"00:00:00","00:00:00","00:00:00","00:00:00","00:00:00",0,0,{"$f":"IF(ISTEXT(E160),\"\",IF('PS-Calcs'!J158=\"Under\",\"Check\", 0))","v":0},{"$f":"IF('PS-Calcs'!M158=\"Exceeds\",\"Check\",0)","v":0},{"$f":"'PS-Calcs'!O158","v":"NB"},null,{"$f":"'PS-Calcs'!P158","v":"NB"}]
[null,null,null,"Thu",null,null,null,"00:00:00",null,null,"00:00:00",null,"00:00:00","00:00:00","00:00:00","00:00:00","00:00:00",0,0,{"$f":"IF(ISTEXT(E161),\"\",IF('PS-Calcs'!J159=\"Under\",\"Check\", 0))","v":0},{"$f":"IF('PS-Calcs'!M159=\"Exceeds\",\"Check\",0)","v":0},{"$f":"'PS-Calcs'!O159","v":"NB"},null,{"$f":"'PS-Calcs'!P159","v":"NB"}]
[null,null,null,"Fri",null,null,null,"00:00:00",null,null,0,null,"00:00:00","00:00:00","00:00:00","00:00:00","00:00:00",0,0,{"$f":"IF(ISTEXT(E162),\"\",IF('PS-Calcs'!J160=\"Under\",\"Check\", 0))","v":0},{"$f":"IF('PS-Calcs'!M160=\"Exceeds\",\"Check\",0)","v":0},{"$f":"'PS-Calcs'!O160","v":"NB"},null,{"$f":"'PS-Calcs'!P160","v":"NB"}]
[null,null,null,"Sat",null,null,null,"00:00:00",null,null,"00:00:00",{"$f":"H162","v":"00:00:00"},"00:00:00","00:00:00","00:00:00","00:00:00","00:00:00",{"$f":"IF(H162>0,\"yes\",0)","v":0},0,{"$f":"IF(ISTEXT(E163),\"\",IF('PS-Calcs'!J161=\"Under\",\"Check\", 0))","v":0},{"$f":"IF('PS-Calcs'!M161=\"Exceeds\",\"Check\",0)","v":0},{"$f":"'PS-Calcs'!O161","v":"NB"},null,{"$f":"'PS-Calcs'!P161","v":"NB"}]
[null,null,null,"Sun",null,null,null,"00:00:00",null,null,"00:00:00","00:00:00","00:00:00","00:00:00","00:00:00","00:00:00","00:00:00",0,0,{"$f":"IF(C164=0,\"\",IF(ISTEXT(E164),\"\",IF('PS-Calcs'!J162=\"Under\",\"Check\",0)))","v":0},{"$f":"IF('PS-Calcs'!M162=\"Exceeds\",\"Check\",0)","v":0},{"$f":"'PS-Calcs'!O162","v":"NB"},null,{"$f":"'PS-Calcs'!P162","v":"NB"}]
[null,null,"Week24","Mon",null,null,null,"00:00:00",{"$f":"SUM(H164:H170)","v":0},{"$f":"IF(E164=\"\",\"\",AVERAGE(I$3:I164))","v":""},"00:00:00",null,"00:00:00","00:00:00","00:00:00","00:00:00","00:00:00",{"$f":"IF(H164>0,IF(SUM(M164:P164)>0,\"Yes\",\"no\"),0)","v":0},0,{"$f":"IF(ISTEXT(E165),\"\",IF('PS-Calcs'!J163=\"Under\",\"Check\", 0))","v":0},{"$f":"IF('PS-Calcs'!M163=\"Exceeds\",\"Check\",0)","v":0},{"$f":"'PS-Calcs'!O163","v":"NB"},null,{"$f":"'PS-Calcs'!P163","v":"NB"}]
[null,null,null,"Tue",null,null,null,"00:00:00",null,null,"00:00:00",null,"00:00:00","00:00:00","00:00:00","00:00:00","00:00:00",0,0,{"$f":"IF(ISTEXT(E166),\"\",IF('PS-Calcs'!J164=\"Under\",\"Check\", 0))","v":0},{"$f":"IF('PS-Calcs'!M164=\"Exceeds\",\"Check\",0)","v":0},{"$f":"'PS-Calcs'!O164","v":"NB"},null,{"$f":"'PS-Calcs'!P164","v":"NB"}]
[null,null,null,"Wed",null,null,null,"00:00:00",null,null,"00:00:00",null,"00:00:00","00:00:00","00:00:00","00:00:00","00:00:00",0,0,{"$f":"IF(ISTEXT(E167),\"\",IF('PS-Calcs'!J165=\"Under\",\"Check\", 0))","v":0},{"$f":"IF('PS-Calcs'!M165=\"Exceeds\",\"Check\",0)","v":0},{"$f":"'PS-Calcs'!O165","v":"NB"},null,{"$f":"'PS-Calcs'!P165","v":"NB"}]
[null,null,null,"Thu",null,null,null,"00:00:00",null,null,"00:00:00",null,"00:00:00","00:00:00","00:00:00","00:00:00","00:00:00",0,0,{"$f":"IF(ISTEXT(E168),\"\",IF('PS-Calcs'!J166=\"Under\",\"Check\", 0))","v":0},{"$f":"IF('PS-Calcs'!M166=\"Exceeds\",\"Check\",0)","v":0},{"$f":"'PS-Calcs'!O166","v":"NB"},null,{"$f":"'PS-Calcs'!P166","v":"NB"}]
[null,null,null,"Fri",null,null,null,"00:00:00",null,null,0,null,"00:00:00","00:00:00","00:00:00","00:00:00","00:00:00",0,0,{"$f":"IF(ISTEXT(E169),\"\",IF('PS-Calcs'!J167=\"Under\",\"Check\", 0))","v":0},{"$f":"IF('PS-Calcs'!M167=\"Exceeds\",\"Check\",0)","v":0},{"$f":"'PS-Calcs'!O167","v":"NB"},null,{"$f":"'PS-Calcs'!P167","v":"NB"}]
[null,null,null,"Sat",null,null,null,"00:00:00",null,null,"00:00:00",{"$f":"H169","v":"00:00:00"},"00:00:00","00:00:00","00:00:00","00:00:00","00:00:00",{"$f":"IF(H169>0,\"yes\",0)","v":0},0,{"$f":"IF(ISTEXT(E170),\"\",IF('PS-Calcs'!J168=\"Under\",\"Check\", 0))","v":0},{"$f":"IF('PS-Calcs'!M168=\"Exceeds\",\"Check\",0)","v":0},{"$f":"'PS-Calcs'!O168","v":"NB"},null,{"$f":"'PS-Calcs'!P168","v":"NB"}]
[null,null,null,"Sun",null,null,null,"00:00:00",null,null,"00:00:00","00:00:00","00:00:00","00:00:00","00:00:00","00:00:00","00:00:00",0,0,{"$f":"IF(C171=0,\"\",IF(ISTEXT(E171),\"\",IF('PS-Calcs'!J169=\"Under\",\"Check\",0)))","v":0},{"$f":"IF('PS-Calcs'!M169=\"Exceeds\",\"Check\",0)","v":0},{"$f":"'PS-Calcs'!O169","v":"NB"},null,{"$f":"'PS-Calcs'!P169","v":"NB"}]
[null,null,"Week25","Mon",null,null,null,"00:00:00",{"$f":"SUM(H171:H177)","v":0},{"$f":"IF(E171=\"\",\"\",AVERAGE(I$3:I171))","v":""},"00:00:00",null,"00:00:00","00:00:00","00:00:00","00:00:00","00:00:00",{"$f":"IF(H171>0,IF(SUM(M171:P171)>0,\"Yes\",\"no\"),0)","v":0},0,{"$f":"IF(ISTEXT(E172),\"\",IF('PS-Calcs'!J170=\"Under\",\"Check\", 0))","v":0},{"$f":"IF('PS-Calcs'!M170=\"Exceeds\",\"Check\",0)","v":0},{"$f":"'PS-Calcs'!O170","v":"NB"},null,{"$f":"'PS-Calcs'!P170","v":"NB"}]
[null,null,null,"Tue",null,null,null,"00:00:00",null,null,"00:00:00",null,"00:00:00","00:00:00","00:00:00","00:00:00","00:00:00",0,0,{"$f":"IF(ISTEXT(E173),\"\",IF('PS-Calcs'!J171=\"Under\",\"Check\", 0))","v":0},{"$f":"IF('PS-Calcs'!M171=\"Exceeds\",\"Check\",0)","v":0},{"$f":"'PS-Calcs'!O171","v":"NB"},null,{"$f":"'PS-Calcs'!P171","v":"NB"}]
[null,null,null,"Wed",null,null,null,"00:00:00",null,null,"00:00:00",null,"00:00:00","00:00:00","00:00:00","00:00:00","00:00:00",0,0,{"$f":"IF(ISTEXT(E174),\"\",IF('PS-Calcs'!J172=\"Under\",\"Check\", 0))","v":0},{"$f":"IF('PS-Calcs'!M172=\"Exceeds\",\"Check\",0)","v":0},{"$f":"'PS-Calcs'!O172","v":"NB"},null,{"$f":"'PS-Calcs'!P172","v":"NB"}]
[null,null,null,"Thu",null,null,null,"00:00:00",null,null,"00:00:00",null,"00:00:00","00:00:00","00:00:00","00:00:00","00:00:00",0,0,{"$f":"IF(ISTEXT(E175),\"\",IF('PS-Calcs'!J173=\"Under\",\"Check\", 0))","v":0},{"$f":"IF('PS-Calcs'!M173=\"Exceeds\",\"Check\",0)","v":0},{"$f":"'PS-Calcs'!O173","v":"NB"},null,{"$f":"'PS-Calcs'!P173","v":"NB"}]
[null,null,null,"Fri",null,null,null,"00:00:00",null,null,0,null,"00:00:00","00:00:00","00:00:00","00:00:00","00:00:00",0,0,{"$f":"IF(ISTEXT(E176),\"\",IF('PS-Calcs'!J174=\"Under\",\"Check\", 0))","v":0},{"$f":"IF('PS-Calcs'!M174=\"Exceeds\",\"Check\",0)","v":0},{"$f":"'PS-Calcs'!O174","v":"NB"},null,{"$f":"'PS-Calcs'!P174","v":"NB"}]
[null,null,null,"Sat",null,null,null,"00:00:00",null,null,"00:00:00",{"$f":"H176","v":"00:00:00"},"00:00:00","00:00:00","00:00:00","00:00:00","00:00:00",{"$f":"IF(H176>0,\"yes\",0)","v":0},0,{"$f":"IF(ISTEXT(E177),\"\",IF('PS-Calcs'!J175=\"Under\",\"Check\", 0))","v":0},{"$f":"IF('PS-Calcs'!M175=\"Exceeds\",\"Check\",0)","v":0},{"$f":"'PS-Calcs'!O175","v":"NB"},null,{"$f":"'PS-Calcs'!P175","v":"NB"}]
[null,null,null,"Sun",null,null,null,"00:00:00",null,null,"00:00:00","00:00:00","00:00:00","00:00:00","00:00:00","00:00:00","00:00:00",0,0,{"$f":"IF(C178=0,\"\",IF(ISTEXT(E178),\"\",IF('PS-Calcs'!J176=\"Under\",\"Check\",0)))","v":0},{"$f":"IF('PS-Calcs'!M176=\"Exceeds\",\"Check\",0)","v":0},{"$f":"'PS-Calcs'!O176","v":"NB"},null,{"$f":"'PS-Calcs'!P176","v":"NB"}]
[null,null,"Week26","Mon",null,null,null,"00:00:00",{"$f":"SUM(H178:H184)","v":0},{"$f":"IF(E178=\"\",\"\",AVERAGE(I$3:I178))","v":""},"00:00:00",null,"00:00:00","00:00:00","00:00:00","00:00:00","00:00:00",{"$f":"IF(H178>0,IF(SUM(M178:P178)>0,\"Yes\",\"no\"),0)","v":0},0,{"$f":"IF(ISTEXT(E179),\"\",IF('PS-Calcs'!J177=\"Under\",\"Check\", 0))","v":0},{"$f":"IF('PS-Calcs'!M177=\"Exceeds\",\"Check\",0)","v":0},{"$f":"'PS-Calcs'!O177","v":"NB"},null,{"$f":"'PS-Calcs'!P177","v":"NB"}]
[null,null,null,"Tue",null,null,null,"00:00:00",null,null,"00:00:00",null,"00:00:00","00:00:00","00:00:00","00:00:00","00:00:00",0,0,{"$f":"IF(ISTEXT(E180),\"\",IF('PS-Calcs'!J178=\"Under\",\"Check\", 0))","v":0},{"$f":"IF('PS-Calcs'!M178=\"Exceeds\",\"Check\",0)","v":0},{"$f":"'PS-Calcs'!O178","v":"NB"},null,{"$f":"'PS-Calcs'!P178","v":"NB"}]
[null,null,null,"Wed",null,null,null,"00:00:00",null,null,"00:00:00",null,"00:00:00","00:00:00","00:00:00","00:00:00","00:00:00",0,0,{"$f":"IF(ISTEXT(E181),\"\",IF('PS-Calcs'!J179=\"Under\",\"Check\", 0))","v":0},{"$f":"IF('PS-Calcs'!M179=\"Exceeds\",\"Check\",0)","v":0},{"$f":"'PS-Calcs'!O179","v":"NB"},null,{"$f":"'PS-Calcs'!P179","v":"NB"}]
[null,null,null,"Thu",null,null,null,"00:00:00",null,null,"00:00:00",null,"00:00:00","00:00:00","00:00:00","00:00:00","00:00:00",0,0,{"$f":"IF(ISTEXT(E182),\"\",IF('PS-Calcs'!J180=\"Under\",\"Check\", 0))","v":0},{"$f":"IF('PS-Calcs'!M180=\"Exceeds\",\"Check\",0)","v":0},{"$f":"'PS-Calcs'!O180","v":"NB"},null,{"$f":"'PS-Calcs'!P180","v":"NB"}]
[null,null,null,"Fri",null,null,null,"00:00:00",null,null,0,null,"00:00:00","00:00:00","00:00:00","00:00:00","00:00:00",0,0,{"$f":"IF(ISTEXT(E183),\"\",IF('PS-Calcs'!J181=\"Under\",\"Check\", 0))","v":0},{"$f":"IF('PS-Calcs'!M181=\"Exceeds\",\"Check\",0)","v":0},{"$f":"'PS-Calcs'!O181","v":"NB"},null,{"$f":"'PS-Calcs'!P181","v":"NB"}]
[null,null,null,"Sat",null,null,null,"00:00:00",null,null,"00:00:00",{"$f":"H183","v":"00:00:00"},"00:00:00","00:00:00","00:00:00","00:00:00","00:00:00",{"$f":"IF(H183>0,\"yes\",0)","v":0},0,{"$f":"IF(ISTEXT(E184),\"\",IF('PS-Calcs'!J182=\"Under\",\"Check\", 0))","v":0},{"$f":"IF('PS-Calcs'!M182=\"Exceeds\",\"Check\",0)","v":0},{"$f":"'PS-Calcs'!O182","v":"NB"},null,{"$f":"'PS-Calcs'!P182","v":"NB"}]
[null,null,null,"Sun",null,null,null,"00:00:00",null,null,"00:00:00","00:00:00","00:00:00","00:00:00","00:00:00","00:00:00","00:00:00",0,0,{"$f":"IF(C185=0,\"\",IF(ISTEXT(E185),\"\",IF('PS-Calcs'!J183=\"Under\",\"Check\",0)))","v":0},{"$f":"IF('PS-Calcs'!M183=\"Exceeds\",\"Check\",0)","v":0},{"$f":"'PS-Calcs'!O183","v":"NB"},null,{"$f":"'PS-Calcs'!P183","v":"NB"}]
[null,null,"Week27","Mon",null,null,null,"00:00:00",{"$f":"SUM(H185:H191)","v":0},{"$f":"IF(E185=\"\",\"\",AVERAGE(I$3:I185))","v":""},"00:00:00",null,"00:00:00","00:00:00","00:00:00","00:00:00","00:00:00",{"$f":"IF(H185>0,IF(SUM(M185:P185)>0,\"Yes\",\"no\"),0)","v":0},0,{"$f":"IF(ISTEXT(E186),\"\",IF('PS-Calcs'!J184=\"Under\",\"Check\", 0))","v":0},{"$f":"IF('PS-Calcs'!M184=\"Exceeds\",\"Check\",0)","v":0},{"$f":"'PS-Calcs'!O184","v":"NB"},null,{"$f":"'PS-Calcs'!P184","v":"NB"}]
[null,null,null,"Tue",null,null,null,"00:00:00",null,null,"00:00:00",null,"00:00:00","00:00:00","00:00:00","00:00:00","00:00:00",0,0,{"$f":"IF(ISTEXT(E187),\"\",IF('PS-Calcs'!J185=\"Under\",\"Check\", 0))","v":0},{"$f":"IF('PS-Calcs'!M185=\"Exceeds\",\"Check\",0)","v":0},{"$f":"'PS-Calcs'!O185","v":"NB"},null,{"$f":"'PS-Calcs'!P185","v":"NB"}]
[null,null,null,"Wed",null,null,null,"00:00:00",null,null,"00:00:00",null,"00:00:00","00:00:00","00:00:00","00:00:00","00:00:00",0,0,{"$f":"IF(ISTEXT(E188),\"\",IF('PS-Calcs'!J186=\"Under\",\"Check\", 0))","v":0},{"$f":"IF('PS-Calcs'!M186=\"Exceeds\",\"Check\",0)","v":0},{"$f":"'PS-Calcs'!O186","v":"NB"},null,{"$f":"'PS-Calcs'!P186","v":"NB"}]
[null,null,null,"Thu",null,null,null,"00:00:00",null,null,"00:00:00",null,"00:00:00","00:00:00","00:00:00","00:00:00","00:00:00",0,0,{"$f":"IF(ISTEXT(E189),\"\",IF('PS-Calcs'!J187=\"Under\",\"Check\", 0))","v":0},{"$f":"IF('PS-Calcs'!M187=\"Exceeds\",\"Check\",0)","v":0},{"$f":"'PS-Calcs'!O187","v":"NB"},null,{"$f":"'PS-Calcs'!P187","v":"NB"}]
[null,null,null,"Fri",null,null,null,"00:00:00",null,null,0,null,"00:00:00","00:00:00","00:00:00","00:00:00","00:00:00",0,0,{"$f":"IF(ISTEXT(E190),\"\",IF('PS-Calcs'!J188=\"Under\",\"Check\", 0))","v":0},{"$f":"IF('PS-Calcs'!M188=\"Exceeds\",\"Check\",0)","v":0},{"$f":"'PS-Calcs'!O188","v":"NB"},null,{"$f":"'PS-Calcs'!P188","v":"NB"}]
[null,null,null,"Sat",null,null,null,"00:00:00",null,null,"00:00:00",{"$f":"H190","v":"00:00:00"},"00:00:00","00:00:00","00:00:00","00:00:00","00:00:00",{"$f":"IF(H190>0,\"yes\",0)","v":0},0,{"$f":"IF(ISTEXT(E191),\"\",IF('PS-Calcs'!J189=\"Under\",\"Check\", 0))","v":0},{"$f":"IF('PS-Calcs'!M189=\"Exceeds\",\"Check\",0)","v":0},{"$f":"'PS-Calcs'!O189","v":"NB"},null,{"$f":"'PS-Calcs'!P189","v":"NB"}]
[null,null,null,"Sun",null,null,null,"00:00:00",null,null,"00:00:00","00:00:00","00:00:00","00:00:00","00:00:00","00:00:00","00:00:00",0,0,{"$f":"IF(C192=0,\"\",IF(ISTEXT(E192),\"\",IF('PS-Calcs'!J190=\"Under\",\"Check\",0)))","v":0},{"$f":"IF('PS-Calcs'!M190=\"Exceeds\",\"Check\",0)","v":0},{"$f":"'PS-Calcs'!O190","v":"NB"},null,{"$f":"'PS-Calcs'!P190","v":"NB"}]
[null,null,"Week28","Mon",null,null,null,"00:00:00",{"$f":"SUM(H192:H198)","v":0},{"$f":"IF(E192=\"\",\"\",AVERAGE(I$3:I192))","v":""},"00:00:00",null,"00:00:00","00:00:00","00:00:00","00:00:00","00:00:00",{"$f":"IF(H192>0,IF(SUM(M192:P192)>0,\"Yes\",\"no\"),0)","v":0},0,{"$f":"IF(ISTEXT(E193),\"\",IF('PS-Calcs'!J191=\"Under\",\"Check\", 0))","v":0},{"$f":"IF('PS-Calcs'!M191=\"Exceeds\",\"Check\",0)","v":0},{"$f":"'PS-Calcs'!O191","v":"NB"},null,{"$f":"'PS-Calcs'!P191","v":"NB"}]
[null,null,null,"Tue",null,null,null,"00:00:00",null,null,"00:00:00",null,"00:00:00","00:00:00","00:00:00","00:00:00","00:00:00",0,0,{"$f":"IF(ISTEXT(E194),\"\",IF('PS-Calcs'!J192=\"Under\",\"Check\", 0))","v":0},{"$f":"IF('PS-Calcs'!M192=\"Exceeds\",\"Check\",0)","v":0},{"$f":"'PS-Calcs'!O192","v":"NB"},null,{"$f":"'PS-Calcs'!P192","v":"NB"}]
[null,null,null,"Wed",null,null,null,"00:00:00",null,null,"00:00:00",null,"00:00:00","00:00:00","00:00:00","00:00:00","00:00:00",0,0,{"$f":"IF(ISTEXT(E195),\"\",IF('PS-Calcs'!J193=\"Under\",\"Check\", 0))","v":0},{"$f":"IF('PS-Calcs'!M193=\"Exceeds\",\"Check\",0)","v":0},{"$f":"'PS-Calcs'!O193","v":"NB"},null,{"$f":"'PS-Calcs'!P193","v":"NB"}]
[null,null,null,"Thu",null,null,null,"00:00:00",null,null,"00:00:00",null,"00:00:00","00:00:00","00:00:00","00:00:00","00:00:00",0,0,{"$f":"IF(ISTEXT(E196),\"\",IF('PS-Calcs'!J194=\"Under\",\"Check\", 0))","v":0},{"$f":"IF('PS-Calcs'!M194=\"Exceeds\",\"Check\",0)","v":0},{"$f":"'PS-Calcs'!O194","v":"NB"},null,{"$f":"'PS-Calcs'!P194","v":"NB"}]
[null,null,null,"Fri",null,null,null,"00:00:00",null,null,0,null,"00:00:00","00:00:00","00:00:00","00:00:00","00:00:00",0,0,{"$f":"IF(ISTEXT(E197),\"\",IF('PS-Calcs'!J195=\"Under\",\"Check\", 0))","v":0},{"$f":"IF('PS-Calcs'!M195=\"Exceeds\",\"Check\",0)","v":0},{"$f":"'PS-Calcs'!O195","v":"NB"},null,{"$f":"'PS-Calcs'!P195","v":"NB"}]
[null,null,null,"Sat",null,null,null,"00:00:00",null,null,"00:00:00",{"$f":"H197","v":"00:00:00"},"00:00:00","00:00:00","00:00:00","00:00:00","00:00:00",{"$f":"IF(H197>0,\"yes\",0)","v":0},0,{"$f":"IF(ISTEXT(E198),\"\",IF('PS-Calcs'!J196=\"Under\",\"Check\", 0))","v":0},{"$f":"IF('PS-Calcs'!M196=\"Exceeds\",\"Check\",0)","v":0},{"$f":"'PS-Calcs'!O196","v":"NB"},null,{"$f":"'PS-Calcs'!P196","v":"NB"}]
[null,null,null,"Sun",null,null,null,"00:00:00",null,null,"00:00:00","00:00:00","00:00:00","00:00:00","00:00:00","00:00:00","00:00:00",0,0,{"$f":"IF(C199=0,\"\",IF(ISTEXT(E199),\"\",IF('PS-Calcs'!J197=\"Under\",\"Check\",0)))","v":0},{"$f":"IF('PS-Calcs'!M197=\"Exceeds\",\"Check\",0)","v":0},{"$f":"'PS-Calcs'!O197","v":"NB"},null,{"$f":"'PS-Calcs'!P197","v":"NB"}]
[null,null,"Week29","Mon",null,null,null,"00:00:00",{"$f":"SUM(H199:H205)","v":0},{"$f":"IF(E199=\"\",\"\",AVERAGE(I$3:I199))","v":""},"00:00:00",null,"00:00:00","00:00:00","00:00:00","00:00:00","00:00:00",{"$f":"IF(H199>0,IF(SUM(M199:P199)>0,\"Yes\",\"no\"),0)","v":0},0,{"$f":"IF(ISTEXT(E200),\"\",IF('PS-Calcs'!J198=\"Under\",\"Check\", 0))","v":0},{"$f":"IF('PS-Calcs'!M198=\"Exceeds\",\"Check\",0)","v":0},{"$f":"'PS-Calcs'!O198","v":"NB"},null,{"$f":"'PS-Calcs'!P198","v":"NB"}]
[null,null,null,"Tue",null,null,null,"00:00:00",null,null,"00:00:00",null,"00:00:00","00:00:00","00:00:00","00:00:00","00:00:00",0,0,{"$f":"IF(ISTEXT(E201),\"\",IF('PS-Calcs'!J199=\"Under\",\"Check\", 0))","v":0},{"$f":"IF('PS-Calcs'!M199=\"Exceeds\",\"Check\",0)","v":0},{"$f":"'PS-Calcs'!O199","v":"NB"},null,{"$f":"'PS-Calcs'!P199","v":"NB"}]
[null,null,null,"Wed",null,null,null,"00:00:00",null,null,"00:00:00",null,"00:00:00","00:00:00","00:00:00","00:00:00","00:00:00",0,0,{"$f":"IF(ISTEXT(E202),\"\",IF('PS-Calcs'!J200=\"Under\",\"Check\", 0))","v":0},{"$f":"IF('PS-Calcs'!M200=\"Exceeds\",\"Check\",0)","v":0},{"$f":"'PS-Calcs'!O200","v":"NB"},null,{"$f":"'PS-Calcs'!P200","v":"NB"}]
[null,null,null,"Thu",null,null,null,"00:00:00",null,null,{"$f":"IF(F202<E202,F202+1,F202)","v":"00:00:00"},null,{"$f":"IF(H202>0,IF(M$2-E202>0,M$2-E202,0),0)","v":"00:00:00"},{"$f":"IF(H202>0,IF(F202-N$2>0,F202-N$2,0),0)","v":"00:00:00"},{"$f":"IF(H202>0,IF(F202<E202,IF(F202>O$2,O$2,F202),0),0)","v":"00:00:00"},{"$f":"IF(H202>0,IF(E202>F202,IF(E202>N$2,R$2-E202,R$2-P$2),0),0)","v":"00:00:00"},"00:00:00",0,{"$f":"IF(H202>0,IF(F202-E202<0,1,IF(E202<0.25,1,IF(F202>(20/24),1,0))),0)","v":0},{"$f":"IF(ISTEXT(E203),\"\",IF('PS-Calcs'!J201=\"Under\",\"Check\", 0))","v":0},{"$f":"IF('PS-Calcs'!M201=\"Exceeds\",\"Check\",0)","v":0},{"$f":"'PS-Calcs'!O201","v":"NB"},null,{"$f":"'PS-Calcs'!P201","v":"NB"}]
[null,null,null,"Fri",null,null,null,{"$f":"IF(ISTEXT(E203),0,IF(ISTEXT(F203),0,IF(F203<E203,F203+1,F203)-E203-G203))","v":"00:00:00"},null,null,0,null,"00:00:00","00:00:00","00:00:00","00:00:00",{"$f":"SUM(M203:P203)","v":"00:00:00"},0,0,{"$f":"IF(ISTEXT(E204),\"\",IF('PS-Calcs'!J202=\"Under\",\"Check\", 0))","v":0},{"$f":"IF('PS-Calcs'!M202=\"Exceeds\",\"Check\",0)","v":0},{"$f":"'PS-Calcs'!O202","v":"NB"},null,{"$f":"'PS-Calcs'!P202","v":"NB"}]
[null,null,null,"Sat",null,null,null,"00:00:00",null,null,"00:00:00",{"$f":"H204","v":"00:00:00"},"00:00:00","00:00:00","00:00:00","00:00:00","00:00:00",{"$f":"IF(H204>0,\"yes\",0)","v":0},0,{"$f":"IF(ISTEXT(E205),\"\",IF('PS-Calcs'!J203=\"Under\",\"Check\", 0))","v":0},{"$f":"IF('PS-Calcs'!M203=\"Exceeds\",\"Check\",0)","v":0},{"$f":"'PS-Calcs'!O203","v":"NB"},null,{"$f":"'PS-Calcs'!P203","v":"NB"}]
[null,null,null,"Sun",null,null,null,"00:00:00",null,null,"00:00:00","00:00:00","00:00:00","00:00:00","00:00:00","00:00:00","00:00:00",0,0,{"$f":"IF(C206=0,\"\",IF(ISTEXT(E206),\"\",IF('PS-Calcs'!J204=\"Under\",\"Check\",0)))","v":0},{"$f":"IF('PS-Calcs'!M204=\"Exceeds\",\"Check\",0)","v":0},{"$f":"'PS-Calcs'!O204","v":"NB"},null,{"$f":"'PS-Calcs'!P204","v":"NB"}]
[null,null,"Week30","Mon",null,null,null,"00:00:00",{"$f":"SUM(H206:H212)","v":0},{"$f":"IF(E206=\"\",\"\",AVERAGE(I$3:I206))","v":""},"00:00:00",null,"00:00:00","00:00:00","00:00:00","00:00:00","00:00:00",{"$f":"IF(H206>0,IF(SUM(M206:P206)>0,\"Yes\",\"no\"),0)","v":0},0,{"$f":"IF(ISTEXT(E207),\"\",IF('PS-Calcs'!J205=\"Under\",\"Check\", 0))","v":0},{"$f":"IF('PS-Calcs'!M205=\"Exceeds\",\"Check\",0)","v":0},{"$f":"'PS-Calcs'!O205","v":"NB"},null,{"$f":"'PS-Calcs'!P205","v":"NB"}]
[null,null,null,"Tue",null,null,null,"00:00:00",null,null,"00:00:00",null,"00:00:00","00:00:00","00:00:00","00:00:00","00:00:00",0,0,{"$f":"IF(ISTEXT(E208),\"\",IF('PS-Calcs'!J206=\"Under\",\"Check\", 0))","v":0},{"$f":"IF('PS-Calcs'!M206=\"Exceeds\",\"Check\",0)","v":0},{"$f":"'PS-Calcs'!O206","v":"NB"},null,{"$f":"'PS-Calcs'!P206","v":"NB"}]
[null,null,null,"Wed",null,null,null,"00:00:00",null,null,"00:00:00",null,"00:00:00","00:00:00","00:00:00","00:00:00","00:00:00",0,0,{"$f":"IF(ISTEXT(E209),\"\",IF('PS-Calcs'!J207=\"Under\",\"Check\", 0))","v":0},{"$f":"IF('PS-Calcs'!M207=\"Exceeds\",\"Check\",0)","v":0},{"$f":"'PS-Calcs'!O207","v":"NB"},null,{"$f":"'PS-Calcs'!P207","v":"NB"}]
[null,null,null,"Thu",null,null,null,"00:00:00",null,null,"00:00:00",null,"00:00:00","00:00:00","00:00:00","00:00:00","00:00:00",0,0,{"$f":"IF(ISTEXT(E210),\"\",IF('PS-Calcs'!J208=\"Under\",\"Check\", 0))","v":0},{"$f":"IF('PS-Calcs'!M208=\"Exceeds\",\"Check\",0)","v":0},{"$f":"'PS-Calcs'!O208","v":"NB"},null,{"$f":"'PS-Calcs'!P208","v":"NB"}]
[null,null,null,"Fri",null,null,null,"00:00:00",null,null,0,null,"00:00:00","00:00:00","00:00:00","00:00:00","00:00:00",0,0,{"$f":"IF(ISTEXT(E211),\"\",IF('PS-Calcs'!J209=\"Under\",\"Check\", 0))","v":0},{"$f":"IF('PS-Calcs'!M209=\"Exceeds\",\"Check\",0)","v":0},{"$f":"'PS-Calcs'!O209","v":"NB"},null,{"$f":"'PS-Calcs'!P209","v":"NB"}]
[null,null,null,"Sat",null,null,null,"00:00:00",null,null,"00:00:00",{"$f":"H211","v":"00:00:00"},"00:00:00","00:00:00","00:00:00","00:00:00","00:00:00",{"$f":"IF(H211>0,\"yes\",0)","v":0},0,{"$f":"IF(ISTEXT(E212),\"\",IF('PS-Calcs'!J210=\"Under\",\"Check\", 0))","v":0},{"$f":"IF('PS-Calcs'!M210=\"Exceeds\",\"Check\",0)","v":0},{"$f":"'PS-Calcs'!O210","v":"NB"},null,{"$f":"'PS-Calcs'!P210","v":"NB"}]
[null,null,null,"Sun",null,null,null,"00:00:00",null,null,"00:00:00","00:00:00","00:00:00","00:00:00","00:00:00","00:00:00","00:00:00",0,0,{"$f":"IF(C213=0,\"\",IF(ISTEXT(E213),\"\",IF('PS-Calcs'!J211=\"Under\",\"Check\",0)))","v":0},{"$f":"IF('PS-Calcs'!M211=\"Exceeds\",\"Check\",0)","v":0},{"$f":"'PS-Calcs'!O211","v":"NB"},null,{"$f":"'PS-Calcs'!P211","v":"NB"}]
[null,null,"Week31","Mon",null,null,null,"00:00:00",{"$f":"SUM(H213:H219)","v":0},{"$f":"IF(E213=\"\",\"\",AVERAGE(I$3:I213))","v":""},"00:00:00",null,"00:00:00","00:00:00","00:00:00","00:00:00","00:00:00",{"$f":"IF(H213>0,IF(SUM(M213:P213)>0,\"Yes\",\"no\"),0)","v":0},0,{"$f":"IF(ISTEXT(E214),\"\",IF('PS-Calcs'!J212=\"Under\",\"Check\", 0))","v":0},{"$f":"IF('PS-Calcs'!M212=\"Exceeds\",\"Check\",0)","v":0},{"$f":"'PS-Calcs'!O212","v":"NB"},null,{"$f":"'PS-Calcs'!P212","v":"NB"}]
[null,null,null,"Tue",null,null,null,"00:00:00",null,null,"00:00:00",null,"00:00:00","00:00:00","00:00:00","00:00:00","00:00:00",0,0,{"$f":"IF(ISTEXT(E215),\"\",IF('PS-Calcs'!J213=\"Under\",\"Check\", 0))","v":0},{"$f":"IF('PS-Calcs'!M213=\"Exceeds\",\"Check\",0)","v":0},{"$f":"'PS-Calcs'!O213","v":"NB"},null,{"$f":"'PS-Calcs'!P213","v":"NB"}]
[null,null,null,"Wed",null,null,null,"00:00:00",null,null,"00:00:00",null,"00:00:00","00:00:00","00:00:00","00:00:00","00:00:00",0,0,{"$f":"IF(ISTEXT(E216),\"\",IF('PS-Calcs'!J214=\"Under\",\"Check\", 0))","v":0},{"$f":"IF('PS-Calcs'!M214=\"Exceeds\",\"Check\",0)","v":0},{"$f":"'PS-Calcs'!O214","v":"NB"},null,{"$f":"'PS-Calcs'!P214","v":"NB"}]
[null,null,null,"Thu",null,null,null,"00:00:00",null,null,"00:00:00",null,"00:00:00","00:00:00","00:00:00","00:00:00","00:00:00",0,0,{"$f":"IF(ISTEXT(E217),\"\",IF('PS-Calcs'!J215=\"Under\",\"Check\", 0))","v":0},{"$f":"IF('PS-Calcs'!M215=\"Exceeds\",\"Check\",0)","v":0},{"$f":"'PS-Calcs'!O215","v":"NB"},null,{"$f":"'PS-Calcs'!P215","v":"NB"}]
[null,null,null,"Fri",null,null,null,"00:00:00",null,null,0,null,"00:00:00","00:00:00","00:00:00","00:00:00","00:00:00",0,0,{"$f":"IF(ISTEXT(E218),\"\",IF('PS-Calcs'!J216=\"Under\",\"Check\", 0))","v":0},{"$f":"IF('PS-Calcs'!M216=\"Exceeds\",\"Check\",0)","v":0},{"$f":"'PS-Calcs'!O216","v":"NB"},null,{"$f":"'PS-Calcs'!P216","v":"NB"}]
[null,null,null,"Sat",null,null,null,"00:00:00",null,null,"00:00:00",{"$f":"H218","v":"00:00:00"},"00:00:00","00:00:00","00:00:00","00:00:00","00:00:00",{"$f":"IF(H218>0,\"yes\",0)","v":0},0,{"$f":"IF(ISTEXT(E219),\"\",IF('PS-Calcs'!J217=\"Under\",\"Check\", 0))","v":0},{"$f":"IF('PS-Calcs'!M217=\"Exceeds\",\"Check\",0)","v":0},{"$f":"'PS-Calcs'!O217","v":"NB"},null,{"$f":"'PS-Calcs'!P217","v":"NB"}]
[null,null,null,"Sun",null,null,null,"00:00:00",null,null,"00:00:00","00:00:00","00:00:00","00:00:00","00:00:00","00:00:00","00:00:00",0,0,{"$f":"IF(C220=0,\"\",IF(ISTEXT(E220),\"\",IF('PS-Calcs'!J218=\"Under\",\"Check\",0)))","v":0},{"$f":"IF('PS-Calcs'!M218=\"Exceeds\",\"Check\",0)","v":0},{"$f":"'PS-Calcs'!O218","v":"NB"},null,{"$f":"'PS-Calcs'!P218","v":"NB"}]
[null,null,"Week32","Mon",null,null,null,"00:00:00",{"$f":"SUM(H220:H226)","v":0},{"$f":"IF(E220=\"\",\"\",AVERAGE(I$3:I220))","v":""},"00:00:00",null,"00:00:00","00:00:00","00:00:00","00:00:00","00:00:00",{"$f":"IF(H220>0,IF(SUM(M220:P220)>0,\"Yes\",\"no\"),0)","v":0},0,{"$f":"IF(ISTEXT(E221),\"\",IF('PS-Calcs'!J219=\"Under\",\"Check\", 0))","v":0},{"$f":"IF('PS-Calcs'!M219=\"Exceeds\",\"Check\",0)","v":0},{"$f":"'PS-Calcs'!O219","v":"NB"},null,{"$f":"'PS-Calcs'!P219","v":"NB"}]
[null,null,null,"Tue",null,null,null,"00:00:00",null,null,"00:00:00",null,"00:00:00","00:00:00","00:00:00","00:00:00","00:00:00",0,0,{"$f":"IF(ISTEXT(E222),\"\",IF('PS-Calcs'!J220=\"Under\",\"Check\", 0))","v":0},{"$f":"IF('PS-Calcs'!M220=\"Exceeds\",\"Check\",0)","v":0},{"$f":"'PS-Calcs'!O220","v":"NB"},null,{"$f":"'PS-Calcs'!P220","v":"NB"}]
[null,null,null,"Wed",null,null,null,"00:00:00",null,null,"00:00:00",null,"00:00:00","00:00:00","00:00:00","00:00:00","00:00:00",0,0,{"$f":"IF(ISTEXT(E223),\"\",IF('PS-Calcs'!J221=\"Under\",\"Check\", 0))","v":0},{"$f":"IF('PS-Calcs'!M221=\"Exceeds\",\"Check\",0)","v":0},{"$f":"'PS-Calcs'!O221","v":"NB"},null,{"$f":"'PS-Calcs'!P221","v":"NB"}]
[null,null,null,"Thu",null,null,null,"00:00:00",null,null,"00:00:00",null,"00:00:00","00:00:00","00:00:00","00:00:00","00:00:00",0,0,{"$f":"IF(ISTEXT(E224),\"\",IF('PS-Calcs'!J222=\"Under\",\"Check\", 0))","v":0},{"$f":"IF('PS-Calcs'!M222=\"Exceeds\",\"Check\",0)","v":0},{"$f":"'PS-Calcs'!O222","v":"NB"},null,{"$f":"'PS-Calcs'!P222","v":"NB"}]
[null,null,null,"Fri",null,null,null,"00:00:00",null,null,0,null,"00:00:00","00:00:00","00:00:00","00:00:00","00:00:00",0,0,{"$f":"IF(ISTEXT(E225),\"\",IF('PS-Calcs'!J223=\"Under\",\"Check\", 0))","v":0},{"$f":"IF('PS-Calcs'!M223=\"Exceeds\",\"Check\",0)","v":0},{"$f":"'PS-Calcs'!O223","v":"NB"},null,{"$f":"'PS-Calcs'!P223","v":"NB"}]
[null,null,null,"Sat",null,null,null,"00:00:00",null,null,"00:00:00",{"$f":"H225","v":"00:00:00"},"00:00:00","00:00:00","00:00:00","00:00:00","00:00:00",{"$f":"IF(H225>0,\"yes\",0)","v":0},0,{"$f":"IF(ISTEXT(E226),\"\",IF('PS-Calcs'!J224=\"Under\",\"Check\", 0))","v":0},{"$f":"IF('PS-Calcs'!M224=\"Exceeds\",\"Check\",0)","v":0},{"$f":"'PS-Calcs'!O224","v":"NB"},null,{"$f":"'PS-Calcs'!P224","v":"NB"}]
[null,null,null,"Sun",null,null,null,"00:00:00",null,null,"00:00:00","00:00:00","00:00:00","00:00:00","00:00:00","00:00:00","00:00:00",0,0,{"$f":"IF(C227=0,\"\",IF(ISTEXT(E227),\"\",IF('PS-Calcs'!J225=\"Under\",\"Check\",0)))","v":0},{"$f":"IF('PS-Calcs'!M225=\"Exceeds\",\"Check\",0)","v":0},{"$f":"'PS-Calcs'!O225","v":"NB"},null,{"$f":"'PS-Calcs'!P225","v":"NB"}]
[null,null,"Week33","Mon",null,null,null,"00:00:00",{"$f":"SUM(H227:H233)","v":0},{"$f":"IF(E227=\"\",\"\",AVERAGE(I$3:I227))","v":""},"00:00:00",null,"00:00:00","00:00:00","00:00:00","00:00:00","00:00:00",{"$f":"IF(H227>0,IF(SUM(M227:P227)>0,\"Yes\",\"no\"),0)","v":0},0,{"$f":"IF(ISTEXT(E228),\"\",IF('PS-Calcs'!J226=\"Under\",\"Check\", 0))","v":0},{"$f":"IF('PS-Calcs'!M226=\"Exceeds\",\"Check\",0)","v":0},{"$f":"'PS-Calcs'!O226","v":"NB"},null,{"$f":"'PS-Calcs'!P226","v":"NB"}]
[null,null,null,"Tue",null,null,null,"00:00:00",null,null,"00:00:00",null,"00:00:00","00:00:00","00:00:00","00:00:00","00:00:00",0,0,{"$f":"IF(ISTEXT(E229),\"\",IF('PS-Calcs'!J227=\"Under\",\"Check\", 0))","v":0},{"$f":"IF('PS-Calcs'!M227=\"Exceeds\",\"Check\",0)","v":0},{"$f":"'PS-Calcs'!O227","v":"NB"},null,{"$f":"'PS-Calcs'!P227","v":"NB"}]
[null,null,null,"Wed",null,null,null,"00:00:00",null,null,"00:00:00",null,"00:00:00","00:00:00","00:00:00","00:00:00","00:00:00",0,0,{"$f":"IF(ISTEXT(E230),\"\",IF('PS-Calcs'!J228=\"Under\",\"Check\", 0))","v":0},{"$f":"IF('PS-Calcs'!M228=\"Exceeds\",\"Check\",0)","v":0},{"$f":"'PS-Calcs'!O228","v":"NB"},null,{"$f":"'PS-Calcs'!P228","v":"NB"}]
[null,null,null,"Thu",null,null,null,"00:00:00",null,null,"00:00:00",null,"00:00:00","00:00:00","00:00:00","00:00:00","00:00:00",0,0,{"$f":"IF(ISTEXT(E231),\"\",IF('PS-Calcs'!J229=\"Under\",\"Check\", 0))","v":0},{"$f":"IF('PS-Calcs'!M229=\"Exceeds\",\"Check\",0)","v":0},{"$f":"'PS-Calcs'!O229","v":"NB"},null,{"$f":"'PS-Calcs'!P229","v":"NB"}]
[null,null,null,"Fri",null,null,null,"00:00:00",null,null,0,null,"00:00:00","00:00:00","00:00:00","00:00:00","00:00:00",0,0,{"$f":"IF(ISTEXT(E232),\"\",IF('PS-Calcs'!J230=\"Under\",\"Check\", 0))","v":0},{"$f":"IF('PS-Calcs'!M230=\"Exceeds\",\"Check\",0)","v":0},{"$f":"'PS-Calcs'!O230","v":"NB"},null,{"$f":"'PS-Calcs'!P230","v":"NB"}]
[null,null,null,"Sat",null,null,null,"00:00:00",null,null,"00:00:00",{"$f":"H232","v":"00:00:00"},"00:00:00","00:00:00","00:00:00","00:00:00","00:00:00",{"$f":"IF(H232>0,\"yes\",0)","v":0},0,{"$f":"IF(ISTEXT(E233),\"\",IF('PS-Calcs'!J231=\"Under\",\"Check\", 0))","v":0},{"$f":"IF('PS-Calcs'!M231=\"Exceeds\",\"Check\",0)","v":0},{"$f":"'PS-Calcs'!O231","v":"NB"},null,{"$f":"'PS-Calcs'!P231","v":"NB"}]
[null,null,null,"Sun",null,null,null,"00:00:00",null,null,"00:00:00","00:00:00","00:00:00","00:00:00","00:00:00","00:00:00","00:00:00",0,0,{"$f":"IF(C234=0,\"\",IF(ISTEXT(E234),\"\",IF('PS-Calcs'!J232=\"Under\",\"Check\",0)))","v":0},{"$f":"IF('PS-Calcs'!M232=\"Exceeds\",\"Check\",0)","v":0},{"$f":"'PS-Calcs'!O232","v":"NB"},null,{"$f":"'PS-Calcs'!P232","v":"NB"}]
[null,null,"Week34","Mon",null,null,null,"00:00:00",{"$f":"SUM(H234:H240)","v":0},{"$f":"IF(E234=\"\",\"\",AVERAGE(I$3:I234))","v":""},"00:00:00",null,"00:00:00","00:00:00","00:00:00","00:00:00","00:00:00",{"$f":"IF(H234>0,IF(SUM(M234:P234)>0,\"Yes\",\"no\"),0)","v":0},0,{"$f":"IF(ISTEXT(E235),\"\",IF('PS-Calcs'!J233=\"Under\",\"Check\", 0))","v":0},{"$f":"IF('PS-Calcs'!M233=\"Exceeds\",\"Check\",0)","v":0},{"$f":"'PS-Calcs'!O233","v":"NB"},null,{"$f":"'PS-Calcs'!P233","v":"NB"}]
[null,null,null,"Tue",null,null,null,"00:00:00",null,null,"00:00:00",null,"00:00:00","00:00:00","00:00:00","00:00:00","00:00:00",0,0,{"$f":"IF(ISTEXT(E236),\"\",IF('PS-Calcs'!J234=\"Under\",\"Check\", 0))","v":0},{"$f":"IF('PS-Calcs'!M234=\"Exceeds\",\"Check\",0)","v":0},{"$f":"'PS-Calcs'!O234","v":"NB"},null,{"$f":"'PS-Calcs'!P234","v":"NB"}]
[null,null,null,"Wed",null,null,null,"00:00:00",null,null,"00:00:00",null,"00:00:00","00:00:00","00:00:00","00:00:00","00:00:00",0,0,{"$f":"IF(ISTEXT(E237),\"\",IF('PS-Calcs'!J235=\"Under\",\"Check\", 0))","v":0},{"$f":"IF('PS-Calcs'!M235=\"Exceeds\",\"Check\",0)","v":0},{"$f":"'PS-Calcs'!O235","v":"NB"},null,{"$f":"'PS-Calcs'!P235","v":"NB"}]
[null,null,null,"Thu",null,null,null,"00:00:00",null,null,"00:00:00",null,"00:00:00","00:00:00","00:00:00","00:00:00","00:00:00",0,0,{"$f":"IF(ISTEXT(E238),\"\",IF('PS-Calcs'!J236=\"Under\",\"Check\", 0))","v":0},{"$f":"IF('PS-Calcs'!M236=\"Exceeds\",\"Check\",0)","v":0},{"$f":"'PS-Calcs'!O236","v":"NB"},null,{"$f":"'PS-Calcs'!P236","v":"NB"}]
[null,null,null,"Fri",null,null,null,"00:00:00",null,null,0,null,"00:00:00","00:00:00","00:00:00","00:00:00","00:00:00",0,0,{"$f":"IF(ISTEXT(E239),\"\",IF('PS-Calcs'!J237=\"Under\",\"Check\", 0))","v":0},{"$f":"IF('PS-Calcs'!M237=\"Exceeds\",\"Check\",0)","v":0},{"$f":"'PS-Calcs'!O237","v":"NB"},null,{"$f":"'PS-Calcs'!P237","v":"NB"}]
[null,null,null,"Sat",null,null,null,"00:00:00",null,null,"00:00:00",{"$f":"H239","v":"00:00:00"},"00:00:00","00:00:00","00:00:00","00:00:00","00:00:00",{"$f":"IF(H239>0,\"yes\",0)","v":0},0,{"$f":"IF(ISTEXT(E240),\"\",IF('PS-Calcs'!J238=\"Under\",\"Check\", 0))","v":0},{"$f":"IF('PS-Calcs'!M238=\"Exceeds\",\"Check\",0)","v":0},{"$f":"'PS-Calcs'!O238","v":"NB"},null,{"$f":"'PS-Calcs'!P238","v":"NB"}]
[null,null,null,"Sun",null,null,null,"00:00:00",null,null,"00:00:00","00:00:00","00:00:00","00:00:00","00:00:00","00:00:00","00:00:00",0,0,{"$f":"IF(C241=0,\"\",IF(ISTEXT(E241),\"\",IF('PS-Calcs'!J239=\"Under\",\"Check\",0)))","v":0},{"$f":"IF('PS-Calcs'!M239=\"Exceeds\",\"Check\",0)","v":0},{"$f":"'PS-Calcs'!O239","v":"NB"},null,{"$f":"'PS-Calcs'!P239","v":"NB"}]
[null,null,"Week35","Mon",null,null,null,"00:00:00",{"$f":"SUM(H241:H247)","v":0},{"$f":"IF(E241=\"\",\"\",AVERAGE(I$3:I241))","v":""},"00:00:00",null,"00:00:00","00:00:00","00:00:00","00:00:00","00:00:00",{"$f":"IF(H241>0,IF(SUM(M241:P241)>0,\"Yes\",\"no\"),0)","v":0},0,{"$f":"IF(ISTEXT(E242),\"\",IF('PS-Calcs'!J240=\"Under\",\"Check\", 0))","v":0},{"$f":"IF('PS-Calcs'!M240=\"Exceeds\",\"Check\",0)","v":0},{"$f":"'PS-Calcs'!O240","v":"NB"},null,{"$f":"'PS-Calcs'!P240","v":"NB"}]
[null,null,null,"Tue",null,null,null,"00:00:00",null,null,"00:00:00",null,"00:00:00","00:00:00","00:00:00","00:00:00","00:00:00",0,0,{"$f":"IF(ISTEXT(E243),\"\",IF('PS-Calcs'!J241=\"Under\",\"Check\", 0))","v":0},{"$f":"IF('PS-Calcs'!M241=\"Exceeds\",\"Check\",0)","v":0},{"$f":"'PS-Calcs'!O241","v":"NB"},null,{"$f":"'PS-Calcs'!P241","v":"NB"}]
[null,null,null,"Wed",null,null,null,"00:00:00",null,null,"00:00:00",null,"00:00:00","00:00:00","00:00:00","00:00:00","00:00:00",0,0,{"$f":"IF(ISTEXT(E244),\"\",IF('PS-Calcs'!J242=\"Under\",\"Check\", 0))","v":0},{"$f":"IF('PS-Calcs'!M242=\"Exceeds\",\"Check\",0)","v":0},{"$f":"'PS-Calcs'!O242","v":"NB"},null,{"$f":"'PS-Calcs'!P242","v":"NB"}]
[null,null,null,"Thu",null,null,null,"00:00:00",null,null,"00:00:00",null,"00:00:00","00:00:00","00:00:00","00:00:00","00:00:00",0,0,{"$f":"IF(ISTEXT(E245),\"\",IF('PS-Calcs'!J243=\"Under\",\"Check\", 0))","v":0},{"$f":"IF('PS-Calcs'!M243=\"Exceeds\",\"Check\",0)","v":0},{"$f":"'PS-Calcs'!O243","v":"NB"},null,{"$f":"'PS-Calcs'!P243","v":"NB"}]
[null,null,null,"Fri",null,null,null,"00:00:00",null,null,0,null,"00:00:00","00:00:00","00:00:00","00:00:00","00:00:00",0,0,{"$f":"IF(ISTEXT(E246),\"\",IF('PS-Calcs'!J244=\"Under\",\"Check\", 0))","v":0},{"$f":"IF('PS-Calcs'!M244=\"Exceeds\",\"Check\",0)","v":0},{"$f":"'PS-Calcs'!O244","v":"NB"},null,{"$f":"'PS-Calcs'!P244","v":"NB"}]
[null,null,null,"Sat",null,null,null,"00:00:00",null,null,"00:00:00",{"$f":"H246","v":"00:00:00"},"00:00:00","00:00:00","00:00:00","00:00:00","00:00:00",{"$f":"IF(H246>0,\"yes\",0)","v":0},0,{"$f":"IF(ISTEXT(E247),\"\",IF('PS-Calcs'!J245=\"Under\",\"Check\", 0))","v":0},{"$f":"IF('PS-Calcs'!M245=\"Exceeds\",\"Check\",0)","v":0},{"$f":"'PS-Calcs'!O245","v":"NB"},null,{"$f":"'PS-Calcs'!P245","v":"NB"}]
[null,null,null,"Sun",null,null,null,"00:00:00",null,null,"00:00:00","00:00:00","00:00:00","00:00:00","00:00:00","00:00:00","00:00:00",0,0,{"$f":"IF(C248=0,\"\",IF(ISTEXT(E248),\"\",IF('PS-Calcs'!J246=\"Under\",\"Check\",0)))","v":0},{"$f":"IF('PS-Calcs'!M246=\"Exceeds\",\"Check\",0)","v":0},{"$f":"'PS-Calcs'!O246","v":"NB"},null,{"$f":"'PS-Calcs'!P246","v":"NB"}]
[null,null,"Week36","Mon",null,null,null,"00:00:00",{"$f":"SUM(H248:H254)","v":0},{"$f":"IF(E248=\"\",\"\",AVERAGE(I$3:I248))","v":""},"00:00:00",null,"00:00:00","00:00:00","00:00:00","00:00:00","00:00:00",{"$f":"IF(H248>0,IF(SUM(M248:P248)>0,\"Yes\",\"no\"),0)","v":0},0,{"$f":"IF(ISTEXT(E249),\"\",IF('PS-Calcs'!J247=\"Under\",\"Check\", 0))","v":0},{"$f":"IF('PS-Calcs'!M247=\"Exceeds\",\"Check\",0)","v":0},{"$f":"'PS-Calcs'!O247","v":"NB"},null,{"$f":"'PS-Calcs'!P247","v":"NB"}]
[null,null,null,"Tue",null,null,null,"00:00:00",null,null,"00:00:00",null,"00:00:00","00:00:00","00:00:00","00:00:00","00:00:00",0,0,{"$f":"IF(ISTEXT(E250),\"\",IF('PS-Calcs'!J248=\"Under\",\"Check\", 0))","v":0},{"$f":"IF('PS-Calcs'!M248=\"Exceeds\",\"Check\",0)","v":0},{"$f":"'PS-Calcs'!O248","v":"NB"},null,{"$f":"'PS-Calcs'!P248","v":"NB"}]
[null,null,null,"Wed",null,null,null,"00:00:00",null,null,"00:00:00",null,"00:00:00","00:00:00","00:00:00","00:00:00","00:00:00",0,0,{"$f":"IF(ISTEXT(E251),\"\",IF('PS-Calcs'!J249=\"Under\",\"Check\", 0))","v":0},{"$f":"IF('PS-Calcs'!M249=\"Exceeds\",\"Check\",0)","v":0},{"$f":"'PS-Calcs'!O249","v":"NB"},null,{"$f":"'PS-Calcs'!P249","v":"NB"}]
[null,null,null,"Thu",null,null,null,"00:00:00",null,null,"00:00:00",null,"00:00:00","00:00:00","00:00:00","00:00:00","00:00:00",0,0,{"$f":"IF(ISTEXT(E252),\"\",IF('PS-Calcs'!J250=\"Under\",\"Check\", 0))","v":0},{"$f":"IF('PS-Calcs'!M250=\"Exceeds\",\"Check\",0)","v":0},{"$f":"'PS-Calcs'!O250","v":"NB"},null,{"$f":"'PS-Calcs'!P250","v":"NB"}]
[null,null,null,"Fri",null,null,null,"00:00:00",null,null,0,null,"00:00:00","00:00:00","00:00:00","00:00:00","00:00:00",0,0,{"$f":"IF(ISTEXT(E253),\"\",IF('PS-Calcs'!J251=\"Under\",\"Check\", 0))","v":0},{"$f":"IF('PS-Calcs'!M251=\"Exceeds\",\"Check\",0)","v":0},{"$f":"'PS-Calcs'!O251","v":"NB"},null,{"$f":"'PS-Calcs'!P251","v":"NB"}]
[null,null,null,"Sat",null,null,null,"00:00:00",null,null,"00:00:00",{"$f":"H253","v":"00:00:00"},"00:00:00","00:00:00","00:00:00","00:00:00","00:00:00",{"$f":"IF(H253>0,\"yes\",0)","v":0},0,{"$f":"IF(ISTEXT(E254),\"\",IF('PS-Calcs'!J252=\"Under\",\"Check\", 0))","v":0},{"$f":"IF('PS-Calcs'!M252=\"Exceeds\",\"Check\",0)","v":0},{"$f":"'PS-Calcs'!O252","v":"NB"},null,{"$f":"'PS-Calcs'!P252","v":"NB"}]
[null,null,null,"Sun",null,null,null,"00:00:00",null,null,"00:00:00","00:00:00","00:00:00","00:00:00","00:00:00","00:00:00","00:00:00",0,0,{"$f":"IF(C255=0,\"\",IF(ISTEXT(E255),\"\",IF('PS-Calcs'!J253=\"Under\",\"Check\",0)))","v":0},{"$f":"IF('PS-Calcs'!M253=\"Exceeds\",\"Check\",0)","v":0},{"$f":"'PS-Calcs'!O253","v":"NB"},null,{"$f":"'PS-Calcs'!P253","v":"NB"}]
[null,null,"Week37","Mon",null,null,null,"00:00:00",{"$f":"SUM(H255:H261)","v":0},{"$f":"IF(E255=\"\",\"\",AVERAGE(I$3:I255))","v":""},"00:00:00",null,"00:00:00","00:00:00","00:00:00","00:00:00","00:00:00",{"$f":"IF(H255>0,IF(SUM(M255:P255)>0,\"Yes\",\"no\"),0)","v":0},0,{"$f":"IF(ISTEXT(E256),\"\",IF('PS-Calcs'!J254=\"Under\",\"Check\", 0))","v":0},{"$f":"IF('PS-Calcs'!M254=\"Exceeds\",\"Check\",0)","v":0},{"$f":"'PS-Calcs'!O254","v":"NB"},null,{"$f":"'PS-Calcs'!P254","v":"NB"}]
[null,null,null,"Tue",null,null,null,"00:00:00",null,null,"00:00:00",null,"00:00:00","00:00:00","00:00:00","00:00:00","00:00:00",0,0,{"$f":"IF(ISTEXT(E257),\"\",IF('PS-Calcs'!J255=\"Under\",\"Check\", 0))","v":0},{"$f":"IF('PS-Calcs'!M255=\"Exceeds\",\"Check\",0)","v":0},{"$f":"'PS-Calcs'!O255","v":"NB"},null,{"$f":"'PS-Calcs'!P255","v":"NB"}]
[null,null,null,"Wed",null,null,null,"00:00:00",null,null,"00:00:00",null,"00:00:00","00:00:00","00:00:00","00:00:00","00:00:00",0,0,{"$f":"IF(ISTEXT(E258),\"\",IF('PS-Calcs'!J256=\"Under\",\"Check\", 0))","v":0},{"$f":"IF('PS-Calcs'!M256=\"Exceeds\",\"Check\",0)","v":0},{"$f":"'PS-Calcs'!O256","v":"NB"},null,{"$f":"'PS-Calcs'!P256","v":"NB"}]
[null,null,null,"Thu",null,null,null,"00:00:00",null,null,"00:00:00",null,"00:00:00","00:00:00","00:00:00","00:00:00","00:00:00",0,0,{"$f":"IF(ISTEXT(E259),\"\",IF('PS-Calcs'!J257=\"Under\",\"Check\", 0))","v":0},{"$f":"IF('PS-Calcs'!M257=\"Exceeds\",\"Check\",0)","v":0},{"$f":"'PS-Calcs'!O257","v":"NB"},null,{"$f":"'PS-Calcs'!P257","v":"NB"}]
[null,null,null,"Fri",null,null,null,"00:00:00",null,null,0,null,"00:00:00","00:00:00","00:00:00","00:00:00","00:00:00",0,0,{"$f":"IF(ISTEXT(E260),\"\",IF('PS-Calcs'!J258=\"Under\",\"Check\", 0))","v":0},{"$f":"IF('PS-Calcs'!M258=\"Exceeds\",\"Check\",0)","v":0},{"$f":"'PS-Calcs'!O258","v":"NB"},null,{"$f":"'PS-Calcs'!P258","v":"NB"}]
[null,null,null,"Sat",null,null,null,"00:00:00",null,null,"00:00:00",{"$f":"H260","v":"00:00:00"},"00:00:00","00:00:00","00:00:00","00:00:00","00:00:00",{"$f":"IF(H260>0,\"yes\",0)","v":0},0,{"$f":"IF(ISTEXT(E261),\"\",IF('PS-Calcs'!J259=\"Under\",\"Check\", 0))","v":0},{"$f":"IF('PS-Calcs'!M259=\"Exceeds\",\"Check\",0)","v":0},{"$f":"'PS-Calcs'!O259","v":"NB"},null,{"$f":"'PS-Calcs'!P259","v":"NB"}]
[null,null,null,"Sun",null,null,null,"00:00:00",null,null,"00:00:00","00:00:00","00:00:00","00:00:00","00:00:00","00:00:00","00:00:00",0,0,{"$f":"IF(C262=0,\"\",IF(ISTEXT(E262),\"\",IF('PS-Calcs'!J260=\"Under\",\"Check\",0)))","v":0},{"$f":"IF('PS-Calcs'!M260=\"Exceeds\",\"Check\",0)","v":0},{"$f":"'PS-Calcs'!O260","v":"NB"},null,{"$f":"'PS-Calcs'!P260","v":"NB"}]
[null,null,"Week38","Mon",null,null,null,"00:00:00",{"$f":"SUM(H262:H268)","v":0},{"$f":"IF(E262=\"\",\"\",AVERAGE(I$3:I262))","v":""},"00:00:00",null,"00:00:00","00:00:00","00:00:00","00:00:00","00:00:00",{"$f":"IF(H262>0,IF(SUM(M262:P262)>0,\"Yes\",\"no\"),0)","v":0},0,{"$f":"IF(ISTEXT(E263),\"\",IF('PS-Calcs'!J261=\"Under\",\"Check\", 0))","v":0},{"$f":"IF('PS-Calcs'!M261=\"Exceeds\",\"Check\",0)","v":0},{"$f":"'PS-Calcs'!O261","v":"NB"},null,{"$f":"'PS-Calcs'!P261","v":"NB"}]
[null,null,null,"Tue",null,null,null,"00:00:00",null,null,"00:00:00",null,"00:00:00","00:00:00","00:00:00","00:00:00","00:00:00",0,0,{"$f":"IF(ISTEXT(E264),\"\",IF('PS-Calcs'!J262=\"Under\",\"Check\", 0))","v":0},{"$f":"IF('PS-Calcs'!M262=\"Exceeds\",\"Check\",0)","v":0},{"$f":"'PS-Calcs'!O262","v":"NB"},null,{"$f":"'PS-Calcs'!P262","v":"NB"}]
[null,null,null,"Wed",null,null,null,"00:00:00",null,null,"00:00:00",null,"00:00:00","00:00:00","00:00:00","00:00:00","00:00:00",0,0,{"$f":"IF(ISTEXT(E265),\"\",IF('PS-Calcs'!J263=\"Under\",\"Check\", 0))","v":0},{"$f":"IF('PS-Calcs'!M263=\"Exceeds\",\"Check\",0)","v":0},{"$f":"'PS-Calcs'!O263","v":"NB"},null,{"$f":"'PS-Calcs'!P263","v":"NB"}]
[null,null,null,"Thu",null,null,null,"00:00:00",null,null,"00:00:00",null,"00:00:00","00:00:00","00:00:00","00:00:00","00:00:00",0,0,{"$f":"IF(ISTEXT(E266),\"\",IF('PS-Calcs'!J264=\"Under\",\"Check\", 0))","v":0},{"$f":"IF('PS-Calcs'!M264=\"Exceeds\",\"Check\",0)","v":0},{"$f":"'PS-Calcs'!O264","v":"NB"},null,{"$f":"'PS-Calcs'!P264","v":"NB"}]
[null,null,null,"Fri",null,null,null,"00:00:00",null,null,{"$f":"IF(F266<E266,F266+1,F266)","v":0},null,{"$f":"IF(H266>0,IF(M$2-E266>0,M$2-E266,0),0)","v":"00:00:00"},{"$f":"IF(H266>0,IF(F266-N$2>0,F266-N$2,0),0)","v":"00:00:00"},{"$f":"IF(H266>0,IF(F266<E266,IF(F266>O$2,O$2,F266),0),0)","v":"00:00:00"},{"$f":"IF(H266>0,IF(E266>F266,IF(E266>N$2,R$2-E266,R$2-P$2),0),0)","v":"00:00:00"},"00:00:00",0,{"$f":"IF(H266>0,IF(F266-E266<0,1,IF(E266<0.25,1,IF(F266>(20/24),1,0))),0)","v":0},{"$f":"IF(ISTEXT(E267),\"\",IF('PS-Calcs'!J265=\"Under\",\"Check\", 0))","v":0},{"$f":"IF('PS-Calcs'!M265=\"Exceeds\",\"Check\",0)","v":0},{"$f":"'PS-Calcs'!O265","v":"NB"},null,{"$f":"'PS-Calcs'!P265","v":"NB"}]
[null,null,null,"Sat",null,null,null,{"$f":"IF(ISTEXT(E267),0,IF(ISTEXT(F267),0,IF(F267<E267,F267+1,F267)-E267-G267))","v":"00:00:00"},null,null,"00:00:00",{"$f":"H267","v":"00:00:00"},"00:00:00","00:00:00","00:00:00","00:00:00",{"$f":"SUM(M267:P267)","v":"00:00:00"},{"$f":"IF(H267>0,\"yes\",0)","v":0},0,{"$f":"IF(ISTEXT(E268),\"\",IF('PS-Calcs'!J266=\"Under\",\"Check\", 0))","v":0},{"$f":"IF('PS-Calcs'!M266=\"Exceeds\",\"Check\",0)","v":0},{"$f":"'PS-Calcs'!O266","v":"NB"},null,{"$f":"'PS-Calcs'!P266","v":"NB"}]
[null,null,null,"Sun",null,null,null,"00:00:00",null,null,"00:00:00","00:00:00","00:00:00","00:00:00","00:00:00","00:00:00","00:00:00",0,0,{"$f":"IF(C269=0,\"\",IF(ISTEXT(E269),\"\",IF('PS-Calcs'!J267=\"Under\",\"Check\",0)))","v":0},{"$f":"IF('PS-Calcs'!M267=\"Exceeds\",\"Check\",0)","v":0},{"$f":"'PS-Calcs'!O267","v":"NB"},null,{"$f":"'PS-Calcs'!P267","v":"NB"}]
[null,null,"Week39","Mon",null,null,null,"00:00:00",{"$f":"SUM(H269:H275)","v":0},{"$f":"IF(E269=\"\",\"\",AVERAGE(I$3:I269))","v":""},"00:00:00",null,"00:00:00","00:00:00","00:00:00","00:00:00","00:00:00",{"$f":"IF(H269>0,IF(SUM(M269:P269)>0,\"Yes\",\"no\"),0)","v":0},0,{"$f":"IF(ISTEXT(E270),\"\",IF('PS-Calcs'!J268=\"Under\",\"Check\", 0))","v":0},{"$f":"IF('PS-Calcs'!M268=\"Exceeds\",\"Check\",0)","v":0},{"$f":"'PS-Calcs'!O268","v":"NB"},null,{"$f":"'PS-Calcs'!P268","v":"NB"}]
[null,null,null,"Tue",null,null,null,"00:00:00",null,null,"00:00:00",null,"00:00:00","00:00:00","00:00:00","00:00:00","00:00:00",0,0,{"$f":"IF(ISTEXT(E271),\"\",IF('PS-Calcs'!J269=\"Under\",\"Check\", 0))","v":0},{"$f":"IF('PS-Calcs'!M269=\"Exceeds\",\"Check\",0)","v":0},{"$f":"'PS-Calcs'!O269","v":"NB"},null,{"$f":"'PS-Calcs'!P269","v":"NB"}]
[null,null,null,"Wed",null,null,null,"00:00:00",null,null,"00:00:00",null,"00:00:00","00:00:00","00:00:00","00:00:00","00:00:00",0,0,{"$f":"IF(ISTEXT(E272),\"\",IF('PS-Calcs'!J270=\"Under\",\"Check\", 0))","v":0},{"$f":"IF('PS-Calcs'!M270=\"Exceeds\",\"Check\",0)","v":0},{"$f":"'PS-Calcs'!O270","v":"NB"},null,{"$f":"'PS-Calcs'!P270","v":"NB"}]
[null,null,null,"Thu",null,null,null,"00:00:00",null,null,"00:00:00",null,"00:00:00","00:00:00","00:00:00","00:00:00","00:00:00",0,0,{"$f":"IF(ISTEXT(E273),\"\",IF('PS-Calcs'!J271=\"Under\",\"Check\", 0))","v":0},{"$f":"IF('PS-Calcs'!M271=\"Exceeds\",\"Check\",0)","v":0},{"$f":"'PS-Calcs'!O271","v":"NB"},null,{"$f":"'PS-Calcs'!P271","v":"NB"}]
[null,null,null,"Fri",null,null,null,"00:00:00",null,null,0,null,"00:00:00","00:00:00","00:00:00","00:00:00","00:00:00",0,0,{"$f":"IF(ISTEXT(E274),\"\",IF('PS-Calcs'!J272=\"Under\",\"Check\", 0))","v":0},{"$f":"IF('PS-Calcs'!M272=\"Exceeds\",\"Check\",0)","v":0},{"$f":"'PS-Calcs'!O272","v":"NB"},null,{"$f":"'PS-Calcs'!P272","v":"NB"}]
[null,null,null,"Sat",null,null,null,"00:00:00",null,null,"00:00:00",{"$f":"H274","v":"00:00:00"},"00:00:00","00:00:00","00:00:00","00:00:00","00:00:00",{"$f":"IF(H274>0,\"yes\",0)","v":0},0,{"$f":"IF(ISTEXT(E275),\"\",IF('PS-Calcs'!J273=\"Under\",\"Check\", 0))","v":0},{"$f":"IF('PS-Calcs'!M273=\"Exceeds\",\"Check\",0)","v":0},{"$f":"'PS-Calcs'!O273","v":"NB"},null,{"$f":"'PS-Calcs'!P273","v":"NB"}]
[null,null,null,"Sun",null,null,null,"00:00:00",null,null,"00:00:00","00:00:00","00:00:00","00:00:00","00:00:00","00:00:00","00:00:00",0,0,{"$f":"IF(C276=0,\"\",IF(ISTEXT(E276),\"\",IF('PS-Calcs'!J274=\"Under\",\"Check\",0)))","v":0},{"$f":"IF('PS-Calcs'!M274=\"Exceeds\",\"Check\",0)","v":0},{"$f":"'PS-Calcs'!O274","v":"NB"},null,{"$f":"'PS-Calcs'!P274","v":"NB"}]
[null,null,"Week40","Mon",null,null,null,"00:00:00",{"$f":"SUM(H276:H282)","v":0},{"$f":"IF(E276=\"\",\"\",AVERAGE(I$3:I276))","v":""},"00:00:00",null,"00:00:00","00:00:00","00:00:00","00:00:00","00:00:00",{"$f":"IF(H276>0,IF(SUM(M276:P276)>0,\"Yes\",\"no\"),0)","v":0},0,{"$f":"IF(ISTEXT(E277),\"\",IF('PS-Calcs'!J275=\"Under\",\"Check\", 0))","v":0},{"$f":"IF('PS-Calcs'!M275=\"Exceeds\",\"Check\",0)","v":0},{"$f":"'PS-Calcs'!O275","v":"NB"},null,{"$f":"'PS-Calcs'!P275","v":"NB"}]
[null,null,null,"Tue",null,null,null,"00:00:00",null,null,"00:00:00",null,"00:00:00","00:00:00","00:00:00","00:00:00","00:00:00",0,0,{"$f":"IF(ISTEXT(E278),\"\",IF('PS-Calcs'!J276=\"Under\",\"Check\", 0))","v":0},{"$f":"IF('PS-Calcs'!M276=\"Exceeds\",\"Check\",0)","v":0},{"$f":"'PS-Calcs'!O276","v":"NB"},null,{"$f":"'PS-Calcs'!P276","v":"NB"}]
[null,null,null,"Wed",null,null,null,"00:00:00",null,null,"00:00:00",null,"00:00:00","00:00:00","00:00:00","00:00:00","00:00:00",0,0,{"$f":"IF(ISTEXT(E279),\"\",IF('PS-Calcs'!J277=\"Under\",\"Check\", 0))","v":0},{"$f":"IF('PS-Calcs'!M277=\"Exceeds\",\"Check\",0)","v":0},{"$f":"'PS-Calcs'!O277","v":"NB"},null,{"$f":"'PS-Calcs'!P277","v":"NB"}]
[null,null,null,"Thu",null,null,null,"00:00:00",null,null,"00:00:00",null,"00:00:00","00:00:00","00:00:00","00:00:00","00:00:00",0,0,{"$f":"IF(ISTEXT(E280),\"\",IF('PS-Calcs'!J278=\"Under\",\"Check\", 0))","v":0},{"$f":"IF('PS-Calcs'!M278=\"Exceeds\",\"Check\",0)","v":0},{"$f":"'PS-Calcs'!O278","v":"NB"},null,{"$f":"'PS-Calcs'!P278","v":"NB"}]
[null,null,null,"Fri",null,null,null,"00:00:00",null,null,0,null,"00:00:00","00:00:00","00:00:00","00:00:00","00:00:00",0,0,{"$f":"IF(ISTEXT(E281),\"\",IF('PS-Calcs'!J279=\"Under\",\"Check\", 0))","v":0},{"$f":"IF('PS-Calcs'!M279=\"Exceeds\",\"Check\",0)","v":0},{"$f":"'PS-Calcs'!O279","v":"NB"},null,{"$f":"'PS-Calcs'!P279","v":"NB"}]
[null,null,null,"Sat",null,null,null,"00:00:00",null,null,"00:00:00",{"$f":"H281","v":"00:00:00"},"00:00:00","00:00:00","00:00:00","00:00:00","00:00:00",{"$f":"IF(H281>0,\"yes\",0)","v":0},0,{"$f":"IF(ISTEXT(E282),\"\",IF('PS-Calcs'!J280=\"Under\",\"Check\", 0))","v":0},{"$f":"IF('PS-Calcs'!M280=\"Exceeds\",\"Check\",0)","v":0},{"$f":"'PS-Calcs'!O280","v":"NB"},null,{"$f":"'PS-Calcs'!P280","v":"NB"}]
[null,null,null,"Sun",null,null,null,"00:00:00",null,null,"00:00:00","00:00:00","00:00:00","00:00:00","00:00:00","00:00:00","00:00:00",0,0,{"$f":"IF(C283=0,\"\",IF(ISTEXT(E283),\"\",IF('PS-Calcs'!J281=\"Under\",\"Check\",0)))","v":0},{"$f":"IF('PS-Calcs'!M281=\"Exceeds\",\"Check\",0)","v":0},{"$f":"'PS-Calcs'!O281","v":"NB"},null,{"$f":"'PS-Calcs'!P281","v":"NB"}]
[null,null,"Week41","Mon",null,null,null,"00:00:00",{"$f":"SUM(H283:H289)","v":0},{"$f":"IF(E283=\"\",\"\",AVERAGE(I$3:I283))","v":""},"00:00:00",null,"00:00:00","00:00:00","00:00:00","00:00:00","00:00:00",{"$f":"IF(H283>0,IF(SUM(M283:P283)>0,\"Yes\",\"no\"),0)","v":0},0,{"$f":"IF(ISTEXT(E284),\"\",IF('PS-Calcs'!J282=\"Under\",\"Check\", 0))","v":0},{"$f":"IF('PS-Calcs'!M282=\"Exceeds\",\"Check\",0)","v":0},{"$f":"'PS-Calcs'!O282","v":"NB"},null,{"$f":"'PS-Calcs'!P282","v":"NB"}]
[null,null,null,"Tue",null,null,null,"00:00:00",null,null,"00:00:00",null,"00:00:00","00:00:00","00:00:00","00:00:00","00:00:00",0,0,{"$f":"IF(ISTEXT(E285),\"\",IF('PS-Calcs'!J283=\"Under\",\"Check\", 0))","v":0},{"$f":"IF('PS-Calcs'!M283=\"Exceeds\",\"Check\",0)","v":0},{"$f":"'PS-Calcs'!O283","v":"NB"},null,{"$f":"'PS-Calcs'!P283","v":"NB"}]
[null,null,null,"Wed",null,null,null,"00:00:00",null,null,"00:00:00",null,"00:00:00","00:00:00","00:00:00","00:00:00","00:00:00",0,0,{"$f":"IF(ISTEXT(E286),\"\",IF('PS-Calcs'!J284=\"Under\",\"Check\", 0))","v":0},{"$f":"IF('PS-Calcs'!M284=\"Exceeds\",\"Check\",0)","v":0},{"$f":"'PS-Calcs'!O284","v":"NB"},null,{"$f":"'PS-Calcs'!P284","v":"NB"}]
[null,null,null,"Thu",null,null,null,"00:00:00",null,null,"00:00:00",null,"00:00:00","00:00:00","00:00:00","00:00:00","00:00:00",0,0,{"$f":"IF(ISTEXT(E287),\"\",IF('PS-Calcs'!J285=\"Under\",\"Check\", 0))","v":0},{"$f":"IF('PS-Calcs'!M285=\"Exceeds\",\"Check\",0)","v":0},{"$f":"'PS-Calcs'!O285","v":"NB"},null,{"$f":"'PS-Calcs'!P285","v":"NB"}]
[null,null,null,"Fri",null,null,null,"00:00:00",null,null,0,null,"00:00:00","00:00:00","00:00:00","00:00:00","00:00:00",0,0,{"$f":"IF(ISTEXT(E288),\"\",IF('PS-Calcs'!J286=\"Under\",\"Check\", 0))","v":0},{"$f":"IF('PS-Calcs'!M286=\"Exceeds\",\"Check\",0)","v":0},{"$f":"'PS-Calcs'!O286","v":"NB"},null,{"$f":"'PS-Calcs'!P286","v":"NB"}]
[null,null,null,"Sat",null,null,null,"00:00:00",null,null,"00:00:00",{"$f":"H288","v":"00:00:00"},"00:00:00","00:00:00","00:00:00","00:00:00","00:00:00",{"$f":"IF(H288>0,\"yes\",0)","v":0},0,{"$f":"IF(ISTEXT(E289),\"\",IF('PS-Calcs'!J287=\"Under\",\"Check\", 0))","v":0},{"$f":"IF('PS-Calcs'!M287=\"Exceeds\",\"Check\",0)","v":0},{"$f":"'PS-Calcs'!O287","v":"NB"},null,{"$f":"'PS-Calcs'!P287","v":"NB"}]
[null,null,null,"Sun",null,null,null,"00:00:00",null,null,"00:00:00","00:00:00","00:00:00","00:00:00","00:00:00","00:00:00","00:00:00",0,0,{"$f":"IF(C290=0,\"\",IF(ISTEXT(E290),\"\",IF('PS-Calcs'!J288=\"Under\",\"Check\",0)))","v":0},{"$f":"IF('PS-Calcs'!M288=\"Exceeds\",\"Check\",0)","v":0},{"$f":"'PS-Calcs'!O288","v":"NB"},null,{"$f":"'PS-Calcs'!P288","v":"NB"}]
[null,null,"Week42","Mon",null,null,null,"00:00:00",{"$f":"SUM(H290:H296)","v":0},{"$f":"IF(E290=\"\",\"\",AVERAGE(I$3:I290))","v":""},"00:00:00",null,"00:00:00","00:00:00","00:00:00","00:00:00","00:00:00",{"$f":"IF(H290>0,IF(SUM(M290:P290)>0,\"Yes\",\"no\"),0)","v":0},0,{"$f":"IF(ISTEXT(E291),\"\",IF('PS-Calcs'!J289=\"Under\",\"Check\", 0))","v":0},{"$f":"IF('PS-Calcs'!M289=\"Exceeds\",\"Check\",0)","v":0},{"$f":"'PS-Calcs'!O289","v":"NB"},null,{"$f":"'PS-Calcs'!P289","v":"NB"}]
[null,null,null,"Tue",null,null,null,"00:00:00",null,null,"00:00:00",null,"00:00:00","00:00:00","00:00:00","00:00:00","00:00:00",0,0,{"$f":"IF(ISTEXT(E292),\"\",IF('PS-Calcs'!J290=\"Under\",\"Check\", 0))","v":0},{"$f":"IF('PS-Calcs'!M290=\"Exceeds\",\"Check\",0)","v":0},{"$f":"'PS-Calcs'!O290","v":"NB"},null,{"$f":"'PS-Calcs'!P290","v":"NB"}]
[null,null,null,"Wed",null,null,null,"00:00:00",null,null,"00:00:00",null,"00:00:00","00:00:00","00:00:00","00:00:00","00:00:00",0,0,{"$f":"IF(ISTEXT(E293),\"\",IF('PS-Calcs'!J291=\"Under\",\"Check\", 0))","v":0},{"$f":"IF('PS-Calcs'!M291=\"Exceeds\",\"Check\",0)","v":0},{"$f":"'PS-Calcs'!O291","v":"NB"},null,{"$f":"'PS-Calcs'!P291","v":"NB"}]
[null,null,null,"Thu",null,null,null,"00:00:00",null,null,"00:00:00",null,"00:00:00","00:00:00","00:00:00","00:00:00","00:00:00",0,0,{"$f":"IF(ISTEXT(E294),\"\",IF('PS-Calcs'!J292=\"Under\",\"Check\", 0))","v":0},{"$f":"IF('PS-Calcs'!M292=\"Exceeds\",\"Check\",0)","v":0},{"$f":"'PS-Calcs'!O292","v":"NB"},null,{"$f":"'PS-Calcs'!P292","v":"NB"}]
[null,null,null,"Fri",null,null,null,"00:00:00",null,null,0,null,"00:00:00","00:00:00","00:00:00","00:00:00","00:00:00",0,0,{"$f":"IF(ISTEXT(E295),\"\",IF('PS-Calcs'!J293=\"Under\",\"Check\", 0))","v":0},{"$f":"IF('PS-Calcs'!M293=\"Exceeds\",\"Check\",0)","v":0},{"$f":"'PS-Calcs'!O293","v":"NB"},null,{"$f":"'PS-Calcs'!P293","v":"NB"}]
[null,null,null,"Sat",null,null,null,"00:00:00",null,null,"00:00:00",{"$f":"H295","v":"00:00:00"},"00:00:00","00:00:00","00:00:00","00:00:00","00:00:00",{"$f":"IF(H295>0,\"yes\",0)","v":0},0,{"$f":"IF(ISTEXT(E296),\"\",IF('PS-Calcs'!J294=\"Under\",\"Check\", 0))","v":0},{"$f":"IF('PS-Calcs'!M294=\"Exceeds\",\"Check\",0)","v":0},{"$f":"'PS-Calcs'!O294","v":"NB"},null,{"$f":"'PS-Calcs'!P294","v":"NB"}]
[null,null,null,"Sun",null,null,null,"00:00:00",null,null,"00:00:00","00:00:00","00:00:00","00:00:00","00:00:00","00:00:00","00:00:00",0,0,{"$f":"IF(C297=0,\"\",IF(ISTEXT(E297),\"\",IF('PS-Calcs'!J295=\"Under\",\"Check\",0)))","v":0},{"$f":"IF('PS-Calcs'!M295=\"Exceeds\",\"Check\",0)","v":0},{"$f":"'PS-Calcs'!O295","v":"NB"},null,{"$f":"'PS-Calcs'!P295","v":"NB"}]
[null,null,"Week43","Mon",null,null,null,"00:00:00",{"$f":"SUM(H297:H303)","v":0},{"$f":"IF(E297=\"\",\"\",AVERAGE(I$3:I297))","v":""},"00:00:00",null,"00:00:00","00:00:00","00:00:00","00:00:00","00:00:00",{"$f":"IF(H297>0,IF(SUM(M297:P297)>0,\"Yes\",\"no\"),0)","v":0},0,{"$f":"IF(ISTEXT(E298),\"\",IF('PS-Calcs'!J296=\"Under\",\"Check\", 0))","v":0},{"$f":"IF('PS-Calcs'!M296=\"Exceeds\",\"Check\",0)","v":0},{"$f":"'PS-Calcs'!O296","v":"NB"},null,{"$f":"'PS-Calcs'!P296","v":"NB"}]
[null,null,null,"Tue",null,null,null,"00:00:00",null,null,"00:00:00",null,"00:00:00","00:00:00","00:00:00","00:00:00","00:00:00",0,0,{"$f":"IF(ISTEXT(E299),\"\",IF('PS-Calcs'!J297=\"Under\",\"Check\", 0))","v":0},{"$f":"IF('PS-Calcs'!M297=\"Exceeds\",\"Check\",0)","v":0},{"$f":"'PS-Calcs'!O297","v":"NB"},null,{"$f":"'PS-Calcs'!P297","v":"NB"}]
[null,null,null,"Wed",null,null,null,"00:00:00",null,null,"00:00:00",null,"00:00:00","00:00:00","00:00:00","00:00:00","00:00:00",0,0,{"$f":"IF(ISTEXT(E300),\"\",IF('PS-Calcs'!J298=\"Under\",\"Check\", 0))","v":0},{"$f":"IF('PS-Calcs'!M298=\"Exceeds\",\"Check\",0)","v":0},{"$f":"'PS-Calcs'!O298","v":"NB"},null,{"$f":"'PS-Calcs'!P298","v":"NB"}]
[null,null,null,"Thu",null,null,null,"00:00:00",null,null,"00:00:00",null,"00:00:00","00:00:00","00:00:00","00:00:00","00:00:00",0,0,{"$f":"IF(ISTEXT(E301),\"\",IF('PS-Calcs'!J299=\"Under\",\"Check\", 0))","v":0},{"$f":"IF('PS-Calcs'!M299=\"Exceeds\",\"Check\",0)","v":0},{"$f":"'PS-Calcs'!O299","v":"NB"},null,{"$f":"'PS-Calcs'!P299","v":"NB"}]
[null,null,null,"Fri",null,null,null,"00:00:00",null,null,0,null,"00:00:00","00:00:00","00:00:00","00:00:00","00:00:00",0,0,{"$f":"IF(ISTEXT(E302),\"\",IF('PS-Calcs'!J300=\"Under\",\"Check\", 0))","v":0},{"$f":"IF('PS-Calcs'!M300=\"Exceeds\",\"Check\",0)","v":0},{"$f":"'PS-Calcs'!O300","v":"NB"},null,{"$f":"'PS-Calcs'!P300","v":"NB"}]
[null,null,null,"Sat",null,null,null,"00:00:00",null,null,"00:00:00",{"$f":"H302","v":"00:00:00"},"00:00:00","00:00:00","00:00:00","00:00:00","00:00:00",{"$f":"IF(H302>0,\"yes\",0)","v":0},0,{"$f":"IF(ISTEXT(E303),\"\",IF('PS-Calcs'!J301=\"Under\",\"Check\", 0))","v":0},{"$f":"IF('PS-Calcs'!M301=\"Exceeds\",\"Check\",0)","v":0},{"$f":"'PS-Calcs'!O301","v":"NB"},null,{"$f":"'PS-Calcs'!P301","v":"NB"}]
[null,null,null,"Sun",null,null,null,"00:00:00",null,null,"00:00:00","00:00:00","00:00:00","00:00:00","00:00:00","00:00:00","00:00:00",0,0,{"$f":"IF(C304=0,\"\",IF(ISTEXT(E304),\"\",IF('PS-Calcs'!J302=\"Under\",\"Check\",0)))","v":0},{"$f":"IF('PS-Calcs'!M302=\"Exceeds\",\"Check\",0)","v":0},{"$f":"'PS-Calcs'!O302","v":"NB"},null,{"$f":"'PS-Calcs'!P302","v":"NB"}]
[null,null,"Week44","Mon",null,null,null,"00:00:00",{"$f":"SUM(H304:H310)","v":0},{"$f":"IF(E304=\"\",\"\",AVERAGE(I$3:I304))","v":""},"00:00:00",null,"00:00:00","00:00:00","00:00:00","00:00:00","00:00:00",{"$f":"IF(H304>0,IF(SUM(M304:P304)>0,\"Yes\",\"no\"),0)","v":0},0,{"$f":"IF(ISTEXT(E305),\"\",IF('PS-Calcs'!J303=\"Under\",\"Check\", 0))","v":0},{"$f":"IF('PS-Calcs'!M303=\"Exceeds\",\"Check\",0)","v":0},{"$f":"'PS-Calcs'!O303","v":"NB"},null,{"$f":"'PS-Calcs'!P303","v":"NB"}]
[null,null,null,"Tue",null,null,null,"00:00:00",null,null,"00:00:00",null,"00:00:00","00:00:00","00:00:00","00:00:00","00:00:00",0,0,{"$f":"IF(ISTEXT(E306),\"\",IF('PS-Calcs'!J304=\"Under\",\"Check\", 0))","v":0},{"$f":"IF('PS-Calcs'!M304=\"Exceeds\",\"Check\",0)","v":0},{"$f":"'PS-Calcs'!O304","v":"NB"},null,{"$f":"'PS-Calcs'!P304","v":"NB"}]
[null,null,null,"Wed",null,null,null,"00:00:00",null,null,"00:00:00",null,"00:00:00","00:00:00","00:00:00","00:00:00","00:00:00",0,0,{"$f":"IF(ISTEXT(E307),\"\",IF('PS-Calcs'!J305=\"Under\",\"Check\", 0))","v":0},{"$f":"IF('PS-Calcs'!M305=\"Exceeds\",\"Check\",0)","v":0},{"$f":"'PS-Calcs'!O305","v":"NB"},null,{"$f":"'PS-Calcs'!P305","v":"NB"}]
[null,null,null,"Thu",null,null,null,"00:00:00",null,null,"00:00:00",null,"00:00:00","00:00:00","00:00:00","00:00:00","00:00:00",0,0,{"$f":"IF(ISTEXT(E308),\"\",IF('PS-Calcs'!J306=\"Under\",\"Check\", 0))","v":0},{"$f":"IF('PS-Calcs'!M306=\"Exceeds\",\"Check\",0)","v":0},{"$f":"'PS-Calcs'!O306","v":"NB"},null,{"$f":"'PS-Calcs'!P306","v":"NB"}]
[null,null,null,"Fri",null,null,null,"00:00:00",null,null,0,null,"00:00:00","00:00:00","00:00:00","00:00:00","00:00:00",0,0,{"$f":"IF(ISTEXT(E309),\"\",IF('PS-Calcs'!J307=\"Under\",\"Check\", 0))","v":0},{"$f":"IF('PS-Calcs'!M307=\"Exceeds\",\"Check\",0)","v":0},{"$f":"'PS-Calcs'!O307","v":"NB"},null,{"$f":"'PS-Calcs'!P307","v":"NB"}]
[null,null,null,"Sat",null,null,null,"00:00:00",null,null,"00:00:00",{"$f":"H309","v":"00:00:00"},"00:00:00","00:00:00","00:00:00","00:00:00","00:00:00",{"$f":"IF(H309>0,\"yes\",0)","v":0},0,{"$f":"IF(ISTEXT(E310),\"\",IF('PS-Calcs'!J308=\"Under\",\"Check\", 0))","v":0},{"$f":"IF('PS-Calcs'!M308=\"Exceeds\",\"Check\",0)","v":0},{"$f":"'PS-Calcs'!O308","v":"NB"},null,{"$f":"'PS-Calcs'!P308","v":"NB"}]
[null,null,null,"Sun",null,null,null,"00:00:00",null,null,"00:00:00","00:00:00","00:00:00","00:00:00","00:00:00","00:00:00","00:00:00",0,0,{"$f":"IF(C311=0,\"\",IF(ISTEXT(E311),\"\",IF('PS-Calcs'!J309=\"Under\",\"Check\",0)))","v":0},{"$f":"IF('PS-Calcs'!M309=\"Exceeds\",\"Check\",0)","v":0},{"$f":"'PS-Calcs'!O309","v":"NB"},null,{"$f":"'PS-Calcs'!P309","v":"NB"}]
[null,null,"Week45","Mon",null,null,null,"00:00:00",{"$f":"SUM(H311:H317)","v":0},{"$f":"IF(E311=\"\",\"\",AVERAGE(I$3:I311))","v":""},"00:00:00",null,"00:00:00","00:00:00","00:00:00","00:00:00","00:00:00",{"$f":"IF(H311>0,IF(SUM(M311:P311)>0,\"Yes\",\"no\"),0)","v":0},0,{"$f":"IF(ISTEXT(E312),\"\",IF('PS-Calcs'!J310=\"Under\",\"Check\", 0))","v":0},{"$f":"IF('PS-Calcs'!M310=\"Exceeds\",\"Check\",0)","v":0},{"$f":"'PS-Calcs'!O310","v":"NB"},null,{"$f":"'PS-Calcs'!P310","v":"NB"}]
[null,null,null,"Tue",null,null,null,"00:00:00",null,null,"00:00:00",null,"00:00:00","00:00:00","00:00:00","00:00:00","00:00:00",0,0,{"$f":"IF(ISTEXT(E313),\"\",IF('PS-Calcs'!J311=\"Under\",\"Check\", 0))","v":0},{"$f":"IF('PS-Calcs'!M311=\"Exceeds\",\"Check\",0)","v":0},{"$f":"'PS-Calcs'!O311","v":"NB"},null,{"$f":"'PS-Calcs'!P311","v":"NB"}]
[null,null,null,"Wed",null,null,null,"00:00:00",null,null,"00:00:00",null,"00:00:00","00:00:00","00:00:00","00:00:00","00:00:00",0,0,{"$f":"IF(ISTEXT(E314),\"\",IF('PS-Calcs'!J312=\"Under\",\"Check\", 0))","v":0},{"$f":"IF('PS-Calcs'!M312=\"Exceeds\",\"Check\",0)","v":0},{"$f":"'PS-Calcs'!O312","v":"NB"},null,{"$f":"'PS-Calcs'!P312","v":"NB"}]
[null,null,null,"Thu",null,null,null,"00:00:00",null,null,"00:00:00",null,"00:00:00","00:00:00","00:00:00","00:00:00","00:00:00",0,0,{"$f":"IF(ISTEXT(E315),\"\",IF('PS-Calcs'!J313=\"Under\",\"Check\", 0))","v":0},{"$f":"IF('PS-Calcs'!M313=\"Exceeds\",\"Check\",0)","v":0},{"$f":"'PS-Calcs'!O313","v":"NB"},null,{"$f":"'PS-Calcs'!P313","v":"NB"}]
[null,null,null,"Fri",null,null,null,"00:00:00",null,null,0,null,"00:00:00","00:00:00","00:00:00","00:00:00","00:00:00",0,0,{"$f":"IF(ISTEXT(E316),\"\",IF('PS-Calcs'!J314=\"Under\",\"Check\", 0))","v":0},{"$f":"IF('PS-Calcs'!M314=\"Exceeds\",\"Check\",0)","v":0},{"$f":"'PS-Calcs'!O314","v":"NB"},null,{"$f":"'PS-Calcs'!P314","v":"NB"}]
[null,null,null,"Sat",null,null,null,"00:00:00",null,null,"00:00:00",{"$f":"H316","v":"00:00:00"},"00:00:00","00:00:00","00:00:00","00:00:00","00:00:00",{"$f":"IF(H316>0,\"yes\",0)","v":0},0,{"$f":"IF(ISTEXT(E317),\"\",IF('PS-Calcs'!J315=\"Under\",\"Check\", 0))","v":0},{"$f":"IF('PS-Calcs'!M315=\"Exceeds\",\"Check\",0)","v":0},{"$f":"'PS-Calcs'!O315","v":"NB"},null,{"$f":"'PS-Calcs'!P315","v":"NB"}]
[null,null,null,"Sun",null,null,null,"00:00:00",null,null,"00:00:00","00:00:00","00:00:00","00:00:00","00:00:00","00:00:00","00:00:00",0,0,{"$f":"IF(C318=0,\"\",IF(ISTEXT(E318),\"\",IF('PS-Calcs'!J316=\"Under\",\"Check\",0)))","v":0},{"$f":"IF('PS-Calcs'!M316=\"Exceeds\",\"Check\",0)","v":0},{"$f":"'PS-Calcs'!O316","v":"NB"},null,{"$f":"'PS-Calcs'!P316","v":"NB"}]
[null,null,"Week46","Mon",null,null,null,"00:00:00",{"$f":"SUM(H318:H324)","v":0},{"$f":"IF(E318=\"\",\"\",AVERAGE(I$3:I318))","v":""},"00:00:00",null,"00:00:00","00:00:00","00:00:00","00:00:00","00:00:00",{"$f":"IF(H318>0,IF(SUM(M318:P318)>0,\"Yes\",\"no\"),0)","v":0},0,{"$f":"IF(ISTEXT(E319),\"\",IF('PS-Calcs'!J317=\"Under\",\"Check\", 0))","v":0},{"$f":"IF('PS-Calcs'!M317=\"Exceeds\",\"Check\",0)","v":0},{"$f":"'PS-Calcs'!O317","v":"NB"},null,{"$f":"'PS-Calcs'!P317","v":"NB"}]
[null,null,null,"Tue",null,null,null,"00:00:00",null,null,"00:00:00",null,"00:00:00","00:00:00","00:00:00","00:00:00","00:00:00",0,0,{"$f":"IF(ISTEXT(E320),\"\",IF('PS-Calcs'!J318=\"Under\",\"Check\", 0))","v":0},{"$f":"IF('PS-Calcs'!M318=\"Exceeds\",\"Check\",0)","v":0},{"$f":"'PS-Calcs'!O318","v":"NB"},null,{"$f":"'PS-Calcs'!P318","v":"NB"}]
[null,null,null,"Wed",null,null,null,"00:00:00",null,null,"00:00:00",null,"00:00:00","00:00:00","00:00:00","00:00:00","00:00:00",0,0,{"$f":"IF(ISTEXT(E321),\"\",IF('PS-Calcs'!J319=\"Under\",\"Check\", 0))","v":0},{"$f":"IF('PS-Calcs'!M319=\"Exceeds\",\"Check\",0)","v":0},{"$f":"'PS-Calcs'!O319","v":"NB"},null,{"$f":"'PS-Calcs'!P319","v":"NB"}]
[null,null,null,"Thu",null,null,null,"00:00:00",null,null,"00:00:00",null,"00:00:00","00:00:00","00:00:00","00:00:00","00:00:00",0,0,{"$f":"IF(ISTEXT(E322),\"\",IF('PS-Calcs'!J320=\"Under\",\"Check\", 0))","v":0},{"$f":"IF('PS-Calcs'!M320=\"Exceeds\",\"Check\",0)","v":0},{"$f":"'PS-Calcs'!O320","v":"NB"},null,{"$f":"'PS-Calcs'!P320","v":"NB"}]
[null,null,null,"Fri",null,null,null,"00:00:00",null,null,0,null,"00:00:00","00:00:00","00:00:00","00:00:00","00:00:00",0,0,{"$f":"IF(ISTEXT(E323),\"\",IF('PS-Calcs'!J321=\"Under\",\"Check\", 0))","v":0},{"$f":"IF('PS-Calcs'!M321=\"Exceeds\",\"Check\",0)","v":0},{"$f":"'PS-Calcs'!O321","v":"NB"},null,{"$f":"'PS-Calcs'!P321","v":"NB"}]
[null,null,null,"Sat",null,null,null,"00:00:00",null,null,"00:00:00",{"$f":"H323","v":"00:00:00"},"00:00:00","00:00:00","00:00:00","00:00:00","00:00:00",{"$f":"IF(H323>0,\"yes\",0)","v":0},0,{"$f":"IF(ISTEXT(E324),\"\",IF('PS-Calcs'!J322=\"Under\",\"Check\", 0))","v":0},{"$f":"IF('PS-Calcs'!M322=\"Exceeds\",\"Check\",0)","v":0},{"$f":"'PS-Calcs'!O322","v":"NB"},null,{"$f":"'PS-Calcs'!P322","v":"NB"}]
[null,null,null,"Sun",null,null,null,"00:00:00",null,null,"00:00:00","00:00:00","00:00:00","00:00:00","00:00:00","00:00:00","00:00:00",0,0,{"$f":"IF(C325=0,\"\",IF(ISTEXT(E325),\"\",IF('PS-Calcs'!J323=\"Under\",\"Check\",0)))","v":0},{"$f":"IF('PS-Calcs'!M323=\"Exceeds\",\"Check\",0)","v":0},{"$f":"'PS-Calcs'!O323","v":"NB"},null,{"$f":"'PS-Calcs'!P323","v":"NB"}]
[null,null,"Week47","Mon",null,null,null,"00:00:00",{"$f":"SUM(H325:H331)","v":0},{"$f":"IF(E325=\"\",\"\",AVERAGE(I$3:I325))","v":""},"00:00:00",null,"00:00:00","00:00:00","00:00:00","00:00:00","00:00:00",{"$f":"IF(H325>0,IF(SUM(M325:P325)>0,\"Yes\",\"no\"),0)","v":0},0,{"$f":"IF(ISTEXT(E326),\"\",IF('PS-Calcs'!J324=\"Under\",\"Check\", 0))","v":0},{"$f":"IF('PS-Calcs'!M324=\"Exceeds\",\"Check\",0)","v":0},{"$f":"'PS-Calcs'!O324","v":"NB"},null,{"$f":"'PS-Calcs'!P324","v":"NB"}]
[null,null,null,"Tue",null,null,null,"00:00:00",null,null,"00:00:00",null,"00:00:00","00:00:00","00:00:00","00:00:00","00:00:00",0,0,{"$f":"IF(ISTEXT(E327),\"\",IF('PS-Calcs'!J325=\"Under\",\"Check\", 0))","v":0},{"$f":"IF('PS-Calcs'!M325=\"Exceeds\",\"Check\",0)","v":0},{"$f":"'PS-Calcs'!O325","v":"NB"},null,{"$f":"'PS-Calcs'!P325","v":"NB"}]
[null,null,null,"Wed",null,null,null,"00:00:00",null,null,"00:00:00",null,"00:00:00","00:00:00","00:00:00","00:00:00","00:00:00",0,0,{"$f":"IF(ISTEXT(E328),\"\",IF('PS-Calcs'!J326=\"Under\",\"Check\", 0))","v":0},{"$f":"IF('PS-Calcs'!M326=\"Exceeds\",\"Check\",0)","v":0},{"$f":"'PS-Calcs'!O326","v":"NB"},null,{"$f":"'PS-Calcs'!P326","v":"NB"}]
[null,null,null,"Thu",null,null,null,"00:00:00",null,null,"00:00:00",null,"00:00:00","00:00:00","00:00:00","00:00:00","00:00:00",0,0,{"$f":"IF(ISTEXT(E329),\"\",IF('PS-Calcs'!J327=\"Under\",\"Check\", 0))","v":0},{"$f":"IF('PS-Calcs'!M327=\"Exceeds\",\"Check\",0)","v":0},{"$f":"'PS-Calcs'!O327","v":"NB"},null,{"$f":"'PS-Calcs'!P327","v":"NB"}]
[null,null,null,"Fri",null,null,null,"00:00:00",null,null,0,null,"00:00:00","00:00:00","00:00:00","00:00:00","00:00:00",0,0,{"$f":"IF(ISTEXT(E330),\"\",IF('PS-Calcs'!J328=\"Under\",\"Check\", 0))","v":0},{"$f":"IF('PS-Calcs'!M328=\"Exceeds\",\"Check\",0)","v":0},{"$f":"'PS-Calcs'!O328","v":"NB"},null,{"$f":"'PS-Calcs'!P328","v":"NB"}]
[null,null,null,"Sat",null,null,null,"00:00:00",null,null,{"$f":"IF(F330<E330,F330+1,F330)","v":"00:00:00"},{"$f":"H330","v":"00:00:00"},{"$f":"IF(H330>0,IF(M$2-E330>0,M$2-E330,0),0)","v":"00:00:00"},{"$f":"IF(H330>0,IF(F330-N$2>0,F330-N$2,0),0)","v":"00:00:00"},{"$f":"IF(H330>0,IF(F330<E330,IF(F330>O$2,O$2,F330),0),0)","v":"00:00:00"},{"$f":"IF(H330>0,IF(E330>F330,IF(E330>N$2,R$2-E330,R$2-P$2),0),0)","v":"00:00:00"},"00:00:00",{"$f":"IF(H330>0,\"yes\",0)","v":0},{"$f":"IF(H330>0,IF(F330-E330<0,1,IF(E330<0.25,1,IF(F330>(20/24),1,0))),0)","v":0},{"$f":"IF(ISTEXT(E331),\"\",IF('PS-Calcs'!J329=\"Under\",\"Check\", 0))","v":0},{"$f":"IF('PS-Calcs'!M329=\"Exceeds\",\"Check\",0)","v":0},{"$f":"'PS-Calcs'!O329","v":"NB"},null,{"$f":"'PS-Calcs'!P329","v":"NB"}]
[null,null,null,"Sun",null,null,null,{"$f":"IF(ISTEXT(E331),0,IF(ISTEXT(F331),0,IF(F331<E331,F331+1,F331)-E331-G331))","v":"00:00:00"},null,null,"00:00:00","00:00:00","00:00:00","00:00:00","00:00:00","00:00:00",{"$f":"SUM(M331:P331)","v":"00:00:00"},0,0,{"$f":"IF(C332=0,\"\",IF(ISTEXT(E332),\"\",IF('PS-Calcs'!J330=\"Under\",\"Check\",0)))","v":0},{"$f":"IF('PS-Calcs'!M330=\"Exceeds\",\"Check\",0)","v":0},{"$f":"'PS-Calcs'!O330","v":"NB"},null,{"$f":"'PS-Calcs'!P330","v":"NB"}]
[null,null,"Week48","Mon",null,null,null,"00:00:00",{"$f":"SUM(H332:H338)","v":0},{"$f":"IF(E332=\"\",\"\",AVERAGE(I$3:I332))","v":""},"00:00:00",null,"00:00:00","00:00:00","00:00:00","00:00:00","00:00:00",{"$f":"IF(H332>0,IF(SUM(M332:P332)>0,\"Yes\",\"no\"),0)","v":0},0,{"$f":"IF(ISTEXT(E333),\"\",IF('PS-Calcs'!J331=\"Under\",\"Check\", 0))","v":0},{"$f":"IF('PS-Calcs'!M331=\"Exceeds\",\"Check\",0)","v":0},{"$f":"'PS-Calcs'!O331","v":"NB"},null,{"$f":"'PS-Calcs'!P331","v":"NB"}]
[null,null,null,"Tue",null,null,null,"00:00:00",null,null,"00:00:00",null,"00:00:00","00:00:00","00:00:00","00:00:00","00:00:00",0,0,{"$f":"IF(ISTEXT(E334),\"\",IF('PS-Calcs'!J332=\"Under\",\"Check\", 0))","v":0},{"$f":"IF('PS-Calcs'!M332=\"Exceeds\",\"Check\",0)","v":0},{"$f":"'PS-Calcs'!O332","v":"NB"},null,{"$f":"'PS-Calcs'!P332","v":"NB"}]
[null,null,null,"Wed",null,null,null,"00:00:00",null,null,"00:00:00",null,"00:00:00","00:00:00","00:00:00","00:00:00","00:00:00",0,0,{"$f":"IF(ISTEXT(E335),\"\",IF('PS-Calcs'!J333=\"Under\",\"Check\", 0))","v":0},{"$f":"IF('PS-Calcs'!M333=\"Exceeds\",\"Check\",0)","v":0},{"$f":"'PS-Calcs'!O333","v":"NB"},null,{"$f":"'PS-Calcs'!P333","v":"NB"}]
[null,null,null,"Thu",null,null,null,"00:00:00",null,null,"00:00:00",null,"00:00:00","00:00:00","00:00:00","00:00:00","00:00:00",0,0,{"$f":"IF(ISTEXT(E336),\"\",IF('PS-Calcs'!J334=\"Under\",\"Check\", 0))","v":0},{"$f":"IF('PS-Calcs'!M334=\"Exceeds\",\"Check\",0)","v":0},{"$f":"'PS-Calcs'!O334","v":"NB"},null,{"$f":"'PS-Calcs'!P334","v":"NB"}]
[null,null,null,"Fri",null,null,null,"00:00:00",null,null,0,null,"00:00:00","00:00:00","00:00:00","00:00:00","00:00:00",0,0,{"$f":"IF(ISTEXT(E337),\"\",IF('PS-Calcs'!J335=\"Under\",\"Check\", 0))","v":0},{"$f":"IF('PS-Calcs'!M335=\"Exceeds\",\"Check\",0)","v":0},{"$f":"'PS-Calcs'!O335","v":"NB"},null,{"$f":"'PS-Calcs'!P335","v":"NB"}]
[null,null,null,"Sat",null,null,null,"00:00:00",null,null,"00:00:00",{"$f":"H337","v":"00:00:00"},"00:00:00","00:00:00","00:00:00","00:00:00","00:00:00",{"$f":"IF(H337>0,\"yes\",0)","v":0},0,{"$f":"IF(ISTEXT(E338),\"\",IF('PS-Calcs'!J336=\"Under\",\"Check\", 0))","v":0},{"$f":"IF('PS-Calcs'!M336=\"Exceeds\",\"Check\",0)","v":0},{"$f":"'PS-Calcs'!O336","v":"NB"},null,{"$f":"'PS-Calcs'!P336","v":"NB"}]
[null,null,null,"Sun",null,null,null,"00:00:00",null,null,"00:00:00","00:00:00","00:00:00","00:00:00","00:00:00","00:00:00","00:00:00",0,0,{"$f":"IF(C339=0,\"\",IF(ISTEXT(E339),\"\",IF('PS-Calcs'!J337=\"Under\",\"Check\",0)))","v":0},{"$f":"IF('PS-Calcs'!M337=\"Exceeds\",\"Check\",0)","v":0},{"$f":"'PS-Calcs'!O337","v":"NB"},null,{"$f":"'PS-Calcs'!P337","v":"NB"}]
[null,null,"Week49","Mon",null,null,null,"00:00:00",{"$f":"SUM(H339:H345)","v":0},{"$f":"IF(E339=\"\",\"\",AVERAGE(I$3:I339))","v":""},"00:00:00",null,"00:00:00","00:00:00","00:00:00","00:00:00","00:00:00",{"$f":"IF(H339>0,IF(SUM(M339:P339)>0,\"Yes\",\"no\"),0)","v":0},0,{"$f":"IF(ISTEXT(E340),\"\",IF('PS-Calcs'!J338=\"Under\",\"Check\", 0))","v":0},{"$f":"IF('PS-Calcs'!M338=\"Exceeds\",\"Check\",0)","v":0},{"$f":"'PS-Calcs'!O338","v":"NB"},null,{"$f":"'PS-Calcs'!P338","v":"NB"}]
[null,null,null,"Tue",null,null,null,"00:00:00",null,null,"00:00:00",null,"00:00:00","00:00:00","00:00:00","00:00:00","00:00:00",0,0,{"$f":"IF(ISTEXT(E341),\"\",IF('PS-Calcs'!J339=\"Under\",\"Check\", 0))","v":0},{"$f":"IF('PS-Calcs'!M339=\"Exceeds\",\"Check\",0)","v":0},{"$f":"'PS-Calcs'!O339","v":"NB"},null,{"$f":"'PS-Calcs'!P339","v":"NB"}]
[null,null,null,"Wed",null,null,null,"00:00:00",null,null,"00:00:00",null,"00:00:00","00:00:00","00:00:00","00:00:00","00:00:00",0,0,{"$f":"IF(ISTEXT(E342),\"\",IF('PS-Calcs'!J340=\"Under\",\"Check\", 0))","v":0},{"$f":"IF('PS-Calcs'!M340=\"Exceeds\",\"Check\",0)","v":0},{"$f":"'PS-Calcs'!O340","v":"NB"},null,{"$f":"'PS-Calcs'!P340","v":"NB"}]
[null,null,null,"Thu",null,null,null,"00:00:00",null,null,"00:00:00",null,"00:00:00","00:00:00","00:00:00","00:00:00","00:00:00",0,0,{"$f":"IF(ISTEXT(E343),\"\",IF('PS-Calcs'!J341=\"Under\",\"Check\", 0))","v":0},{"$f":"IF('PS-Calcs'!M341=\"Exceeds\",\"Check\",0)","v":0},{"$f":"'PS-Calcs'!O341","v":"NB"},null,{"$f":"'PS-Calcs'!P341","v":"NB"}]
[null,null,null,"Fri",null,null,null,"00:00:00",null,null,0,null,"00:00:00","00:00:00","00:00:00","00:00:00","00:00:00",0,0,{"$f":"IF(ISTEXT(E344),\"\",IF('PS-Calcs'!J342=\"Under\",\"Check\", 0))","v":0},{"$f":"IF('PS-Calcs'!M342=\"Exceeds\",\"Check\",0)","v":0},{"$f":"'PS-Calcs'!O342","v":"NB"},null,{"$f":"'PS-Calcs'!P342","v":"NB"}]
[null,null,null,"Sat",null,null,null,"00:00:00",null,null,"00:00:00",{"$f":"H344","v":"00:00:00"},"00:00:00","00:00:00","00:00:00","00:00:00","00:00:00",{"$f":"IF(H344>0,\"yes\",0)","v":0},0,{"$f":"IF(ISTEXT(E345),\"\",IF('PS-Calcs'!J343=\"Under\",\"Check\", 0))","v":0},{"$f":"IF('PS-Calcs'!M343=\"Exceeds\",\"Check\",0)","v":0},{"$f":"'PS-Calcs'!O343","v":"NB"},null,{"$f":"'PS-Calcs'!P343","v":"NB"}]
[null,null,null,"Sun",null,null,null,"00:00:00",null,null,"00:00:00","00:00:00","00:00:00","00:00:00","00:00:00","00:00:00","00:00:00",0,0,{"$f":"IF(C346=0,\"\",IF(ISTEXT(E346),\"\",IF('PS-Calcs'!J344=\"Under\",\"Check\",0)))","v":0},{"$f":"IF('PS-Calcs'!M344=\"Exceeds\",\"Check\",0)","v":0},{"$f":"'PS-Calcs'!O344","v":"NB"},null,{"$f":"'PS-Calcs'!P344","v":"NB"}]
[null,null,"Week50","Mon",null,null,null,"00:00:00",{"$f":"SUM(H346:H352)","v":0},{"$f":"IF(E346=\"\",\"\",AVERAGE(I$3:I346))","v":""},"00:00:00",null,"00:00:00","00:00:00","00:00:00","00:00:00","00:00:00",{"$f":"IF(H346>0,IF(SUM(M346:P346)>0,\"Yes\",\"no\"),0)","v":0},0,{"$f":"IF(ISTEXT(E347),\"\",IF('PS-Calcs'!J345=\"Under\",\"Check\", 0))","v":0},{"$f":"IF('PS-Calcs'!M345=\"Exceeds\",\"Check\",0)","v":0},{"$f":"'PS-Calcs'!O345","v":"NB"},null,{"$f":"'PS-Calcs'!P345","v":"NB"}]
[null,null,null,"Tue",null,null,null,"00:00:00",null,null,"00:00:00",null,"00:00:00","00:00:00","00:00:00","00:00:00","00:00:00",0,0,{"$f":"IF(ISTEXT(E348),\"\",IF('PS-Calcs'!J346=\"Under\",\"Check\", 0))","v":0},{"$f":"IF('PS-Calcs'!M346=\"Exceeds\",\"Check\",0)","v":0},{"$f":"'PS-Calcs'!O346","v":"NB"},null,{"$f":"'PS-Calcs'!P346","v":"NB"}]
[null,null,null,"Wed",null,null,null,"00:00:00",null,null,"00:00:00",null,"00:00:00","00:00:00","00:00:00","00:00:00","00:00:00",0,0,{"$f":"IF(ISTEXT(E349),\"\",IF('PS-Calcs'!J347=\"Under\",\"Check\", 0))","v":0},{"$f":"IF('PS-Calcs'!M347=\"Exceeds\",\"Check\",0)","v":0},{"$f":"'PS-Calcs'!O347","v":"NB"},null,{"$f":"'PS-Calcs'!P347","v":"NB"}]
[null,null,null,"Thu",null,null,null,"00:00:00",null,null,"00:00:00",null,"00:00:00","00:00:00","00:00:00","00:00:00","00:00:00",0,0,{"$f":"IF(ISTEXT(E350),\"\",IF('PS-Calcs'!J348=\"Under\",\"Check\", 0))","v":0},{"$f":"IF('PS-Calcs'!M348=\"Exceeds\",\"Check\",0)","v":0},{"$f":"'PS-Calcs'!O348","v":"NB"},null,{"$f":"'PS-Calcs'!P348","v":"NB"}]
[null,null,null,"Fri",null,null,null,"00:00:00",null,null,0,null,"00:00:00","00:00:00","00:00:00","00:00:00","00:00:00",0,0,{"$f":"IF(ISTEXT(E351),\"\",IF('PS-Calcs'!J349=\"Under\",\"Check\", 0))","v":0},{"$f":"IF('PS-Calcs'!M349=\"Exceeds\",\"Check\",0)","v":0},{"$f":"'PS-Calcs'!O349","v":"NB"},null,{"$f":"'PS-Calcs'!P349","v":"NB"}]
[null,null,null,"Sat",null,null,null,"00:00:00",null,null,"00:00:00",{"$f":"H351","v":"00:00:00"},"00:00:00","00:00:00","00:00:00","00:00:00","00:00:00",{"$f":"IF(H351>0,\"yes\",0)","v":0},0,{"$f":"IF(ISTEXT(E352),\"\",IF('PS-Calcs'!J350=\"Under\",\"Check\", 0))","v":0},{"$f":"IF('PS-Calcs'!M350=\"Exceeds\",\"Check\",0)","v":0},{"$f":"'PS-Calcs'!O350","v":"NB"},null,{"$f":"'PS-Calcs'!P350","v":"NB"}]
[null,null,null,"Sun",null,null,null,"00:00:00",null,null,"00:00:00","00:00:00","00:00:00","00:00:00","00:00:00","00:00:00","00:00:00",0,0,{"$f":"IF(C353=0,\"\",IF(ISTEXT(E353),\"\",IF('PS-Calcs'!J351=\"Under\",\"Check\",0)))","v":0},{"$f":"IF('PS-Calcs'!M351=\"Exceeds\",\"Check\",0)","v":0},{"$f":"'PS-Calcs'!O351","v":"NB"},null,{"$f":"'PS-Calcs'!P351","v":"NB"}]
[null,null,"Week51","Mon",null,null,null,"00:00:00",{"$f":"SUM(H353:H359)","v":0},{"$f":"IF(E353=\"\",\"\",AVERAGE(I$3:I353))","v":""},"00:00:00",null,"00:00:00","00:00:00","00:00:00","00:00:00","00:00:00",{"$f":"IF(H353>0,IF(SUM(M353:P353)>0,\"Yes\",\"no\"),0)","v":0},0,{"$f":"IF(ISTEXT(E354),\"\",IF('PS-Calcs'!J352=\"Under\",\"Check\", 0))","v":0},{"$f":"IF('PS-Calcs'!M352=\"Exceeds\",\"Check\",0)","v":0},{"$f":"'PS-Calcs'!O352","v":"NB"},null,{"$f":"'PS-Calcs'!P352","v":"NB"}]
[null,null,null,"Tue",null,null,null,"00:00:00",null,null,"00:00:00",null,"00:00:00","00:00:00","00:00:00","00:00:00","00:00:00",0,0,{"$f":"IF(ISTEXT(E355),\"\",IF('PS-Calcs'!J353=\"Under\",\"Check\", 0))","v":0},{"$f":"IF('PS-Calcs'!M353=\"Exceeds\",\"Check\",0)","v":0},{"$f":"'PS-Calcs'!O353","v":"NB"},null,{"$f":"'PS-Calcs'!P353","v":"NB"}]
[null,null,null,"Wed",null,null,null,"00:00:00",null,null,"00:00:00",null,"00:00:00","00:00:00","00:00:00","00:00:00","00:00:00",0,0,{"$f":"IF(ISTEXT(E356),\"\",IF('PS-Calcs'!J354=\"Under\",\"Check\", 0))","v":0},{"$f":"IF('PS-Calcs'!M354=\"Exceeds\",\"Check\",0)","v":0},{"$f":"'PS-Calcs'!O354","v":"NB"},null,{"$f":"'PS-Calcs'!P354","v":"NB"}]
[null,null,null,"Thu",null,null,null,"00:00:00",null,null,"00:00:00",null,"00:00:00","00:00:00","00:00:00","00:00:00","00:00:00",0,0,{"$f":"IF(ISTEXT(E357),\"\",IF('PS-Calcs'!J355=\"Under\",\"Check\", 0))","v":0},{"$f":"IF('PS-Calcs'!M355=\"Exceeds\",\"Check\",0)","v":0},{"$f":"'PS-Calcs'!O355","v":"NB"},null,{"$f":"'PS-Calcs'!P355","v":"NB"}]
[null,null,null,"Fri",null,null,null,"00:00:00",null,null,0,null,"00:00:00","00:00:00","00:00:00","00:00:00","00:00:00",0,0,{"$f":"IF(ISTEXT(E358),\"\",IF('PS-Calcs'!J356=\"Under\",\"Check\", 0))","v":0},{"$f":"IF('PS-Calcs'!M356=\"Exceeds\",\"Check\",0)","v":0},{"$f":"'PS-Calcs'!O356","v":"NB"},null,{"$f":"'PS-Calcs'!P356","v":"NB"}]
[null,null,null,"Sat",null,null,null,"00:00:00",null,null,"00:00:00",{"$f":"H358","v":"00:00:00"},"00:00:00","00:00:00","00:00:00","00:00:00","00:00:00",{"$f":"IF(H358>0,\"yes\",0)","v":0},0,{"$f":"IF(ISTEXT(E359),\"\",IF('PS-Calcs'!J357=\"Under\",\"Check\", 0))","v":0},{"$f":"IF('PS-Calcs'!M357=\"Exceeds\",\"Check\",0)","v":0},{"$f":"'PS-Calcs'!O357","v":"NB"},null,{"$f":"'PS-Calcs'!P357","v":"NB"}]
[null,null,null,"Sun",null,null,null,"00:00:00",null,null,"00:00:00","00:00:00","00:00:00","00:00:00","00:00:00","00:00:00","00:00:00",0,0,{"$f":"IF(C360=0,\"\",IF(ISTEXT(E360),\"\",IF('PS-Calcs'!J358=\"Under\",\"Check\",0)))","v":0},{"$f":"IF('PS-Calcs'!M358=\"Exceeds\",\"Check\",0)","v":0},{"$f":"'PS-Calcs'!O358","v":"NB"},null,{"$f":"'PS-Calcs'!P358","v":"NB"}]
[null,null,"Week52","Mon",null,null,null,"00:00:00",{"$f":"SUM(H360:H366)","v":0},{"$f":"IF(E360=\"\",\"\",AVERAGE(I$3:I360))","v":""},"00:00:00",null,"00:00:00","00:00:00","00:00:00","00:00:00","00:00:00",{"$f":"IF(H360>0,IF(SUM(M360:P360)>0,\"Yes\",\"no\"),0)","v":0},0,{"$f":"IF(ISTEXT(E361),\"\",IF('PS-Calcs'!J359=\"Under\",\"Check\", 0))","v":0},{"$f":"IF('PS-Calcs'!M359=\"Exceeds\",\"Check\",0)","v":0},{"$f":"'PS-Calcs'!O359","v":"NB"},null,{"$f":"'PS-Calcs'!P359","v":"NB"}]
[null,null,null,"Tue",null,null,null,"00:00:00",null,null,"00:00:00",null,"00:00:00","00:00:00","00:00:00","00:00:00","00:00:00",0,0,{"$f":"IF(ISTEXT(E362),\"\",IF('PS-Calcs'!J360=\"Under\",\"Check\", 0))","v":0},{"$f":"IF('PS-Calcs'!M360=\"Exceeds\",\"Check\",0)","v":0},{"$f":"'PS-Calcs'!O360","v":"NB"},null,{"$f":"'PS-Calcs'!P360","v":"NB"}]
[null,null,null,"Wed",null,null,null,"00:00:00",null,null,"00:00:00",null,"00:00:00","00:00:00","00:00:00","00:00:00","00:00:00",0,0,{"$f":"IF(ISTEXT(E363),\"\",IF('PS-Calcs'!J361=\"Under\",\"Check\", 0))","v":0},{"$f":"IF('PS-Calcs'!M361=\"Exceeds\",\"Check\",0)","v":0},{"$f":"'PS-Calcs'!O361","v":"NB"},null,{"$f":"'PS-Calcs'!P361","v":"NB"}]
[null,null,null,"Thu",null,null,null,"00:00:00",null,null,"00:00:00",null,"00:00:00","00:00:00","00:00:00","00:00:00","00:00:00",0,0,{"$f":"IF(ISTEXT(E364),\"\",IF('PS-Calcs'!J362=\"Under\",\"Check\", 0))","v":0},{"$f":"IF('PS-Calcs'!M362=\"Exceeds\",\"Check\",0)","v":0},{"$f":"'PS-Calcs'!O362","v":"NB"},null,{"$f":"'PS-Calcs'!P362","v":"NB"}]
[null,null,null,"Fri",null,null,null,"00:00:00",null,null,0,null,"00:00:00","00:00:00","00:00:00","00:00:00","00:00:00",0,0,{"$f":"IF(ISTEXT(E365),\"\",IF('PS-Calcs'!J363=\"Under\",\"Check\", 0))","v":0},{"$f":"IF('PS-Calcs'!M363=\"Exceeds\",\"Check\",0)","v":0},{"$f":"'PS-Calcs'!O363","v":"NB"},null,{"$f":"'PS-Calcs'!P363","v":"NB"}]
[null,null,null,"Sat",null,null,null,"00:00:00",null,null,"00:00:00",{"$f":"H365","v":"00:00:00"},"00:00:00","00:00:00","00:00:00","00:00:00","00:00:00",{"$f":"IF(H365>0,\"yes\",0)","v":0},0,{"$f":"IF(ISTEXT(E366),\"\",IF('PS-Calcs'!J364=\"Under\",\"Check\", 0))","v":0},{"$f":"IF('PS-Calcs'!M364=\"Exceeds\",\"Check\",0)","v":0},{"$f":"'PS-Calcs'!O364","v":"NB"},null,{"$f":"'PS-Calcs'!P364","v":"NB"}]
[null,null,null,"Sun",null,null,null,"00:00:00",null,null,"00:00:00","00:00:00","00:00:00","00:00:00","00:00:00","00:00:00","00:00:00",0,0,{"$f":"IF(C367=0,\"\",IF(ISTEXT(E367),\"\",IF('PS-Calcs'!J365=\"Under\",\"Check\",0)))","v":0},{"$f":"IF('PS-Calcs'!M365=\"Exceeds\",\"Check\",0)","v":0},{"$f":"'PS-Calcs'!O365","v":"NB"},null,{"$f":"'PS-Calcs'!P365","v":"NB"}]
[null,null,"Week53","Mon",null,null,null,{"$f":"IF(ISTEXT(E367),0,IF(ISTEXT(F367),0,IF(F367<E367,F367+1,F367)-E367-G367))","v":"00:00:00"},{"$f":"SUM(H367:H373)","v":0},{"$f":"IF(E367=\"\",\"\",AVERAGE(I$3:I367))","v":""},{"$f":"IF(F367<E367,F367+1,F367)","v":"00:00:00"},null,{"$f":"IF(H367>0,IF(M$2-E367>0,M$2-E367,0),0)","v":"00:00:00"},{"$f":"IF(H367>0,IF(F367-N$2>0,F367-N$2,0),0)","v":"00:00:00"},{"$f":"IF(H367>0,IF(F367<E367,IF(F367>O$2,O$2,F367),0),0)","v":"00:00:00"},{"$f":"IF(H367>0,IF(E367>F367,IF(E367>N$2,R$2-E367,R$2-P$2),0),0)","v":"00:00:00"},{"$f":"SUM(M367:P367)","v":"00:00:00"},{"$f":"IF(H367>0,IF(SUM(M367:P367)>0,\"Yes\",\"no\"),0)","v":0},{"$f":"IF(H367>0,IF(F367-E367<0,1,IF(E367<0.25,1,IF(F367>(20/24),1,0))),0)","v":0},{"$f":"IF(ISTEXT(E368),\"\",IF('PS-Calcs'!J366=\"Under\",\"Check\", 0))","v":0},null,{"$f":"'PS-Calcs'!O366","v":"NB"},null,{"$f":"'PS-Calcs'!P366","v":"NB"}]
[null,null,null,"Tue",null,null,null,"00:00:00",null,null,"00:00:00",null,"00:00:00","00:00:00","00:00:00","00:00:00","00:00:00",0,0,{"$f":"IF(ISTEXT(E369),\"\",IF('PS-Calcs'!J367=\"Under\",\"Check\", 0))","v":0},null,{"$f":"'PS-Calcs'!O367","v":"B"},null,{"$f":"'PS-Calcs'!P367","v":"NB"}]
[null,null,null,"Wed",null,null,null,"00:00:00",null,null,"00:00:00",null,"00:00:00","00:00:00","00:00:00","00:00:00","00:00:00",0,0,{"$f":"IF(ISTEXT(E370),\"\",IF('PS-Calcs'!J368=\"Under\",\"Check\", 0))","v":0},null,{"$f":"'PS-Calcs'!O368","v":"B"},null,{"$f":"'PS-Calcs'!P368","v":"NB"}]
[null,null,null,"Thu",null,null,null,"00:00:00",null,null,"00:00:00",null,"00:00:00","00:00:00","00:00:00","00:00:00","00:00:00",0,0,{"$f":"IF(ISTEXT(E371),\"\",IF('PS-Calcs'!J369=\"Under\",\"Check\", 0))","v":0},null,{"$f":"'PS-Calcs'!O369","v":"B"},null,{"$f":"'PS-Calcs'!P369","v":"NB"}]
[null,null,null,"Fri",null,null,null,"00:00:00",null,null,0,null,"00:00:00","00:00:00","00:00:00","00:00:00","00:00:00",0,0,{"$f":"IF(ISTEXT(E372),\"\",IF('PS-Calcs'!J370=\"Under\",\"Check\", 0))","v":0},null,{"$f":"'PS-Calcs'!O370","v":"B"},null,{"$f":"'PS-Calcs'!P370","v":"NB"}]
[null,null,null,"Sat",null,null,null,"00:00:00",null,null,"00:00:00",{"$f":"H372","v":"00:00:00"},"00:00:00","00:00:00","00:00:00","00:00:00","00:00:00",{"$f":"IF(H372>0,\"yes\",0)","v":0},0,{"$f":"IF(ISTEXT(E373),\"\",IF('PS-Calcs'!J371=\"Under\",\"Check\", 0))","v":0},null,{"$f":"'PS-Calcs'!O371","v":"B"},null,{"$f":"'PS-Calcs'!P371","v":"NB"}]
[null,null,null,"Sun",null,null,null,"00:00:00",null,null,"00:00:00","00:00:00","00:00:00","00:00:00","00:00:00","00:00:00","00:00:00",0,0,{"$f":"IF(C374=0,\"\",IF(ISTEXT(E374),\"\",IF('PS-Calcs'!J372=\"Under\",\"Check\",0)))","v":""},null,{"$f":"'PS-Calcs'!O372","v":"B"},null,{"$f":"'PS-Calcs'!P372","v":"NB"}]

{"sheet":"Officer current","index":7,"n_rows":374,"n_cols":28,"rows_kept":374,"cut":false,"hidden":false,"merged":[[353,8,359,8],[353,9,359,9],[360,8,366,8],[360,9,366,9],[367,8,373,8],[367,9,373,9],[332,8,338,8],[332,9,338,9],[339,8,345,8],[339,9,345,9],[346,8,352,8],[346,9,352,9],[311,8,317,8],[311,9,317,9],[318,8,324,8],[318,9,324,9],[325,8,331,8],[325,9,331,9],[290,8,296,8],[290,9,296,9],[297,8,303,8],[297,9,303,9],[304,8,310,8],[304,9,310,9],[269,8,275,8],[269,9,275,9],[276,8,282,8],[276,9,282,9],[283,8,289,8],[283,9,289,9],[248,8,254,8],[248,9,254,9],[255,8,261,8],[255,9,261,9],[262,8,268,8],[262,9,268,9],[227,8,233,8],[227,9,233,9],[234,8,240,8],[234,9,240,9],[241,8,247,8],[241,9,247,9],[206,8,212,8],[206,9,212,9],[213,8,219,8],[213,9,219,9],[220,8,226,8],[220,9,226,9],[185,8,191,8],[185,9,191,9],[192,8,198,8],[192,9,198,9],[199,8,205,8],[199,9,205,9],[164,8,170,8],[164,9,170,9],[171,8,177,8],[171,9,177,9],[178,8,184,8],[178,9,184,9],[143,8,149,8],[143,9,149,9],[150,8,156,8],[150,9,156,9],[157,8,163,8],[157,9,163,9],[122,8,128,8],[122,9,128,9],[129,8,135,8],[129,9,135,9],[136,8,142,8],[136,9,142,9],[101,8,107,8],[101,9,107,9],[108,8,114,8],[108,9,114,9],[115,8,121,8],[115,9,121,9],[80,8,86,8],[80,9,86,9],[87,8,93,8],[87,9,93,9],[94,8,100,8],[94,9,100,9],[59,8,65,8],[59,9,65,9],[66,8,72,8],[66,9,72,9],[73,8,79,8],[73,9,79,9],[38,8,44,8],[38,9,44,9],[45,8,51,8],[45,9,51,9],[52,8,58,8],[52,9,58,9],[17,8,23,8],[17,9,23,9],[24,8,30,8],[24,9,30,9],[31,8,37,8],[31,9,37,9],[10,20,14,24],[0,1,0,30],[2,1,2,3],[10,8,16,8],[10,9,16,9],[3,28,5,30],[3,8,9,8],[3,9,9,9],[17,20,19,21]]}
[null,"Note: Please ensure the hours you enter below match the hours you are currently working. If you are unsure, you can see your average weekly hours via your personal Myself record, using the Resource Tab. Where a submission is made and hours do not currently match those held on HR records, this will only delay the progress of your request."]
[]
[null,"Police Officers - Current Pattern",null,null,"Start Time","End Time",null,"Daily Hours","Week Total","Running Average","latest finish","weekend","07:00:00","18:30:00","07:00:00","18:30:00","sum",1,null,null,"Type name here","Type Force No. here",null,null,null,{"$f":"V7","v":0}]
[null,null,"Week1","Mon",null,null,null,{"$f":"IF(E4=\"R\",0,IF(E4=\"F\",0,IF(F4<E4,F4+1,F4)-E4))","v":"00:00:00"},{"$f":"SUM(H4:H10)","v":0},{"$f":"IF(E4=\"\",\"\",AVERAGE(I$4:I4))","v":""},{"$f":"IF(F4<E4,F4+1,F4)","v":"00:00:00"},null,{"$f":"IF(H4>0,IF(M$3-E4>0,M$3-E4,0),0)","v":"00:00:00"},{"$f":"IF(H4>0,IF(F4-N$3>0,F4-N$3,0),0)","v":"00:00:00"},{"$f":"IF(H4>0,IF(O$3-F4<0,0,F4),0)","v":"00:00:00"},{"$f":"IF(H4>0,IF(E4-P$3<0,0,R$3-E4),0)","v":"00:00:00"},{"$f":"SUM(M4:P4)","v":"00:00:00"},{"$f":"IF(H4>0,IF(SUM(M4:P4)>0,\"yes\",\"no\"),0)","v":0}]
[null,null,null,"Tue",null,null,null,{"$f":"IF(E5=\"R\",0,IF(E5=\"F\",0,IF(F5<E5,F5+1,F5)-E5))","v":"00:00:00"},null,null,"00:00:00",null,{"$f":"IF(H5>0,IF(M$3-E5>0,M$3-E5,0),0)","v":"00:00:00"},{"$f":"IF(H5>0,IF(F5-N$3>0,F5-N$3,0),0)","v":"00:00:00"},{"$f":"IF(H5>0,IF(O$3-F5<0,0,F5),0)","v":"00:00:00"},{"$f":"IF(H5>0,IF(E5-P$3<0,0,R$3-E5),0)","v":"00:00:00"},{"$f":"SUM(M5:P5)","v":"00:00:00"},{"$f":"IF(H5>0,IF(SUM(M5:P5)>0,\"yes\",\"no\"),0)","v":0},null,null,"Please select number of weeks in pattern",1,{"$f":"IF(V5>=52,52.167,\"\")","v":""}]
[null,null,null,"Wed",null,null,null,"00:00:00",null,null,"00:00:00",null,"00:00:00","00:00:00","00:00:00","00:00:00","00:00:00",0,null,null,null,null,{"$f":"IF(V5<=52,V5,52.167)","v":1}]
[null,null,null,"Thu",null,null,null,"00:00:00",null,null,"00:00:00",null,"00:00:00","00:00:00","00:00:00","00:00:00","00:00:00",0,null,null,"Average Weekly Hours",{"$f":"IF(W5>\"\",SUM($I$4:OFFSET($I$4,(($W$5*7)-1),0))/W5,SUM($I$4:OFFSET($I$4,(($W$6*7)-1),0))/W6)","v":0},null,null,null,null,null,{"$f":"SUM($L$4:OFFSET($L$4,(($V$4*7)-1),0))","v":"00:00:00"}]
[null,null,null,"Fri",null,null,null,"00:00:00",null,null,0,null,"00:00:00","00:00:00","00:00:00","00:00:00","00:00:00",0,null,null,"Decimalised Hours",{"$f":"V7*24","v":0},null,{"$f":"COUNTIF($R$4:OFFSET($R$4,(($V$4*7)-1),0),\"yes\")","v":0},{"$f":"COUNTIF($R$4:OFFSET($R$4,(($V$4*7)-1),0),\"no\")","v":0}]
[null,null,null,"Sat",null,null,null,"00:00:00",null,null,"00:00:00",{"$f":"H9","v":"00:00:00"},"00:00:00","00:00:00","00:00:00","00:00:00","00:00:00",0,null,null,null,null,null,{"$f":"$W$15-$W$13","v":0}]
[null,null,null,"Sun",null,null,null,"00:00:00",null,null,"00:00:00",{"$f":"H10","v":"00:00:00"},"00:00:00","00:00:00","00:00:00","00:00:00","00:00:00",0]
[null,null,"Week2","Mon",null,null,null,"00:00:00",{"$f":"SUM(H11:H17)","v":0},{"$f":"IF(E11=\"\",\"\",AVERAGE(I$4:I11))","v":""},{"$f":"IF(F11<E11,F11+1,F11)","v":"00:00:00"},null,{"$f":"IF(H11>0,IF(M$3-E11>0,M$3-E11,0),0)","v":"00:00:00"},{"$f":"IF(H11>0,IF(F11-N$3>0,F11-N$3,0),0)","v":"00:00:00"},{"$f":"IF(H11>0,IF(O$3-F11<0,0,F11),0)","v":"00:00:00"},{"$f":"IF(H11>0,IF(E11-P$3<0,0,R$3-E11),0)","v":"00:00:00"},{"$f":"SUM(M11:P11)","v":"00:00:00"},{"$f":"IF(H11>0,IF(SUM(M11:P11)>0,\"yes\",\"no\"),0)","v":0},null,null,{"$f":"IF(V7>'PO-Calcs'!Q1,\"Your average weekly hours exceed 40 hours, please review and re-enter\",\"\")","v":""}]
[null,null,null,"Tue",null,null,null,{"$f":"IF(E12=\"R\",0,IF(E12=\"F\",0,IF(F12<E12,F12+1,F12)-E12))","v":"00:00:00"},null,null,"00:00:00",null,{"$f":"IF(H12>0,IF(M$3-E12>0,M$3-E12,0),0)","v":"00:00:00"},{"$f":"IF(H12>0,IF(F12-N$3>0,F12-N$3,0),0)","v":"00:00:00"},{"$f":"IF(H12>0,IF(O$3-F12<0,0,F12),0)","v":"00:00:00"},{"$f":"IF(H12>0,IF(E12-P$3<0,0,R$3-E12),0)","v":"00:00:00"},{"$f":"SUM(M12:P12)","v":"00:00:00"},{"$f":"IF(H12>0,IF(SUM(M12:P12)>0,\"yes\",\"no\"),0)","v":0}]
[null,null,null,"Wed",null,null,null,"00:00:00",null,null,"00:00:00",null,"00:00:00","00:00:00","00:00:00","00:00:00","00:00:00",0]
[null,null,null,"Thu",null,null,null,"00:00:00",null,null,"00:00:00",null,"00:00:00","00:00:00","00:00:00","00:00:00","00:00:00",0]
[null,null,null,"Fri",null,null,null,"00:00:00",null,null,0,null,"00:00:00","00:00:00","00:00:00","00:00:00","00:00:00",0]
[null,null,null,"Sat",null,null,null,"00:00:00",null,null,"00:00:00",{"$f":"H16","v":"00:00:00"},"00:00:00","00:00:00","00:00:00","00:00:00","00:00:00",0]
[null,null,null,"Sun",null,null,null,"00:00:00",null,null,"00:00:00",{"$f":"H17","v":"00:00:00"},"00:00:00","00:00:00","00:00:00","00:00:00","00:00:00",0]
[null,null,"Week3","Mon",null,null,null,"00:00:00",{"$f":"SUM(H18:H24)","v":0},{"$f":"IF(E18=\"\",\"\",AVERAGE(I$4:I18))","v":""},{"$f":"IF(F18<E18,F18+1,F18)","v":"00:00:00"},null,{"$f":"IF(H18>0,IF(M$3-E18>0,M$3-E18,0),0)","v":"00:00:00"},{"$f":"IF(H18>0,IF(F18-N$3>0,F18-N$3,0),0)","v":"00:00:00"},{"$f":"IF(H18>0,IF(O$3-F18<0,0,F18),0)","v":"00:00:00"},{"$f":"IF(H18>0,IF(E18-P$3<0,0,R$3-E18),0)","v":"00:00:00"},{"$f":"SUM(M18:P18)","v":"00:00:00"},{"$f":"IF(H18>0,IF(SUM(M18:P18)>0,\"yes\",\"no\"),0)","v":0},null,null,"Please note: you only need to complete the relevant number of weeks in your working pattern. "]
[null,null,null,"Tue",null,null,null,"00:00:00",null,null,"00:00:00",null,{"$f":"IF(H19>0,IF(M$3-E19>0,M$3-E19,0),0)","v":"00:00:00"},{"$f":"IF(H19>0,IF(F19-N$3>0,F19-N$3,0),0)","v":"00:00:00"},{"$f":"IF(H19>0,IF(O$3-F19<0,0,F19),0)","v":"00:00:00"},{"$f":"IF(H19>0,IF(E19-P$3<0,0,R$3-E19),0)","v":"00:00:00"},{"$f":"SUM(M19:P19)","v":"00:00:00"},{"$f":"IF(H19>0,IF(SUM(M19:P19)>0,\"yes\",\"no\"),0)","v":0}]
[null,null,null,"Wed",null,null,null,"00:00:00",null,null,"00:00:00",null,"00:00:00","00:00:00","00:00:00","00:00:00","00:00:00",0]
[null,null,null,"Thu",null,null,null,"00:00:00",null,null,"00:00:00",null,"00:00:00","00:00:00","00:00:00","00:00:00","00:00:00",0]
[null,null,null,"Fri",null,null,null,"00:00:00",null,null,0,null,"00:00:00","00:00:00","00:00:00","00:00:00","00:00:00",0]
[null,null,null,"Sat",null,null,null,"00:00:00",null,null,"00:00:00",{"$f":"H23","v":"00:00:00"},"00:00:00","00:00:00","00:00:00","00:00:00","00:00:00",0]
[null,null,null,"Sun",null,null,null,"00:00:00",null,null,"00:00:00",{"$f":"H24","v":"00:00:00"},"00:00:00","00:00:00","00:00:00","00:00:00","00:00:00",0]
[null,null,"Week4","Mon",null,null,null,"00:00:00",{"$f":"SUM(H25:H31)","v":0},{"$f":"IF(E25=\"\",\"\",AVERAGE(I$4:I25))","v":""},{"$f":"IF(F25<E25,F25+1,F25)","v":"00:00:00"},null,{"$f":"IF(H25>0,IF(M$3-E25>0,M$3-E25,0),0)","v":"00:00:00"},{"$f":"IF(H25>0,IF(F25-N$3>0,F25-N$3,0),0)","v":"00:00:00"},{"$f":"IF(H25>0,IF(O$3-F25<0,0,F25),0)","v":"00:00:00"},{"$f":"IF(H25>0,IF(E25-P$3<0,0,R$3-E25),0)","v":"00:00:00"},{"$f":"SUM(M25:P25)","v":"00:00:00"},{"$f":"IF(H25>0,IF(SUM(M25:P25)>0,\"yes\",\"no\"),0)","v":0}]
[null,null,null,"Tue",null,null,null,"00:00:00",null,null,"00:00:00",null,{"$f":"IF(H26>0,IF(M$3-E26>0,M$3-E26,0),0)","v":"00:00:00"},{"$f":"IF(H26>0,IF(F26-N$3>0,F26-N$3,0),0)","v":"00:00:00"},{"$f":"IF(H26>0,IF(O$3-F26<0,0,F26),0)","v":"00:00:00"},{"$f":"IF(H26>0,IF(E26-P$3<0,0,R$3-E26),0)","v":"00:00:00"},{"$f":"SUM(M26:P26)","v":"00:00:00"},{"$f":"IF(H26>0,IF(SUM(M26:P26)>0,\"yes\",\"no\"),0)","v":0}]
[null,null,null,"Wed",null,null,null,"00:00:00",null,null,"00:00:00",null,"00:00:00","00:00:00","00:00:00","00:00:00","00:00:00",0]
[null,null,null,"Thu",null,null,null,"00:00:00",null,null,"00:00:00",null,"00:00:00","00:00:00","00:00:00","00:00:00","00:00:00",0]
[null,null,null,"Fri",null,null,null,"00:00:00",null,null,0,null,"00:00:00","00:00:00","00:00:00","00:00:00","00:00:00",0]
[null,null,null,"Sat",null,null,null,"00:00:00",null,null,"00:00:00",{"$f":"H30","v":"00:00:00"},"00:00:00","00:00:00","00:00:00","00:00:00","00:00:00",0]
[null,null,null,"Sun",null,null,null,"00:00:00",null,null,"00:00:00",{"$f":"H31","v":"00:00:00"},"00:00:00","00:00:00","00:00:00","00:00:00","00:00:00",0]
[null,null,"Week5","Mon",null,null,null,"00:00:00",{"$f":"SUM(H32:H38)","v":0},{"$f":"IF(E32=\"\",\"\",AVERAGE(I$4:I32))","v":""},{"$f":"IF(F32<E32,F32+1,F32)","v":"00:00:00"},null,{"$f":"IF(H32>0,IF(M$3-E32>0,M$3-E32,0),0)","v":"00:00:00"},{"$f":"IF(H32>0,IF(F32-N$3>0,F32-N$3,0),0)","v":"00:00:00"},{"$f":"IF(H32>0,IF(O$3-F32<0,0,F32),0)","v":"00:00:00"},{"$f":"IF(H32>0,IF(E32-P$3<0,0,R$3-E32),0)","v":"00:00:00"},{"$f":"SUM(M32:P32)","v":"00:00:00"},{"$f":"IF(H32>0,IF(SUM(M32:P32)>0,\"yes\",\"no\"),0)","v":0}]
[null,null,null,"Tue",null,null,null,"00:00:00",null,null,"00:00:00",null,{"$f":"IF(H33>0,IF(M$3-E33>0,M$3-E33,0),0)","v":"00:00:00"},{"$f":"IF(H33>0,IF(F33-N$3>0,F33-N$3,0),0)","v":"00:00:00"},{"$f":"IF(H33>0,IF(O$3-F33<0,0,F33),0)","v":"00:00:00"},{"$f":"IF(H33>0,IF(E33-P$3<0,0,R$3-E33),0)","v":"00:00:00"},{"$f":"SUM(M33:P33)","v":"00:00:00"},{"$f":"IF(H33>0,IF(SUM(M33:P33)>0,\"yes\",\"no\"),0)","v":0}]
[null,null,null,"Wed",null,null,null,"00:00:00",null,null,"00:00:00",null,"00:00:00","00:00:00","00:00:00","00:00:00","00:00:00",0]
[null,null,null,"Thu",null,null,null,"00:00:00",null,null,"00:00:00",null,"00:00:00","00:00:00","00:00:00","00:00:00","00:00:00",0]
[null,null,null,"Fri",null,null,null,"00:00:00",null,null,0,null,"00:00:00","00:00:00","00:00:00","00:00:00","00:00:00",0]
[null,null,null,"Sat",null,null,null,"00:00:00",null,null,"00:00:00",{"$f":"H37","v":"00:00:00"},"00:00:00","00:00:00","00:00:00","00:00:00","00:00:00",0]
[null,null,null,"Sun",null,null,null,"00:00:00",null,null,"00:00:00",{"$f":"H38","v":"00:00:00"},"00:00:00","00:00:00","00:00:00","00:00:00","00:00:00",0]
[null,null,"Week6","Mon",null,null,null,"00:00:00",{"$f":"SUM(H39:H45)","v":0},{"$f":"IF(E39=\"\",\"\",AVERAGE(I$4:I39))","v":""},{"$f":"IF(F39<E39,F39+1,F39)","v":"00:00:00"},null,{"$f":"IF(H39>0,IF(M$3-E39>0,M$3-E39,0),0)","v":"00:00:00"},{"$f":"IF(H39>0,IF(F39-N$3>0,F39-N$3,0),0)","v":"00:00:00"},{"$f":"IF(H39>0,IF(O$3-F39<0,0,F39),0)","v":"00:00:00"},{"$f":"IF(H39>0,IF(E39-P$3<0,0,R$3-E39),0)","v":"00:00:00"},{"$f":"SUM(M39:P39)","v":"00:00:00"},{"$f":"IF(H39>0,IF(SUM(M39:P39)>0,\"yes\",\"no\"),0)","v":0}]
[null,null,null,"Tue",null,null,null,"00:00:00",null,null,"00:00:00",null,{"$f":"IF(H40>0,IF(M$3-E40>0,M$3-E40,0),0)","v":"00:00:00"},{"$f":"IF(H40>0,IF(F40-N$3>0,F40-N$3,0),0)","v":"00:00:00"},{"$f":"IF(H40>0,IF(O$3-F40<0,0,F40),0)","v":"00:00:00"},{"$f":"IF(H40>0,IF(E40-P$3<0,0,R$3-E40),0)","v":"00:00:00"},{"$f":"SUM(M40:P40)","v":"00:00:00"},{"$f":"IF(H40>0,IF(SUM(M40:P40)>0,\"yes\",\"no\"),0)","v":0}]
[null,null,null,"Wed",null,null,null,"00:00:00",null,null,"00:00:00",null,"00:00:00","00:00:00","00:00:00","00:00:00","00:00:00",0]
[null,null,null,"Thu",null,null,null,"00:00:00",null,null,"00:00:00",null,"00:00:00","00:00:00","00:00:00","00:00:00","00:00:00",0]
[null,null,null,"Fri",null,null,null,"00:00:00",null,null,0,null,"00:00:00","00:00:00","00:00:00","00:00:00","00:00:00",0]
[null,null,null,"Sat",null,null,null,"00:00:00",null,null,"00:00:00",{"$f":"H44","v":"00:00:00"},"00:00:00","00:00:00","00:00:00","00:00:00","00:00:00",0]
[null,null,null,"Sun",null,null,null,"00:00:00",null,null,"00:00:00",{"$f":"H45","v":"00:00:00"},"00:00:00","00:00:00","00:00:00","00:00:00","00:00:00",0]
[null,null,"Week7","Mon",null,null,null,"00:00:00",{"$f":"SUM(H46:H52)","v":0},{"$f":"IF(E46=\"\",\"\",AVERAGE(I$4:I46))","v":""},{"$f":"IF(F46<E46,F46+1,F46)","v":"00:00:00"},null,{"$f":"IF(H46>0,IF(M$3-E46>0,M$3-E46,0),0)","v":"00:00:00"},{"$f":"IF(H46>0,IF(F46-N$3>0,F46-N$3,0),0)","v":"00:00:00"},{"$f":"IF(H46>0,IF(O$3-F46<0,0,F46),0)","v":"00:00:00"},{"$f":"IF(H46>0,IF(E46-P$3<0,0,R$3-E46),0)","v":"00:00:00"},{"$f":"SUM(M46:P46)","v":"00:00:00"},{"$f":"IF(H46>0,IF(SUM(M46:P46)>0,\"yes\",\"no\"),0)","v":0}]
[null,null,null,"Tue",null,null,null,"00:00:00",null,null,"00:00:00",null,{"$f":"IF(H47>0,IF(M$3-E47>0,M$3-E47,0),0)","v":"00:00:00"},{"$f":"IF(H47>0,IF(F47-N$3>0,F47-N$3,0),0)","v":"00:00:00"},{"$f":"IF(H47>0,IF(O$3-F47<0,0,F47),0)","v":"00:00:00"},{"$f":"IF(H47>0,IF(E47-P$3<0,0,R$3-E47),0)","v":"00:00:00"},{"$f":"SUM(M47:P47)","v":"00:00:00"},{"$f":"IF(H47>0,IF(SUM(M47:P47)>0,\"yes\",\"no\"),0)","v":0}]
[null,null,null,"Wed",null,null,null,"00:00:00",null,null,"00:00:00",null,"00:00:00","00:00:00","00:00:00","00:00:00","00:00:00",0]
[null,null,null,"Thu",null,null,null,"00:00:00",null,null,"00:00:00",null,"00:00:00","00:00:00","00:00:00","00:00:00","00:00:00",0]
[null,null,null,"Fri",null,null,null,"00:00:00",null,null,0,null,"00:00:00","00:00:00","00:00:00","00:00:00","00:00:00",0]
[null,null,null,"Sat",null,null,null,"00:00:00",null,null,"00:00:00",{"$f":"H51","v":"00:00:00"},"00:00:00","00:00:00","00:00:00","00:00:00","00:00:00",0]
[null,null,null,"Sun",null,null,null,"00:00:00",null,null,"00:00:00",{"$f":"H52","v":"00:00:00"},"00:00:00","00:00:00","00:00:00","00:00:00","00:00:00",0]
[null,null,"Week8","Mon",null,null,null,"00:00:00",{"$f":"SUM(H53:H59)","v":0},{"$f":"IF(E53=\"\",\"\",AVERAGE(I$4:I53))","v":""},{"$f":"IF(F53<E53,F53+1,F53)","v":"00:00:00"},null,{"$f":"IF(H53>0,IF(M$3-E53>0,M$3-E53,0),0)","v":"00:00:00"},{"$f":"IF(H53>0,IF(F53-N$3>0,F53-N$3,0),0)","v":"00:00:00"},{"$f":"IF(H53>0,IF(O$3-F53<0,0,F53),0)","v":"00:00:00"},{"$f":"IF(H53>0,IF(E53-P$3<0,0,R$3-E53),0)","v":"00:00:00"},{"$f":"SUM(M53:P53)","v":"00:00:00"},{"$f":"IF(H53>0,IF(SUM(M53:P53)>0,\"yes\",\"no\"),0)","v":0}]
[null,null,null,"Tue",null,null,null,"00:00:00",null,null,"00:00:00",null,{"$f":"IF(H54>0,IF(M$3-E54>0,M$3-E54,0),0)","v":"00:00:00"},{"$f":"IF(H54>0,IF(F54-N$3>0,F54-N$3,0),0)","v":"00:00:00"},{"$f":"IF(H54>0,IF(O$3-F54<0,0,F54),0)","v":"00:00:00"},{"$f":"IF(H54>0,IF(E54-P$3<0,0,R$3-E54),0)","v":"00:00:00"},{"$f":"SUM(M54:P54)","v":"00:00:00"},{"$f":"IF(H54>0,IF(SUM(M54:P54)>0,\"yes\",\"no\"),0)","v":0}]
[null,null,null,"Wed",null,null,null,"00:00:00",null,null,"00:00:00",null,"00:00:00","00:00:00","00:00:00","00:00:00","00:00:00",0]
[null,null,null,"Thu",null,null,null,"00:00:00",null,null,"00:00:00",null,"00:00:00","00:00:00","00:00:00","00:00:00","00:00:00",0]
[null,null,null,"Fri",null,null,null,"00:00:00",null,null,0,null,"00:00:00","00:00:00","00:00:00","00:00:00","00:00:00",0]
[null,null,null,"Sat",null,null,null,"00:00:00",null,null,"00:00:00",{"$f":"H58","v":"00:00:00"},"00:00:00","00:00:00","00:00:00","00:00:00","00:00:00",0]
[null,null,null,"Sun",null,null,null,"00:00:00",null,null,"00:00:00",{"$f":"H59","v":"00:00:00"},"00:00:00","00:00:00","00:00:00","00:00:00","00:00:00",0]
[null,null,"Week9","Mon",null,null,null,"00:00:00",{"$f":"SUM(H60:H66)","v":0},{"$f":"IF(E60=\"\",\"\",AVERAGE(I$4:I60))","v":""},{"$f":"IF(F60<E60,F60+1,F60)","v":"00:00:00"},null,{"$f":"IF(H60>0,IF(M$3-E60>0,M$3-E60,0),0)","v":"00:00:00"},{"$f":"IF(H60>0,IF(F60-N$3>0,F60-N$3,0),0)","v":"00:00:00"},{"$f":"IF(H60>0,IF(O$3-F60<0,0,F60),0)","v":"00:00:00"},{"$f":"IF(H60>0,IF(E60-P$3<0,0,R$3-E60),0)","v":"00:00:00"},{"$f":"SUM(M60:P60)","v":"00:00:00"},{"$f":"IF(H60>0,IF(SUM(M60:P60)>0,\"yes\",\"no\"),0)","v":0}]
[null,null,null,"Tue",null,null,null,"00:00:00",null,null,"00:00:00",null,{"$f":"IF(H61>0,IF(M$3-E61>0,M$3-E61,0),0)","v":"00:00:00"},{"$f":"IF(H61>0,IF(F61-N$3>0,F61-N$3,0),0)","v":"00:00:00"},{"$f":"IF(H61>0,IF(O$3-F61<0,0,F61),0)","v":"00:00:00"},{"$f":"IF(H61>0,IF(E61-P$3<0,0,R$3-E61),0)","v":"00:00:00"},{"$f":"SUM(M61:P61)","v":"00:00:00"},{"$f":"IF(H61>0,IF(SUM(M61:P61)>0,\"yes\",\"no\"),0)","v":0}]
[null,null,null,"Wed",null,null,null,"00:00:00",null,null,"00:00:00",null,"00:00:00","00:00:00","00:00:00","00:00:00","00:00:00",0]
[null,null,null,"Thu",null,null,null,"00:00:00",null,null,"00:00:00",null,"00:00:00","00:00:00","00:00:00","00:00:00","00:00:00",0]
[null,null,null,"Fri",null,null,null,"00:00:00",null,null,0,null,"00:00:00","00:00:00","00:00:00","00:00:00","00:00:00",0]
[null,null,null,"Sat",null,null,null,"00:00:00",null,null,"00:00:00",{"$f":"H65","v":"00:00:00"},"00:00:00","00:00:00","00:00:00","00:00:00","00:00:00",0]
[null,null,null,"Sun",null,null,null,"00:00:00",null,null,"00:00:00",{"$f":"H66","v":"00:00:00"},"00:00:00","00:00:00","00:00:00","00:00:00","00:00:00",0]
[null,null,"Week10","Mon",null,null,null,"00:00:00",{"$f":"SUM(H67:H73)","v":0},{"$f":"IF(E67=\"\",\"\",AVERAGE(I$4:I67))","v":""},{"$f":"IF(F67<E67,F67+1,F67)","v":"00:00:00"},null,{"$f":"IF(H67>0,IF(M$3-E67>0,M$3-E67,0),0)","v":"00:00:00"},{"$f":"IF(H67>0,IF(F67-N$3>0,F67-N$3,0),0)","v":"00:00:00"},{"$f":"IF(H67>0,IF(O$3-F67<0,0,F67),0)","v":"00:00:00"},{"$f":"IF(H67>0,IF(E67-P$3<0,0,R$3-E67),0)","v":"00:00:00"},{"$f":"SUM(M67:P67)","v":"00:00:00"},{"$f":"IF(H67>0,IF(SUM(M67:P67)>0,\"yes\",\"no\"),0)","v":0}]
[null,null,null,"Tue",null,null,null,"00:00:00",null,null,"00:00:00",null,{"$f":"IF(H68>0,IF(M$3-E68>0,M$3-E68,0),0)","v":"00:00:00"},{"$f":"IF(H68>0,IF(F68-N$3>0,F68-N$3,0),0)","v":"00:00:00"},{"$f":"IF(H68>0,IF(O$3-F68<0,0,F68),0)","v":"00:00:00"},{"$f":"IF(H68>0,IF(E68-P$3<0,0,R$3-E68),0)","v":"00:00:00"},{"$f":"SUM(M68:P68)","v":"00:00:00"},{"$f":"IF(H68>0,IF(SUM(M68:P68)>0,\"yes\",\"no\"),0)","v":0}]
[null,null,null,"Wed",null,null,null,"00:00:00",null,null,"00:00:00",null,"00:00:00","00:00:00","00:00:00","00:00:00","00:00:00",0]
[null,null,null,"Thu",null,null,null,"00:00:00",null,null,"00:00:00",null,"00:00:00","00:00:00","00:00:00","00:00:00","00:00:00",0]
[null,null,null,"Fri",null,null,null,"00:00:00",null,null,0,null,"00:00:00","00:00:00","00:00:00","00:00:00","00:00:00",0]
[null,null,null,"Sat",null,null,null,"00:00:00",null,null,"00:00:00",{"$f":"H72","v":"00:00:00"},"00:00:00","00:00:00","00:00:00","00:00:00","00:00:00",0]
[null,null,null,"Sun",null,null,null,"00:00:00",null,null,"00:00:00",{"$f":"H73","v":"00:00:00"},"00:00:00","00:00:00","00:00:00","00:00:00","00:00:00",0]
[null,null,"Week11","Mon",null,null,null,"00:00:00",{"$f":"SUM(H74:H80)","v":0},{"$f":"IF(E74=\"\",\"\",AVERAGE(I$4:I74))","v":""},{"$f":"IF(F74<E74,F74+1,F74)","v":"00:00:00"},null,{"$f":"IF(H74>0,IF(M$3-E74>0,M$3-E74,0),0)","v":"00:00:00"},{"$f":"IF(H74>0,IF(F74-N$3>0,F74-N$3,0),0)","v":"00:00:00"},{"$f":"IF(H74>0,IF(O$3-F74<0,0,F74),0)","v":"00:00:00"},{"$f":"IF(H74>0,IF(E74-P$3<0,0,R$3-E74),0)","v":"00:00:00"},{"$f":"SUM(M74:P74)","v":"00:00:00"},{"$f":"IF(H74>0,IF(SUM(M74:P74)>0,\"yes\",\"no\"),0)","v":0}]
[null,null,null,"Tue",null,null,null,"00:00:00",null,null,"00:00:00",null,{"$f":"IF(H75>0,IF(M$3-E75>0,M$3-E75,0),0)","v":"00:00:00"},{"$f":"IF(H75>0,IF(F75-N$3>0,F75-N$3,0),0)","v":"00:00:00"},{"$f":"IF(H75>0,IF(O$3-F75<0,0,F75),0)","v":"00:00:00"},{"$f":"IF(H75>0,IF(E75-P$3<0,0,R$3-E75),0)","v":"00:00:00"},{"$f":"SUM(M75:P75)","v":"00:00:00"},{"$f":"IF(H75>0,IF(SUM(M75:P75)>0,\"yes\",\"no\"),0)","v":0}]
[null,null,null,"Wed",null,null,null,{"$f":"IF(E76=\"R\",0,IF(E76=\"F\",0,IF(F76<E76,F76+1,F76)-E76))","v":"00:00:00"},null,null,"00:00:00",null,"00:00:00","00:00:00","00:00:00","00:00:00","00:00:00",0]
[null,null,null,"Thu",null,null,null,"00:00:00",null,null,"00:00:00",null,"00:00:00","00:00:00","00:00:00","00:00:00","00:00:00",0]
[null,null,null,"Fri",null,null,null,"00:00:00",null,null,0,null,"00:00:00","00:00:00","00:00:00","00:00:00","00:00:00",0]
[null,null,null,"Sat",null,null,null,"00:00:00",null,null,"00:00:00",{"$f":"H79","v":"00:00:00"},"00:00:00","00:00:00","00:00:00","00:00:00","00:00:00",0]
[null,null,null,"Sun",null,null,null,"00:00:00",null,null,"00:00:00",{"$f":"H80","v":"00:00:00"},"00:00:00","00:00:00","00:00:00","00:00:00","00:00:00",0]
[null,null,"Week12","Mon",null,null,null,"00:00:00",{"$f":"SUM(H81:H87)","v":0},{"$f":"IF(E81=\"\",\"\",AVERAGE(I$4:I81))","v":""},{"$f":"IF(F81<E81,F81+1,F81)","v":"00:00:00"},null,{"$f":"IF(H81>0,IF(M$3-E81>0,M$3-E81,0),0)","v":"00:00:00"},{"$f":"IF(H81>0,IF(F81-N$3>0,F81-N$3,0),0)","v":"00:00:00"},{"$f":"IF(H81>0,IF(O$3-F81<0,0,F81),0)","v":"00:00:00"},{"$f":"IF(H81>0,IF(E81-P$3<0,0,R$3-E81),0)","v":"00:00:00"},{"$f":"SUM(M81:P81)","v":"00:00:00"},{"$f":"IF(H81>0,IF(SUM(M81:P81)>0,\"yes\",\"no\"),0)","v":0}]
[null,null,null,"Tue",null,null,null,"00:00:00",null,null,"00:00:00",null,{"$f":"IF(H82>0,IF(M$3-E82>0,M$3-E82,0),0)","v":"00:00:00"},{"$f":"IF(H82>0,IF(F82-N$3>0,F82-N$3,0),0)","v":"00:00:00"},{"$f":"IF(H82>0,IF(O$3-F82<0,0,F82),0)","v":"00:00:00"},{"$f":"IF(H82>0,IF(E82-P$3<0,0,R$3-E82),0)","v":"00:00:00"},{"$f":"SUM(M82:P82)","v":"00:00:00"},{"$f":"IF(H82>0,IF(SUM(M82:P82)>0,\"yes\",\"no\"),0)","v":0}]
[null,null,null,"Wed",null,null,null,"00:00:00",null,null,"00:00:00",null,"00:00:00","00:00:00","00:00:00","00:00:00","00:00:00",0]
[null,null,null,"Thu",null,null,null,"00:00:00",null,null,"00:00:00",null,"00:00:00","00:00:00","00:00:00","00:00:00","00:00:00",0]
[null,null,null,"Fri",null,null,null,"00:00:00",null,null,0,null,"00:00:00","00:00:00","00:00:00","00:00:00","00:00:00",0]
[null,null,null,"Sat",null,null,null,"00:00:00",null,null,"00:00:00",{"$f":"H86","v":"00:00:00"},"00:00:00","00:00:00","00:00:00","00:00:00","00:00:00",0]
[null,null,null,"Sun",null,null,null,"00:00:00",null,null,"00:00:00",{"$f":"H87","v":"00:00:00"},"00:00:00","00:00:00","00:00:00","00:00:00","00:00:00",0]
[null,null,"Week13","Mon",null,null,null,"00:00:00",{"$f":"SUM(H88:H94)","v":0},{"$f":"IF(E88=\"\",\"\",AVERAGE(I$4:I88))","v":""},{"$f":"IF(F88<E88,F88+1,F88)","v":"00:00:00"},null,{"$f":"IF(H88>0,IF(M$3-E88>0,M$3-E88,0),0)","v":"00:00:00"},{"$f":"IF(H88>0,IF(F88-N$3>0,F88-N$3,0),0)","v":"00:00:00"},{"$f":"IF(H88>0,IF(O$3-F88<0,0,F88),0)","v":"00:00:00"},{"$f":"IF(H88>0,IF(E88-P$3<0,0,R$3-E88),0)","v":"00:00:00"},{"$f":"SUM(M88:P88)","v":"00:00:00"},{"$f":"IF(H88>0,IF(SUM(M88:P88)>0,\"yes\",\"no\"),0)","v":0}]
[null,null,null,"Tue",null,null,null,"00:00:00",null,null,"00:00:00",null,{"$f":"IF(H89>0,IF(M$3-E89>0,M$3-E89,0),0)","v":"00:00:00"},{"$f":"IF(H89>0,IF(F89-N$3>0,F89-N$3,0),0)","v":"00:00:00"},{"$f":"IF(H89>0,IF(O$3-F89<0,0,F89),0)","v":"00:00:00"},{"$f":"IF(H89>0,IF(E89-P$3<0,0,R$3-E89),0)","v":"00:00:00"},{"$f":"SUM(M89:P89)","v":"00:00:00"},{"$f":"IF(H89>0,IF(SUM(M89:P89)>0,\"yes\",\"no\"),0)","v":0}]
[null,null,null,"Wed",null,null,null,"00:00:00",null,null,"00:00:00",null,"00:00:00","00:00:00","00:00:00","00:00:00","00:00:00",0]
[null,null,null,"Thu",null,null,null,"00:00:00",null,null,"00:00:00",null,"00:00:00","00:00:00","00:00:00","00:00:00","00:00:00",0]
[null,null,null,"Fri",null,null,null,"00:00:00",null,null,0,null,"00:00:00","00:00:00","00:00:00","00:00:00","00:00:00",0]
[null,null,null,"Sat",null,null,null,"00:00:00",null,null,"00:00:00",{"$f":"H93","v":"00:00:00"},"00:00:00","00:00:00","00:00:00","00:00:00","00:00:00",0]
[null,null,null,"Sun",null,null,null,"00:00:00",null,null,"00:00:00",{"$f":"H94","v":"00:00:00"},"00:00:00","00:00:00","00:00:00","00:00:00","00:00:00",0]
[null,null,"Week14","Mon",null,null,null,"00:00:00",{"$f":"SUM(H95:H101)","v":0},{"$f":"IF(E95=\"\",\"\",AVERAGE(I$4:I95))","v":""},{"$f":"IF(F95<E95,F95+1,F95)","v":"00:00:00"},null,{"$f":"IF(H95>0,IF(M$3-E95>0,M$3-E95,0),0)","v":"00:00:00"},{"$f":"IF(H95>0,IF(F95-N$3>0,F95-N$3,0),0)","v":"00:00:00"},{"$f":"IF(H95>0,IF(O$3-F95<0,0,F95),0)","v":"00:00:00"},{"$f":"IF(H95>0,IF(E95-P$3<0,0,R$3-E95),0)","v":"00:00:00"},{"$f":"SUM(M95:P95)","v":"00:00:00"},{"$f":"IF(H95>0,IF(SUM(M95:P95)>0,\"yes\",\"no\"),0)","v":0}]
[null,null,null,"Tue",null,null,null,"00:00:00",null,null,"00:00:00",null,{"$f":"IF(H96>0,IF(M$3-E96>0,M$3-E96,0),0)","v":"00:00:00"},{"$f":"IF(H96>0,IF(F96-N$3>0,F96-N$3,0),0)","v":"00:00:00"},{"$f":"IF(H96>0,IF(O$3-F96<0,0,F96),0)","v":"00:00:00"},{"$f":"IF(H96>0,IF(E96-P$3<0,0,R$3-E96),0)","v":"00:00:00"},{"$f":"SUM(M96:P96)","v":"00:00:00"},{"$f":"IF(H96>0,IF(SUM(M96:P96)>0,\"yes\",\"no\"),0)","v":0}]
[null,null,null,"Wed",null,null,null,"00:00:00",null,null,"00:00:00",null,"00:00:00","00:00:00","00:00:00","00:00:00","00:00:00",0]
[null,null,null,"Thu",null,null,null,"00:00:00",null,null,"00:00:00",null,"00:00:00","00:00:00","00:00:00","00:00:00","00:00:00",0]
[null,null,null,"Fri",null,null,null,"00:00:00",null,null,0,null,"00:00:00","00:00:00","00:00:00","00:00:00","00:00:00",0]
[null,null,null,"Sat",null,null,null,"00:00:00",null,null,"00:00:00",{"$f":"H100","v":"00:00:00"},"00:00:00","00:00:00","00:00:00","00:00:00","00:00:00",0]
[null,null,null,"Sun",null,null,null,"00:00:00",null,null,"00:00:00",{"$f":"H101","v":"00:00:00"},"00:00:00","00:00:00","00:00:00","00:00:00","00:00:00",0]
[null,null,"Week15","Mon",null,null,null,"00:00:00",{"$f":"SUM(H102:H108)","v":0},{"$f":"IF(E102=\"\",\"\",AVERAGE(I$4:I102))","v":""},{"$f":"IF(F102<E102,F102+1,F102)","v":"00:00:00"},null,{"$f":"IF(H102>0,IF(M$3-E102>0,M$3-E102,0),0)","v":"00:00:00"},{"$f":"IF(H102>0,IF(F102-N$3>0,F102-N$3,0),0)","v":"00:00:00"},{"$f":"IF(H102>0,IF(O$3-F102<0,0,F102),0)","v":"00:00:00"},{"$f":"IF(H102>0,IF(E102-P$3<0,0,R$3-E102),0)","v":"00:00:00"},{"$f":"SUM(M102:P102)","v":"00:00:00"},{"$f":"IF(H102>0,IF(SUM(M102:P102)>0,\"yes\",\"no\"),0)","v":0}]
[null,null,null,"Tue",null,null,null,"00:00:00",null,null,"00:00:00",null,{"$f":"IF(H103>0,IF(M$3-E103>0,M$3-E103,0),0)","v":"00:00:00"},{"$f":"IF(H103>0,IF(F103-N$3>0,F103-N$3,0),0)","v":"00:00:00"},{"$f":"IF(H103>0,IF(O$3-F103<0,0,F103),0)","v":"00:00:00"},{"$f":"IF(H103>0,IF(E103-P$3<0,0,R$3-E103),0)","v":"00:00:00"},{"$f":"SUM(M103:P103)","v":"00:00:00"},{"$f":"IF(H103>0,IF(SUM(M103:P103)>0,\"yes\",\"no\"),0)","v":0}]
[null,null,null,"Wed",null,null,null,"00:00:00",null,null,"00:00:00",null,"00:00:00","00:00:00","00:00:00","00:00:00","00:00:00",0]
[null,null,null,"Thu",null,null,null,"00:00:00",null,null,"00:00:00",null,"00:00:00","00:00:00","00:00:00","00:00:00","00:00:00",0]
[null,null,null,"Fri",null,null,null,"00:00:00",null,null,0,null,"00:00:00","00:00:00","00:00:00","00:00:00","00:00:00",0]
[null,null,null,"Sat",null,null,null,"00:00:00",null,null,"00:00:00",{"$f":"H107","v":"00:00:00"},"00:00:00","00:00:00","00:00:00","00:00:00","00:00:00",0]
[null,null,null,"Sun",null,null,null,"00:00:00",null,null,"00:00:00",{"$f":"H108","v":"00:00:00"},"00:00:00","00:00:00","00:00:00","00:00:00","00:00:00",0]
[null,null,"Week16","Mon",null,null,null,"00:00:00",{"$f":"SUM(H109:H115)","v":0},{"$f":"IF(E109=\"\",\"\",AVERAGE(I$4:I109))","v":""},{"$f":"IF(F109<E109,F109+1,F109)","v":"00:00:00"},null,{"$f":"IF(H109>0,IF(M$3-E109>0,M$3-E109,0),0)","v":"00:00:00"},{"$f":"IF(H109>0,IF(F109-N$3>0,F109-N$3,0),0)","v":"00:00:00"},{"$f":"IF(H109>0,IF(O$3-F109<0,0,F109),0)","v":"00:00:00"},{"$f":"IF(H109>0,IF(E109-P$3<0,0,R$3-E109),0)","v":"00:00:00"},{"$f":"SUM(M109:P109)","v":"00:00:00"},{"$f":"IF(H109>0,IF(SUM(M109:P109)>0,\"yes\",\"no\"),0)","v":0}]
[null,null,null,"Tue",null,null,null,"00:00:00",null,null,"00:00:00",null,{"$f":"IF(H110>0,IF(M$3-E110>0,M$3-E110,0),0)","v":"00:00:00"},{"$f":"IF(H110>0,IF(F110-N$3>0,F110-N$3,0),0)","v":"00:00:00"},{"$f":"IF(H110>0,IF(O$3-F110<0,0,F110),0)","v":"00:00:00"},{"$f":"IF(H110>0,IF(E110-P$3<0,0,R$3-E110),0)","v":"00:00:00"},{"$f":"SUM(M110:P110)","v":"00:00:00"},{"$f":"IF(H110>0,IF(SUM(M110:P110)>0,\"yes\",\"no\"),0)","v":0}]
[null,null,null,"Wed",null,null,null,"00:00:00",null,null,"00:00:00",null,"00:00:00","00:00:00","00:00:00","00:00:00","00:00:00",0]
[null,null,null,"Thu",null,null,null,"00:00:00",null,null,"00:00:00",null,"00:00:00","00:00:00","00:00:00","00:00:00","00:00:00",0]
[null,null,null,"Fri",null,null,null,"00:00:00",null,null,0,null,"00:00:00","00:00:00","00:00:00","00:00:00","00:00:00",0]
[null,null,null,"Sat",null,null,null,"00:00:00",null,null,"00:00:00",{"$f":"H114","v":"00:00:00"},"00:00:00","00:00:00","00:00:00","00:00:00","00:00:00",0]
[null,null,null,"Sun",null,null,null,"00:00:00",null,null,"00:00:00",{"$f":"H115","v":"00:00:00"},"00:00:00","00:00:00","00:00:00","00:00:00","00:00:00",0]
[null,null,"Week17","Mon",null,null,null,"00:00:00",{"$f":"SUM(H116:H122)","v":0},{"$f":"IF(E116=\"\",\"\",AVERAGE(I$4:I116))","v":""},{"$f":"IF(F116<E116,F116+1,F116)","v":"00:00:00"},null,{"$f":"IF(H116>0,IF(M$3-E116>0,M$3-E116,0),0)","v":"00:00:00"},{"$f":"IF(H116>0,IF(F116-N$3>0,F116-N$3,0),0)","v":"00:00:00"},{"$f":"IF(H116>0,IF(O$3-F116<0,0,F116),0)","v":"00:00:00"},{"$f":"IF(H116>0,IF(E116-P$3<0,0,R$3-E116),0)","v":"00:00:00"},{"$f":"SUM(M116:P116)","v":"00:00:00"},{"$f":"IF(H116>0,IF(SUM(M116:P116)>0,\"yes\",\"no\"),0)","v":0}]
[null,null,null,"Tue",null,null,null,"00:00:00",null,null,"00:00:00",null,{"$f":"IF(H117>0,IF(M$3-E117>0,M$3-E117,0),0)","v":"00:00:00"},{"$f":"IF(H117>0,IF(F117-N$3>0,F117-N$3,0),0)","v":"00:00:00"},{"$f":"IF(H117>0,IF(O$3-F117<0,0,F117),0)","v":"00:00:00"},{"$f":"IF(H117>0,IF(E117-P$3<0,0,R$3-E117),0)","v":"00:00:00"},{"$f":"SUM(M117:P117)","v":"00:00:00"},{"$f":"IF(H117>0,IF(SUM(M117:P117)>0,\"yes\",\"no\"),0)","v":0}]
[null,null,null,"Wed",null,null,null,"00:00:00",null,null,"00:00:00",null,"00:00:00","00:00:00","00:00:00","00:00:00","00:00:00",0]
[null,null,null,"Thu",null,null,null,"00:00:00",null,null,"00:00:00",null,"00:00:00","00:00:00","00:00:00","00:00:00","00:00:00",0]
[null,null,null,"Fri",null,null,null,"00:00:00",null,null,0,null,"00:00:00","00:00:00","00:00:00","00:00:00","00:00:00",0]
[null,null,null,"Sat",null,null,null,"00:00:00",null,null,"00:00:00",{"$f":"H121","v":"00:00:00"},"00:00:00","00:00:00","00:00:00","00:00:00","00:00:00",0]
[null,null,null,"Sun",null,null,null,"00:00:00",null,null,"00:00:00",{"$f":"H122","v":"00:00:00"},"00:00:00","00:00:00","00:00:00","00:00:00","00:00:00",0]
[null,null,"Week18","Mon",null,null,null,"00:00:00",{"$f":"SUM(H123:H129)","v":0},{"$f":"IF(E123=\"\",\"\",AVERAGE(I$4:I123))","v":""},{"$f":"IF(F123<E123,F123+1,F123)","v":"00:00:00"},null,{"$f":"IF(H123>0,IF(M$3-E123>0,M$3-E123,0),0)","v":"00:00:00"},{"$f":"IF(H123>0,IF(F123-N$3>0,F123-N$3,0),0)","v":"00:00:00"},{"$f":"IF(H123>0,IF(O$3-F123<0,0,F123),0)","v":"00:00:00"},{"$f":"IF(H123>0,IF(E123-P$3<0,0,R$3-E123),0)","v":"00:00:00"},{"$f":"SUM(M123:P123)","v":"00:00:00"},{"$f":"IF(H123>0,IF(SUM(M123:P123)>0,\"yes\",\"no\"),0)","v":0}]
[null,null,null,"Tue",null,null,null,"00:00:00",null,null,"00:00:00",null,{"$f":"IF(H124>0,IF(M$3-E124>0,M$3-E124,0),0)","v":"00:00:00"},{"$f":"IF(H124>0,IF(F124-N$3>0,F124-N$3,0),0)","v":"00:00:00"},{"$f":"IF(H124>0,IF(O$3-F124<0,0,F124),0)","v":"00:00:00"},{"$f":"IF(H124>0,IF(E124-P$3<0,0,R$3-E124),0)","v":"00:00:00"},{"$f":"SUM(M124:P124)","v":"00:00:00"},{"$f":"IF(H124>0,IF(SUM(M124:P124)>0,\"yes\",\"no\"),0)","v":0}]
[null,null,null,"Wed",null,null,null,"00:00:00",null,null,"00:00:00",null,"00:00:00","00:00:00","00:00:00","00:00:00","00:00:00",0]
[null,null,null,"Thu",null,null,null,"00:00:00",null,null,"00:00:00",null,"00:00:00","00:00:00","00:00:00","00:00:00","00:00:00",0]
[null,null,null,"Fri",null,null,null,"00:00:00",null,null,0,null,"00:00:00","00:00:00","00:00:00","00:00:00","00:00:00",0]
[null,null,null,"Sat",null,null,null,"00:00:00",null,null,"00:00:00",{"$f":"H128","v":"00:00:00"},"00:00:00","00:00:00","00:00:00","00:00:00","00:00:00",0]
[null,null,null,"Sun",null,null,null,"00:00:00",null,null,"00:00:00",{"$f":"H129","v":"00:00:00"},"00:00:00","00:00:00","00:00:00","00:00:00","00:00:00",0]
[null,null,"Week19","Mon",null,null,null,"00:00:00",{"$f":"SUM(H130:H136)","v":0},{"$f":"IF(E130=\"\",\"\",AVERAGE(I$4:I130))","v":""},{"$f":"IF(F130<E130,F130+1,F130)","v":"00:00:00"},null,{"$f":"IF(H130>0,IF(M$3-E130>0,M$3-E130,0),0)","v":"00:00:00"},{"$f":"IF(H130>0,IF(F130-N$3>0,F130-N$3,0),0)","v":"00:00:00"},{"$f":"IF(H130>0,IF(O$3-F130<0,0,F130),0)","v":"00:00:00"},{"$f":"IF(H130>0,IF(E130-P$3<0,0,R$3-E130),0)","v":"00:00:00"},{"$f":"SUM(M130:P130)","v":"00:00:00"},{"$f":"IF(H130>0,IF(SUM(M130:P130)>0,\"yes\",\"no\"),0)","v":0}]
[null,null,null,"Tue",null,null,null,"00:00:00",null,null,"00:00:00",null,{"$f":"IF(H131>0,IF(M$3-E131>0,M$3-E131,0),0)","v":"00:00:00"},{"$f":"IF(H131>0,IF(F131-N$3>0,F131-N$3,0),0)","v":"00:00:00"},{"$f":"IF(H131>0,IF(O$3-F131<0,0,F131),0)","v":"00:00:00"},{"$f":"IF(H131>0,IF(E131-P$3<0,0,R$3-E131),0)","v":"00:00:00"},{"$f":"SUM(M131:P131)","v":"00:00:00"},{"$f":"IF(H131>0,IF(SUM(M131:P131)>0,\"yes\",\"no\"),0)","v":0}]
[null,null,null,"Wed",null,null,null,"00:00:00",null,null,"00:00:00",null,"00:00:00","00:00:00","00:00:00","00:00:00","00:00:00",0]
[null,null,null,"Thu",null,null,null,"00:00:00",null,null,"00:00:00",null,"00:00:00","00:00:00","00:00:00","00:00:00","00:00:00",0]
[null,null,null,"Fri",null,null,null,"00:00:00",null,null,0,null,"00:00:00","00:00:00","00:00:00","00:00:00","00:00:00",0]
[null,null,null,"Sat",null,null,null,"00:00:00",null,null,"00:00:00",{"$f":"H135","v":"00:00:00"},"00:00:00","00:00:00","00:00:00","00:00:00","00:00:00",0]
[null,null,null,"Sun",null,null,null,"00:00:00",null,null,"00:00:00",{"$f":"H136","v":"00:00:00"},"00:00:00","00:00:00","00:00:00","00:00:00","00:00:00",0]
[null,null,"Week20","Mon",null,null,null,"00:00:00",{"$f":"SUM(H137:H143)","v":0},{"$f":"IF(E137=\"\",\"\",AVERAGE(I$4:I137))","v":""},{"$f":"IF(F137<E137,F137+1,F137)","v":"00:00:00"},null,{"$f":"IF(H137>0,IF(M$3-E137>0,M$3-E137,0),0)","v":"00:00:00"},{"$f":"IF(H137>0,IF(F137-N$3>0,F137-N$3,0),0)","v":"00:00:00"},{"$f":"IF(H137>0,IF(O$3-F137<0,0,F137),0)","v":"00:00:00"},{"$f":"IF(H137>0,IF(E137-P$3<0,0,R$3-E137),0)","v":"00:00:00"},{"$f":"SUM(M137:P137)","v":"00:00:00"},{"$f":"IF(H137>0,IF(SUM(M137:P137)>0,\"yes\",\"no\"),0)","v":0}]
[null,null,null,"Tue",null,null,null,"00:00:00",null,null,"00:00:00",null,{"$f":"IF(H138>0,IF(M$3-E138>0,M$3-E138,0),0)","v":"00:00:00"},{"$f":"IF(H138>0,IF(F138-N$3>0,F138-N$3,0),0)","v":"00:00:00"},{"$f":"IF(H138>0,IF(O$3-F138<0,0,F138),0)","v":"00:00:00"},{"$f":"IF(H138>0,IF(E138-P$3<0,0,R$3-E138),0)","v":"00:00:00"},{"$f":"SUM(M138:P138)","v":"00:00:00"},{"$f":"IF(H138>0,IF(SUM(M138:P138)>0,\"yes\",\"no\"),0)","v":0}]
[null,null,null,"Wed",null,null,null,"00:00:00",null,null,"00:00:00",null,"00:00:00","00:00:00","00:00:00","00:00:00","00:00:00",0]
[null,null,null,"Thu",null,null,null,{"$f":"IF(E140=\"R\",0,IF(E140=\"F\",0,IF(F140<E140,F140+1,F140)-E140))","v":"00:00:00"},null,null,"00:00:00",null,"00:00:00","00:00:00","00:00:00","00:00:00","00:00:00",0]
[null,null,null,"Fri",null,null,null,"00:00:00",null,null,0,null,"00:00:00","00:00:00","00:00:00","00:00:00","00:00:00",0]
[null,null,null,"Sat",null,null,null,"00:00:00",null,null,"00:00:00",{"$f":"H142","v":"00:00:00"},"00:00:00","00:00:00","00:00:00","00:00:00","00:00:00",0]
[null,null,null,"Sun",null,null,null,"00:00:00",null,null,"00:00:00",{"$f":"H143","v":"00:00:00"},"00:00:00","00:00:00","00:00:00","00:00:00","00:00:00",0]
[null,null,"Week21","Mon",null,null,null,"00:00:00",{"$f":"SUM(H144:H150)","v":0},{"$f":"IF(E144=\"\",\"\",AVERAGE(I$4:I144))","v":""},{"$f":"IF(F144<E144,F144+1,F144)","v":"00:00:00"},null,{"$f":"IF(H144>0,IF(M$3-E144>0,M$3-E144,0),0)","v":"00:00:00"},{"$f":"IF(H144>0,IF(F144-N$3>0,F144-N$3,0),0)","v":"00:00:00"},{"$f":"IF(H144>0,IF(O$3-F144<0,0,F144),0)","v":"00:00:00"},{"$f":"IF(H144>0,IF(E144-P$3<0,0,R$3-E144),0)","v":"00:00:00"},{"$f":"SUM(M144:P144)","v":"00:00:00"},{"$f":"IF(H144>0,IF(SUM(M144:P144)>0,\"yes\",\"no\"),0)","v":0}]
[null,null,null,"Tue",null,null,null,"00:00:00",null,null,"00:00:00",null,{"$f":"IF(H145>0,IF(M$3-E145>0,M$3-E145,0),0)","v":"00:00:00"},{"$f":"IF(H145>0,IF(F145-N$3>0,F145-N$3,0),0)","v":"00:00:00"},{"$f":"IF(H145>0,IF(O$3-F145<0,0,F145),0)","v":"00:00:00"},{"$f":"IF(H145>0,IF(E145-P$3<0,0,R$3-E145),0)","v":"00:00:00"},{"$f":"SUM(M145:P145)","v":"00:00:00"},{"$f":"IF(H145>0,IF(SUM(M145:P145)>0,\"yes\",\"no\"),0)","v":0}]
[null,null,null,"Wed",null,null,null,"00:00:00",null,null,"00:00:00",null,"00:00:00","00:00:00","00:00:00","00:00:00","00:00:00",0]
[null,null,null,"Thu",null,null,null,"00:00:00",null,null,"00:00:00",null,"00:00:00","00:00:00","00:00:00","00:00:00","00:00:00",0]
[null,null,null,"Fri",null,null,null,"00:00:00",null,null,0,null,"00:00:00","00:00:00","00:00:00","00:00:00","00:00:00",0]
[null,null,null,"Sat",null,null,null,"00:00:00",null,null,"00:00:00",{"$f":"H149","v":"00:00:00"},"00:00:00","00:00:00","00:00:00","00:00:00","00:00:00",0]
[null,null,null,"Sun",null,null,null,"00:00:00",null,null,"00:00:00",{"$f":"H150","v":"00:00:00"},"00:00:00","00:00:00","00:00:00","00:00:00","00:00:00",0]
[null,null,"Week22","Mon",null,null,null,"00:00:00",{"$f":"SUM(H151:H157)","v":0},{"$f":"IF(E151=\"\",\"\",AVERAGE(I$4:I151))","v":""},{"$f":"IF(F151<E151,F151+1,F151)","v":"00:00:00"},null,{"$f":"IF(H151>0,IF(M$3-E151>0,M$3-E151,0),0)","v":"00:00:00"},{"$f":"IF(H151>0,IF(F151-N$3>0,F151-N$3,0),0)","v":"00:00:00"},{"$f":"IF(H151>0,IF(O$3-F151<0,0,F151),0)","v":"00:00:00"},{"$f":"IF(H151>0,IF(E151-P$3<0,0,R$3-E151),0)","v":"00:00:00"},{"$f":"SUM(M151:P151)","v":"00:00:00"},{"$f":"IF(H151>0,IF(SUM(M151:P151)>0,\"yes\",\"no\"),0)","v":0}]
[null,null,null,"Tue",null,null,null,"00:00:00",null,null,"00:00:00",null,{"$f":"IF(H152>0,IF(M$3-E152>0,M$3-E152,0),0)","v":"00:00:00"},{"$f":"IF(H152>0,IF(F152-N$3>0,F152-N$3,0),0)","v":"00:00:00"},{"$f":"IF(H152>0,IF(O$3-F152<0,0,F152),0)","v":"00:00:00"},{"$f":"IF(H152>0,IF(E152-P$3<0,0,R$3-E152),0)","v":"00:00:00"},{"$f":"SUM(M152:P152)","v":"00:00:00"},{"$f":"IF(H152>0,IF(SUM(M152:P152)>0,\"yes\",\"no\"),0)","v":0}]
[null,null,null,"Wed",null,null,null,"00:00:00",null,null,"00:00:00",null,"00:00:00","00:00:00","00:00:00","00:00:00","00:00:00",0]
[null,null,null,"Thu",null,null,null,"00:00:00",null,null,"00:00:00",null,"00:00:00","00:00:00","00:00:00","00:00:00","00:00:00",0]
[null,null,null,"Fri",null,null,null,"00:00:00",null,null,0,null,"00:00:00","00:00:00","00:00:00","00:00:00","00:00:00",0]
[null,null,null,"Sat",null,null,null,"00:00:00",null,null,"00:00:00",{"$f":"H156","v":"00:00:00"},"00:00:00","00:00:00","00:00:00","00:00:00","00:00:00",0]
[null,null,null,"Sun",null,null,null,"00:00:00",null,null,"00:00:00",{"$f":"H157","v":"00:00:00"},"00:00:00","00:00:00","00:00:00","00:00:00","00:00:00",0]
[null,null,"Week23","Mon",null,null,null,"00:00:00",{"$f":"SUM(H158:H164)","v":0},{"$f":"IF(E158=\"\",\"\",AVERAGE(I$4:I158))","v":""},{"$f":"IF(F158<E158,F158+1,F158)","v":"00:00:00"},null,{"$f":"IF(H158>0,IF(M$3-E158>0,M$3-E158,0),0)","v":"00:00:00"},{"$f":"IF(H158>0,IF(F158-N$3>0,F158-N$3,0),0)","v":"00:00:00"},{"$f":"IF(H158>0,IF(O$3-F158<0,0,F158),0)","v":"00:00:00"},{"$f":"IF(H158>0,IF(E158-P$3<0,0,R$3-E158),0)","v":"00:00:00"},{"$f":"SUM(M158:P158)","v":"00:00:00"},{"$f":"IF(H158>0,IF(SUM(M158:P158)>0,\"yes\",\"no\"),0)","v":0}]
[null,null,null,"Tue",null,null,null,"00:00:00",null,null,"00:00:00",null,{"$f":"IF(H159>0,IF(M$3-E159>0,M$3-E159,0),0)","v":"00:00:00"},{"$f":"IF(H159>0,IF(F159-N$3>0,F159-N$3,0),0)","v":"00:00:00"},{"$f":"IF(H159>0,IF(O$3-F159<0,0,F159),0)","v":"00:00:00"},{"$f":"IF(H159>0,IF(E159-P$3<0,0,R$3-E159),0)","v":"00:00:00"},{"$f":"SUM(M159:P159)","v":"00:00:00"},{"$f":"IF(H159>0,IF(SUM(M159:P159)>0,\"yes\",\"no\"),0)","v":0}]
[null,null,null,"Wed",null,null,null,"00:00:00",null,null,"00:00:00",null,"00:00:00","00:00:00","00:00:00","00:00:00","00:00:00",0]
[null,null,null,"Thu",null,null,null,"00:00:00",null,null,"00:00:00",null,"00:00:00","00:00:00","00:00:00","00:00:00","00:00:00",0]
[null,null,null,"Fri",null,null,null,"00:00:00",null,null,0,null,"00:00:00","00:00:00","00:00:00","00:00:00","00:00:00",0]
[null,null,null,"Sat",null,null,null,"00:00:00",null,null,"00:00:00",{"$f":"H163","v":"00:00:00"},"00:00:00","00:00:00","00:00:00","00:00:00","00:00:00",0]
[null,null,null,"Sun",null,null,null,"00:00:00",null,null,"00:00:00",{"$f":"H164","v":"00:00:00"},"00:00:00","00:00:00","00:00:00","00:00:00","00:00:00",0]
[null,null,"Week24","Mon",null,null,null,"00:00:00",{"$f":"SUM(H165:H171)","v":0},{"$f":"IF(E165=\"\",\"\",AVERAGE(I$4:I165))","v":""},{"$f":"IF(F165<E165,F165+1,F165)","v":"00:00:00"},null,{"$f":"IF(H165>0,IF(M$3-E165>0,M$3-E165,0),0)","v":"00:00:00"},{"$f":"IF(H165>0,IF(F165-N$3>0,F165-N$3,0),0)","v":"00:00:00"},{"$f":"IF(H165>0,IF(O$3-F165<0,0,F165),0)","v":"00:00:00"},{"$f":"IF(H165>0,IF(E165-P$3<0,0,R$3-E165),0)","v":"00:00:00"},{"$f":"SUM(M165:P165)","v":"00:00:00"},{"$f":"IF(H165>0,IF(SUM(M165:P165)>0,\"yes\",\"no\"),0)","v":0}]
[null,null,null,"Tue",null,null,null,"00:00:00",null,null,"00:00:00",null,{"$f":"IF(H166>0,IF(M$3-E166>0,M$3-E166,0),0)","v":"00:00:00"},{"$f":"IF(H166>0,IF(F166-N$3>0,F166-N$3,0),0)","v":"00:00:00"},{"$f":"IF(H166>0,IF(O$3-F166<0,0,F166),0)","v":"00:00:00"},{"$f":"IF(H166>0,IF(E166-P$3<0,0,R$3-E166),0)","v":"00:00:00"},{"$f":"SUM(M166:P166)","v":"00:00:00"},{"$f":"IF(H166>0,IF(SUM(M166:P166)>0,\"yes\",\"no\"),0)","v":0}]
[null,null,null,"Wed",null,null,null,"00:00:00",null,null,"00:00:00",null,"00:00:00","00:00:00","00:00:00","00:00:00","00:00:00",0]
[null,null,null,"Thu",null,null,null,"00:00:00",null,null,"00:00:00",null,"00:00:00","00:00:00","00:00:00","00:00:00","00:00:00",0]
[null,null,null,"Fri",null,null,null,"00:00:00",null,null,0,null,"00:00:00","00:00:00","00:00:00","00:00:00","00:00:00",0]
[null,null,null,"Sat",null,null,null,"00:00:00",null,null,"00:00:00",{"$f":"H170","v":"00:00:00"},"00:00:00","00:00:00","00:00:00","00:00:00","00:00:00",0]
[null,null,null,"Sun",null,null,null,"00:00:00",null,null,"00:00:00",{"$f":"H171","v":"00:00:00"},"00:00:00","00:00:00","00:00:00","00:00:00","00:00:00",0]
[null,null,"Week25","Mon",null,null,null,"00:00:00",{"$f":"SUM(H172:H178)","v":0},{"$f":"IF(E172=\"\",\"\",AVERAGE(I$4:I172))","v":""},{"$f":"IF(F172<E172,F172+1,F172)","v":"00:00:00"},null,{"$f":"IF(H172>0,IF(M$3-E172>0,M$3-E172,0),0)","v":"00:00:00"},{"$f":"IF(H172>0,IF(F172-N$3>0,F172-N$3,0),0)","v":"00:00:00"},{"$f":"IF(H172>0,IF(O$3-F172<0,0,F172),0)","v":"00:00:00"},{"$f":"IF(H172>0,IF(E172-P$3<0,0,R$3-E172),0)","v":"00:00:00"},{"$f":"SUM(M172:P172)","v":"00:00:00"},{"$f":"IF(H172>0,IF(SUM(M172:P172)>0,\"yes\",\"no\"),0)","v":0}]
[null,null,null,"Tue",null,null,null,"00:00:00",null,null,"00:00:00",null,{"$f":"IF(H173>0,IF(M$3-E173>0,M$3-E173,0),0)","v":"00:00:00"},{"$f":"IF(H173>0,IF(F173-N$3>0,F173-N$3,0),0)","v":"00:00:00"},{"$f":"IF(H173>0,IF(O$3-F173<0,0,F173),0)","v":"00:00:00"},{"$f":"IF(H173>0,IF(E173-P$3<0,0,R$3-E173),0)","v":"00:00:00"},{"$f":"SUM(M173:P173)","v":"00:00:00"},{"$f":"IF(H173>0,IF(SUM(M173:P173)>0,\"yes\",\"no\"),0)","v":0}]
[null,null,null,"Wed",null,null,null,"00:00:00",null,null,"00:00:00",null,"00:00:00","00:00:00","00:00:00","00:00:00","00:00:00",0]
[null,null,null,"Thu",null,null,null,"00:00:00",null,null,"00:00:00",null,"00:00:00","00:00:00","00:00:00","00:00:00","00:00:00",0]
[null,null,null,"Fri",null,null,null,"00:00:00",null,null,0,null,"00:00:00","00:00:00","00:00:00","00:00:00","00:00:00",0]
[null,null,null,"Sat",null,null,null,"00:00:00",null,null,"00:00:00",{"$f":"H177","v":"00:00:00"},"00:00:00","00:00:00","00:00:00","00:00:00","00:00:00",0]
[null,null,null,"Sun",null,null,null,"00:00:00",null,null,"00:00:00",{"$f":"H178","v":"00:00:00"},"00:00:00","00:00:00","00:00:00","00:00:00","00:00:00",0]
[null,null,"Week26","Mon",null,null,null,"00:00:00",{"$f":"SUM(H179:H185)","v":0},{"$f":"IF(E179=\"\",\"\",AVERAGE(I$4:I179))","v":""},{"$f":"IF(F179<E179,F179+1,F179)","v":"00:00:00"},null,{"$f":"IF(H179>0,IF(M$3-E179>0,M$3-E179,0),0)","v":"00:00:00"},{"$f":"IF(H179>0,IF(F179-N$3>0,F179-N$3,0),0)","v":"00:00:00"},{"$f":"IF(H179>0,IF(O$3-F179<0,0,F179),0)","v":"00:00:00"},{"$f":"IF(H179>0,IF(E179-P$3<0,0,R$3-E179),0)","v":"00:00:00"},{"$f":"SUM(M179:P179)","v":"00:00:00"},{"$f":"IF(H179>0,IF(SUM(M179:P179)>0,\"yes\",\"no\"),0)","v":0}]
[null,null,null,"Tue",null,null,null,"00:00:00",null,null,"00:00:00",null,{"$f":"IF(H180>0,IF(M$3-E180>0,M$3-E180,0),0)","v":"00:00:00"},{"$f":"IF(H180>0,IF(F180-N$3>0,F180-N$3,0),0)","v":"00:00:00"},{"$f":"IF(H180>0,IF(O$3-F180<0,0,F180),0)","v":"00:00:00"},{"$f":"IF(H180>0,IF(E180-P$3<0,0,R$3-E180),0)","v":"00:00:00"},{"$f":"SUM(M180:P180)","v":"00:00:00"},{"$f":"IF(H180>0,IF(SUM(M180:P180)>0,\"yes\",\"no\"),0)","v":0}]
[null,null,null,"Wed",null,null,null,"00:00:00",null,null,"00:00:00",null,"00:00:00","00:00:00","00:00:00","00:00:00","00:00:00",0]
[null,null,null,"Thu",null,null,null,"00:00:00",null,null,"00:00:00",null,"00:00:00","00:00:00","00:00:00","00:00:00","00:00:00",0]
[null,null,null,"Fri",null,null,null,"00:00:00",null,null,0,null,"00:00:00","00:00:00","00:00:00","00:00:00","00:00:00",0]
[null,null,null,"Sat",null,null,null,"00:00:00",null,null,"00:00:00",{"$f":"H184","v":"00:00:00"},"00:00:00","00:00:00","00:00:00","00:00:00","00:00:00",0]
[null,null,null,"Sun",null,null,null,"00:00:00",null,null,"00:00:00",{"$f":"H185","v":"00:00:00"},"00:00:00","00:00:00","00:00:00","00:00:00","00:00:00",0]
[null,null,"Week27","Mon",null,null,null,"00:00:00",{"$f":"SUM(H186:H192)","v":0},{"$f":"IF(E186=\"\",\"\",AVERAGE(I$4:I186))","v":""},{"$f":"IF(F186<E186,F186+1,F186)","v":"00:00:00"},null,{"$f":"IF(H186>0,IF(M$3-E186>0,M$3-E186,0),0)","v":"00:00:00"},{"$f":"IF(H186>0,IF(F186-N$3>0,F186-N$3,0),0)","v":"00:00:00"},{"$f":"IF(H186>0,IF(O$3-F186<0,0,F186),0)","v":"00:00:00"},{"$f":"IF(H186>0,IF(E186-P$3<0,0,R$3-E186),0)","v":"00:00:00"},{"$f":"SUM(M186:P186)","v":"00:00:00"},{"$f":"IF(H186>0,IF(SUM(M186:P186)>0,\"yes\",\"no\"),0)","v":0}]
[null,null,null,"Tue",null,null,null,"00:00:00",null,null,"00:00:00",null,{"$f":"IF(H187>0,IF(M$3-E187>0,M$3-E187,0),0)","v":"00:00:00"},{"$f":"IF(H187>0,IF(F187-N$3>0,F187-N$3,0),0)","v":"00:00:00"},{"$f":"IF(H187>0,IF(O$3-F187<0,0,F187),0)","v":"00:00:00"},{"$f":"IF(H187>0,IF(E187-P$3<0,0,R$3-E187),0)","v":"00:00:00"},{"$f":"SUM(M187:P187)","v":"00:00:00"},{"$f":"IF(H187>0,IF(SUM(M187:P187)>0,\"yes\",\"no\"),0)","v":0}]
[null,null,null,"Wed",null,null,null,"00:00:00",null,null,"00:00:00",null,"00:00:00","00:00:00","00:00:00","00:00:00","00:00:00",0]
[null,null,null,"Thu",null,null,null,"00:00:00",null,null,"00:00:00",null,"00:00:00","00:00:00","00:00:00","00:00:00","00:00:00",0]
[null,null,null,"Fri",null,null,null,"00:00:00",null,null,0,null,"00:00:00","00:00:00","00:00:00","00:00:00","00:00:00",0]
[null,null,null,"Sat",null,null,null,"00:00:00",null,null,"00:00:00",{"$f":"H191","v":"00:00:00"},"00:00:00","00:00:00","00:00:00","00:00:00","00:00:00",0]
[null,null,null,"Sun",null,null,null,"00:00:00",null,null,"00:00:00",{"$f":"H192","v":"00:00:00"},"00:00:00","00:00:00","00:00:00","00:00:00","00:00:00",0]
[null,null,"Week28","Mon",null,null,null,"00:00:00",{"$f":"SUM(H193:H199)","v":0},{"$f":"IF(E193=\"\",\"\",AVERAGE(I$4:I193))","v":""},{"$f":"IF(F193<E193,F193+1,F193)","v":"00:00:00"},null,{"$f":"IF(H193>0,IF(M$3-E193>0,M$3-E193,0),0)","v":"00:00:00"},{"$f":"IF(H193>0,IF(F193-N$3>0,F193-N$3,0),0)","v":"00:00:00"},{"$f":"IF(H193>0,IF(O$3-F193<0,0,F193),0)","v":"00:00:00"},{"$f":"IF(H193>0,IF(E193-P$3<0,0,R$3-E193),0)","v":"00:00:00"},{"$f":"SUM(M193:P193)","v":"00:00:00"},{"$f":"IF(H193>0,IF(SUM(M193:P193)>0,\"yes\",\"no\"),0)","v":0}]
[null,null,null,"Tue",null,null,null,"00:00:00",null,null,"00:00:00",null,{"$f":"IF(H194>0,IF(M$3-E194>0,M$3-E194,0),0)","v":"00:00:00"},{"$f":"IF(H194>0,IF(F194-N$3>0,F194-N$3,0),0)","v":"00:00:00"},{"$f":"IF(H194>0,IF(O$3-F194<0,0,F194),0)","v":"00:00:00"},{"$f":"IF(H194>0,IF(E194-P$3<0,0,R$3-E194),0)","v":"00:00:00"},{"$f":"SUM(M194:P194)","v":"00:00:00"},{"$f":"IF(H194>0,IF(SUM(M194:P194)>0,\"yes\",\"no\"),0)","v":0}]
[null,null,null,"Wed",null,null,null,"00:00:00",null,null,"00:00:00",null,"00:00:00","00:00:00","00:00:00","00:00:00","00:00:00",0]
[null,null,null,"Thu",null,null,null,"00:00:00",null,null,"00:00:00",null,"00:00:00","00:00:00","00:00:00","00:00:00","00:00:00",0]
[null,null,null,"Fri",null,null,null,"00:00:00",null,null,0,null,"00:00:00","00:00:00","00:00:00","00:00:00","00:00:00",0]
[null,null,null,"Sat",null,null,null,"00:00:00",null,null,"00:00:00",{"$f":"H198","v":"00:00:00"},"00:00:00","00:00:00","00:00:00","00:00:00","00:00:00",0]
[null,null,null,"Sun",null,null,null,"00:00:00",null,null,"00:00:00",{"$f":"H199","v":"00:00:00"},"00:00:00","00:00:00","00:00:00","00:00:00","00:00:00",0]
[null,null,"Week29","Mon",null,null,null,"00:00:00",{"$f":"SUM(H200:H206)","v":0},{"$f":"IF(E200=\"\",\"\",AVERAGE(I$4:I200))","v":""},{"$f":"IF(F200<E200,F200+1,F200)","v":"00:00:00"},null,{"$f":"IF(H200>0,IF(M$3-E200>0,M$3-E200,0),0)","v":"00:00:00"},{"$f":"IF(H200>0,IF(F200-N$3>0,F200-N$3,0),0)","v":"00:00:00"},{"$f":"IF(H200>0,IF(O$3-F200<0,0,F200),0)","v":"00:00:00"},{"$f":"IF(H200>0,IF(E200-P$3<0,0,R$3-E200),0)","v":"00:00:00"},{"$f":"SUM(M200:P200)","v":"00:00:00"},{"$f":"IF(H200>0,IF(SUM(M200:P200)>0,\"yes\",\"no\"),0)","v":0}]
[null,null,null,"Tue",null,null,null,"00:00:00",null,null,"00:00:00",null,{"$f":"IF(H201>0,IF(M$3-E201>0,M$3-E201,0),0)","v":"00:00:00"},{"$f":"IF(H201>0,IF(F201-N$3>0,F201-N$3,0),0)","v":"00:00:00"},{"$f":"IF(H201>0,IF(O$3-F201<0,0,F201),0)","v":"00:00:00"},{"$f":"IF(H201>0,IF(E201-P$3<0,0,R$3-E201),0)","v":"00:00:00"},{"$f":"SUM(M201:P201)","v":"00:00:00"},{"$f":"IF(H201>0,IF(SUM(M201:P201)>0,\"yes\",\"no\"),0)","v":0}]
[null,null,null,"Wed",null,null,null,"00:00:00",null,null,"00:00:00",null,"00:00:00","00:00:00","00:00:00","00:00:00","00:00:00",0]
[null,null,null,"Thu",null,null,null,"00:00:00",null,null,"00:00:00",null,"00:00:00","00:00:00","00:00:00","00:00:00","00:00:00",0]
[null,null,null,"Fri",null,null,null,{"$f":"IF(E204=\"R\",0,IF(E204=\"F\",0,IF(F204<E204,F204+1,F204)-E204))","v":"00:00:00"},null,null,0,null,"00:00:00","00:00:00","00:00:00","00:00:00","00:00:00",0]
[null,null,null,"Sat",null,null,null,"00:00:00",null,null,"00:00:00",{"$f":"H205","v":"00:00:00"},"00:00:00","00:00:00","00:00:00","00:00:00","00:00:00",0]
[null,null,null,"Sun",null,null,null,"00:00:00",null,null,"00:00:00",{"$f":"H206","v":"00:00:00"},"00:00:00","00:00:00","00:00:00","00:00:00","00:00:00",0]
[null,null,"Week30","Mon",null,null,null,"00:00:00",{"$f":"SUM(H207:H213)","v":0},{"$f":"IF(E207=\"\",\"\",AVERAGE(I$4:I207))","v":""},{"$f":"IF(F207<E207,F207+1,F207)","v":"00:00:00"},null,{"$f":"IF(H207>0,IF(M$3-E207>0,M$3-E207,0),0)","v":"00:00:00"},{"$f":"IF(H207>0,IF(F207-N$3>0,F207-N$3,0),0)","v":"00:00:00"},{"$f":"IF(H207>0,IF(O$3-F207<0,0,F207),0)","v":"00:00:00"},{"$f":"IF(H207>0,IF(E207-P$3<0,0,R$3-E207),0)","v":"00:00:00"},{"$f":"SUM(M207:P207)","v":"00:00:00"},{"$f":"IF(H207>0,IF(SUM(M207:P207)>0,\"yes\",\"no\"),0)","v":0}]
[null,null,null,"Tue",null,null,null,"00:00:00",null,null,"00:00:00",null,{"$f":"IF(H208>0,IF(M$3-E208>0,M$3-E208,0),0)","v":"00:00:00"},{"$f":"IF(H208>0,IF(F208-N$3>0,F208-N$3,0),0)","v":"00:00:00"},{"$f":"IF(H208>0,IF(O$3-F208<0,0,F208),0)","v":"00:00:00"},{"$f":"IF(H208>0,IF(E208-P$3<0,0,R$3-E208),0)","v":"00:00:00"},{"$f":"SUM(M208:P208)","v":"00:00:00"},{"$f":"IF(H208>0,IF(SUM(M208:P208)>0,\"yes\",\"no\"),0)","v":0}]
[null,null,null,"Wed",null,null,null,"00:00:00",null,null,"00:00:00",null,"00:00:00","00:00:00","00:00:00","00:00:00","00:00:00",0]
[null,null,null,"Thu",null,null,null,"00:00:00",null,null,"00:00:00",null,"00:00:00","00:00:00","00:00:00","00:00:00","00:00:00",0]
[null,null,null,"Fri",null,null,null,"00:00:00",null,null,0,null,"00:00:00","00:00:00","00:00:00","00:00:00","00:00:00",0]
[null,null,null,"Sat",null,null,null,"00:00:00",null,null,"00:00:00",{"$f":"H212","v":"00:00:00"},"00:00:00","00:00:00","00:00:00","00:00:00","00:00:00",0]
[null,null,null,"Sun",null,null,null,"00:00:00",null,null,"00:00:00",{"$f":"H213","v":"00:00:00"},"00:00:00","00:00:00","00:00:00","00:00:00","00:00:00",0]
[null,null,"Week31","Mon",null,null,null,"00:00:00",{"$f":"SUM(H214:H220)","v":0},{"$f":"IF(E214=\"\",\"\",AVERAGE(I$4:I214))","v":""},{"$f":"IF(F214<E214,F214+1,F214)","v":"00:00:00"},null,{"$f":"IF(H214>0,IF(M$3-E214>0,M$3-E214,0),0)","v":"00:00:00"},{"$f":"IF(H214>0,IF(F214-N$3>0,F214-N$3,0),0)","v":"00:00:00"},{"$f":"IF(H214>0,IF(O$3-F214<0,0,F214),0)","v":"00:00:00"},{"$f":"IF(H214>0,IF(E214-P$3<0,0,R$3-E214),0)","v":"00:00:00"},{"$f":"SUM(M214:P214)","v":"00:00:00"},{"$f":"IF(H214>0,IF(SUM(M214:P214)>0,\"yes\",\"no\"),0)","v":0}]
[null,null,null,"Tue",null,null,null,"00:00:00",null,null,"00:00:00",null,{"$f":"IF(H215>0,IF(M$3-E215>0,M$3-E215,0),0)","v":"00:00:00"},{"$f":"IF(H215>0,IF(F215-N$3>0,F215-N$3,0),0)","v":"00:00:00"},{"$f":"IF(H215>0,IF(O$3-F215<0,0,F215),0)","v":"00:00:00"},{"$f":"IF(H215>0,IF(E215-P$3<0,0,R$3-E215),0)","v":"00:00:00"},{"$f":"SUM(M215:P215)","v":"00:00:00"},{"$f":"IF(H215>0,IF(SUM(M215:P215)>0,\"yes\",\"no\"),0)","v":0}]
[null,null,null,"Wed",null,null,null,"00:00:00",null,null,"00:00:00",null,"00:00:00","00:00:00","00:00:00","00:00:00","00:00:00",0]
[null,null,null,"Thu",null,null,null,"00:00:00",null,null,"00:00:00",null,"00:00:00","00:00:00","00:00:00","00:00:00","00:00:00",0]
[null,null,null,"Fri",null,null,null,"00:00:00",null,null,0,null,"00:00:00","00:00:00","00:00:00","00:00:00","00:00:00",0]
[null,null,null,"Sat",null,null,null,"00:00:00",null,null,"00:00:00",{"$f":"H219","v":"00:00:00"},"00:00:00","00:00:00","00:00:00","00:00:00","00:00:00",0]
[null,null,null,"Sun",null,null,null,"00:00:00",null,null,"00:00:00",{"$f":"H220","v":"00:00:00"},"00:00:00","00:00:00","00:00:00","00:00:00","00:00:00",0]
[null,null,"Week32","Mon",null,null,null,"00:00:00",{"$f":"SUM(H221:H227)","v":0},{"$f":"IF(E221=\"\",\"\",AVERAGE(I$4:I221))","v":""},{"$f":"IF(F221<E221,F221+1,F221)","v":"00:00:00"},null,{"$f":"IF(H221>0,IF(M$3-E221>0,M$3-E221,0),0)","v":"00:00:00"},{"$f":"IF(H221>0,IF(F221-N$3>0,F221-N$3,0),0)","v":"00:00:00"},{"$f":"IF(H221>0,IF(O$3-F221<0,0,F221),0)","v":"00:00:00"},{"$f":"IF(H221>0,IF(E221-P$3<0,0,R$3-E221),0)","v":"00:00:00"},{"$f":"SUM(M221:P221)","v":"00:00:00"},{"$f":"IF(H221>0,IF(SUM(M221:P221)>0,\"yes\",\"no\"),0)","v":0}]
[null,null,null,"Tue",null,null,null,"00:00:00",null,null,"00:00:00",null,{"$f":"IF(H222>0,IF(M$3-E222>0,M$3-E222,0),0)","v":"00:00:00"},{"$f":"IF(H222>0,IF(F222-N$3>0,F222-N$3,0),0)","v":"00:00:00"},{"$f":"IF(H222>0,IF(O$3-F222<0,0,F222),0)","v":"00:00:00"},{"$f":"IF(H222>0,IF(E222-P$3<0,0,R$3-E222),0)","v":"00:00:00"},{"$f":"SUM(M222:P222)","v":"00:00:00"},{"$f":"IF(H222>0,IF(SUM(M222:P222)>0,\"yes\",\"no\"),0)","v":0}]
[null,null,null,"Wed",null,null,null,"00:00:00",null,null,"00:00:00",null,"00:00:00","00:00:00","00:00:00","00:00:00","00:00:00",0]
[null,null,null,"Thu",null,null,null,"00:00:00",null,null,"00:00:00",null,"00:00:00","00:00:00","00:00:00","00:00:00","00:00:00",0]
[null,null,null,"Fri",null,null,null,"00:00:00",null,null,0,null,"00:00:00","00:00:00","00:00:00","00:00:00","00:00:00",0]
[null,null,null,"Sat",null,null,null,"00:00:00",null,null,"00:00:00",{"$f":"H226","v":"00:00:00"},"00:00:00","00:00:00","00:00:00","00:00:00","00:00:00",0]
[null,null,null,"Sun",null,null,null,"00:00:00",null,null,"00:00:00",{"$f":"H227","v":"00:00:00"},"00:00:00","00:00:00","00:00:00","00:00:00","00:00:00",0]
[null,null,"Week33","Mon",null,null,null,"00:00:00",{"$f":"SUM(H228:H234)","v":0},{"$f":"IF(E228=\"\",\"\",AVERAGE(I$4:I228))","v":""},{"$f":"IF(F228<E228,F228+1,F228)","v":"00:00:00"},null,{"$f":"IF(H228>0,IF(M$3-E228>0,M$3-E228,0),0)","v":"00:00:00"},{"$f":"IF(H228>0,IF(F228-N$3>0,F228-N$3,0),0)","v":"00:00:00"},{"$f":"IF(H228>0,IF(O$3-F228<0,0,F228),0)","v":"00:00:00"},{"$f":"IF(H228>0,IF(E228-P$3<0,0,R$3-E228),0)","v":"00:00:00"},{"$f":"SUM(M228:P228)","v":"00:00:00"},{"$f":"IF(H228>0,IF(SUM(M228:P228)>0,\"yes\",\"no\"),0)","v":0}]
[null,null,null,"Tue",null,null,null,"00:00:00",null,null,"00:00:00",null,{"$f":"IF(H229>0,IF(M$3-E229>0,M$3-E229,0),0)","v":"00:00:00"},{"$f":"IF(H229>0,IF(F229-N$3>0,F229-N$3,0),0)","v":"00:00:00"},{"$f":"IF(H229>0,IF(O$3-F229<0,0,F229),0)","v":"00:00:00"},{"$f":"IF(H229>0,IF(E229-P$3<0,0,R$3-E229),0)","v":"00:00:00"},{"$f":"SUM(M229:P229)","v":"00:00:00"},{"$f":"IF(H229>0,IF(SUM(M229:P229)>0,\"yes\",\"no\"),0)","v":0}]
[null,null,null,"Wed",null,null,null,"00:00:00",null,null,"00:00:00",null,"00:00:00","00:00:00","00:00:00","00:00:00","00:00:00",0]
[null,null,null,"Thu",null,null,null,"00:00:00",null,null,"00:00:00",null,"00:00:00","00:00:00","00:00:00","00:00:00","00:00:00",0]
[null,null,null,"Fri",null,null,null,"00:00:00",null,null,0,null,"00:00:00","00:00:00","00:00:00","00:00:00","00:00:00",0]
[null,null,null,"Sat",null,null,null,"00:00:00",null,null,"00:00:00",{"$f":"H233","v":"00:00:00"},"00:00:00","00:00:00","00:00:00","00:00:00","00:00:00",0]
[null,null,null,"Sun",null,null,null,"00:00:00",null,null,"00:00:00",{"$f":"H234","v":"00:00:00"},"00:00:00","00:00:00","00:00:00","00:00:00","00:00:00",0]
[null,null,"Week34","Mon",null,null,null,{"$f":"IF(E235=\"R\",0,IF(E235=\"F\",0,IF(F235<E235,F235+1,F235)-E235))","v":"00:00:00"},{"$f":"SUM(H235:H241)","v":0},{"$f":"IF(E235=\"\",\"\",AVERAGE(I$4:I235))","v":""},{"$f":"IF(F235<E235,F235+1,F235)","v":"00:00:00"},null,{"$f":"IF(H235>0,IF(M$3-E235>0,M$3-E235,0),0)","v":"00:00:00"},{"$f":"IF(H235>0,IF(F235-N$3>0,F235-N$3,0),0)","v":"00:00:00"},{"$f":"IF(H235>0,IF(O$3-F235<0,0,F235),0)","v":"00:00:00"},{"$f":"IF(H235>0,IF(E235-P$3<0,0,R$3-E235),0)","v":"00:00:00"},{"$f":"SUM(M235:P235)","v":"00:00:00"},{"$f":"IF(H235>0,IF(SUM(M235:P235)>0,\"yes\",\"no\"),0)","v":0}]
[null,null,null,"Tue",null,null,null,"00:00:00",null,null,"00:00:00",null,{"$f":"IF(H236>0,IF(M$3-E236>0,M$3-E236,0),0)","v":"00:00:00"},{"$f":"IF(H236>0,IF(F236-N$3>0,F236-N$3,0),0)","v":"00:00:00"},{"$f":"IF(H236>0,IF(O$3-F236<0,0,F236),0)","v":"00:00:00"},{"$f":"IF(H236>0,IF(E236-P$3<0,0,R$3-E236),0)","v":"00:00:00"},{"$f":"SUM(M236:P236)","v":"00:00:00"},{"$f":"IF(H236>0,IF(SUM(M236:P236)>0,\"yes\",\"no\"),0)","v":0}]
[null,null,null,"Wed",null,null,null,"00:00:00",null,null,"00:00:00",null,"00:00:00","00:00:00","00:00:00","00:00:00","00:00:00",0]
[null,null,null,"Thu",null,null,null,"00:00:00",null,null,"00:00:00",null,"00:00:00","00:00:00","00:00:00","00:00:00","00:00:00",0]
[null,null,null,"Fri",null,null,null,"00:00:00",null,null,0,null,"00:00:00","00:00:00","00:00:00","00:00:00","00:00:00",0]
[null,null,null,"Sat",null,null,null,"00:00:00",null,null,"00:00:00",{"$f":"H240","v":"00:00:00"},"00:00:00","00:00:00","00:00:00","00:00:00","00:00:00",0]
[null,null,null,"Sun",null,null,null,"00:00:00",null,null,"00:00:00",{"$f":"H241","v":"00:00:00"},"00:00:00","00:00:00","00:00:00","00:00:00","00:00:00",0]
[null,null,"Week35","Mon",null,null,null,"00:00:00",0,{"$f":"IF(E242=\"\",\"\",AVERAGE(I$4:I242))","v":""},{"$f":"IF(F242<E242,F242+1,F242)","v":"00:00:00"},null,{"$f":"IF(H242>0,IF(M$3-E242>0,M$3-E242,0),0)","v":"00:00:00"},{"$f":"IF(H242>0,IF(F242-N$3>0,F242-N$3,0),0)","v":"00:00:00"},{"$f":"IF(H242>0,IF(O$3-F242<0,0,F242),0)","v":"00:00:00"},{"$f":"IF(H242>0,IF(E242-P$3<0,0,R$3-E242),0)","v":"00:00:00"},{"$f":"SUM(M242:P242)","v":"00:00:00"},{"$f":"IF(H242>0,IF(SUM(M242:P242)>0,\"yes\",\"no\"),0)","v":0}]
[null,null,null,"Tue",null,null,null,"00:00:00",null,null,"00:00:00",null,{"$f":"IF(H243>0,IF(M$3-E243>0,M$3-E243,0),0)","v":"00:00:00"},{"$f":"IF(H243>0,IF(F243-N$3>0,F243-N$3,0),0)","v":"00:00:00"},{"$f":"IF(H243>0,IF(O$3-F243<0,0,F243),0)","v":"00:00:00"},{"$f":"IF(H243>0,IF(E243-P$3<0,0,R$3-E243),0)","v":"00:00:00"},{"$f":"SUM(M243:P243)","v":"00:00:00"},{"$f":"IF(H243>0,IF(SUM(M243:P243)>0,\"yes\",\"no\"),0)","v":0}]
[null,null,null,"Wed",null,null,null,"00:00:00",null,null,"00:00:00",null,"00:00:00","00:00:00","00:00:00","00:00:00","00:00:00",0]
[null,null,null,"Thu",null,null,null,"00:00:00",null,null,"00:00:00",null,"00:00:00","00:00:00","00:00:00","00:00:00","00:00:00",0]
[null,null,null,"Fri",null,null,null,"00:00:00",null,null,0,null,"00:00:00","00:00:00","00:00:00","00:00:00","00:00:00",0]
[null,null,null,"Sat",null,null,null,"00:00:00",null,null,"00:00:00",{"$f":"H247","v":"00:00:00"},"00:00:00","00:00:00","00:00:00","00:00:00","00:00:00",0]
[null,null,null,"Sun",null,null,null,"00:00:00",null,null,"00:00:00",{"$f":"H248","v":"00:00:00"},"00:00:00","00:00:00","00:00:00","00:00:00","00:00:00",0]
[null,null,"Week36","Mon",null,null,null,"00:00:00",0,{"$f":"IF(E249=\"\",\"\",AVERAGE(I$4:I249))","v":""},{"$f":"IF(F249<E249,F249+1,F249)","v":"00:00:00"},null,{"$f":"IF(H249>0,IF(M$3-E249>0,M$3-E249,0),0)","v":"00:00:00"},{"$f":"IF(H249>0,IF(F249-N$3>0,F249-N$3,0),0)","v":"00:00:00"},{"$f":"IF(H249>0,IF(O$3-F249<0,0,F249),0)","v":"00:00:00"},{"$f":"IF(H249>0,IF(E249-P$3<0,0,R$3-E249),0)","v":"00:00:00"},{"$f":"SUM(M249:P249)","v":"00:00:00"},{"$f":"IF(H249>0,IF(SUM(M249:P249)>0,\"yes\",\"no\"),0)","v":0}]
[null,null,null,"Tue",null,null,null,"00:00:00",null,null,"00:00:00",null,{"$f":"IF(H250>0,IF(M$3-E250>0,M$3-E250,0),0)","v":"00:00:00"},{"$f":"IF(H250>0,IF(F250-N$3>0,F250-N$3,0),0)","v":"00:00:00"},{"$f":"IF(H250>0,IF(O$3-F250<0,0,F250),0)","v":"00:00:00"},{"$f":"IF(H250>0,IF(E250-P$3<0,0,R$3-E250),0)","v":"00:00:00"},{"$f":"SUM(M250:P250)","v":"00:00:00"},{"$f":"IF(H250>0,IF(SUM(M250:P250)>0,\"yes\",\"no\"),0)","v":0}]
[null,null,null,"Wed",null,null,null,"00:00:00",null,null,"00:00:00",null,"00:00:00","00:00:00","00:00:00","00:00:00","00:00:00",0]
[null,null,null,"Thu",null,null,null,"00:00:00",null,null,"00:00:00",null,"00:00:00","00:00:00","00:00:00","00:00:00","00:00:00",0]
[null,null,null,"Fri",null,null,null,"00:00:00",null,null,0,null,"00:00:00","00:00:00","00:00:00","00:00:00","00:00:00",0]
[null,null,null,"Sat",null,null,null,"00:00:00",null,null,"00:00:00",{"$f":"H254","v":"00:00:00"},"00:00:00","00:00:00","00:00:00","00:00:00","00:00:00",0]
[null,null,null,"Sun",null,null,null,"00:00:00",null,null,"00:00:00",{"$f":"H255","v":"00:00:00"},"00:00:00","00:00:00","00:00:00","00:00:00","00:00:00",0]
[null,null,"Week37","Mon",null,null,null,"00:00:00",0,{"$f":"IF(E256=\"\",\"\",AVERAGE(I$4:I256))","v":""},{"$f":"IF(F256<E256,F256+1,F256)","v":"00:00:00"},null,{"$f":"IF(H256>0,IF(M$3-E256>0,M$3-E256,0),0)","v":"00:00:00"},{"$f":"IF(H256>0,IF(F256-N$3>0,F256-N$3,0),0)","v":"00:00:00"},{"$f":"IF(H256>0,IF(O$3-F256<0,0,F256),0)","v":"00:00:00"},{"$f":"IF(H256>0,IF(E256-P$3<0,0,R$3-E256),0)","v":"00:00:00"},{"$f":"SUM(M256:P256)","v":"00:00:00"},{"$f":"IF(H256>0,IF(SUM(M256:P256)>0,\"yes\",\"no\"),0)","v":0}]
[null,null,null,"Tue",null,null,null,"00:00:00",null,null,"00:00:00",null,{"$f":"IF(H257>0,IF(M$3-E257>0,M$3-E257,0),0)","v":"00:00:00"},{"$f":"IF(H257>0,IF(F257-N$3>0,F257-N$3,0),0)","v":"00:00:00"},{"$f":"IF(H257>0,IF(O$3-F257<0,0,F257),0)","v":"00:00:00"},{"$f":"IF(H257>0,IF(E257-P$3<0,0,R$3-E257),0)","v":"00:00:00"},{"$f":"SUM(M257:P257)","v":"00:00:00"},{"$f":"IF(H257>0,IF(SUM(M257:P257)>0,\"yes\",\"no\"),0)","v":0}]
[null,null,null,"Wed",null,null,null,"00:00:00",null,null,"00:00:00",null,"00:00:00","00:00:00","00:00:00","00:00:00","00:00:00",0]
[null,null,null,"Thu",null,null,null,"00:00:00",null,null,"00:00:00",null,"00:00:00","00:00:00","00:00:00","00:00:00","00:00:00",0]
[null,null,null,"Fri",null,null,null,"00:00:00",null,null,0,null,"00:00:00","00:00:00","00:00:00","00:00:00","00:00:00",0]
[null,null,null,"Sat",null,null,null,"00:00:00",null,null,"00:00:00",{"$f":"H261","v":"00:00:00"},"00:00:00","00:00:00","00:00:00","00:00:00","00:00:00",0]
[null,null,null,"Sun",null,null,null,"00:00:00",null,null,"00:00:00",{"$f":"H262","v":"00:00:00"},"00:00:00","00:00:00","00:00:00","00:00:00","00:00:00",0]
[null,null,"Week38","Mon",null,null,null,"00:00:00",0,{"$f":"IF(E263=\"\",\"\",AVERAGE(I$4:I263))","v":""},{"$f":"IF(F263<E263,F263+1,F263)","v":"00:00:00"},null,{"$f":"IF(H263>0,IF(M$3-E263>0,M$3-E263,0),0)","v":"00:00:00"},{"$f":"IF(H263>0,IF(F263-N$3>0,F263-N$3,0),0)","v":"00:00:00"},{"$f":"IF(H263>0,IF(O$3-F263<0,0,F263),0)","v":"00:00:00"},{"$f":"IF(H263>0,IF(E263-P$3<0,0,R$3-E263),0)","v":"00:00:00"},{"$f":"SUM(M263:P263)","v":"00:00:00"},{"$f":"IF(H263>0,IF(SUM(M263:P263)>0,\"yes\",\"no\"),0)","v":0}]
[null,null,null,"Tue",null,null,null,"00:00:00",null,null,"00:00:00",null,{"$f":"IF(H264>0,IF(M$3-E264>0,M$3-E264,0),0)","v":"00:00:00"},{"$f":"IF(H264>0,IF(F264-N$3>0,F264-N$3,0),0)","v":"00:00:00"},{"$f":"IF(H264>0,IF(O$3-F264<0,0,F264),0)","v":"00:00:00"},{"$f":"IF(H264>0,IF(E264-P$3<0,0,R$3-E264),0)","v":"00:00:00"},{"$f":"SUM(M264:P264)","v":"00:00:00"},{"$f":"IF(H264>0,IF(SUM(M264:P264)>0,\"yes\",\"no\"),0)","v":0}]
[null,null,null,"Wed",null,null,null,"00:00:00",null,null,"00:00:00",null,"00:00:00","00:00:00","00:00:00","00:00:00","00:00:00",0]
[null,null,null,"Thu",null,null,null,"00:00:00",null,null,"00:00:00",null,"00:00:00","00:00:00","00:00:00","00:00:00","00:00:00",0]
[null,null,null,"Fri",null,null,null,"00:00:00",null,null,0,null,"00:00:00","00:00:00","00:00:00","00:00:00","00:00:00",0]
[null,null,null,"Sat",null,null,null,"00:00:00",null,null,"00:00:00",{"$f":"H268","v":"00:00:00"},"00:00:00","00:00:00","00:00:00","00:00:00","00:00:00",0]
[null,null,null,"Sun",null,null,null,"00:00:00",null,null,"00:00:00",{"$f":"H269","v":"00:00:00"},"00:00:00","00:00:00","00:00:00","00:00:00","00:00:00",0]
[null,null,"Week39","Mon",null,null,null,"00:00:00",0,{"$f":"IF(E270=\"\",\"\",AVERAGE(I$4:I270))","v":""},{"$f":"IF(F270<E270,F270+1,F270)","v":"00:00:00"},null,{"$f":"IF(H270>0,IF(M$3-E270>0,M$3-E270,0),0)","v":"00:00:00"},{"$f":"IF(H270>0,IF(F270-N$3>0,F270-N$3,0),0)","v":"00:00:00"},{"$f":"IF(H270>0,IF(O$3-F270<0,0,F270),0)","v":"00:00:00"},{"$f":"IF(H270>0,IF(E270-P$3<0,0,R$3-E270),0)","v":"00:00:00"},{"$f":"SUM(M270:P270)","v":"00:00:00"},{"$f":"IF(H270>0,IF(SUM(M270:P270)>0,\"yes\",\"no\"),0)","v":0}]
[null,null,null,"Tue",null,null,null,"00:00:00",null,null,"00:00:00",null,{"$f":"IF(H271>0,IF(M$3-E271>0,M$3-E271,0),0)","v":"00:00:00"},{"$f":"IF(H271>0,IF(F271-N$3>0,F271-N$3,0),0)","v":"00:00:00"},{"$f":"IF(H271>0,IF(O$3-F271<0,0,F271),0)","v":"00:00:00"},{"$f":"IF(H271>0,IF(E271-P$3<0,0,R$3-E271),0)","v":"00:00:00"},{"$f":"SUM(M271:P271)","v":"00:00:00"},{"$f":"IF(H271>0,IF(SUM(M271:P271)>0,\"yes\",\"no\"),0)","v":0}]
[null,null,null,"Wed",null,null,null,"00:00:00",null,null,"00:00:00",null,"00:00:00","00:00:00","00:00:00","00:00:00","00:00:00",0]
[null,null,null,"Thu",null,null,null,"00:00:00",null,null,"00:00:00",null,"00:00:00","00:00:00","00:00:00","00:00:00","00:00:00",0]
[null,null,null,"Fri",null,null,null,"00:00:00",null,null,0,null,"00:00:00","00:00:00","00:00:00","00:00:00","00:00:00",0]
[null,null,null,"Sat",null,null,null,"00:00:00",null,null,"00:00:00",{"$f":"H275","v":"00:00:00"},"00:00:00","00:00:00","00:00:00","00:00:00","00:00:00",0]
[null,null,null,"Sun",null,null,null,"00:00:00",null,null,"00:00:00",{"$f":"H276","v":"00:00:00"},"00:00:00","00:00:00","00:00:00","00:00:00","00:00:00",0]
[null,null,"Week40","Mon",null,null,null,"00:00:00",0,{"$f":"IF(E277=\"\",\"\",AVERAGE(I$4:I277))","v":""},{"$f":"IF(F277<E277,F277+1,F277)","v":"00:00:00"},null,{"$f":"IF(H277>0,IF(M$3-E277>0,M$3-E277,0),0)","v":"00:00:00"},{"$f":"IF(H277>0,IF(F277-N$3>0,F277-N$3,0),0)","v":"00:00:00"},{"$f":"IF(H277>0,IF(O$3-F277<0,0,F277),0)","v":"00:00:00"},{"$f":"IF(H277>0,IF(E277-P$3<0,0,R$3-E277),0)","v":"00:00:00"},{"$f":"SUM(M277:P277)","v":"00:00:00"},{"$f":"IF(H277>0,IF(SUM(M277:P277)>0,\"yes\",\"no\"),0)","v":0}]
[null,null,null,"Tue",null,null,null,"00:00:00",null,null,"00:00:00",null,{"$f":"IF(H278>0,IF(M$3-E278>0,M$3-E278,0),0)","v":"00:00:00"},{"$f":"IF(H278>0,IF(F278-N$3>0,F278-N$3,0),0)","v":"00:00:00"},{"$f":"IF(H278>0,IF(O$3-F278<0,0,F278),0)","v":"00:00:00"},{"$f":"IF(H278>0,IF(E278-P$3<0,0,R$3-E278),0)","v":"00:00:00"},{"$f":"SUM(M278:P278)","v":"00:00:00"},{"$f":"IF(H278>0,IF(SUM(M278:P278)>0,\"yes\",\"no\"),0)","v":0}]
[null,null,null,"Wed",null,null,null,"00:00:00",null,null,"00:00:00",null,"00:00:00","00:00:00","00:00:00","00:00:00","00:00:00",0]
[null,null,null,"Thu",null,null,null,"00:00:00",null,null,"00:00:00",null,"00:00:00","00:00:00","00:00:00","00:00:00","00:00:00",0]
[null,null,null,"Fri",null,null,null,"00:00:00",null,null,0,null,"00:00:00","00:00:00","00:00:00","00:00:00","00:00:00",0]
[null,null,null,"Sat",null,null,null,"00:00:00",null,null,"00:00:00",{"$f":"H282","v":"00:00:00"},"00:00:00","00:00:00","00:00:00","00:00:00","00:00:00",0]
[null,null,null,"Sun",null,null,null,"00:00:00",null,null,"00:00:00",{"$f":"H283","v":"00:00:00"},"00:00:00","00:00:00","00:00:00","00:00:00","00:00:00",0]
[null,null,"Week41","Mon",null,null,null,"00:00:00",0,{"$f":"IF(E284=\"\",\"\",AVERAGE(I$4:I284))","v":""},{"$f":"IF(F284<E284,F284+1,F284)","v":"00:00:00"},null,{"$f":"IF(H284>0,IF(M$3-E284>0,M$3-E284,0),0)","v":"00:00:00"},{"$f":"IF(H284>0,IF(F284-N$3>0,F284-N$3,0),0)","v":"00:00:00"},{"$f":"IF(H284>0,IF(O$3-F284<0,0,F284),0)","v":"00:00:00"},{"$f":"IF(H284>0,IF(E284-P$3<0,0,R$3-E284),0)","v":"00:00:00"},{"$f":"SUM(M284:P284)","v":"00:00:00"},{"$f":"IF(H284>0,IF(SUM(M284:P284)>0,\"yes\",\"no\"),0)","v":0}]
[null,null,null,"Tue",null,null,null,"00:00:00",null,null,"00:00:00",null,{"$f":"IF(H285>0,IF(M$3-E285>0,M$3-E285,0),0)","v":"00:00:00"},{"$f":"IF(H285>0,IF(F285-N$3>0,F285-N$3,0),0)","v":"00:00:00"},{"$f":"IF(H285>0,IF(O$3-F285<0,0,F285),0)","v":"00:00:00"},{"$f":"IF(H285>0,IF(E285-P$3<0,0,R$3-E285),0)","v":"00:00:00"},{"$f":"SUM(M285:P285)","v":"00:00:00"},{"$f":"IF(H285>0,IF(SUM(M285:P285)>0,\"yes\",\"no\"),0)","v":0}]
[null,null,null,"Wed",null,null,null,"00:00:00",null,null,"00:00:00",null,"00:00:00","00:00:00","00:00:00","00:00:00","00:00:00",0]
[null,null,null,"Thu",null,null,null,"00:00:00",null,null,"00:00:00",null,"00:00:00","00:00:00","00:00:00","00:00:00","00:00:00",0]
[null,null,null,"Fri",null,null,null,"00:00:00",null,null,0,null,"00:00:00","00:00:00","00:00:00","00:00:00","00:00:00",0]
[null,null,null,"Sat",null,null,null,"00:00:00",null,null,"00:00:00",{"$f":"H289","v":"00:00:00"},"00:00:00","00:00:00","00:00:00","00:00:00","00:00:00",0]
[null,null,null,"Sun",null,null,null,"00:00:00",null,null,"00:00:00",{"$f":"H290","v":"00:00:00"},"00:00:00","00:00:00","00:00:00","00:00:00","00:00:00",0]
[null,null,"Week42","Mon",null,null,null,{"$f":"IF(E291=\"R\",0,IF(E291=\"F\",0,IF(F291<E291,F291+1,F291)-E291))","v":"00:00:00"},{"$f":"SUM(H291:H297)","v":0},{"$f":"IF(E291=\"\",\"\",AVERAGE(I$4:I291))","v":""},{"$f":"IF(F291<E291,F291+1,F291)","v":"00:00:00"},null,{"$f":"IF(H291>0,IF(M$3-E291>0,M$3-E291,0),0)","v":"00:00:00"},{"$f":"IF(H291>0,IF(F291-N$3>0,F291-N$3,0),0)","v":"00:00:00"},{"$f":"IF(H291>0,IF(O$3-F291<0,0,F291),0)","v":"00:00:00"},{"$f":"IF(H291>0,IF(E291-P$3<0,0,R$3-E291),0)","v":"00:00:00"},{"$f":"SUM(M291:P291)","v":"00:00:00"},{"$f":"IF(H291>0,IF(SUM(M291:P291)>0,\"yes\",\"no\"),0)","v":0}]
[null,null,null,"Tue",null,null,null,"00:00:00",null,null,"00:00:00",null,{"$f":"IF(H292>0,IF(M$3-E292>0,M$3-E292,0),0)","v":"00:00:00"},{"$f":"IF(H292>0,IF(F292-N$3>0,F292-N$3,0),0)","v":"00:00:00"},{"$f":"IF(H292>0,IF(O$3-F292<0,0,F292),0)","v":"00:00:00"},{"$f":"IF(H292>0,IF(E292-P$3<0,0,R$3-E292),0)","v":"00:00:00"},{"$f":"SUM(M292:P292)","v":"00:00:00"},{"$f":"IF(H292>0,IF(SUM(M292:P292)>0,\"yes\",\"no\"),0)","v":0}]
[null,null,null,"Wed",null,null,null,"00:00:00",null,null,"00:00:00",null,"00:00:00","00:00:00","00:00:00","00:00:00","00:00:00",0]
[null,null,null,"Thu",null,null,null,"00:00:00",null,null,"00:00:00",null,"00:00:00","00:00:00","00:00:00","00:00:00","00:00:00",0]
[null,null,null,"Fri",null,null,null,"00:00:00",null,null,0,null,"00:00:00","00:00:00","00:00:00","00:00:00","00:00:00",0]
[null,null,null,"Sat",null,null,null,"00:00:00",null,null,"00:00:00",{"$f":"H296","v":"00:00:00"},"00:00:00","00:00:00","00:00:00","00:00:00","00:00:00",0]
[null,null,null,"Sun",null,null,null,"00:00:00",null,null,"00:00:00",{"$f":"H297","v":"00:00:00"},"00:00:00","00:00:00","00:00:00","00:00:00","00:00:00",0]
[null,null,"Week43","Mon",null,null,null,"00:00:00",0,{"$f":"IF(E298=\"\",\"\",AVERAGE(I$4:I298))","v":""},{"$f":"IF(F298<E298,F298+1,F298)","v":"00:00:00"},null,{"$f":"IF(H298>0,IF(M$3-E298>0,M$3-E298,0),0)","v":"00:00:00"},{"$f":"IF(H298>0,IF(F298-N$3>0,F298-N$3,0),0)","v":"00:00:00"},{"$f":"IF(H298>0,IF(O$3-F298<0,0,F298),0)","v":"00:00:00"},{"$f":"IF(H298>0,IF(E298-P$3<0,0,R$3-E298),0)","v":"00:00:00"},{"$f":"SUM(M298:P298)","v":"00:00:00"},{"$f":"IF(H298>0,IF(SUM(M298:P298)>0,\"yes\",\"no\"),0)","v":0}]
[null,null,null,"Tue",null,null,null,"00:00:00",null,null,"00:00:00",null,{"$f":"IF(H299>0,IF(M$3-E299>0,M$3-E299,0),0)","v":"00:00:00"},{"$f":"IF(H299>0,IF(F299-N$3>0,F299-N$3,0),0)","v":"00:00:00"},{"$f":"IF(H299>0,IF(O$3-F299<0,0,F299),0)","v":"00:00:00"},{"$f":"IF(H299>0,IF(E299-P$3<0,0,R$3-E299),0)","v":"00:00:00"},{"$f":"SUM(M299:P299)","v":"00:00:00"},{"$f":"IF(H299>0,IF(SUM(M299:P299)>0,\"yes\",\"no\"),0)","v":0}]
[null,null,null,"Wed",null,null,null,"00:00:00",null,null,"00:00:00",null,"00:00:00","00:00:00","00:00:00","00:00:00","00:00:00",0]
[null,null,null,"Thu",null,null,null,"00:00:00",null,null,"00:00:00",null,"00:00:00","00:00:00","00:00:00","00:00:00","00:00:00",0]
[null,null,null,"Fri",null,null,null,"00:00:00",null,null,0,null,"00:00:00","00:00:00","00:00:00","00:00:00","00:00:00",0]
[null,null,null,"Sat",null,null,null,"00:00:00",null,null,"00:00:00",{"$f":"H303","v":"00:00:00"},"00:00:00","00:00:00","00:00:00","00:00:00","00:00:00",0]
[null,null,null,"Sun",null,null,null,"00:00:00",null,null,"00:00:00",{"$f":"H304","v":"00:00:00"},"00:00:00","00:00:00","00:00:00","00:00:00","00:00:00",0]
[null,null,"Week44","Mon",null,null,null,"00:00:00",0,{"$f":"IF(E305=\"\",\"\",AVERAGE(I$4:I305))","v":""},{"$f":"IF(F305<E305,F305+1,F305)","v":"00:00:00"},null,{"$f":"IF(H305>0,IF(M$3-E305>0,M$3-E305,0),0)","v":"00:00:00"},{"$f":"IF(H305>0,IF(F305-N$3>0,F305-N$3,0),0)","v":"00:00:00"},{"$f":"IF(H305>0,IF(O$3-F305<0,0,F305),0)","v":"00:00:00"},{"$f":"IF(H305>0,IF(E305-P$3<0,0,R$3-E305),0)","v":"00:00:00"},{"$f":"SUM(M305:P305)","v":"00:00:00"},{"$f":"IF(H305>0,IF(SUM(M305:P305)>0,\"yes\",\"no\"),0)","v":0}]
[null,null,null,"Tue",null,null,null,"00:00:00",null,null,"00:00:00",null,{"$f":"IF(H306>0,IF(M$3-E306>0,M$3-E306,0),0)","v":"00:00:00"},{"$f":"IF(H306>0,IF(F306-N$3>0,F306-N$3,0),0)","v":"00:00:00"},{"$f":"IF(H306>0,IF(O$3-F306<0,0,F306),0)","v":"00:00:00"},{"$f":"IF(H306>0,IF(E306-P$3<0,0,R$3-E306),0)","v":"00:00:00"},{"$f":"SUM(M306:P306)","v":"00:00:00"},{"$f":"IF(H306>0,IF(SUM(M306:P306)>0,\"yes\",\"no\"),0)","v":0}]
[null,null,null,"Wed",null,null,null,"00:00:00",null,null,"00:00:00",null,"00:00:00","00:00:00","00:00:00","00:00:00","00:00:00",0]
[null,null,null,"Thu",null,null,null,"00:00:00",null,null,"00:00:00",null,"00:00:00","00:00:00","00:00:00","00:00:00","00:00:00",0]
[null,null,null,"Fri",null,null,null,"00:00:00",null,null,0,null,"00:00:00","00:00:00","00:00:00","00:00:00","00:00:00",0]
[null,null,null,"Sat",null,null,null,"00:00:00",null,null,"00:00:00",{"$f":"H310","v":"00:00:00"},"00:00:00","00:00:00","00:00:00","00:00:00","00:00:00",0]
[null,null,null,"Sun",null,null,null,"00:00:00",null,null,"00:00:00",{"$f":"H311","v":"00:00:00"},"00:00:00","00:00:00","00:00:00","00:00:00","00:00:00",0]
[null,null,"Week45","Mon",null,null,null,"00:00:00",0,{"$f":"IF(E312=\"\",\"\",AVERAGE(I$4:I312))","v":""},{"$f":"IF(F312<E312,F312+1,F312)","v":"00:00:00"},null,{"$f":"IF(H312>0,IF(M$3-E312>0,M$3-E312,0),0)","v":"00:00:00"},{"$f":"IF(H312>0,IF(F312-N$3>0,F312-N$3,0),0)","v":"00:00:00"},{"$f":"IF(H312>0,IF(O$3-F312<0,0,F312),0)","v":"00:00:00"},{"$f":"IF(H312>0,IF(E312-P$3<0,0,R$3-E312),0)","v":"00:00:00"},{"$f":"SUM(M312:P312)","v":"00:00:00"},{"$f":"IF(H312>0,IF(SUM(M312:P312)>0,\"yes\",\"no\"),0)","v":0}]
[null,null,null,"Tue",null,null,null,"00:00:00",null,null,"00:00:00",null,{"$f":"IF(H313>0,IF(M$3-E313>0,M$3-E313,0),0)","v":"00:00:00"},{"$f":"IF(H313>0,IF(F313-N$3>0,F313-N$3,0),0)","v":"00:00:00"},{"$f":"IF(H313>0,IF(O$3-F313<0,0,F313),0)","v":"00:00:00"},{"$f":"IF(H313>0,IF(E313-P$3<0,0,R$3-E313),0)","v":"00:00:00"},{"$f":"SUM(M313:P313)","v":"00:00:00"},{"$f":"IF(H313>0,IF(SUM(M313:P313)>0,\"yes\",\"no\"),0)","v":0}]
[null,null,null,"Wed",null,null,null,"00:00:00",null,null,"00:00:00",null,"00:00:00","00:00:00","00:00:00","00:00:00","00:00:00",0]
[null,null,null,"Thu",null,null,null,"00:00:00",null,null,"00:00:00",null,"00:00:00","00:00:00","00:00:00","00:00:00","00:00:00",0]
[null,null,null,"Fri",null,null,null,"00:00:00",null,null,0,null,"00:00:00","00:00:00","00:00:00","00:00:00","00:00:00",0]
[null,null,null,"Sat",null,null,null,"00:00:00",null,null,"00:00:00",{"$f":"H317","v":"00:00:00"},"00:00:00","00:00:00","00:00:00","00:00:00","00:00:00",0]
[null,null,null,"Sun",null,null,null,"00:00:00",null,null,"00:00:00",{"$f":"H318","v":"00:00:00"},"00:00:00","00:00:00","00:00:00","00:00:00","00:00:00",0]
[null,null,"Week46","Mon",null,null,null,"00:00:00",0,{"$f":"IF(E319=\"\",\"\",AVERAGE(I$4:I319))","v":""},{"$f":"IF(F319<E319,F319+1,F319)","v":"00:00:00"},null,{"$f":"IF(H319>0,IF(M$3-E319>0,M$3-E319,0),0)","v":"00:00:00"},{"$f":"IF(H319>0,IF(F319-N$3>0,F319-N$3,0),0)","v":"00:00:00"},{"$f":"IF(H319>0,IF(O$3-F319<0,0,F319),0)","v":"00:00:00"},{"$f":"IF(H319>0,IF(E319-P$3<0,0,R$3-E319),0)","v":"00:00:00"},{"$f":"SUM(M319:P319)","v":"00:00:00"},{"$f":"IF(H319>0,IF(SUM(M319:P319)>0,\"yes\",\"no\"),0)","v":0}]
[null,null,null,"Tue",null,null,null,"00:00:00",null,null,"00:00:00",null,{"$f":"IF(H320>0,IF(M$3-E320>0,M$3-E320,0),0)","v":"00:00:00"},{"$f":"IF(H320>0,IF(F320-N$3>0,F320-N$3,0),0)","v":"00:00:00"},{"$f":"IF(H320>0,IF(O$3-F320<0,0,F320),0)","v":"00:00:00"},{"$f":"IF(H320>0,IF(E320-P$3<0,0,R$3-E320),0)","v":"00:00:00"},{"$f":"SUM(M320:P320)","v":"00:00:00"},{"$f":"IF(H320>0,IF(SUM(M320:P320)>0,\"yes\",\"no\"),0)","v":0}]
[null,null,null,"Wed",null,null,null,"00:00:00",null,null,"00:00:00",null,"00:00:00","00:00:00","00:00:00","00:00:00","00:00:00",0]
[null,null,null,"Thu",null,null,null,"00:00:00",null,null,"00:00:00",null,"00:00:00","00:00:00","00:00:00","00:00:00","00:00:00",0]
[null,null,null,"Fri",null,null,null,"00:00:00",null,null,0,null,"00:00:00","00:00:00","00:00:00","00:00:00","00:00:00",0]
[null,null,null,"Sat",null,null,null,"00:00:00",null,null,"00:00:00",{"$f":"H324","v":"00:00:00"},"00:00:00","00:00:00","00:00:00","00:00:00","00:00:00",0]
[null,null,null,"Sun",null,null,null,"00:00:00",null,null,"00:00:00",{"$f":"H325","v":"00:00:00"},"00:00:00","00:00:00","00:00:00","00:00:00","00:00:00",0]
[null,null,"Week47","Mon",null,null,null,"00:00:00",0,{"$f":"IF(E326=\"\",\"\",AVERAGE(I$4:I326))","v":""},{"$f":"IF(F326<E326,F326+1,F326)","v":"00:00:00"},null,{"$f":"IF(H326>0,IF(M$3-E326>0,M$3-E326,0),0)","v":"00:00:00"},{"$f":"IF(H326>0,IF(F326-N$3>0,F326-N$3,0),0)","v":"00:00:00"},{"$f":"IF(H326>0,IF(O$3-F326<0,0,F326),0)","v":"00:00:00"},{"$f":"IF(H326>0,IF(E326-P$3<0,0,R$3-E326),0)","v":"00:00:00"},{"$f":"SUM(M326:P326)","v":"00:00:00"},{"$f":"IF(H326>0,IF(SUM(M326:P326)>0,\"yes\",\"no\"),0)","v":0}]
[null,null,null,"Tue",null,null,null,"00:00:00",null,null,"00:00:00",null,{"$f":"IF(H327>0,IF(M$3-E327>0,M$3-E327,0),0)","v":"00:00:00"},{"$f":"IF(H327>0,IF(F327-N$3>0,F327-N$3,0),0)","v":"00:00:00"},{"$f":"IF(H327>0,IF(O$3-F327<0,0,F327),0)","v":"00:00:00"},{"$f":"IF(H327>0,IF(E327-P$3<0,0,R$3-E327),0)","v":"00:00:00"},{"$f":"SUM(M327:P327)","v":"00:00:00"},{"$f":"IF(H327>0,IF(SUM(M327:P327)>0,\"yes\",\"no\"),0)","v":0}]
[null,null,null,"Wed",null,null,null,"00:00:00",null,null,"00:00:00",null,"00:00:00","00:00:00","00:00:00","00:00:00","00:00:00",0]
[null,null,null,"Thu",null,null,null,"00:00:00",null,null,"00:00:00",null,"00:00:00","00:00:00","00:00:00","00:00:00","00:00:00",0]
[null,null,null,"Fri",null,null,null,"00:00:00",null,null,0,null,"00:00:00","00:00:00","00:00:00","00:00:00","00:00:00",0]
[null,null,null,"Sat",null,null,null,"00:00:00",null,null,"00:00:00",{"$f":"H331","v":"00:00:00"},"00:00:00","00:00:00","00:00:00","00:00:00","00:00:00",0]
[null,null,null,"Sun",null,null,null,"00:00:00",null,null,"00:00:00",{"$f":"H332","v":"00:00:00"},"00:00:00","00:00:00","00:00:00","00:00:00","00:00:00",0]
[null,null,"Week48","Mon",null,null,null,"00:00:00",0,{"$f":"IF(E333=\"\",\"\",AVERAGE(I$4:I333))","v":""},{"$f":"IF(F333<E333,F333+1,F333)","v":"00:00:00"},null,{"$f":"IF(H333>0,IF(M$3-E333>0,M$3-E333,0),0)","v":"00:00:00"},{"$f":"IF(H333>0,IF(F333-N$3>0,F333-N$3,0),0)","v":"00:00:00"},{"$f":"IF(H333>0,IF(O$3-F333<0,0,F333),0)","v":"00:00:00"},{"$f":"IF(H333>0,IF(E333-P$3<0,0,R$3-E333),0)","v":"00:00:00"},{"$f":"SUM(M333:P333)","v":"00:00:00"},{"$f":"IF(H333>0,IF(SUM(M333:P333)>0,\"yes\",\"no\"),0)","v":0}]
[null,null,null,"Tue",null,null,null,"00:00:00",null,null,"00:00:00",null,{"$f":"IF(H334>0,IF(M$3-E334>0,M$3-E334,0),0)","v":"00:00:00"},{"$f":"IF(H334>0,IF(F334-N$3>0,F334-N$3,0),0)","v":"00:00:00"},{"$f":"IF(H334>0,IF(O$3-F334<0,0,F334),0)","v":"00:00:00"},{"$f":"IF(H334>0,IF(E334-P$3<0,0,R$3-E334),0)","v":"00:00:00"},{"$f":"SUM(M334:P334)","v":"00:00:00"},{"$f":"IF(H334>0,IF(SUM(M334:P334)>0,\"yes\",\"no\"),0)","v":0}]
[null,null,null,"Wed",null,null,null,"00:00:00",null,null,"00:00:00",null,"00:00:00","00:00:00","00:00:00","00:00:00","00:00:00",0]
[null,null,null,"Thu",null,null,null,"00:00:00",null,null,"00:00:00",null,"00:00:00","00:00:00","00:00:00","00:00:00","00:00:00",0]
[null,null,null,"Fri",null,null,null,"00:00:00",null,null,0,null,"00:00:00","00:00:00","00:00:00","00:00:00","00:00:00",0]
[null,null,null,"Sat",null,null,null,"00:00:00",null,null,"00:00:00",{"$f":"H338","v":"00:00:00"},"00:00:00","00:00:00","00:00:00","00:00:00","00:00:00",0]
[null,null,null,"Sun",null,null,null,"00:00:00",null,null,"00:00:00",{"$f":"H339","v":"00:00:00"},"00:00:00","00:00:00","00:00:00","00:00:00","00:00:00",0]
[null,null,"Week49","Mon",null,null,null,"00:00:00",0,{"$f":"IF(E340=\"\",\"\",AVERAGE(I$4:I340))","v":""},{"$f":"IF(F340<E340,F340+1,F340)","v":"00:00:00"},null,{"$f":"IF(H340>0,IF(M$3-E340>0,M$3-E340,0),0)","v":"00:00:00"},{"$f":"IF(H340>0,IF(F340-N$3>0,F340-N$3,0),0)","v":"00:00:00"},{"$f":"IF(H340>0,IF(O$3-F340<0,0,F340),0)","v":"00:00:00"},{"$f":"IF(H340>0,IF(E340-P$3<0,0,R$3-E340),0)","v":"00:00:00"},{"$f":"SUM(M340:P340)","v":"00:00:00"},{"$f":"IF(H340>0,IF(SUM(M340:P340)>0,\"yes\",\"no\"),0)","v":0}]
[null,null,null,"Tue",null,null,null,"00:00:00",null,null,"00:00:00",null,{"$f":"IF(H341>0,IF(M$3-E341>0,M$3-E341,0),0)","v":"00:00:00"},{"$f":"IF(H341>0,IF(F341-N$3>0,F341-N$3,0),0)","v":"00:00:00"},{"$f":"IF(H341>0,IF(O$3-F341<0,0,F341),0)","v":"00:00:00"},{"$f":"IF(H341>0,IF(E341-P$3<0,0,R$3-E341),0)","v":"00:00:00"},{"$f":"SUM(M341:P341)","v":"00:00:00"},{"$f":"IF(H341>0,IF(SUM(M341:P341)>0,\"yes\",\"no\"),0)","v":0}]
[null,null,null,"Wed",null,null,null,"00:00:00",null,null,"00:00:00",null,"00:00:00","00:00:00","00:00:00","00:00:00","00:00:00",0]
[null,null,null,"Thu",null,null,null,"00:00:00",null,null,"00:00:00",null,"00:00:00","00:00:00","00:00:00","00:00:00","00:00:00",0]
[null,null,null,"Fri",null,null,null,"00:00:00",null,null,0,null,"00:00:00","00:00:00","00:00:00","00:00:00","00:00:00",0]
[null,null,null,"Sat",null,null,null,"00:00:00",null,null,"00:00:00",{"$f":"H345","v":"00:00:00"},"00:00:00","00:00:00","00:00:00","00:00:00","00:00:00",0]
[null,null,null,"Sun",null,null,null,"00:00:00",null,null,"00:00:00",{"$f":"H346","v":"00:00:00"},"00:00:00","00:00:00","00:00:00","00:00:00","00:00:00",0]
[null,null,"Week50","Mon",null,null,null,"00:00:00",0,{"$f":"IF(E347=\"\",\"\",AVERAGE(I$4:I347))","v":""},{"$f":"IF(F347<E347,F347+1,F347)","v":"00:00:00"},null,{"$f":"IF(H347>0,IF(M$3-E347>0,M$3-E347,0),0)","v":"00:00:00"},{"$f":"IF(H347>0,IF(F347-N$3>0,F347-N$3,0),0)","v":"00:00:00"},{"$f":"IF(H347>0,IF(O$3-F347<0,0,F347),0)","v":"00:00:00"},{"$f":"IF(H347>0,IF(E347-P$3<0,0,R$3-E347),0)","v":"00:00:00"},{"$f":"SUM(M347:P347)","v":"00:00:00"},{"$f":"IF(H347>0,IF(SUM(M347:P347)>0,\"yes\",\"no\"),0)","v":0}]
[null,null,null,"Tue",null,null,null,"00:00:00",null,null,"00:00:00",null,{"$f":"IF(H348>0,IF(M$3-E348>0,M$3-E348,0),0)","v":"00:00:00"},{"$f":"IF(H348>0,IF(F348-N$3>0,F348-N$3,0),0)","v":"00:00:00"},{"$f":"IF(H348>0,IF(O$3-F348<0,0,F348),0)","v":"00:00:00"},{"$f":"IF(H348>0,IF(E348-P$3<0,0,R$3-E348),0)","v":"00:00:00"},{"$f":"SUM(M348:P348)","v":"00:00:00"},{"$f":"IF(H348>0,IF(SUM(M348:P348)>0,\"yes\",\"no\"),0)","v":0}]
[null,null,null,"Wed",null,null,null,"00:00:00",null,null,"00:00:00",null,"00:00:00","00:00:00","00:00:00","00:00:00","00:00:00",0]
[null,null,null,"Thu",null,null,null,"00:00:00",null,null,"00:00:00",null,"00:00:00","00:00:00","00:00:00","00:00:00","00:00:00",0]
[null,null,null,"Fri",null,null,null,"00:00:00",null,null,0,null,"00:00:00","00:00:00","00:00:00","00:00:00","00:00:00",0]
[null,null,null,"Sat",null,null,null,"00:00:00",null,null,"00:00:00",{"$f":"H352","v":"00:00:00"},"00:00:00","00:00:00","00:00:00","00:00:00","00:00:00",0]
[null,null,null,"Sun",null,null,null,"00:00:00",null,null,"00:00:00",{"$f":"H353","v":"00:00:00"},"00:00:00","00:00:00","00:00:00","00:00:00","00:00:00",0]
[null,null,"Week51","Mon",null,null,null,"00:00:00",0,{"$f":"IF(E354=\"\",\"\",AVERAGE(I$4:I354))","v":""},{"$f":"IF(F354<E354,F354+1,F354)","v":"00:00:00"},null,{"$f":"IF(H354>0,IF(M$3-E354>0,M$3-E354,0),0)","v":"00:00:00"},{"$f":"IF(H354>0,IF(F354-N$3>0,F354-N$3,0),0)","v":"00:00:00"},{"$f":"IF(H354>0,IF(O$3-F354<0,0,F354),0)","v":"00:00:00"},{"$f":"IF(H354>0,IF(E354-P$3<0,0,R$3-E354),0)","v":"00:00:00"},{"$f":"SUM(M354:P354)","v":"00:00:00"},{"$f":"IF(H354>0,IF(SUM(M354:P354)>0,\"yes\",\"no\"),0)","v":0}]
[null,null,null,"Tue",null,null,null,{"$f":"IF(E355=\"R\",0,IF(E355=\"F\",0,IF(F355<E355,F355+1,F355)-E355))","v":"00:00:00"},null,null,"00:00:00",null,{"$f":"IF(H355>0,IF(M$3-E355>0,M$3-E355,0),0)","v":"00:00:00"},{"$f":"IF(H355>0,IF(F355-N$3>0,F355-N$3,0),0)","v":"00:00:00"},{"$f":"IF(H355>0,IF(O$3-F355<0,0,F355),0)","v":"00:00:00"},{"$f":"IF(H355>0,IF(E355-P$3<0,0,R$3-E355),0)","v":"00:00:00"},{"$f":"SUM(M355:P355)","v":"00:00:00"},{"$f":"IF(H355>0,IF(SUM(M355:P355)>0,\"yes\",\"no\"),0)","v":0}]
[null,null,null,"Wed",null,null,null,"00:00:00",null,null,"00:00:00",null,"00:00:00","00:00:00","00:00:00","00:00:00","00:00:00",0]
[null,null,null,"Thu",null,null,null,"00:00:00",null,null,"00:00:00",null,"00:00:00","00:00:00","00:00:00","00:00:00","00:00:00",0]
[null,null,null,"Fri",null,null,null,"00:00:00",null,null,0,null,"00:00:00","00:00:00","00:00:00","00:00:00","00:00:00",0]
[null,null,null,"Sat",null,null,null,"00:00:00",null,null,"00:00:00",{"$f":"H359","v":"00:00:00"},"00:00:00","00:00:00","00:00:00","00:00:00","00:00:00",0]
[null,null,null,"Sun",null,null,null,"00:00:00",null,null,"00:00:00",{"$f":"H360","v":"00:00:00"},"00:00:00","00:00:00","00:00:00","00:00:00","00:00:00",0]
[null,null,"Week52","Mon",null,null,null,"00:00:00",{"$f":"SUM(H361:H367)","v":0},{"$f":"IF(E361=\"\",\"\",AVERAGE(I$4:I361))","v":""},{"$f":"IF(F361<E361,F361+1,F361)","v":"00:00:00"},null,{"$f":"IF(H361>0,IF(M$3-E361>0,M$3-E361,0),0)","v":"00:00:00"},{"$f":"IF(H361>0,IF(F361-N$3>0,F361-N$3,0),0)","v":"00:00:00"},{"$f":"IF(H361>0,IF(O$3-F361<0,0,F361),0)","v":"00:00:00"},{"$f":"IF(H361>0,IF(E361-P$3<0,0,R$3-E361),0)","v":"00:00:00"},{"$f":"SUM(M361:P361)","v":"00:00:00"},{"$f":"IF(H361>0,IF(SUM(M361:P361)>0,\"yes\",\"no\"),0)","v":0}]
[null,null,null,"Tue",null,null,null,"00:00:00",null,null,"00:00:00",null,{"$f":"IF(H362>0,IF(M$3-E362>0,M$3-E362,0),0)","v":"00:00:00"},{"$f":"IF(H362>0,IF(F362-N$3>0,F362-N$3,0),0)","v":"00:00:00"},{"$f":"IF(H362>0,IF(O$3-F362<0,0,F362),0)","v":"00:00:00"},{"$f":"IF(H362>0,IF(E362-P$3<0,0,R$3-E362),0)","v":"00:00:00"},{"$f":"SUM(M362:P362)","v":"00:00:00"},{"$f":"IF(H362>0,IF(SUM(M362:P362)>0,\"yes\",\"no\"),0)","v":0}]
[null,null,null,"Wed",null,null,null,"00:00:00",null,null,"00:00:00",null,"00:00:00","00:00:00","00:00:00","00:00:00","00:00:00",0]
[null,null,null,"Thu",null,null,null,"00:00:00",null,null,"00:00:00",null,"00:00:00","00:00:00","00:00:00","00:00:00","00:00:00",0]
[null,null,null,"Fri",null,null,null,"00:00:00",null,null,0,null,"00:00:00","00:00:00","00:00:00","00:00:00","00:00:00",0]
[null,null,null,"Sat",null,null,null,"00:00:00",null,null,"00:00:00",{"$f":"H366","v":"00:00:00"},"00:00:00","00:00:00","00:00:00","00:00:00","00:00:00",0]
[null,null,null,"Sun",null,null,null,"00:00:00",null,null,"00:00:00",{"$f":"H367","v":"00:00:00"},"00:00:00","00:00:00","00:00:00","00:00:00","00:00:00",0]
[null,null,"Week53","Mon",null,null,null,"00:00:00",0,{"$f":"IF(E368=\"\",\"\",AVERAGE(I$4:I368))","v":""},{"$f":"IF(F368<E368,F368+1,F368)","v":"00:00:00"},null,{"$f":"IF(H368>0,IF(M$3-E368>0,M$3-E368,0),0)","v":"00:00:00"},{"$f":"IF(H368>0,IF(F368-N$3>0,F368-N$3,0),0)","v":"00:00:00"},{"$f":"IF(H368>0,IF(O$3-F368<0,0,F368),0)","v":"00:00:00"},{"$f":"IF(H368>0,IF(E368-P$3<0,0,R$3-E368),0)","v":"00:00:00"},{"$f":"SUM(M368:P368)","v":"00:00:00"},{"$f":"IF(H368>0,IF(SUM(M368:P368)>0,\"yes\",\"no\"),0)","v":0}]
[null,null,null,"Tue",null,null,null,"00:00:00",null,null,"00:00:00",null,{"$f":"IF(H369>0,IF(M$3-E369>0,M$3-E369,0),0)","v":"00:00:00"},{"$f":"IF(H369>0,IF(F369-N$3>0,F369-N$3,0),0)","v":"00:00:00"},{"$f":"IF(H369>0,IF(O$3-F369<0,0,F369),0)","v":"00:00:00"},{"$f":"IF(H369>0,IF(E369-P$3<0,0,R$3-E369),0)","v":"00:00:00"},{"$f":"SUM(M369:P369)","v":"00:00:00"},{"$f":"IF(H369>0,IF(SUM(M369:P369)>0,\"yes\",\"no\"),0)","v":0}]
[null,null,null,"Wed",null,null,null,"00:00:00",null,null,"00:00:00",null,"00:00:00","00:00:00","00:00:00","00:00:00","00:00:00",0]
[null,null,null,"Thu",null,null,null,"00:00:00",null,null,"00:00:00",null,"00:00:00","00:00:00","00:00:00","00:00:00","00:00:00",0]
[null,null,null,"Fri",null,null,null,"00:00:00",null,null,0,null,"00:00:00","00:00:00","00:00:00","00:00:00","00:00:00",0]
[null,null,null,"Sat",null,null,null,"00:00:00",null,null,"00:00:00",{"$f":"H373","v":"00:00:00"},"00:00:00","00:00:00","00:00:00","00:00:00","00:00:00",0]
[null,null,null,"Sun",null,null,null,"00:00:00",null,null,"00:00:00",{"$f":"H374","v":"00:00:00"},"00:00:00","00:00:00","00:00:00","00:00:00","00:00:00",0]

{"sheet":"Officer proposed","index":8,"n_rows":373,"n_cols":27,"rows_kept":373,"cut":false,"hidden":false,"merged":[[359,8,365,8],[359,9,365,9],[366,8,372,8],[366,9,372,9],[338,8,344,8],[338,9,344,9],[345,8,351,8],[345,9,351,9],[352,8,358,8],[352,9,358,9],[317,8,323,8],[317,9,323,9],[324,8,330,8],[324,9,330,9],[331,8,337,8],[331,9,337,9],[296,8,302,8],[296,9,302,9],[303,8,309,8],[303,9,309,9],[310,8,316,8],[310,9,316,9],[275,8,281,8],[275,9,281,9],[282,8,288,8],[282,9,288,9],[289,8,295,8],[289,9,295,9],[254,8,260,8],[254,9,260,9],[261,8,267,8],[261,9,267,9],[268,8,274,8],[268,9,274,9],[233,8,239,8],[233,9,239,9],[240,8,246,8],[240,9,246,9],[247,8,253,8],[247,9,253,9],[212,8,218,8],[212,9,218,9],[219,8,225,8],[219,9,225,9],[226,8,232,8],[226,9,232,9],[191,8,197,8],[191,9,197,9],[198,8,204,8],[198,9,204,9],[205,8,211,8],[205,9,211,9],[170,8,176,8],[170,9,176,9],[177,8,183,8],[177,9,183,9],[184,8,190,8],[184,9,190,9],[149,8,155,8],[149,9,155,9],[156,8,162,8],[156,9,162,9],[163,8,169,8],[163,9,169,9],[128,8,134,8],[128,9,134,9],[135,8,141,8],[135,9,141,9],[142,8,148,8],[142,9,148,9],[114,8,120,8],[114,9,120,9],[121,8,127,8],[121,9,127,9],[86,8,92,8],[86,9,92,9],[93,8,99,8],[93,9,99,9],[100,8,106,8],[100,9,106,9],[79,8,85,8],[79,9,85,9],[44,8,50,8],[44,9,50,9],[51,8,57,8],[51,9,57,9],[58,8,64,8],[58,9,64,9],[107,8,113,8],[107,9,113,9],[37,8,43,8],[37,9,43,9],[2,29,4,31],[16,23,19,24],[2,8,8,8],[2,9,8,9],[65,8,71,8],[65,9,71,9],[72,8,78,8],[72,9,78,9],[21,23,23,24],[1,1,1,3],[9,8,15,8],[9,9,15,9],[16,8,22,8],[16,9,22,9],[23,8,29,8],[23,9,29,9],[30,8,36,8],[30,9,36,9]]}
[]
[null,"Police Officers - Proposed Pattern",null,null,"Start Time","End Time",null,"Daily hours","Week Total","Running Average","latest finish","weekend","07:00:00","18:30:00","07:00:00","18:30:00","sum",1,"11 Hours Check","6 Day Check","7 Days","14 Days",null,{"$f":"'Officer current'!U3","v":"Type name here"},{"$f":"'Officer current'!V3","v":"Type Force No. here"},{"$f":"Y7","v":0}]
[null,null,"Week1","Mon",null,null,null,{"$f":"IF(E3=\"R\",0,IF(E3=\"F\",0,IF(F3<E3,F3+1,F3)-E3))","v":"00:00:00"},{"$f":"SUM(H3:H9)","v":0},{"$f":"IF(E3=\"\",\"\",AVERAGE(I$3:I3))","v":""},{"$f":"IF(F3<E3,F3+1,F3)","v":"00:00:00"},null,{"$f":"IF(H3>0,IF(M$2-E3>0,M$2-E3,0),0)","v":"00:00:00"},{"$f":"IF(H3>0,IF(F3-N$2>0,F3-N$2,0),0)","v":"00:00:00"},{"$f":"IF(H3>0,IF(O$2-F3<0,0,F3),0)","v":"00:00:00"},{"$f":"IF(H3>0,IF(E3-P$2<0,0,R$2-E3),0)","v":"00:00:00"},{"$f":"SUM(M3:P3)","v":"00:00:00"},{"$f":"IF(H3>0,IF(SUM(M3:P3)>0,\"yes\",\"no\"),0)","v":0},{"$f":"IF('PO-Calcs'!J2=\"Under\",\"Check\",0)","v":0},{"$f":"IF('PO-Calcs'!M2=\"Exceeds\",\"Check\",0)","v":0},{"$f":"'PO-Calcs'!O2","v":"B"},{"$f":"'PO-Calcs'!P2","v":"B"},null,"Number of Weeks in Pattern",{"$f":"IF(Y5<=52,Y5,52.167)","v":1}]
[null,null,null,"Tue",null,null,null,"00:00:00",null,null,"00:00:00",null,"00:00:00","00:00:00","00:00:00","00:00:00",{"$f":"SUM(M4:P4)","v":"00:00:00"},0,{"$f":"IF('PO-Calcs'!J3=\"Under\",\"Check\",0)","v":0},{"$f":"IF('PO-Calcs'!M3=\"Exceeds\",\"Check\",0)","v":0},{"$f":"'PO-Calcs'!O3","v":"B"},{"$f":"'PO-Calcs'!P3","v":"B"},null,"52 Week Pattern",{"$f":"IF(Y3>=52,52.167,0)","v":0}]
[null,null,null,"Wed",null,null,null,"00:00:00",null,null,"00:00:00",null,"00:00:00","00:00:00","00:00:00","00:00:00","00:00:00",0,{"$f":"IF('PO-Calcs'!J4=\"Under\",\"Check\",0)","v":0},{"$f":"IF('PO-Calcs'!M4=\"Exceeds\",\"Check\",0)","v":0},{"$f":"'PO-Calcs'!O4","v":"B"},{"$f":"'PO-Calcs'!P4","v":"B"},null,"Please select number of weeks in pattern",1]
[null,null,null,"Thu",null,null,null,"00:00:00",null,null,"00:00:00",null,"00:00:00","00:00:00","00:00:00","00:00:00","00:00:00",0,{"$f":"IF('PO-Calcs'!J5=\"Under\",\"Check\",0)","v":0},{"$f":"IF('PO-Calcs'!M5=\"Exceeds\",\"Check\",0)","v":0},{"$f":"'PO-Calcs'!O5","v":"B"},{"$f":"'PO-Calcs'!P5","v":"B"}]
[null,null,null,"Fri",null,null,null,"00:00:00",null,null,0,null,"00:00:00","00:00:00","00:00:00","00:00:00","00:00:00",0,{"$f":"IF('PO-Calcs'!J6=\"Under\",\"Check\",0)","v":0},{"$f":"IF('PO-Calcs'!M6=\"Exceeds\",\"Check\",0)","v":0},{"$f":"'PO-Calcs'!O6","v":"B"},{"$f":"'PO-Calcs'!P6","v":"B"},null,"Average Weekly Hours",{"$f":"IF(Y4>\"\",SUM($I$3:OFFSET($I$3,(($Y$4*7)-1),0))/Y4,SUM($I$3:OFFSET($I$3,(($Y$3*7)-1),0))/Y3)","v":0},{"$f":"COUNTIF($R$3:OFFSET($R$3,(($Y$3*7)-1),0),\"yes\")","v":0},{"$f":"COUNTIF($R$3:OFFSET($R$3,(($Y$3*7)-1),0),\"no\")","v":0}]
[null,null,null,"Sat",null,null,null,"00:00:00",null,null,"00:00:00",{"$f":"H8","v":"00:00:00"},"00:00:00","00:00:00","00:00:00","00:00:00","00:00:00",0,{"$f":"IF('PO-Calcs'!J7=\"Under\",\"Check\",0)","v":0},{"$f":"IF('PO-Calcs'!M7=\"Exceeds\",\"Check\",0)","v":0},{"$f":"'PO-Calcs'!O7","v":"B"},{"$f":"'PO-Calcs'!P7","v":"B"},null,"Decimalised Weekly Hours",{"$f":"Y7*24","v":0},{"$f":"$Y$14-#REF!","v":{"$error":"#REF!"}}]
[null,null,null,"Sun",null,null,null,"00:00:00",null,null,"00:00:00",{"$f":"H9","v":"00:00:00"},"00:00:00","00:00:00","00:00:00","00:00:00","00:00:00",0,{"$f":"IF(ISTEXT(E4),\"\",IF('PO-Calcs'!J8=\"Under\",\"Check\",\"\"))","v":""},{"$f":"IF('PO-Calcs'!M8=\"Exceeds\",\"Check\",0)","v":0},{"$f":"'PO-Calcs'!O8","v":"NB"},{"$f":"'PO-Calcs'!P8","v":"B"}]
[null,null,"Week2","Mon",null,null,null,"00:00:00",{"$f":"SUM(H10:H16)","v":0},{"$f":"IF(E10=\"\",\"\",AVERAGE(I$3:I10))","v":""},"00:00:00",null,"00:00:00","00:00:00","00:00:00","00:00:00","00:00:00",{"$f":"IF(H10>0,IF(SUM(M10:P10)>0,\"yes\",\"no\"),0)","v":0},{"$f":"IF('PO-Calcs'!J9=\"Under\",\"Check\",0)","v":0},{"$f":"IF('PO-Calcs'!M9=\"Exceeds\",\"Check\",0)","v":0},{"$f":"'PO-Calcs'!O9","v":"NB"},{"$f":"'PO-Calcs'!P9","v":"B"}]
[null,null,null,"Tue",null,null,null,"00:00:00",null,null,"00:00:00",null,"00:00:00","00:00:00","00:00:00","00:00:00",{"$f":"SUM(M11:P11)","v":"00:00:00"},0,{"$f":"IF('PO-Calcs'!J10=\"Under\",\"Check\",0)","v":0},{"$f":"IF('PO-Calcs'!M10=\"Exceeds\",\"Check\",0)","v":0},{"$f":"'PO-Calcs'!O10","v":"NB"},{"$f":"'PO-Calcs'!P10","v":"B"},null,"Start Date for Shift Pattern:",null,{"$f":"SUM($K$3:OFFSET($K$3,(($Y$3*7)-1),0))","v":"00:00:00"}]
[null,null,null,"Wed",null,null,null,"00:00:00",null,null,"00:00:00",null,"00:00:00","00:00:00","00:00:00","00:00:00","00:00:00",0,{"$f":"IF('PO-Calcs'!J11=\"Under\",\"Check\",0)","v":0},{"$f":"IF('PO-Calcs'!M11=\"Exceeds\",\"Check\",0)","v":0},{"$f":"'PO-Calcs'!O11","v":"NB"},{"$f":"'PO-Calcs'!P11","v":"B"},null,null,{"$f":"TEXT(X12, \"ddd\")","v":"Sat"}]
[null,null,null,"Thu",null,null,null,"00:00:00",null,null,"00:00:00",null,"00:00:00","00:00:00","00:00:00","00:00:00","00:00:00",0,{"$f":"IF('PO-Calcs'!J12=\"Under\",\"Check\",0)","v":0},{"$f":"IF('PO-Calcs'!M12=\"Exceeds\",\"Check\",0)","v":0},{"$f":"'PO-Calcs'!O12","v":"NB"},{"$f":"'PO-Calcs'!P12","v":"B"}]
[null,null,null,"Fri",null,null,null,"00:00:00",null,null,0,null,"00:00:00","00:00:00","00:00:00","00:00:00","00:00:00",0,{"$f":"IF('PO-Calcs'!J13=\"Under\",\"Check\",0)","v":0},{"$f":"IF('PO-Calcs'!M13=\"Exceeds\",\"Check\",0)","v":0},{"$f":"'PO-Calcs'!O13","v":"NB"},{"$f":"'PO-Calcs'!P13","v":"B"},null,"Week number you wish the pattern to start on:"]
[null,null,null,"Sat",null,null,null,"00:00:00",null,null,"00:00:00",{"$f":"H15","v":"00:00:00"},"00:00:00","00:00:00","00:00:00","00:00:00","00:00:00",0,{"$f":"IF('PO-Calcs'!J14=\"Under\",\"Check\",0)","v":0},{"$f":"IF('PO-Calcs'!M14=\"Exceeds\",\"Check\",0)","v":0},{"$f":"'PO-Calcs'!O14","v":"NB"},{"$f":"'PO-Calcs'!P14","v":"B"}]
[null,null,null,"Sun",null,null,null,"00:00:00",null,null,"00:00:00","00:00:00","00:00:00","00:00:00","00:00:00","00:00:00","00:00:00",0,{"$f":"IF(ISTEXT(E11),\"\",IF('PO-Calcs'!J15=\"Under\",\"Check\",\"\"))","v":""},{"$f":"IF('PO-Calcs'!M15=\"Exceeds\",\"Check\",0)","v":0},{"$f":"'PO-Calcs'!O15","v":"NB"},{"$f":"'PO-Calcs'!P15","v":"B"}]
[null,null,"Week3","Mon",null,null,null,"00:00:00",{"$f":"SUM(H17:H23)","v":0},{"$f":"IF(E17=\"\",\"\",AVERAGE(I$3:I17))","v":""},"00:00:00",null,"00:00:00","00:00:00","00:00:00","00:00:00","00:00:00",0,{"$f":"IF('PO-Calcs'!J16=\"Under\",\"Check\",0)","v":0},{"$f":"IF('PO-Calcs'!M16=\"Exceeds\",\"Check\",0)","v":0},{"$f":"'PO-Calcs'!O16","v":"NB"},{"$f":"'PO-Calcs'!P16","v":"NB"},null,{"$f":"IF(Y7>'PO-Calcs'!Q1,\"Your average weekly hours exceed 40 hours, please review and re-enter\",\"\")","v":""}]
[null,null,null,"Tue",null,null,null,"00:00:00",null,null,"00:00:00",null,"00:00:00","00:00:00","00:00:00","00:00:00","00:00:00",0,{"$f":"IF('PO-Calcs'!J17=\"Under\",\"Check\",0)","v":0},{"$f":"IF('PO-Calcs'!M17=\"Exceeds\",\"Check\",0)","v":0},{"$f":"'PO-Calcs'!O17","v":"NB"},{"$f":"'PO-Calcs'!P17","v":"NB"}]
[null,null,null,"Wed",null,null,null,"00:00:00",null,null,"00:00:00",null,"00:00:00","00:00:00","00:00:00","00:00:00","00:00:00",0,{"$f":"IF('PO-Calcs'!J18=\"Under\",\"Check\",0)","v":0},{"$f":"IF('PO-Calcs'!M18=\"Exceeds\",\"Check\",0)","v":0},{"$f":"'PO-Calcs'!O18","v":"NB"},{"$f":"'PO-Calcs'!P18","v":"NB"}]
[null,null,null,"Thu",null,null,null,"00:00:00",null,null,"00:00:00",null,"00:00:00","00:00:00","00:00:00","00:00:00","00:00:00",0,{"$f":"IF('PO-Calcs'!J19=\"Under\",\"Check\",0)","v":0},{"$f":"IF('PO-Calcs'!M19=\"Exceeds\",\"Check\",0)","v":0},{"$f":"'PO-Calcs'!O19","v":"NB"},{"$f":"'PO-Calcs'!P19","v":"NB"}]
[null,null,null,"Fri",null,null,null,"00:00:00",null,null,0,null,"00:00:00","00:00:00","00:00:00","00:00:00","00:00:00",0,{"$f":"IF('PO-Calcs'!J20=\"Under\",\"Check\",0)","v":0},{"$f":"IF('PO-Calcs'!M20=\"Exceeds\",\"Check\",0)","v":0},{"$f":"'PO-Calcs'!O20","v":"NB"},{"$f":"'PO-Calcs'!P20","v":"NB"}]
[null,null,null,"Sat",null,null,null,"00:00:00",null,null,"00:00:00",{"$f":"H22","v":"00:00:00"},"00:00:00","00:00:00","00:00:00","00:00:00","00:00:00",0,{"$f":"IF('PO-Calcs'!J21=\"Under\",\"Check\",0)","v":0},{"$f":"IF('PO-Calcs'!M21=\"Exceeds\",\"Check\",0)","v":0},{"$f":"'PO-Calcs'!O21","v":"NB"},{"$f":"'PO-Calcs'!P21","v":"NB"},null,"Please note: you only need to complete the relevant number of weeks in your working pattern. "]
[null,null,null,"Sun",null,null,null,"00:00:00",null,null,"00:00:00","00:00:00","00:00:00","00:00:00","00:00:00","00:00:00","00:00:00",0,{"$f":"IF(ISTEXT(E18),\"\",IF('PO-Calcs'!J22=\"Under\",\"Check\",\"\"))","v":""},{"$f":"IF('PO-Calcs'!M22=\"Exceeds\",\"Check\",0)","v":0},{"$f":"'PO-Calcs'!O22","v":"NB"},{"$f":"'PO-Calcs'!P22","v":"NB"}]
[null,null,"Week4","Mon",null,null,null,"00:00:00",{"$f":"SUM(H24:H30)","v":0},{"$f":"IF(E24=\"\",\"\",AVERAGE(I$3:I24))","v":""},"00:00:00",null,"00:00:00","00:00:00","00:00:00","00:00:00","00:00:00",0,{"$f":"IF('PO-Calcs'!J23=\"Under\",\"Check\",0)","v":0},{"$f":"IF('PO-Calcs'!M23=\"Exceeds\",\"Check\",0)","v":0},{"$f":"'PO-Calcs'!O23","v":"NB"},{"$f":"'PO-Calcs'!P23","v":"NB"}]
[null,null,null,"Tue",null,null,null,"00:00:00",null,null,"00:00:00",null,"00:00:00","00:00:00","00:00:00","00:00:00","00:00:00",0,{"$f":"IF('PO-Calcs'!J24=\"Under\",\"Check\",0)","v":0},{"$f":"IF('PO-Calcs'!M24=\"Exceeds\",\"Check\",0)","v":0},{"$f":"'PO-Calcs'!O24","v":"NB"},{"$f":"'PO-Calcs'!P24","v":"NB"}]
[null,null,null,"Wed",null,null,null,"00:00:00",null,null,"00:00:00",null,"00:00:00","00:00:00","00:00:00","00:00:00","00:00:00",0,{"$f":"IF('PO-Calcs'!J25=\"Under\",\"Check\",0)","v":0},{"$f":"IF('PO-Calcs'!M25=\"Exceeds\",\"Check\",0)","v":0},{"$f":"'PO-Calcs'!O25","v":"NB"},{"$f":"'PO-Calcs'!P25","v":"NB"}]
[null,null,null,"Thu",null,null,null,"00:00:00",null,null,"00:00:00",null,"00:00:00","00:00:00","00:00:00","00:00:00","00:00:00",0,{"$f":"IF('PO-Calcs'!J26=\"Under\",\"Check\",0)","v":0},{"$f":"IF('PO-Calcs'!M26=\"Exceeds\",\"Check\",0)","v":0},{"$f":"'PO-Calcs'!O26","v":"NB"},{"$f":"'PO-Calcs'!P26","v":"NB"}]
[null,null,null,"Fri",null,null,null,"00:00:00",null,null,0,null,"00:00:00","00:00:00","00:00:00","00:00:00","00:00:00",0,{"$f":"IF('PO-Calcs'!J27=\"Under\",\"Check\",0)","v":0},{"$f":"IF('PO-Calcs'!M27=\"Exceeds\",\"Check\",0)","v":0},{"$f":"'PO-Calcs'!O27","v":"NB"},{"$f":"'PO-Calcs'!P27","v":"NB"}]
[null,null,null,"Sat",null,null,null,"00:00:00",null,null,"00:00:00",{"$f":"H29","v":"00:00:00"},"00:00:00","00:00:00","00:00:00","00:00:00","00:00:00",0,{"$f":"IF('PO-Calcs'!J28=\"Under\",\"Check\",0)","v":0},{"$f":"IF('PO-Calcs'!M28=\"Exceeds\",\"Check\",0)","v":0},{"$f":"'PO-Calcs'!O28","v":"NB"},{"$f":"'PO-Calcs'!P28","v":"NB"}]
[null,null,null,"Sun",null,null,null,"00:00:00",null,null,"00:00:00","00:00:00","00:00:00","00:00:00","00:00:00","00:00:00","00:00:00",0,{"$f":"IF(ISTEXT(E25),\"\",IF('PO-Calcs'!J29=\"Under\",\"Check\",\"\"))","v":""},{"$f":"IF('PO-Calcs'!M29=\"Exceeds\",\"Check\",0)","v":0},{"$f":"'PO-Calcs'!O29","v":"NB"},{"$f":"'PO-Calcs'!P29","v":"NB"}]
[null,null,"Week5","Mon",null,null,null,"00:00:00",{"$f":"SUM(H31:H37)","v":0},{"$f":"IF(E31=\"\",\"\",AVERAGE(I$3:I31))","v":""},"00:00:00",null,"00:00:00","00:00:00","00:00:00","00:00:00","00:00:00",0,{"$f":"IF('PO-Calcs'!J30=\"Under\",\"Check\",0)","v":0},{"$f":"IF('PO-Calcs'!M30=\"Exceeds\",\"Check\",0)","v":0},{"$f":"'PO-Calcs'!O30","v":"NB"},{"$f":"'PO-Calcs'!P30","v":"NB"}]
[null,null,null,"Tue",null,null,null,"00:00:00",null,null,"00:00:00",null,"00:00:00","00:00:00","00:00:00","00:00:00","00:00:00",0,{"$f":"IF('PO-Calcs'!J31=\"Under\",\"Check\",0)","v":0},{"$f":"IF('PO-Calcs'!M31=\"Exceeds\",\"Check\",0)","v":0},{"$f":"'PO-Calcs'!O31","v":"NB"},{"$f":"'PO-Calcs'!P31","v":"NB"}]
[null,null,null,"Wed",null,null,null,"00:00:00",null,null,"00:00:00",null,"00:00:00","00:00:00","00:00:00","00:00:00","00:00:00",0,{"$f":"IF('PO-Calcs'!J32=\"Under\",\"Check\",0)","v":0},{"$f":"IF('PO-Calcs'!M32=\"Exceeds\",\"Check\",0)","v":0},{"$f":"'PO-Calcs'!O32","v":"NB"},{"$f":"'PO-Calcs'!P32","v":"NB"}]
[null,null,null,"Thu",null,null,null,"00:00:00",null,null,"00:00:00",null,"00:00:00","00:00:00","00:00:00","00:00:00","00:00:00",0,{"$f":"IF('PO-Calcs'!J33=\"Under\",\"Check\",0)","v":0},{"$f":"IF('PO-Calcs'!M33=\"Exceeds\",\"Check\",0)","v":0},{"$f":"'PO-Calcs'!O33","v":"NB"},{"$f":"'PO-Calcs'!P33","v":"NB"}]
[null,null,null,"Fri",null,null,null,"00:00:00",null,null,0,null,"00:00:00","00:00:00","00:00:00","00:00:00","00:00:00",0,{"$f":"IF('PO-Calcs'!J34=\"Under\",\"Check\",0)","v":0},{"$f":"IF('PO-Calcs'!M34=\"Exceeds\",\"Check\",0)","v":0},{"$f":"'PO-Calcs'!O34","v":"NB"},{"$f":"'PO-Calcs'!P34","v":"NB"}]
[null,null,null,"Sat",null,null,null,"00:00:00",null,null,"00:00:00",{"$f":"H36","v":"00:00:00"},"00:00:00","00:00:00","00:00:00","00:00:00","00:00:00",0,{"$f":"IF('PO-Calcs'!J35=\"Under\",\"Check\",0)","v":0},{"$f":"IF('PO-Calcs'!M35=\"Exceeds\",\"Check\",0)","v":0},{"$f":"'PO-Calcs'!O35","v":"NB"},{"$f":"'PO-Calcs'!P35","v":"NB"}]
[null,null,null,"Sun",null,null,null,"00:00:00",null,null,"00:00:00","00:00:00","00:00:00","00:00:00","00:00:00","00:00:00","00:00:00",0,{"$f":"IF(ISTEXT(E32),\"\",IF('PO-Calcs'!J36=\"Under\",\"Check\",\"\"))","v":""},{"$f":"IF('PO-Calcs'!M36=\"Exceeds\",\"Check\",0)","v":0},{"$f":"'PO-Calcs'!O36","v":"NB"},{"$f":"'PO-Calcs'!P36","v":"NB"}]
[null,null,"Week6","Mon",null,null,null,"00:00:00",{"$f":"SUM(H38:H44)","v":0},{"$f":"IF(E38=\"\",\"\",AVERAGE(I$3:I38))","v":""},"00:00:00",null,"00:00:00","00:00:00","00:00:00","00:00:00","00:00:00",0,{"$f":"IF('PO-Calcs'!J37=\"Under\",\"Check\",0)","v":0},{"$f":"IF('PO-Calcs'!M37=\"Exceeds\",\"Check\",0)","v":0},{"$f":"'PO-Calcs'!O37","v":"NB"},{"$f":"'PO-Calcs'!P37","v":"NB"}]
[null,null,null,"Tue",null,null,null,"00:00:00",null,null,"00:00:00",null,"00:00:00","00:00:00","00:00:00","00:00:00","00:00:00",0,{"$f":"IF('PO-Calcs'!J38=\"Under\",\"Check\",0)","v":0},{"$f":"IF('PO-Calcs'!M38=\"Exceeds\",\"Check\",0)","v":0},{"$f":"'PO-Calcs'!O38","v":"NB"},{"$f":"'PO-Calcs'!P38","v":"NB"}]
[null,null,null,"Wed",null,null,null,"00:00:00",null,null,"00:00:00",null,"00:00:00","00:00:00","00:00:00","00:00:00","00:00:00",0,{"$f":"IF('PO-Calcs'!J39=\"Under\",\"Check\",0)","v":0},{"$f":"IF('PO-Calcs'!M39=\"Exceeds\",\"Check\",0)","v":0},{"$f":"'PO-Calcs'!O39","v":"NB"},{"$f":"'PO-Calcs'!P39","v":"NB"}]
[null,null,null,"Thu",null,null,null,"00:00:00",null,null,"00:00:00",null,"00:00:00","00:00:00","00:00:00","00:00:00","00:00:00",0,{"$f":"IF('PO-Calcs'!J40=\"Under\",\"Check\",0)","v":0},{"$f":"IF('PO-Calcs'!M40=\"Exceeds\",\"Check\",0)","v":0},{"$f":"'PO-Calcs'!O40","v":"NB"},{"$f":"'PO-Calcs'!P40","v":"NB"}]
[null,null,null,"Fri",null,null,null,"00:00:00",null,null,0,null,"00:00:00","00:00:00","00:00:00","00:00:00","00:00:00",0,{"$f":"IF('PO-Calcs'!J41=\"Under\",\"Check\",0)","v":0},{"$f":"IF('PO-Calcs'!M41=\"Exceeds\",\"Check\",0)","v":0},{"$f":"'PO-Calcs'!O41","v":"NB"},{"$f":"'PO-Calcs'!P41","v":"NB"}]
[null,null,null,"Sat",null,null,null,"00:00:00",null,null,"00:00:00",{"$f":"H43","v":"00:00:00"},"00:00:00","00:00:00","00:00:00","00:00:00","00:00:00",0,{"$f":"IF('PO-Calcs'!J42=\"Under\",\"Check\",0)","v":0},{"$f":"IF('PO-Calcs'!M42=\"Exceeds\",\"Check\",0)","v":0},{"$f":"'PO-Calcs'!O42","v":"NB"},{"$f":"'PO-Calcs'!P42","v":"NB"}]
[null,null,null,"Sun",null,null,null,"00:00:00",null,null,"00:00:00","00:00:00","00:00:00","00:00:00","00:00:00","00:00:00","00:00:00",0,{"$f":"IF(ISTEXT(E39),\"\",IF('PO-Calcs'!J43=\"Under\",\"Check\",\"\"))","v":""},{"$f":"IF('PO-Calcs'!M43=\"Exceeds\",\"Check\",0)","v":0},{"$f":"'PO-Calcs'!O43","v":"NB"},{"$f":"'PO-Calcs'!P43","v":"NB"}]
[null,null,"Week7","Mon",null,null,null,"00:00:00",{"$f":"SUM(H45:H51)","v":0},{"$f":"IF(E45=\"\",\"\",AVERAGE(I$3:I45))","v":""},"00:00:00",null,"00:00:00","00:00:00","00:00:00","00:00:00","00:00:00",0,{"$f":"IF('PO-Calcs'!J44=\"Under\",\"Check\",0)","v":0},{"$f":"IF('PO-Calcs'!M44=\"Exceeds\",\"Check\",0)","v":0},{"$f":"'PO-Calcs'!O44","v":"NB"},{"$f":"'PO-Calcs'!P44","v":"NB"}]
[null,null,null,"Tue",null,null,null,"00:00:00",null,null,"00:00:00",null,"00:00:00","00:00:00","00:00:00","00:00:00","00:00:00",0,{"$f":"IF('PO-Calcs'!J45=\"Under\",\"Check\",0)","v":0},{"$f":"IF('PO-Calcs'!M45=\"Exceeds\",\"Check\",0)","v":0},{"$f":"'PO-Calcs'!O45","v":"NB"},{"$f":"'PO-Calcs'!P45","v":"NB"}]
[null,null,null,"Wed",null,null,null,"00:00:00",null,null,"00:00:00",null,"00:00:00","00:00:00","00:00:00","00:00:00","00:00:00",0,{"$f":"IF('PO-Calcs'!J46=\"Under\",\"Check\",0)","v":0},{"$f":"IF('PO-Calcs'!M46=\"Exceeds\",\"Check\",0)","v":0},{"$f":"'PO-Calcs'!O46","v":"NB"},{"$f":"'PO-Calcs'!P46","v":"NB"}]
[null,null,null,"Thu",null,null,null,"00:00:00",null,null,"00:00:00",null,"00:00:00","00:00:00","00:00:00","00:00:00","00:00:00",0,{"$f":"IF('PO-Calcs'!J47=\"Under\",\"Check\",0)","v":0},{"$f":"IF('PO-Calcs'!M47=\"Exceeds\",\"Check\",0)","v":0},{"$f":"'PO-Calcs'!O47","v":"NB"},{"$f":"'PO-Calcs'!P47","v":"NB"}]
[null,null,null,"Fri",null,null,null,"00:00:00",null,null,0,null,"00:00:00","00:00:00","00:00:00","00:00:00","00:00:00",0,{"$f":"IF('PO-Calcs'!J48=\"Under\",\"Check\",0)","v":0},{"$f":"IF('PO-Calcs'!M48=\"Exceeds\",\"Check\",0)","v":0},{"$f":"'PO-Calcs'!O48","v":"NB"},{"$f":"'PO-Calcs'!P48","v":"NB"}]
[null,null,null,"Sat",null,null,null,"00:00:00",null,null,"00:00:00",{"$f":"H50","v":"00:00:00"},"00:00:00","00:00:00","00:00:00","00:00:00","00:00:00",0,{"$f":"IF('PO-Calcs'!J49=\"Under\",\"Check\",0)","v":0},{"$f":"IF('PO-Calcs'!M49=\"Exceeds\",\"Check\",0)","v":0},{"$f":"'PO-Calcs'!O49","v":"NB"},{"$f":"'PO-Calcs'!P49","v":"NB"}]
[null,null,null,"Sun",null,null,null,"00:00:00",null,null,"00:00:00","00:00:00","00:00:00","00:00:00","00:00:00","00:00:00","00:00:00",0,{"$f":"IF(ISTEXT(E46),\"\",IF('PO-Calcs'!J50=\"Under\",\"Check\",\"\"))","v":""},{"$f":"IF('PO-Calcs'!M50=\"Exceeds\",\"Check\",0)","v":0},{"$f":"'PO-Calcs'!O50","v":"NB"},{"$f":"'PO-Calcs'!P50","v":"NB"}]
[null,null,"Week8","Mon",null,null,null,"00:00:00",{"$f":"SUM(H52:H58)","v":0},{"$f":"IF(E52=\"\",\"\",AVERAGE(I$3:I52))","v":""},"00:00:00",null,"00:00:00","00:00:00","00:00:00","00:00:00","00:00:00",0,{"$f":"IF('PO-Calcs'!J51=\"Under\",\"Check\",0)","v":0},{"$f":"IF('PO-Calcs'!M51=\"Exceeds\",\"Check\",0)","v":0},{"$f":"'PO-Calcs'!O51","v":"NB"},{"$f":"'PO-Calcs'!P51","v":"NB"}]
[null,null,null,"Tue",null,null,null,"00:00:00",null,null,"00:00:00",null,"00:00:00","00:00:00","00:00:00","00:00:00","00:00:00",0,{"$f":"IF('PO-Calcs'!J52=\"Under\",\"Check\",0)","v":0},{"$f":"IF('PO-Calcs'!M52=\"Exceeds\",\"Check\",0)","v":0},{"$f":"'PO-Calcs'!O52","v":"NB"},{"$f":"'PO-Calcs'!P52","v":"NB"}]
[null,null,null,"Wed",null,null,null,"00:00:00",null,null,"00:00:00",null,"00:00:00","00:00:00","00:00:00","00:00:00","00:00:00",0,{"$f":"IF('PO-Calcs'!J53=\"Under\",\"Check\",0)","v":0},{"$f":"IF('PO-Calcs'!M53=\"Exceeds\",\"Check\",0)","v":0},{"$f":"'PO-Calcs'!O53","v":"NB"},{"$f":"'PO-Calcs'!P53","v":"NB"}]
[null,null,null,"Thu",null,null,null,"00:00:00",null,null,"00:00:00",null,"00:00:00","00:00:00","00:00:00","00:00:00","00:00:00",0,{"$f":"IF('PO-Calcs'!J54=\"Under\",\"Check\",0)","v":0},{"$f":"IF('PO-Calcs'!M54=\"Exceeds\",\"Check\",0)","v":0},{"$f":"'PO-Calcs'!O54","v":"NB"},{"$f":"'PO-Calcs'!P54","v":"NB"}]
[null,null,null,"Fri",null,null,null,"00:00:00",null,null,0,null,"00:00:00","00:00:00","00:00:00","00:00:00","00:00:00",0,{"$f":"IF('PO-Calcs'!J55=\"Under\",\"Check\",0)","v":0},{"$f":"IF('PO-Calcs'!M55=\"Exceeds\",\"Check\",0)","v":0},{"$f":"'PO-Calcs'!O55","v":"NB"},{"$f":"'PO-Calcs'!P55","v":"NB"}]
[null,null,null,"Sat",null,null,null,"00:00:00",null,null,"00:00:00",{"$f":"H57","v":"00:00:00"},"00:00:00","00:00:00","00:00:00","00:00:00","00:00:00",0,{"$f":"IF('PO-Calcs'!J56=\"Under\",\"Check\",0)","v":0},{"$f":"IF('PO-Calcs'!M56=\"Exceeds\",\"Check\",0)","v":0},{"$f":"'PO-Calcs'!O56","v":"NB"},{"$f":"'PO-Calcs'!P56","v":"NB"}]
[null,null,null,"Sun",null,null,null,"00:00:00",null,null,"00:00:00","00:00:00","00:00:00","00:00:00","00:00:00","00:00:00","00:00:00",0,{"$f":"IF(ISTEXT(E53),\"\",IF('PO-Calcs'!J57=\"Under\",\"Check\",\"\"))","v":""},{"$f":"IF('PO-Calcs'!M57=\"Exceeds\",\"Check\",0)","v":0},{"$f":"'PO-Calcs'!O57","v":"NB"},{"$f":"'PO-Calcs'!P57","v":"NB"}]
[null,null,"Week9","Mon",null,null,null,"00:00:00",{"$f":"SUM(H59:H65)","v":0},{"$f":"IF(E59=\"\",\"\",AVERAGE(I$3:I59))","v":""},"00:00:00",null,"00:00:00","00:00:00","00:00:00","00:00:00","00:00:00",0,{"$f":"IF('PO-Calcs'!J58=\"Under\",\"Check\",0)","v":0},{"$f":"IF('PO-Calcs'!M58=\"Exceeds\",\"Check\",0)","v":0},{"$f":"'PO-Calcs'!O58","v":"NB"},{"$f":"'PO-Calcs'!P58","v":"NB"}]
[null,null,null,"Tue",null,null,null,"00:00:00",null,null,"00:00:00",null,"00:00:00","00:00:00","00:00:00","00:00:00","00:00:00",0,{"$f":"IF('PO-Calcs'!J59=\"Under\",\"Check\",0)","v":0},{"$f":"IF('PO-Calcs'!M59=\"Exceeds\",\"Check\",0)","v":0},{"$f":"'PO-Calcs'!O59","v":"NB"},{"$f":"'PO-Calcs'!P59","v":"NB"}]
[null,null,null,"Wed",null,null,null,"00:00:00",null,null,"00:00:00",null,"00:00:00","00:00:00","00:00:00","00:00:00","00:00:00",0,{"$f":"IF('PO-Calcs'!J60=\"Under\",\"Check\",0)","v":0},{"$f":"IF('PO-Calcs'!M60=\"Exceeds\",\"Check\",0)","v":0},{"$f":"'PO-Calcs'!O60","v":"NB"},{"$f":"'PO-Calcs'!P60","v":"NB"}]
[null,null,null,"Thu",null,null,null,"00:00:00",null,null,"00:00:00",null,"00:00:00","00:00:00","00:00:00","00:00:00","00:00:00",0,{"$f":"IF('PO-Calcs'!J61=\"Under\",\"Check\",0)","v":0},{"$f":"IF('PO-Calcs'!M61=\"Exceeds\",\"Check\",0)","v":0},{"$f":"'PO-Calcs'!O61","v":"NB"},{"$f":"'PO-Calcs'!P61","v":"NB"}]
[null,null,null,"Fri",null,null,null,"00:00:00",null,null,0,null,"00:00:00","00:00:00","00:00:00","00:00:00","00:00:00",0,{"$f":"IF('PO-Calcs'!J62=\"Under\",\"Check\",0)","v":0},{"$f":"IF('PO-Calcs'!M62=\"Exceeds\",\"Check\",0)","v":0},{"$f":"'PO-Calcs'!O62","v":"NB"},{"$f":"'PO-Calcs'!P62","v":"NB"}]
[null,null,null,"Sat",null,null,null,"00:00:00",null,null,"00:00:00",{"$f":"H64","v":"00:00:00"},"00:00:00","00:00:00","00:00:00","00:00:00","00:00:00",0,{"$f":"IF('PO-Calcs'!J63=\"Under\",\"Check\",0)","v":0},{"$f":"IF('PO-Calcs'!M63=\"Exceeds\",\"Check\",0)","v":0},{"$f":"'PO-Calcs'!O63","v":"NB"},{"$f":"'PO-Calcs'!P63","v":"NB"}]
[null,null,null,"Sun",null,null,null,"00:00:00",null,null,"00:00:00","00:00:00","00:00:00","00:00:00","00:00:00","00:00:00","00:00:00",0,{"$f":"IF(ISTEXT(E60),\"\",IF('PO-Calcs'!J64=\"Under\",\"Check\",\"\"))","v":""},{"$f":"IF('PO-Calcs'!M64=\"Exceeds\",\"Check\",0)","v":0},{"$f":"'PO-Calcs'!O64","v":"NB"},{"$f":"'PO-Calcs'!P64","v":"NB"}]
[null,null,"Week10","Mon",null,null,null,"00:00:00",{"$f":"SUM(H66:H72)","v":0},{"$f":"IF(E66=\"\",\"\",AVERAGE(I$3:I66))","v":""},"00:00:00",null,"00:00:00","00:00:00","00:00:00","00:00:00","00:00:00",0,{"$f":"IF('PO-Calcs'!J65=\"Under\",\"Check\",0)","v":0},{"$f":"IF('PO-Calcs'!M65=\"Exceeds\",\"Check\",0)","v":0},{"$f":"'PO-Calcs'!O65","v":"NB"},{"$f":"'PO-Calcs'!P65","v":"NB"}]
[null,null,null,"Tue",null,null,null,{"$f":"IF(E67=\"R\",0,IF(E67=\"F\",0,IF(F67<E67,F67+1,F67)-E67))","v":"00:00:00"},null,null,{"$f":"IF(F67<E67,F67+1,F67)","v":"00:00:00"},null,{"$f":"IF(H67>0,IF(M$2-E67>0,M$2-E67,0),0)","v":"00:00:00"},{"$f":"IF(H67>0,IF(F67-N$2>0,F67-N$2,0),0)","v":"00:00:00"},{"$f":"IF(H67>0,IF(O$2-F67<0,0,F67),0)","v":"00:00:00"},{"$f":"IF(H67>0,IF(E67-P$2<0,0,R$2-E67),0)","v":"00:00:00"},"00:00:00",0,{"$f":"IF('PO-Calcs'!J66=\"Under\",\"Check\",0)","v":0},{"$f":"IF('PO-Calcs'!M66=\"Exceeds\",\"Check\",0)","v":0},{"$f":"'PO-Calcs'!O66","v":"NB"},{"$f":"'PO-Calcs'!P66","v":"NB"}]
[null,null,null,"Wed",null,null,null,"00:00:00",null,null,"00:00:00",null,"00:00:00","00:00:00","00:00:00","00:00:00","00:00:00",0,{"$f":"IF('PO-Calcs'!J67=\"Under\",\"Check\",0)","v":0},{"$f":"IF('PO-Calcs'!M67=\"Exceeds\",\"Check\",0)","v":0},{"$f":"'PO-Calcs'!O67","v":"NB"},{"$f":"'PO-Calcs'!P67","v":"NB"}]
[null,null,null,"Thu",null,null,null,"00:00:00",null,null,"00:00:00",null,"00:00:00","00:00:00","00:00:00","00:00:00","00:00:00",0,{"$f":"IF('PO-Calcs'!J68=\"Under\",\"Check\",0)","v":0},{"$f":"IF('PO-Calcs'!M68=\"Exceeds\",\"Check\",0)","v":0},{"$f":"'PO-Calcs'!O68","v":"NB"},{"$f":"'PO-Calcs'!P68","v":"NB"}]
[null,null,null,"Fri",null,null,null,"00:00:00",null,null,0,null,"00:00:00","00:00:00","00:00:00","00:00:00","00:00:00",0,{"$f":"IF('PO-Calcs'!J69=\"Under\",\"Check\",0)","v":0},{"$f":"IF('PO-Calcs'!M69=\"Exceeds\",\"Check\",0)","v":0},{"$f":"'PO-Calcs'!O69","v":"NB"},{"$f":"'PO-Calcs'!P69","v":"NB"}]
[null,null,null,"Sat",null,null,null,"00:00:00",null,null,"00:00:00",{"$f":"H71","v":"00:00:00"},"00:00:00","00:00:00","00:00:00","00:00:00","00:00:00",0,{"$f":"IF('PO-Calcs'!J70=\"Under\",\"Check\",0)","v":0},{"$f":"IF('PO-Calcs'!M70=\"Exceeds\",\"Check\",0)","v":0},{"$f":"'PO-Calcs'!O70","v":"NB"},{"$f":"'PO-Calcs'!P70","v":"NB"}]
[null,null,null,"Sun",null,null,null,"00:00:00",null,null,"00:00:00","00:00:00","00:00:00","00:00:00","00:00:00","00:00:00","00:00:00",0,{"$f":"IF(ISTEXT(E67),\"\",IF('PO-Calcs'!J71=\"Under\",\"Check\",\"\"))","v":""},{"$f":"IF('PO-Calcs'!M71=\"Exceeds\",\"Check\",0)","v":0},{"$f":"'PO-Calcs'!O71","v":"NB"},{"$f":"'PO-Calcs'!P71","v":"NB"}]
[null,null,"Week11","Mon",null,null,null,"00:00:00",{"$f":"SUM(H73:H79)","v":0},{"$f":"IF(E73=\"\",\"\",AVERAGE(I$3:I73))","v":""},"00:00:00",null,"00:00:00","00:00:00","00:00:00","00:00:00","00:00:00",0,{"$f":"IF('PO-Calcs'!J72=\"Under\",\"Check\",0)","v":0},{"$f":"IF('PO-Calcs'!M72=\"Exceeds\",\"Check\",0)","v":0},{"$f":"'PO-Calcs'!O72","v":"NB"},{"$f":"'PO-Calcs'!P72","v":"NB"}]
[null,null,null,"Tue",null,null,null,"00:00:00",null,null,"00:00:00",null,"00:00:00","00:00:00","00:00:00","00:00:00","00:00:00",{"$f":"IF(H74>0,IF(SUM(M74:P74)>0,\"yes\",\"no\"),0)","v":0},{"$f":"IF('PO-Calcs'!J73=\"Under\",\"Check\",0)","v":0},{"$f":"IF('PO-Calcs'!M73=\"Exceeds\",\"Check\",0)","v":0},{"$f":"'PO-Calcs'!O73","v":"NB"},{"$f":"'PO-Calcs'!P73","v":"NB"}]
[null,null,null,"Wed",null,null,null,"00:00:00",null,null,"00:00:00",null,"00:00:00","00:00:00","00:00:00","00:00:00",{"$f":"SUM(M75:P75)","v":"00:00:00"},0,{"$f":"IF('PO-Calcs'!J74=\"Under\",\"Check\",0)","v":0},{"$f":"IF('PO-Calcs'!M74=\"Exceeds\",\"Check\",0)","v":0},{"$f":"'PO-Calcs'!O74","v":"NB"},{"$f":"'PO-Calcs'!P74","v":"NB"}]
[null,null,null,"Thu",null,null,null,"00:00:00",null,null,"00:00:00",null,"00:00:00","00:00:00","00:00:00","00:00:00","00:00:00",0,{"$f":"IF('PO-Calcs'!J75=\"Under\",\"Check\",0)","v":0},{"$f":"IF('PO-Calcs'!M75=\"Exceeds\",\"Check\",0)","v":0},{"$f":"'PO-Calcs'!O75","v":"NB"},{"$f":"'PO-Calcs'!P75","v":"NB"}]
[null,null,null,"Fri",null,null,null,"00:00:00",null,null,0,null,"00:00:00","00:00:00","00:00:00","00:00:00","00:00:00",0,{"$f":"IF('PO-Calcs'!J76=\"Under\",\"Check\",0)","v":0},{"$f":"IF('PO-Calcs'!M76=\"Exceeds\",\"Check\",0)","v":0},{"$f":"'PO-Calcs'!O76","v":"NB"},{"$f":"'PO-Calcs'!P76","v":"NB"}]
[null,null,null,"Sat",null,null,null,"00:00:00",null,null,"00:00:00",{"$f":"H78","v":"00:00:00"},"00:00:00","00:00:00","00:00:00","00:00:00","00:00:00",0,{"$f":"IF('PO-Calcs'!J77=\"Under\",\"Check\",0)","v":0},{"$f":"IF('PO-Calcs'!M77=\"Exceeds\",\"Check\",0)","v":0},{"$f":"'PO-Calcs'!O77","v":"NB"},{"$f":"'PO-Calcs'!P77","v":"NB"}]
[null,null,null,"Sun",null,null,null,"00:00:00",null,null,"00:00:00","00:00:00","00:00:00","00:00:00","00:00:00","00:00:00","00:00:00",0,{"$f":"IF(ISTEXT(E74),\"\",IF('PO-Calcs'!J78=\"Under\",\"Check\",\"\"))","v":""},{"$f":"IF('PO-Calcs'!M78=\"Exceeds\",\"Check\",0)","v":0},{"$f":"'PO-Calcs'!O78","v":"NB"},{"$f":"'PO-Calcs'!P78","v":"NB"}]
[null,null,"Week12","Mon",null,null,null,"00:00:00",{"$f":"SUM(H80:H86)","v":0},{"$f":"IF(E80=\"\",\"\",AVERAGE(I$3:I80))","v":""},"00:00:00",null,"00:00:00","00:00:00","00:00:00","00:00:00","00:00:00",0,{"$f":"IF('PO-Calcs'!J79=\"Under\",\"Check\",0)","v":0},{"$f":"IF('PO-Calcs'!M79=\"Exceeds\",\"Check\",0)","v":0},{"$f":"'PO-Calcs'!O79","v":"NB"},{"$f":"'PO-Calcs'!P79","v":"NB"}]
[null,null,null,"Tue",null,null,null,"00:00:00",null,null,"00:00:00",null,"00:00:00","00:00:00","00:00:00","00:00:00","00:00:00",0,{"$f":"IF('PO-Calcs'!J80=\"Under\",\"Check\",0)","v":0},{"$f":"IF('PO-Calcs'!M80=\"Exceeds\",\"Check\",0)","v":0},{"$f":"'PO-Calcs'!O80","v":"NB"},{"$f":"'PO-Calcs'!P80","v":"NB"}]
[null,null,null,"Wed",null,null,null,"00:00:00",null,null,"00:00:00",null,"00:00:00","00:00:00","00:00:00","00:00:00","00:00:00",0,{"$f":"IF('PO-Calcs'!J81=\"Under\",\"Check\",0)","v":0},{"$f":"IF('PO-Calcs'!M81=\"Exceeds\",\"Check\",0)","v":0},{"$f":"'PO-Calcs'!O81","v":"NB"},{"$f":"'PO-Calcs'!P81","v":"NB"}]
[null,null,null,"Thu",null,null,null,"00:00:00",null,null,"00:00:00",null,"00:00:00","00:00:00","00:00:00","00:00:00","00:00:00",0,{"$f":"IF('PO-Calcs'!J82=\"Under\",\"Check\",0)","v":0},{"$f":"IF('PO-Calcs'!M82=\"Exceeds\",\"Check\",0)","v":0},{"$f":"'PO-Calcs'!O82","v":"NB"},{"$f":"'PO-Calcs'!P82","v":"NB"}]
[null,null,null,"Fri",null,null,null,"00:00:00",null,null,0,null,"00:00:00","00:00:00","00:00:00","00:00:00","00:00:00",0,{"$f":"IF('PO-Calcs'!J83=\"Under\",\"Check\",0)","v":0},{"$f":"IF('PO-Calcs'!M83=\"Exceeds\",\"Check\",0)","v":0},{"$f":"'PO-Calcs'!O83","v":"NB"},{"$f":"'PO-Calcs'!P83","v":"NB"}]
[null,null,null,"Sat",null,null,null,"00:00:00",null,null,"00:00:00",{"$f":"H85","v":"00:00:00"},"00:00:00","00:00:00","00:00:00","00:00:00","00:00:00",0,{"$f":"IF('PO-Calcs'!J84=\"Under\",\"Check\",0)","v":0},{"$f":"IF('PO-Calcs'!M84=\"Exceeds\",\"Check\",0)","v":0},{"$f":"'PO-Calcs'!O84","v":"NB"},{"$f":"'PO-Calcs'!P84","v":"NB"}]
[null,null,null,"Sun",null,null,null,"00:00:00",null,null,"00:00:00","00:00:00","00:00:00","00:00:00","00:00:00","00:00:00","00:00:00",0,{"$f":"IF(ISTEXT(E81),\"\",IF('PO-Calcs'!J85=\"Under\",\"Check\",\"\"))","v":""},{"$f":"IF('PO-Calcs'!M85=\"Exceeds\",\"Check\",0)","v":0},{"$f":"'PO-Calcs'!O85","v":"NB"},{"$f":"'PO-Calcs'!P85","v":"NB"}]
[null,null,"Week13","Mon",null,null,null,"00:00:00",{"$f":"SUM(H87:H93)","v":0},{"$f":"IF(E87=\"\",\"\",AVERAGE(I$3:I87))","v":""},"00:00:00",null,"00:00:00","00:00:00","00:00:00","00:00:00","00:00:00",0,{"$f":"IF('PO-Calcs'!J86=\"Under\",\"Check\",0)","v":0},{"$f":"IF('PO-Calcs'!M86=\"Exceeds\",\"Check\",0)","v":0},{"$f":"'PO-Calcs'!O86","v":"NB"},{"$f":"'PO-Calcs'!P86","v":"NB"}]
[null,null,null,"Tue",null,null,null,"00:00:00",null,null,"00:00:00",null,"00:00:00","00:00:00","00:00:00","00:00:00","00:00:00",0,{"$f":"IF('PO-Calcs'!J87=\"Under\",\"Check\",0)","v":0},{"$f":"IF('PO-Calcs'!M87=\"Exceeds\",\"Check\",0)","v":0},{"$f":"'PO-Calcs'!O87","v":"NB"},{"$f":"'PO-Calcs'!P87","v":"NB"}]
[null,null,null,"Wed",null,null,null,"00:00:00",null,null,"00:00:00",null,"00:00:00","00:00:00","00:00:00","00:00:00","00:00:00",0,{"$f":"IF('PO-Calcs'!J88=\"Under\",\"Check\",0)","v":0},{"$f":"IF('PO-Calcs'!M88=\"Exceeds\",\"Check\",0)","v":0},{"$f":"'PO-Calcs'!O88","v":"NB"},{"$f":"'PO-Calcs'!P88","v":"NB"}]
[null,null,null,"Thu",null,null,null,"00:00:00",null,null,"00:00:00",null,"00:00:00","00:00:00","00:00:00","00:00:00","00:00:00",0,{"$f":"IF('PO-Calcs'!J89=\"Under\",\"Check\",0)","v":0},{"$f":"IF('PO-Calcs'!M89=\"Exceeds\",\"Check\",0)","v":0},{"$f":"'PO-Calcs'!O89","v":"NB"},{"$f":"'PO-Calcs'!P89","v":"NB"}]
[null,null,null,"Fri",null,null,null,"00:00:00",null,null,0,null,"00:00:00","00:00:00","00:00:00","00:00:00","00:00:00",0,{"$f":"IF('PO-Calcs'!J90=\"Under\",\"Check\",0)","v":0},{"$f":"IF('PO-Calcs'!M90=\"Exceeds\",\"Check\",0)","v":0},{"$f":"'PO-Calcs'!O90","v":"NB"},{"$f":"'PO-Calcs'!P90","v":"NB"}]
[null,null,null,"Sat",null,null,null,"00:00:00",null,null,"00:00:00",{"$f":"H92","v":"00:00:00"},"00:00:00","00:00:00","00:00:00","00:00:00","00:00:00",0,{"$f":"IF('PO-Calcs'!J91=\"Under\",\"Check\",0)","v":0},{"$f":"IF('PO-Calcs'!M91=\"Exceeds\",\"Check\",0)","v":0},{"$f":"'PO-Calcs'!O91","v":"NB"},{"$f":"'PO-Calcs'!P91","v":"NB"}]
[null,null,null,"Sun",null,null,null,"00:00:00",null,null,"00:00:00","00:00:00","00:00:00","00:00:00","00:00:00","00:00:00","00:00:00",0,{"$f":"IF(ISTEXT(E88),\"\",IF('PO-Calcs'!J92=\"Under\",\"Check\",\"\"))","v":""},{"$f":"IF('PO-Calcs'!M92=\"Exceeds\",\"Check\",0)","v":0},{"$f":"'PO-Calcs'!O92","v":"NB"},{"$f":"'PO-Calcs'!P92","v":"NB"}]
[null,null,"Week14","Mon",null,null,null,"00:00:00",{"$f":"SUM(H94:H100)","v":0},{"$f":"IF(E94=\"\",\"\",AVERAGE(I$3:I94))","v":""},"00:00:00",null,"00:00:00","00:00:00","00:00:00","00:00:00","00:00:00",0,{"$f":"IF('PO-Calcs'!J93=\"Under\",\"Check\",0)","v":0},{"$f":"IF('PO-Calcs'!M93=\"Exceeds\",\"Check\",0)","v":0},{"$f":"'PO-Calcs'!O93","v":"NB"},{"$f":"'PO-Calcs'!P93","v":"NB"}]
[null,null,null,"Tue",null,null,null,"00:00:00",null,null,"00:00:00",null,"00:00:00","00:00:00","00:00:00","00:00:00","00:00:00",0,{"$f":"IF('PO-Calcs'!J94=\"Under\",\"Check\",0)","v":0},{"$f":"IF('PO-Calcs'!M94=\"Exceeds\",\"Check\",0)","v":0},{"$f":"'PO-Calcs'!O94","v":"NB"},{"$f":"'PO-Calcs'!P94","v":"NB"}]
[null,null,null,"Wed",null,null,null,"00:00:00",null,null,"00:00:00",null,"00:00:00","00:00:00","00:00:00","00:00:00","00:00:00",0,{"$f":"IF('PO-Calcs'!J95=\"Under\",\"Check\",0)","v":0},{"$f":"IF('PO-Calcs'!M95=\"Exceeds\",\"Check\",0)","v":0},{"$f":"'PO-Calcs'!O95","v":"NB"},{"$f":"'PO-Calcs'!P95","v":"NB"}]
[null,null,null,"Thu",null,null,null,"00:00:00",null,null,"00:00:00",null,"00:00:00","00:00:00","00:00:00","00:00:00","00:00:00",0,{"$f":"IF('PO-Calcs'!J96=\"Under\",\"Check\",0)","v":0},{"$f":"IF('PO-Calcs'!M96=\"Exceeds\",\"Check\",0)","v":0},{"$f":"'PO-Calcs'!O96","v":"NB"},{"$f":"'PO-Calcs'!P96","v":"NB"}]
[null,null,null,"Fri",null,null,null,"00:00:00",null,null,0,null,"00:00:00","00:00:00","00:00:00","00:00:00","00:00:00",0,{"$f":"IF('PO-Calcs'!J97=\"Under\",\"Check\",0)","v":0},{"$f":"IF('PO-Calcs'!M97=\"Exceeds\",\"Check\",0)","v":0},{"$f":"'PO-Calcs'!O97","v":"NB"},{"$f":"'PO-Calcs'!P97","v":"NB"}]
[null,null,null,"Sat",null,null,null,"00:00:00",null,null,"00:00:00",{"$f":"H99","v":"00:00:00"},"00:00:00","00:00:00","00:00:00","00:00:00","00:00:00",0,{"$f":"IF('PO-Calcs'!J98=\"Under\",\"Check\",0)","v":0},{"$f":"IF('PO-Calcs'!M98=\"Exceeds\",\"Check\",0)","v":0},{"$f":"'PO-Calcs'!O98","v":"NB"},{"$f":"'PO-Calcs'!P98","v":"NB"}]
[null,null,null,"Sun",null,null,null,"00:00:00",null,null,"00:00:00","00:00:00","00:00:00","00:00:00","00:00:00","00:00:00","00:00:00",0,{"$f":"IF(ISTEXT(E95),\"\",IF('PO-Calcs'!J99=\"Under\",\"Check\",\"\"))","v":""},{"$f":"IF('PO-Calcs'!M99=\"Exceeds\",\"Check\",0)","v":0},{"$f":"'PO-Calcs'!O99","v":"NB"},{"$f":"'PO-Calcs'!P99","v":"NB"}]
[null,null,"Week15","Mon",null,null,null,"00:00:00",{"$f":"SUM(H101:H107)","v":0},{"$f":"IF(E101=\"\",\"\",AVERAGE(I$3:I101))","v":""},"00:00:00",null,"00:00:00","00:00:00","00:00:00","00:00:00","00:00:00",0,{"$f":"IF('PO-Calcs'!J100=\"Under\",\"Check\",0)","v":0},{"$f":"IF('PO-Calcs'!M100=\"Exceeds\",\"Check\",0)","v":0},{"$f":"'PO-Calcs'!O100","v":"NB"},{"$f":"'PO-Calcs'!P100","v":"NB"}]
[null,null,null,"Tue",null,null,null,"00:00:00",null,null,"00:00:00",null,"00:00:00","00:00:00","00:00:00","00:00:00","00:00:00",0,{"$f":"IF('PO-Calcs'!J101=\"Under\",\"Check\",0)","v":0},{"$f":"IF('PO-Calcs'!M101=\"Exceeds\",\"Check\",0)","v":0},{"$f":"'PO-Calcs'!O101","v":"NB"},{"$f":"'PO-Calcs'!P101","v":"NB"}]
[null,null,null,"Wed",null,null,null,"00:00:00",null,null,"00:00:00",null,"00:00:00","00:00:00","00:00:00","00:00:00","00:00:00",0,{"$f":"IF('PO-Calcs'!J102=\"Under\",\"Check\",0)","v":0},{"$f":"IF('PO-Calcs'!M102=\"Exceeds\",\"Check\",0)","v":0},{"$f":"'PO-Calcs'!O102","v":"NB"},{"$f":"'PO-Calcs'!P102","v":"NB"}]
[null,null,null,"Thu",null,null,null,"00:00:00",null,null,"00:00:00",null,"00:00:00","00:00:00","00:00:00","00:00:00","00:00:00",0,{"$f":"IF('PO-Calcs'!J103=\"Under\",\"Check\",0)","v":0},{"$f":"IF('PO-Calcs'!M103=\"Exceeds\",\"Check\",0)","v":0},{"$f":"'PO-Calcs'!O103","v":"NB"},{"$f":"'PO-Calcs'!P103","v":"NB"}]
[null,null,null,"Fri",null,null,null,"00:00:00",null,null,0,null,"00:00:00","00:00:00","00:00:00","00:00:00","00:00:00",0,{"$f":"IF('PO-Calcs'!J104=\"Under\",\"Check\",0)","v":0},{"$f":"IF('PO-Calcs'!M104=\"Exceeds\",\"Check\",0)","v":0},{"$f":"'PO-Calcs'!O104","v":"NB"},{"$f":"'PO-Calcs'!P104","v":"NB"}]
[null,null,null,"Sat",null,null,null,"00:00:00",null,null,"00:00:00",{"$f":"H106","v":"00:00:00"},"00:00:00","00:00:00","00:00:00","00:00:00","00:00:00",0,{"$f":"IF('PO-Calcs'!J105=\"Under\",\"Check\",0)","v":0},{"$f":"IF('PO-Calcs'!M105=\"Exceeds\",\"Check\",0)","v":0},{"$f":"'PO-Calcs'!O105","v":"NB"},{"$f":"'PO-Calcs'!P105","v":"NB"}]
[null,null,null,"Sun",null,null,null,"00:00:00",null,null,"00:00:00","00:00:00","00:00:00","00:00:00","00:00:00","00:00:00","00:00:00",0,{"$f":"IF(ISTEXT(E102),\"\",IF('PO-Calcs'!J106=\"Under\",\"Check\",\"\"))","v":""},{"$f":"IF('PO-Calcs'!M106=\"Exceeds\",\"Check\",0)","v":0},{"$f":"'PO-Calcs'!O106","v":"NB"},{"$f":"'PO-Calcs'!P106","v":"NB"}]
[null,null,"Week16","Mon",null,null,null,"00:00:00",{"$f":"SUM(H108:H114)","v":0},{"$f":"IF(E108=\"\",\"\",AVERAGE(I$3:I108))","v":""},"00:00:00",null,"00:00:00","00:00:00","00:00:00","00:00:00","00:00:00",0,{"$f":"IF('PO-Calcs'!J107=\"Under\",\"Check\",0)","v":0},{"$f":"IF('PO-Calcs'!M107=\"Exceeds\",\"Check\",0)","v":0},{"$f":"'PO-Calcs'!O107","v":"NB"},{"$f":"'PO-Calcs'!P107","v":"NB"}]
[null,null,null,"Tue",null,null,null,"00:00:00",null,null,"00:00:00",null,"00:00:00","00:00:00","00:00:00","00:00:00","00:00:00",0,{"$f":"IF('PO-Calcs'!J108=\"Under\",\"Check\",0)","v":0},{"$f":"IF('PO-Calcs'!M108=\"Exceeds\",\"Check\",0)","v":0},{"$f":"'PO-Calcs'!O108","v":"NB"},{"$f":"'PO-Calcs'!P108","v":"NB"}]
[null,null,null,"Wed",null,null,null,"00:00:00",null,null,"00:00:00",null,"00:00:00","00:00:00","00:00:00","00:00:00","00:00:00",0,{"$f":"IF('PO-Calcs'!J109=\"Under\",\"Check\",0)","v":0},{"$f":"IF('PO-Calcs'!M109=\"Exceeds\",\"Check\",0)","v":0},{"$f":"'PO-Calcs'!O109","v":"NB"},{"$f":"'PO-Calcs'!P109","v":"NB"}]
[null,null,null,"Thu",null,null,null,"00:00:00",null,null,"00:00:00",null,"00:00:00","00:00:00","00:00:00","00:00:00","00:00:00",0,{"$f":"IF('PO-Calcs'!J110=\"Under\",\"Check\",0)","v":0},{"$f":"IF('PO-Calcs'!M110=\"Exceeds\",\"Check\",0)","v":0},{"$f":"'PO-Calcs'!O110","v":"NB"},{"$f":"'PO-Calcs'!P110","v":"NB"}]
[null,null,null,"Fri",null,null,null,"00:00:00",null,null,0,null,"00:00:00","00:00:00","00:00:00","00:00:00","00:00:00",0,{"$f":"IF('PO-Calcs'!J111=\"Under\",\"Check\",0)","v":0},{"$f":"IF('PO-Calcs'!M111=\"Exceeds\",\"Check\",0)","v":0},{"$f":"'PO-Calcs'!O111","v":"NB"},{"$f":"'PO-Calcs'!P111","v":"NB"}]
[null,null,null,"Sat",null,null,null,"00:00:00",null,null,"00:00:00",{"$f":"H113","v":"00:00:00"},"00:00:00","00:00:00","00:00:00","00:00:00","00:00:00",0,{"$f":"IF('PO-Calcs'!J112=\"Under\",\"Check\",0)","v":0},{"$f":"IF('PO-Calcs'!M112=\"Exceeds\",\"Check\",0)","v":0},{"$f":"'PO-Calcs'!O112","v":"NB"},{"$f":"'PO-Calcs'!P112","v":"NB"}]
[null,null,null,"Sun",null,null,null,"00:00:00",null,null,"00:00:00","00:00:00","00:00:00","00:00:00","00:00:00","00:00:00","00:00:00",0,{"$f":"IF(ISTEXT(E109),\"\",IF('PO-Calcs'!J113=\"Under\",\"Check\",\"\"))","v":""},{"$f":"IF('PO-Calcs'!M113=\"Exceeds\",\"Check\",0)","v":0},{"$f":"'PO-Calcs'!O113","v":"NB"},{"$f":"'PO-Calcs'!P113","v":"NB"}]
[null,null,"Week17","Mon",null,null,null,"00:00:00",{"$f":"SUM(H115:H121)","v":0},{"$f":"IF(E115=\"\",\"\",AVERAGE(I$3:I115))","v":""},"00:00:00",null,"00:00:00","00:00:00","00:00:00","00:00:00","00:00:00",0,{"$f":"IF('PO-Calcs'!J114=\"Under\",\"Check\",0)","v":0},{"$f":"IF('PO-Calcs'!M114=\"Exceeds\",\"Check\",0)","v":0},{"$f":"'PO-Calcs'!O114","v":"NB"},{"$f":"'PO-Calcs'!P114","v":"NB"}]
[null,null,null,"Tue",null,null,null,"00:00:00",null,null,"00:00:00",null,"00:00:00","00:00:00","00:00:00","00:00:00","00:00:00",0,{"$f":"IF('PO-Calcs'!J115=\"Under\",\"Check\",0)","v":0},{"$f":"IF('PO-Calcs'!M115=\"Exceeds\",\"Check\",0)","v":0},{"$f":"'PO-Calcs'!O115","v":"NB"},{"$f":"'PO-Calcs'!P115","v":"NB"}]
[null,null,null,"Wed",null,null,null,"00:00:00",null,null,"00:00:00",null,"00:00:00","00:00:00","00:00:00","00:00:00","00:00:00",0,{"$f":"IF('PO-Calcs'!J116=\"Under\",\"Check\",0)","v":0},{"$f":"IF('PO-Calcs'!M116=\"Exceeds\",\"Check\",0)","v":0},{"$f":"'PO-Calcs'!O116","v":"NB"},{"$f":"'PO-Calcs'!P116","v":"NB"}]
[null,null,null,"Thu",null,null,null,"00:00:00",null,null,"00:00:00",null,"00:00:00","00:00:00","00:00:00","00:00:00","00:00:00",0,{"$f":"IF('PO-Calcs'!J117=\"Under\",\"Check\",0)","v":0},{"$f":"IF('PO-Calcs'!M117=\"Exceeds\",\"Check\",0)","v":0},{"$f":"'PO-Calcs'!O117","v":"NB"},{"$f":"'PO-Calcs'!P117","v":"NB"}]
[null,null,null,"Fri",null,null,null,"00:00:00",null,null,0,null,"00:00:00","00:00:00","00:00:00","00:00:00","00:00:00",0,{"$f":"IF('PO-Calcs'!J118=\"Under\",\"Check\",0)","v":0},{"$f":"IF('PO-Calcs'!M118=\"Exceeds\",\"Check\",0)","v":0},{"$f":"'PO-Calcs'!O118","v":"NB"},{"$f":"'PO-Calcs'!P118","v":"NB"}]
[null,null,null,"Sat",null,null,null,"00:00:00",null,null,"00:00:00",{"$f":"H120","v":"00:00:00"},"00:00:00","00:00:00","00:00:00","00:00:00","00:00:00",0,{"$f":"IF('PO-Calcs'!J119=\"Under\",\"Check\",0)","v":0},{"$f":"IF('PO-Calcs'!M119=\"Exceeds\",\"Check\",0)","v":0},{"$f":"'PO-Calcs'!O119","v":"NB"},{"$f":"'PO-Calcs'!P119","v":"NB"}]
[null,null,null,"Sun",null,null,null,"00:00:00",null,null,"00:00:00","00:00:00","00:00:00","00:00:00","00:00:00","00:00:00","00:00:00",0,{"$f":"IF(ISTEXT(E116),\"\",IF('PO-Calcs'!J120=\"Under\",\"Check\",\"\"))","v":""},{"$f":"IF('PO-Calcs'!M120=\"Exceeds\",\"Check\",0)","v":0},{"$f":"'PO-Calcs'!O120","v":"NB"},{"$f":"'PO-Calcs'!P120","v":"NB"}]
[null,null,"Week18","Mon",null,null,null,"00:00:00",{"$f":"SUM(H122:H128)","v":0},{"$f":"IF(E122=\"\",\"\",AVERAGE(I$3:I122))","v":""},"00:00:00",null,"00:00:00","00:00:00","00:00:00","00:00:00","00:00:00",0,{"$f":"IF('PO-Calcs'!J121=\"Under\",\"Check\",0)","v":0},{"$f":"IF('PO-Calcs'!M121=\"Exceeds\",\"Check\",0)","v":0},{"$f":"'PO-Calcs'!O121","v":"NB"},{"$f":"'PO-Calcs'!P121","v":"NB"}]
[null,null,null,"Tue",null,null,null,"00:00:00",null,null,"00:00:00",null,"00:00:00","00:00:00","00:00:00","00:00:00","00:00:00",0,{"$f":"IF('PO-Calcs'!J122=\"Under\",\"Check\",0)","v":0},{"$f":"IF('PO-Calcs'!M122=\"Exceeds\",\"Check\",0)","v":0},{"$f":"'PO-Calcs'!O122","v":"NB"},{"$f":"'PO-Calcs'!P122","v":"NB"}]
[null,null,null,"Wed",null,null,null,"00:00:00",null,null,"00:00:00",null,"00:00:00","00:00:00","00:00:00","00:00:00","00:00:00",0,{"$f":"IF('PO-Calcs'!J123=\"Under\",\"Check\",0)","v":0},{"$f":"IF('PO-Calcs'!M123=\"Exceeds\",\"Check\",0)","v":0},{"$f":"'PO-Calcs'!O123","v":"NB"},{"$f":"'PO-Calcs'!P123","v":"NB"}]
[null,null,null,"Thu",null,null,null,"00:00:00",null,null,"00:00:00",null,"00:00:00","00:00:00","00:00:00","00:00:00","00:00:00",0,{"$f":"IF('PO-Calcs'!J124=\"Under\",\"Check\",0)","v":0},{"$f":"IF('PO-Calcs'!M124=\"Exceeds\",\"Check\",0)","v":0},{"$f":"'PO-Calcs'!O124","v":"NB"},{"$f":"'PO-Calcs'!P124","v":"NB"}]
[null,null,null,"Fri",null,null,null,"00:00:00",null,null,0,null,"00:00:00","00:00:00","00:00:00","00:00:00","00:00:00",0,{"$f":"IF('PO-Calcs'!J125=\"Under\",\"Check\",0)","v":0},{"$f":"IF('PO-Calcs'!M125=\"Exceeds\",\"Check\",0)","v":0},{"$f":"'PO-Calcs'!O125","v":"NB"},{"$f":"'PO-Calcs'!P125","v":"NB"}]
[null,null,null,"Sat",null,null,null,"00:00:00",null,null,"00:00:00",{"$f":"H127","v":"00:00:00"},"00:00:00","00:00:00","00:00:00","00:00:00","00:00:00",0,{"$f":"IF('PO-Calcs'!J126=\"Under\",\"Check\",0)","v":0},{"$f":"IF('PO-Calcs'!M126=\"Exceeds\",\"Check\",0)","v":0},{"$f":"'PO-Calcs'!O126","v":"NB"},{"$f":"'PO-Calcs'!P126","v":"NB"}]
[null,null,null,"Sun",null,null,null,"00:00:00",null,null,"00:00:00","00:00:00","00:00:00","00:00:00","00:00:00","00:00:00","00:00:00",0,{"$f":"IF(ISTEXT(E123),\"\",IF('PO-Calcs'!J127=\"Under\",\"Check\",\"\"))","v":""},{"$f":"IF('PO-Calcs'!M127=\"Exceeds\",\"Check\",0)","v":0},{"$f":"'PO-Calcs'!O127","v":"NB"},{"$f":"'PO-Calcs'!P127","v":"NB"}]
[null,null,"Week19","Mon",null,null,null,"00:00:00",{"$f":"SUM(H129:H135)","v":0},{"$f":"IF(E129=\"\",\"\",AVERAGE(I$3:I129))","v":""},"00:00:00",null,"00:00:00","00:00:00","00:00:00","00:00:00","00:00:00",0,{"$f":"IF('PO-Calcs'!J128=\"Under\",\"Check\",0)","v":0},{"$f":"IF('PO-Calcs'!M128=\"Exceeds\",\"Check\",0)","v":0},{"$f":"'PO-Calcs'!O128","v":"NB"},{"$f":"'PO-Calcs'!P128","v":"NB"}]
[null,null,null,"Tue",null,null,null,"00:00:00",null,null,"00:00:00",null,"00:00:00","00:00:00","00:00:00","00:00:00","00:00:00",0,{"$f":"IF('PO-Calcs'!J129=\"Under\",\"Check\",0)","v":0},{"$f":"IF('PO-Calcs'!M129=\"Exceeds\",\"Check\",0)","v":0},{"$f":"'PO-Calcs'!O129","v":"NB"},{"$f":"'PO-Calcs'!P129","v":"NB"}]
[null,null,null,"Wed",null,null,null,{"$f":"IF(E131=\"R\",0,IF(E131=\"F\",0,IF(F131<E131,F131+1,F131)-E131))","v":"00:00:00"},null,null,{"$f":"IF(F131<E131,F131+1,F131)","v":"00:00:00"},null,{"$f":"IF(H131>0,IF(M$2-E131>0,M$2-E131,0),0)","v":"00:00:00"},{"$f":"IF(H131>0,IF(F131-N$2>0,F131-N$2,0),0)","v":"00:00:00"},{"$f":"IF(H131>0,IF(O$2-F131<0,0,F131),0)","v":"00:00:00"},{"$f":"IF(H131>0,IF(E131-P$2<0,0,R$2-E131),0)","v":"00:00:00"},"00:00:00",0,{"$f":"IF('PO-Calcs'!J130=\"Under\",\"Check\",0)","v":0},{"$f":"IF('PO-Calcs'!M130=\"Exceeds\",\"Check\",0)","v":0},{"$f":"'PO-Calcs'!O130","v":"NB"},{"$f":"'PO-Calcs'!P130","v":"NB"}]
[null,null,null,"Thu",null,null,null,"00:00:00",null,null,"00:00:00",null,"00:00:00","00:00:00","00:00:00","00:00:00","00:00:00",0,{"$f":"IF('PO-Calcs'!J131=\"Under\",\"Check\",0)","v":0},{"$f":"IF('PO-Calcs'!M131=\"Exceeds\",\"Check\",0)","v":0},{"$f":"'PO-Calcs'!O131","v":"NB"},{"$f":"'PO-Calcs'!P131","v":"NB"}]
[null,null,null,"Fri",null,null,null,"00:00:00",null,null,0,null,"00:00:00","00:00:00","00:00:00","00:00:00","00:00:00",0,{"$f":"IF('PO-Calcs'!J132=\"Under\",\"Check\",0)","v":0},{"$f":"IF('PO-Calcs'!M132=\"Exceeds\",\"Check\",0)","v":0},{"$f":"'PO-Calcs'!O132","v":"NB"},{"$f":"'PO-Calcs'!P132","v":"NB"}]
[null,null,null,"Sat",null,null,null,"00:00:00",null,null,"00:00:00",{"$f":"H134","v":"00:00:00"},"00:00:00","00:00:00","00:00:00","00:00:00","00:00:00",0,{"$f":"IF('PO-Calcs'!J133=\"Under\",\"Check\",0)","v":0},{"$f":"IF('PO-Calcs'!M133=\"Exceeds\",\"Check\",0)","v":0},{"$f":"'PO-Calcs'!O133","v":"NB"},{"$f":"'PO-Calcs'!P133","v":"NB"}]
[null,null,null,"Sun",null,null,null,"00:00:00",null,null,"00:00:00","00:00:00","00:00:00","00:00:00","00:00:00","00:00:00","00:00:00",0,{"$f":"IF(ISTEXT(E130),\"\",IF('PO-Calcs'!J134=\"Under\",\"Check\",\"\"))","v":""},{"$f":"IF('PO-Calcs'!M134=\"Exceeds\",\"Check\",0)","v":0},{"$f":"'PO-Calcs'!O134","v":"NB"},{"$f":"'PO-Calcs'!P134","v":"NB"}]
[null,null,"Week20","Mon",null,null,null,"00:00:00",{"$f":"SUM(H136:H142)","v":0},{"$f":"IF(E136=\"\",\"\",AVERAGE(I$3:I136))","v":""},"00:00:00",null,"00:00:00","00:00:00","00:00:00","00:00:00","00:00:00",0,{"$f":"IF('PO-Calcs'!J135=\"Under\",\"Check\",0)","v":0},{"$f":"IF('PO-Calcs'!M135=\"Exceeds\",\"Check\",0)","v":0},{"$f":"'PO-Calcs'!O135","v":"NB"},{"$f":"'PO-Calcs'!P135","v":"NB"}]
[null,null,null,"Tue",null,null,null,"00:00:00",null,null,"00:00:00",null,"00:00:00","00:00:00","00:00:00","00:00:00","00:00:00",0,{"$f":"IF('PO-Calcs'!J136=\"Under\",\"Check\",0)","v":0},{"$f":"IF('PO-Calcs'!M136=\"Exceeds\",\"Check\",0)","v":0},{"$f":"'PO-Calcs'!O136","v":"NB"},{"$f":"'PO-Calcs'!P136","v":"NB"}]
[null,null,null,"Wed",null,null,null,"00:00:00",null,null,"00:00:00",null,"00:00:00","00:00:00","00:00:00","00:00:00","00:00:00",{"$f":"IF(H138>0,IF(SUM(M138:P138)>0,\"yes\",\"no\"),0)","v":0},{"$f":"IF('PO-Calcs'!J137=\"Under\",\"Check\",0)","v":0},{"$f":"IF('PO-Calcs'!M137=\"Exceeds\",\"Check\",0)","v":0},{"$f":"'PO-Calcs'!O137","v":"NB"},{"$f":"'PO-Calcs'!P137","v":"NB"}]
[null,null,null,"Thu",null,null,null,"00:00:00",null,null,"00:00:00",null,"00:00:00","00:00:00","00:00:00","00:00:00",{"$f":"SUM(M139:P139)","v":"00:00:00"},0,{"$f":"IF('PO-Calcs'!J138=\"Under\",\"Check\",0)","v":0},{"$f":"IF('PO-Calcs'!M138=\"Exceeds\",\"Check\",0)","v":0},{"$f":"'PO-Calcs'!O138","v":"NB"},{"$f":"'PO-Calcs'!P138","v":"NB"}]
[null,null,null,"Fri",null,null,null,"00:00:00",null,null,0,null,"00:00:00","00:00:00","00:00:00","00:00:00","00:00:00",0,{"$f":"IF('PO-Calcs'!J139=\"Under\",\"Check\",0)","v":0},{"$f":"IF('PO-Calcs'!M139=\"Exceeds\",\"Check\",0)","v":0},{"$f":"'PO-Calcs'!O139","v":"NB"},{"$f":"'PO-Calcs'!P139","v":"NB"}]
[null,null,null,"Sat",null,null,null,"00:00:00",null,null,"00:00:00",{"$f":"H141","v":"00:00:00"},"00:00:00","00:00:00","00:00:00","00:00:00","00:00:00",0,{"$f":"IF('PO-Calcs'!J140=\"Under\",\"Check\",0)","v":0},{"$f":"IF('PO-Calcs'!M140=\"Exceeds\",\"Check\",0)","v":0},{"$f":"'PO-Calcs'!O140","v":"NB"},{"$f":"'PO-Calcs'!P140","v":"NB"}]
[null,null,null,"Sun",null,null,null,"00:00:00",null,null,"00:00:00","00:00:00","00:00:00","00:00:00","00:00:00","00:00:00","00:00:00",0,{"$f":"IF(ISTEXT(E137),\"\",IF('PO-Calcs'!J141=\"Under\",\"Check\",\"\"))","v":""},{"$f":"IF('PO-Calcs'!M141=\"Exceeds\",\"Check\",0)","v":0},{"$f":"'PO-Calcs'!O141","v":"NB"},{"$f":"'PO-Calcs'!P141","v":"NB"}]
[null,null,"Week21","Mon",null,null,null,"00:00:00",{"$f":"SUM(H143:H149)","v":0},{"$f":"IF(E143=\"\",\"\",AVERAGE(I$3:I143))","v":""},"00:00:00",null,"00:00:00","00:00:00","00:00:00","00:00:00","00:00:00",0,{"$f":"IF('PO-Calcs'!J142=\"Under\",\"Check\",0)","v":0},{"$f":"IF('PO-Calcs'!M142=\"Exceeds\",\"Check\",0)","v":0},{"$f":"'PO-Calcs'!O142","v":"NB"},{"$f":"'PO-Calcs'!P142","v":"NB"}]
[null,null,null,"Tue",null,null,null,"00:00:00",null,null,"00:00:00",null,"00:00:00","00:00:00","00:00:00","00:00:00","00:00:00",0,{"$f":"IF('PO-Calcs'!J143=\"Under\",\"Check\",0)","v":0},{"$f":"IF('PO-Calcs'!M143=\"Exceeds\",\"Check\",0)","v":0},{"$f":"'PO-Calcs'!O143","v":"NB"},{"$f":"'PO-Calcs'!P143","v":"NB"}]
[null,null,null,"Wed",null,null,null,"00:00:00",null,null,"00:00:00",null,"00:00:00","00:00:00","00:00:00","00:00:00","00:00:00",0,{"$f":"IF('PO-Calcs'!J144=\"Under\",\"Check\",0)","v":0},{"$f":"IF('PO-Calcs'!M144=\"Exceeds\",\"Check\",0)","v":0},{"$f":"'PO-Calcs'!O144","v":"NB"},{"$f":"'PO-Calcs'!P144","v":"NB"}]
[null,null,null,"Thu",null,null,null,"00:00:00",null,null,"00:00:00",null,"00:00:00","00:00:00","00:00:00","00:00:00","00:00:00",0,{"$f":"IF('PO-Calcs'!J145=\"Under\",\"Check\",0)","v":0},{"$f":"IF('PO-Calcs'!M145=\"Exceeds\",\"Check\",0)","v":0},{"$f":"'PO-Calcs'!O145","v":"NB"},{"$f":"'PO-Calcs'!P145","v":"NB"}]
[null,null,null,"Fri",null,null,null,"00:00:00",null,null,0,null,"00:00:00","00:00:00","00:00:00","00:00:00","00:00:00",0,{"$f":"IF('PO-Calcs'!J146=\"Under\",\"Check\",0)","v":0},{"$f":"IF('PO-Calcs'!M146=\"Exceeds\",\"Check\",0)","v":0},{"$f":"'PO-Calcs'!O146","v":"NB"},{"$f":"'PO-Calcs'!P146","v":"NB"}]
[null,null,null,"Sat",null,null,null,"00:00:00",null,null,"00:00:00",{"$f":"H148","v":"00:00:00"},"00:00:00","00:00:00","00:00:00","00:00:00","00:00:00",0,{"$f":"IF('PO-Calcs'!J147=\"Under\",\"Check\",0)","v":0},{"$f":"IF('PO-Calcs'!M147=\"Exceeds\",\"Check\",0)","v":0},{"$f":"'PO-Calcs'!O147","v":"NB"},{"$f":"'PO-Calcs'!P147","v":"NB"}]
[null,null,null,"Sun",null,null,null,"00:00:00",null,null,"00:00:00","00:00:00","00:00:00","00:00:00","00:00:00","00:00:00","00:00:00",0,{"$f":"IF(ISTEXT(E144),\"\",IF('PO-Calcs'!J148=\"Under\",\"Check\",\"\"))","v":""},{"$f":"IF('PO-Calcs'!M148=\"Exceeds\",\"Check\",0)","v":0},{"$f":"'PO-Calcs'!O148","v":"NB"},{"$f":"'PO-Calcs'!P148","v":"NB"}]
[null,null,"Week22","Mon",null,null,null,"00:00:00",{"$f":"SUM(H150:H156)","v":0},{"$f":"IF(E150=\"\",\"\",AVERAGE(I$3:I150))","v":""},"00:00:00",null,"00:00:00","00:00:00","00:00:00","00:00:00","00:00:00",0,{"$f":"IF('PO-Calcs'!J149=\"Under\",\"Check\",0)","v":0},{"$f":"IF('PO-Calcs'!M149=\"Exceeds\",\"Check\",0)","v":0},{"$f":"'PO-Calcs'!O149","v":"NB"},{"$f":"'PO-Calcs'!P149","v":"NB"}]
[null,null,null,"Tue",null,null,null,"00:00:00",null,null,"00:00:00",null,"00:00:00","00:00:00","00:00:00","00:00:00","00:00:00",0,{"$f":"IF('PO-Calcs'!J150=\"Under\",\"Check\",0)","v":0},{"$f":"IF('PO-Calcs'!M150=\"Exceeds\",\"Check\",0)","v":0},{"$f":"'PO-Calcs'!O150","v":"NB"},{"$f":"'PO-Calcs'!P150","v":"NB"}]
[null,null,null,"Wed",null,null,null,"00:00:00",null,null,"00:00:00",null,"00:00:00","00:00:00","00:00:00","00:00:00","00:00:00",0,{"$f":"IF('PO-Calcs'!J151=\"Under\",\"Check\",0)","v":0},{"$f":"IF('PO-Calcs'!M151=\"Exceeds\",\"Check\",0)","v":0},{"$f":"'PO-Calcs'!O151","v":"NB"},{"$f":"'PO-Calcs'!P151","v":"NB"}]
[null,null,null,"Thu",null,null,null,"00:00:00",null,null,"00:00:00",null,"00:00:00","00:00:00","00:00:00","00:00:00","00:00:00",0,{"$f":"IF('PO-Calcs'!J152=\"Under\",\"Check\",0)","v":0},{"$f":"IF('PO-Calcs'!M152=\"Exceeds\",\"Check\",0)","v":0},{"$f":"'PO-Calcs'!O152","v":"NB"},{"$f":"'PO-Calcs'!P152","v":"NB"}]
[null,null,null,"Fri",null,null,null,"00:00:00",null,null,0,null,"00:00:00","00:00:00","00:00:00","00:00:00","00:00:00",0,{"$f":"IF('PO-Calcs'!J153=\"Under\",\"Check\",0)","v":0},{"$f":"IF('PO-Calcs'!M153=\"Exceeds\",\"Check\",0)","v":0},{"$f":"'PO-Calcs'!O153","v":"NB"},{"$f":"'PO-Calcs'!P153","v":"NB"}]
[null,null,null,"Sat",null,null,null,"00:00:00",null,null,"00:00:00",{"$f":"H155","v":"00:00:00"},"00:00:00","00:00:00","00:00:00","00:00:00","00:00:00",0,{"$f":"IF('PO-Calcs'!J154=\"Under\",\"Check\",0)","v":0},{"$f":"IF('PO-Calcs'!M154=\"Exceeds\",\"Check\",0)","v":0},{"$f":"'PO-Calcs'!O154","v":"NB"},{"$f":"'PO-Calcs'!P154","v":"NB"}]
[null,null,null,"Sun",null,null,null,"00:00:00",null,null,"00:00:00","00:00:00","00:00:00","00:00:00","00:00:00","00:00:00","00:00:00",0,{"$f":"IF(ISTEXT(E151),\"\",IF('PO-Calcs'!J155=\"Under\",\"Check\",\"\"))","v":""},{"$f":"IF('PO-Calcs'!M155=\"Exceeds\",\"Check\",0)","v":0},{"$f":"'PO-Calcs'!O155","v":"NB"},{"$f":"'PO-Calcs'!P155","v":"NB"}]
[null,null,"Week23","Mon",null,null,null,"00:00:00",{"$f":"SUM(H157:H163)","v":0},{"$f":"IF(E157=\"\",\"\",AVERAGE(I$3:I157))","v":""},"00:00:00",null,"00:00:00","00:00:00","00:00:00","00:00:00","00:00:00",0,{"$f":"IF('PO-Calcs'!J156=\"Under\",\"Check\",0)","v":0},{"$f":"IF('PO-Calcs'!M156=\"Exceeds\",\"Check\",0)","v":0},{"$f":"'PO-Calcs'!O156","v":"NB"},{"$f":"'PO-Calcs'!P156","v":"NB"}]
[null,null,null,"Tue",null,null,null,"00:00:00",null,null,"00:00:00",null,"00:00:00","00:00:00","00:00:00","00:00:00","00:00:00",0,{"$f":"IF('PO-Calcs'!J157=\"Under\",\"Check\",0)","v":0},{"$f":"IF('PO-Calcs'!M157=\"Exceeds\",\"Check\",0)","v":0},{"$f":"'PO-Calcs'!O157","v":"NB"},{"$f":"'PO-Calcs'!P157","v":"NB"}]
[null,null,null,"Wed",null,null,null,"00:00:00",null,null,"00:00:00",null,"00:00:00","00:00:00","00:00:00","00:00:00","00:00:00",0,{"$f":"IF('PO-Calcs'!J158=\"Under\",\"Check\",0)","v":0},{"$f":"IF('PO-Calcs'!M158=\"Exceeds\",\"Check\",0)","v":0},{"$f":"'PO-Calcs'!O158","v":"NB"},{"$f":"'PO-Calcs'!P158","v":"NB"}]
[null,null,null,"Thu",null,null,null,"00:00:00",null,null,"00:00:00",null,"00:00:00","00:00:00","00:00:00","00:00:00","00:00:00",0,{"$f":"IF('PO-Calcs'!J159=\"Under\",\"Check\",0)","v":0},{"$f":"IF('PO-Calcs'!M159=\"Exceeds\",\"Check\",0)","v":0},{"$f":"'PO-Calcs'!O159","v":"NB"},{"$f":"'PO-Calcs'!P159","v":"NB"}]
[null,null,null,"Fri",null,null,null,"00:00:00",null,null,0,null,"00:00:00","00:00:00","00:00:00","00:00:00","00:00:00",0,{"$f":"IF('PO-Calcs'!J160=\"Under\",\"Check\",0)","v":0},{"$f":"IF('PO-Calcs'!M160=\"Exceeds\",\"Check\",0)","v":0},{"$f":"'PO-Calcs'!O160","v":"NB"},{"$f":"'PO-Calcs'!P160","v":"NB"}]
[null,null,null,"Sat",null,null,null,"00:00:00",null,null,"00:00:00",{"$f":"H162","v":"00:00:00"},"00:00:00","00:00:00","00:00:00","00:00:00","00:00:00",0,{"$f":"IF('PO-Calcs'!J161=\"Under\",\"Check\",0)","v":0},{"$f":"IF('PO-Calcs'!M161=\"Exceeds\",\"Check\",0)","v":0},{"$f":"'PO-Calcs'!O161","v":"NB"},{"$f":"'PO-Calcs'!P161","v":"NB"}]
[null,null,null,"Sun",null,null,null,"00:00:00",null,null,"00:00:00","00:00:00","00:00:00","00:00:00","00:00:00","00:00:00","00:00:00",0,{"$f":"IF(ISTEXT(E158),\"\",IF('PO-Calcs'!J162=\"Under\",\"Check\",\"\"))","v":""},{"$f":"IF('PO-Calcs'!M162=\"Exceeds\",\"Check\",0)","v":0},{"$f":"'PO-Calcs'!O162","v":"NB"},{"$f":"'PO-Calcs'!P162","v":"NB"}]
[null,null,"Week24","Mon",null,null,null,"00:00:00",{"$f":"SUM(H164:H170)","v":0},{"$f":"IF(E164=\"\",\"\",AVERAGE(I$3:I164))","v":""},"00:00:00",null,"00:00:00","00:00:00","00:00:00","00:00:00","00:00:00",0,{"$f":"IF('PO-Calcs'!J163=\"Under\",\"Check\",0)","v":0},{"$f":"IF('PO-Calcs'!M163=\"Exceeds\",\"Check\",0)","v":0},{"$f":"'PO-Calcs'!O163","v":"NB"},{"$f":"'PO-Calcs'!P163","v":"NB"}]
[null,null,null,"Tue",null,null,null,"00:00:00",null,null,"00:00:00",null,"00:00:00","00:00:00","00:00:00","00:00:00","00:00:00",0,{"$f":"IF('PO-Calcs'!J164=\"Under\",\"Check\",0)","v":0},{"$f":"IF('PO-Calcs'!M164=\"Exceeds\",\"Check\",0)","v":0},{"$f":"'PO-Calcs'!O164","v":"NB"},{"$f":"'PO-Calcs'!P164","v":"NB"}]
[null,null,null,"Wed",null,null,null,"00:00:00",null,null,"00:00:00",null,"00:00:00","00:00:00","00:00:00","00:00:00","00:00:00",0,{"$f":"IF('PO-Calcs'!J165=\"Under\",\"Check\",0)","v":0},{"$f":"IF('PO-Calcs'!M165=\"Exceeds\",\"Check\",0)","v":0},{"$f":"'PO-Calcs'!O165","v":"NB"},{"$f":"'PO-Calcs'!P165","v":"NB"}]
[null,null,null,"Thu",null,null,null,"00:00:00",null,null,"00:00:00",null,"00:00:00","00:00:00","00:00:00","00:00:00","00:00:00",0,{"$f":"IF('PO-Calcs'!J166=\"Under\",\"Check\",0)","v":0},{"$f":"IF('PO-Calcs'!M166=\"Exceeds\",\"Check\",0)","v":0},{"$f":"'PO-Calcs'!O166","v":"NB"},{"$f":"'PO-Calcs'!P166","v":"NB"}]
[null,null,null,"Fri",null,null,null,"00:00:00",null,null,0,null,"00:00:00","00:00:00","00:00:00","00:00:00","00:00:00",0,{"$f":"IF('PO-Calcs'!J167=\"Under\",\"Check\",0)","v":0},{"$f":"IF('PO-Calcs'!M167=\"Exceeds\",\"Check\",0)","v":0},{"$f":"'PO-Calcs'!O167","v":"NB"},{"$f":"'PO-Calcs'!P167","v":"NB"}]
[null,null,null,"Sat",null,null,null,"00:00:00",null,null,"00:00:00",{"$f":"H169","v":"00:00:00"},"00:00:00","00:00:00","00:00:00","00:00:00","00:00:00",0,{"$f":"IF('PO-Calcs'!J168=\"Under\",\"Check\",0)","v":0},{"$f":"IF('PO-Calcs'!M168=\"Exceeds\",\"Check\",0)","v":0},{"$f":"'PO-Calcs'!O168","v":"NB"},{"$f":"'PO-Calcs'!P168","v":"NB"}]
[null,null,null,"Sun",null,null,null,"00:00:00",null,null,"00:00:00","00:00:00","00:00:00","00:00:00","00:00:00","00:00:00","00:00:00",0,{"$f":"IF(ISTEXT(E165),\"\",IF('PO-Calcs'!J169=\"Under\",\"Check\",\"\"))","v":""},{"$f":"IF('PO-Calcs'!M169=\"Exceeds\",\"Check\",0)","v":0},{"$f":"'PO-Calcs'!O169","v":"NB"},{"$f":"'PO-Calcs'!P169","v":"NB"}]
[null,null,"Week25","Mon",null,null,null,"00:00:00",{"$f":"SUM(H171:H177)","v":0},{"$f":"IF(E171=\"\",\"\",AVERAGE(I$3:I171))","v":""},"00:00:00",null,"00:00:00","00:00:00","00:00:00","00:00:00","00:00:00",0,{"$f":"IF('PO-Calcs'!J170=\"Under\",\"Check\",0)","v":0},{"$f":"IF('PO-Calcs'!M170=\"Exceeds\",\"Check\",0)","v":0},{"$f":"'PO-Calcs'!O170","v":"NB"},{"$f":"'PO-Calcs'!P170","v":"NB"}]
[null,null,null,"Tue",null,null,null,"00:00:00",null,null,"00:00:00",null,"00:00:00","00:00:00","00:00:00","00:00:00","00:00:00",0,{"$f":"IF('PO-Calcs'!J171=\"Under\",\"Check\",0)","v":0},{"$f":"IF('PO-Calcs'!M171=\"Exceeds\",\"Check\",0)","v":0},{"$f":"'PO-Calcs'!O171","v":"NB"},{"$f":"'PO-Calcs'!P171","v":"NB"}]
[null,null,null,"Wed",null,null,null,"00:00:00",null,null,"00:00:00",null,"00:00:00","00:00:00","00:00:00","00:00:00","00:00:00",0,{"$f":"IF('PO-Calcs'!J172=\"Under\",\"Check\",0)","v":0},{"$f":"IF('PO-Calcs'!M172=\"Exceeds\",\"Check\",0)","v":0},{"$f":"'PO-Calcs'!O172","v":"NB"},{"$f":"'PO-Calcs'!P172","v":"NB"}]
[null,null,null,"Thu",null,null,null,"00:00:00",null,null,"00:00:00",null,"00:00:00","00:00:00","00:00:00","00:00:00","00:00:00",0,{"$f":"IF('PO-Calcs'!J173=\"Under\",\"Check\",0)","v":0},{"$f":"IF('PO-Calcs'!M173=\"Exceeds\",\"Check\",0)","v":0},{"$f":"'PO-Calcs'!O173","v":"NB"},{"$f":"'PO-Calcs'!P173","v":"NB"}]
[null,null,null,"Fri",null,null,null,"00:00:00",null,null,0,null,"00:00:00","00:00:00","00:00:00","00:00:00","00:00:00",0,{"$f":"IF('PO-Calcs'!J174=\"Under\",\"Check\",0)","v":0},{"$f":"IF('PO-Calcs'!M174=\"Exceeds\",\"Check\",0)","v":0},{"$f":"'PO-Calcs'!O174","v":"NB"},{"$f":"'PO-Calcs'!P174","v":"NB"}]
[null,null,null,"Sat",null,null,null,"00:00:00",null,null,"00:00:00",{"$f":"H176","v":"00:00:00"},"00:00:00","00:00:00","00:00:00","00:00:00","00:00:00",0,{"$f":"IF('PO-Calcs'!J175=\"Under\",\"Check\",0)","v":0},{"$f":"IF('PO-Calcs'!M175=\"Exceeds\",\"Check\",0)","v":0},{"$f":"'PO-Calcs'!O175","v":"NB"},{"$f":"'PO-Calcs'!P175","v":"NB"}]
[null,null,null,"Sun",null,null,null,"00:00:00",null,null,"00:00:00","00:00:00","00:00:00","00:00:00","00:00:00","00:00:00","00:00:00",0,{"$f":"IF(ISTEXT(E172),\"\",IF('PO-Calcs'!J176=\"Under\",\"Check\",\"\"))","v":""},{"$f":"IF('PO-Calcs'!M176=\"Exceeds\",\"Check\",0)","v":0},{"$f":"'PO-Calcs'!O176","v":"NB"},{"$f":"'PO-Calcs'!P176","v":"NB"}]
[null,null,"Week26","Mon",null,null,null,"00:00:00",{"$f":"SUM(H178:H184)","v":0},{"$f":"IF(E178=\"\",\"\",AVERAGE(I$3:I178))","v":""},"00:00:00",null,"00:00:00","00:00:00","00:00:00","00:00:00","00:00:00",0,{"$f":"IF('PO-Calcs'!J177=\"Under\",\"Check\",0)","v":0},{"$f":"IF('PO-Calcs'!M177=\"Exceeds\",\"Check\",0)","v":0},{"$f":"'PO-Calcs'!O177","v":"NB"},{"$f":"'PO-Calcs'!P177","v":"NB"}]
[null,null,null,"Tue",null,null,null,"00:00:00",null,null,"00:00:00",null,"00:00:00","00:00:00","00:00:00","00:00:00","00:00:00",0,{"$f":"IF('PO-Calcs'!J178=\"Under\",\"Check\",0)","v":0},{"$f":"IF('PO-Calcs'!M178=\"Exceeds\",\"Check\",0)","v":0},{"$f":"'PO-Calcs'!O178","v":"NB"},{"$f":"'PO-Calcs'!P178","v":"NB"}]
[null,null,null,"Wed",null,null,null,"00:00:00",null,null,"00:00:00",null,"00:00:00","00:00:00","00:00:00","00:00:00","00:00:00",0,{"$f":"IF('PO-Calcs'!J179=\"Under\",\"Check\",0)","v":0},{"$f":"IF('PO-Calcs'!M179=\"Exceeds\",\"Check\",0)","v":0},{"$f":"'PO-Calcs'!O179","v":"NB"},{"$f":"'PO-Calcs'!P179","v":"NB"}]
[null,null,null,"Thu",null,null,null,"00:00:00",null,null,"00:00:00",null,"00:00:00","00:00:00","00:00:00","00:00:00","00:00:00",0,{"$f":"IF('PO-Calcs'!J180=\"Under\",\"Check\",0)","v":0},{"$f":"IF('PO-Calcs'!M180=\"Exceeds\",\"Check\",0)","v":0},{"$f":"'PO-Calcs'!O180","v":"NB"},{"$f":"'PO-Calcs'!P180","v":"NB"}]
[null,null,null,"Fri",null,null,null,"00:00:00",null,null,0,null,"00:00:00","00:00:00","00:00:00","00:00:00","00:00:00",0,{"$f":"IF('PO-Calcs'!J181=\"Under\",\"Check\",0)","v":0},{"$f":"IF('PO-Calcs'!M181=\"Exceeds\",\"Check\",0)","v":0},{"$f":"'PO-Calcs'!O181","v":"NB"},{"$f":"'PO-Calcs'!P181","v":"NB"}]
[null,null,null,"Sat",null,null,null,"00:00:00",null,null,"00:00:00",{"$f":"H183","v":"00:00:00"},"00:00:00","00:00:00","00:00:00","00:00:00","00:00:00",0,{"$f":"IF('PO-Calcs'!J182=\"Under\",\"Check\",0)","v":0},{"$f":"IF('PO-Calcs'!M182=\"Exceeds\",\"Check\",0)","v":0},{"$f":"'PO-Calcs'!O182","v":"NB"},{"$f":"'PO-Calcs'!P182","v":"NB"}]
[null,null,null,"Sun",null,null,null,"00:00:00",null,null,"00:00:00","00:00:00","00:00:00","00:00:00","00:00:00","00:00:00","00:00:00",0,{"$f":"IF(ISTEXT(E179),\"\",IF('PO-Calcs'!J183=\"Under\",\"Check\",\"\"))","v":""},{"$f":"IF('PO-Calcs'!M183=\"Exceeds\",\"Check\",0)","v":0},{"$f":"'PO-Calcs'!O183","v":"NB"},{"$f":"'PO-Calcs'!P183","v":"NB"}]
[null,null,"Week27","Mon",null,null,null,"00:00:00",{"$f":"SUM(H185:H191)","v":0},{"$f":"IF(E185=\"\",\"\",AVERAGE(I$3:I185))","v":""},"00:00:00",null,"00:00:00","00:00:00","00:00:00","00:00:00","00:00:00",0,{"$f":"IF('PO-Calcs'!J184=\"Under\",\"Check\",0)","v":0},{"$f":"IF('PO-Calcs'!M184=\"Exceeds\",\"Check\",0)","v":0},{"$f":"'PO-Calcs'!O184","v":"NB"},{"$f":"'PO-Calcs'!P184","v":"NB"}]
[null,null,null,"Tue",null,null,null,"00:00:00",null,null,"00:00:00",null,"00:00:00","00:00:00","00:00:00","00:00:00","00:00:00",0,{"$f":"IF('PO-Calcs'!J185=\"Under\",\"Check\",0)","v":0},{"$f":"IF('PO-Calcs'!M185=\"Exceeds\",\"Check\",0)","v":0},{"$f":"'PO-Calcs'!O185","v":"NB"},{"$f":"'PO-Calcs'!P185","v":"NB"}]
[null,null,null,"Wed",null,null,null,"00:00:00",null,null,"00:00:00",null,"00:00:00","00:00:00","00:00:00","00:00:00","00:00:00",0,{"$f":"IF('PO-Calcs'!J186=\"Under\",\"Check\",0)","v":0},{"$f":"IF('PO-Calcs'!M186=\"Exceeds\",\"Check\",0)","v":0},{"$f":"'PO-Calcs'!O186","v":"NB"},{"$f":"'PO-Calcs'!P186","v":"NB"}]
[null,null,null,"Thu",null,null,null,"00:00:00",null,null,"00:00:00",null,"00:00:00","00:00:00","00:00:00","00:00:00","00:00:00",0,{"$f":"IF('PO-Calcs'!J187=\"Under\",\"Check\",0)","v":0},{"$f":"IF('PO-Calcs'!M187=\"Exceeds\",\"Check\",0)","v":0},{"$f":"'PO-Calcs'!O187","v":"NB"},{"$f":"'PO-Calcs'!P187","v":"NB"}]
[null,null,null,"Fri",null,null,null,"00:00:00",null,null,0,null,"00:00:00","00:00:00","00:00:00","00:00:00","00:00:00",0,{"$f":"IF('PO-Calcs'!J188=\"Under\",\"Check\",0)","v":0},{"$f":"IF('PO-Calcs'!M188=\"Exceeds\",\"Check\",0)","v":0},{"$f":"'PO-Calcs'!O188","v":"NB"},{"$f":"'PO-Calcs'!P188","v":"NB"}]
[null,null,null,"Sat",null,null,null,"00:00:00",null,null,"00:00:00",{"$f":"H190","v":"00:00:00"},"00:00:00","00:00:00","00:00:00","00:00:00","00:00:00",0,{"$f":"IF('PO-Calcs'!J189=\"Under\",\"Check\",0)","v":0},{"$f":"IF('PO-Calcs'!M189=\"Exceeds\",\"Check\",0)","v":0},{"$f":"'PO-Calcs'!O189","v":"NB"},{"$f":"'PO-Calcs'!P189","v":"NB"}]
[null,null,null,"Sun",null,null,null,"00:00:00",null,null,"00:00:00","00:00:00","00:00:00","00:00:00","00:00:00","00:00:00","00:00:00",0,{"$f":"IF(ISTEXT(E186),\"\",IF('PO-Calcs'!J190=\"Under\",\"Check\",\"\"))","v":""},{"$f":"IF('PO-Calcs'!M190=\"Exceeds\",\"Check\",0)","v":0},{"$f":"'PO-Calcs'!O190","v":"NB"},{"$f":"'PO-Calcs'!P190","v":"NB"}]
[null,null,"Week28","Mon",null,null,null,"00:00:00",{"$f":"SUM(H192:H198)","v":0},{"$f":"IF(E192=\"\",\"\",AVERAGE(I$3:I192))","v":""},"00:00:00",null,"00:00:00","00:00:00","00:00:00","00:00:00","00:00:00",0,{"$f":"IF('PO-Calcs'!J191=\"Under\",\"Check\",0)","v":0},{"$f":"IF('PO-Calcs'!M191=\"Exceeds\",\"Check\",0)","v":0},{"$f":"'PO-Calcs'!O191","v":"NB"},{"$f":"'PO-Calcs'!P191","v":"NB"}]
[null,null,null,"Tue",null,null,null,"00:00:00",null,null,"00:00:00",null,"00:00:00","00:00:00","00:00:00","00:00:00","00:00:00",0,{"$f":"IF('PO-Calcs'!J192=\"Under\",\"Check\",0)","v":0},{"$f":"IF('PO-Calcs'!M192=\"Exceeds\",\"Check\",0)","v":0},{"$f":"'PO-Calcs'!O192","v":"NB"},{"$f":"'PO-Calcs'!P192","v":"NB"}]
[null,null,null,"Wed",null,null,null,"00:00:00",null,null,"00:00:00",null,"00:00:00","00:00:00","00:00:00","00:00:00","00:00:00",0,{"$f":"IF('PO-Calcs'!J193=\"Under\",\"Check\",0)","v":0},{"$f":"IF('PO-Calcs'!M193=\"Exceeds\",\"Check\",0)","v":0},{"$f":"'PO-Calcs'!O193","v":"NB"},{"$f":"'PO-Calcs'!P193","v":"NB"}]
[null,null,null,"Thu",null,null,null,{"$f":"IF(E195=\"R\",0,IF(E195=\"F\",0,IF(F195<E195,F195+1,F195)-E195))","v":"00:00:00"},null,null,{"$f":"IF(F195<E195,F195+1,F195)","v":"00:00:00"},null,{"$f":"IF(H195>0,IF(M$2-E195>0,M$2-E195,0),0)","v":"00:00:00"},{"$f":"IF(H195>0,IF(F195-N$2>0,F195-N$2,0),0)","v":"00:00:00"},{"$f":"IF(H195>0,IF(O$2-F195<0,0,F195),0)","v":"00:00:00"},{"$f":"IF(H195>0,IF(E195-P$2<0,0,R$2-E195),0)","v":"00:00:00"},"00:00:00",0,{"$f":"IF('PO-Calcs'!J194=\"Under\",\"Check\",0)","v":0},{"$f":"IF('PO-Calcs'!M194=\"Exceeds\",\"Check\",0)","v":0},{"$f":"'PO-Calcs'!O194","v":"NB"},{"$f":"'PO-Calcs'!P194","v":"NB"}]
[null,null,null,"Fri",null,null,null,"00:00:00",null,null,0,null,"00:00:00","00:00:00","00:00:00","00:00:00","00:00:00",0,{"$f":"IF('PO-Calcs'!J195=\"Under\",\"Check\",0)","v":0},{"$f":"IF('PO-Calcs'!M195=\"Exceeds\",\"Check\",0)","v":0},{"$f":"'PO-Calcs'!O195","v":"NB"},{"$f":"'PO-Calcs'!P195","v":"NB"}]
[null,null,null,"Sat",null,null,null,"00:00:00",null,null,"00:00:00",{"$f":"H197","v":"00:00:00"},"00:00:00","00:00:00","00:00:00","00:00:00","00:00:00",0,{"$f":"IF('PO-Calcs'!J196=\"Under\",\"Check\",0)","v":0},{"$f":"IF('PO-Calcs'!M196=\"Exceeds\",\"Check\",0)","v":0},{"$f":"'PO-Calcs'!O196","v":"NB"},{"$f":"'PO-Calcs'!P196","v":"NB"}]
[null,null,null,"Sun",null,null,null,"00:00:00",null,null,"00:00:00","00:00:00","00:00:00","00:00:00","00:00:00","00:00:00","00:00:00",0,{"$f":"IF(ISTEXT(E193),\"\",IF('PO-Calcs'!J197=\"Under\",\"Check\",\"\"))","v":""},{"$f":"IF('PO-Calcs'!M197=\"Exceeds\",\"Check\",0)","v":0},{"$f":"'PO-Calcs'!O197","v":"NB"},{"$f":"'PO-Calcs'!P197","v":"NB"}]
[null,null,"Week29","Mon",null,null,null,"00:00:00",{"$f":"SUM(H199:H205)","v":0},{"$f":"IF(E199=\"\",\"\",AVERAGE(I$3:I199))","v":""},"00:00:00",null,"00:00:00","00:00:00","00:00:00","00:00:00","00:00:00",0,{"$f":"IF('PO-Calcs'!J198=\"Under\",\"Check\",0)","v":0},{"$f":"IF('PO-Calcs'!M198=\"Exceeds\",\"Check\",0)","v":0},{"$f":"'PO-Calcs'!O198","v":"NB"},{"$f":"'PO-Calcs'!P198","v":"NB"}]
[null,null,null,"Tue",null,null,null,"00:00:00",null,null,"00:00:00",null,"00:00:00","00:00:00","00:00:00","00:00:00","00:00:00",0,{"$f":"IF('PO-Calcs'!J199=\"Under\",\"Check\",0)","v":0},{"$f":"IF('PO-Calcs'!M199=\"Exceeds\",\"Check\",0)","v":0},{"$f":"'PO-Calcs'!O199","v":"NB"},{"$f":"'PO-Calcs'!P199","v":"NB"}]
[null,null,null,"Wed",null,null,null,"00:00:00",null,null,"00:00:00",null,"00:00:00","00:00:00","00:00:00","00:00:00","00:00:00",0,{"$f":"IF('PO-Calcs'!J200=\"Under\",\"Check\",0)","v":0},{"$f":"IF('PO-Calcs'!M200=\"Exceeds\",\"Check\",0)","v":0},{"$f":"'PO-Calcs'!O200","v":"NB"},{"$f":"'PO-Calcs'!P200","v":"NB"}]
[null,null,null,"Thu",null,null,null,"00:00:00",null,null,"00:00:00",null,"00:00:00","00:00:00","00:00:00","00:00:00","00:00:00",{"$f":"IF(H202>0,IF(SUM(M202:P202)>0,\"yes\",\"no\"),0)","v":0},{"$f":"IF('PO-Calcs'!J201=\"Under\",\"Check\",0)","v":0},{"$f":"IF('PO-Calcs'!M201=\"Exceeds\",\"Check\",0)","v":0},{"$f":"'PO-Calcs'!O201","v":"NB"},{"$f":"'PO-Calcs'!P201","v":"NB"}]
[null,null,null,"Fri",null,null,null,"00:00:00",null,null,0,null,"00:00:00","00:00:00","00:00:00","00:00:00",{"$f":"SUM(M203:P203)","v":"00:00:00"},0,{"$f":"IF('PO-Calcs'!J202=\"Under\",\"Check\",0)","v":0},{"$f":"IF('PO-Calcs'!M202=\"Exceeds\",\"Check\",0)","v":0},{"$f":"'PO-Calcs'!O202","v":"NB"},{"$f":"'PO-Calcs'!P202","v":"NB"}]
[null,null,null,"Sat",null,null,null,"00:00:00",null,null,"00:00:00",{"$f":"H204","v":"00:00:00"},"00:00:00","00:00:00","00:00:00","00:00:00","00:00:00",0,{"$f":"IF('PO-Calcs'!J203=\"Under\",\"Check\",0)","v":0},{"$f":"IF('PO-Calcs'!M203=\"Exceeds\",\"Check\",0)","v":0},{"$f":"'PO-Calcs'!O203","v":"NB"},{"$f":"'PO-Calcs'!P203","v":"NB"}]
[null,null,null,"Sun",null,null,null,"00:00:00",null,null,"00:00:00","00:00:00","00:00:00","00:00:00","00:00:00","00:00:00","00:00:00",0,{"$f":"IF(ISTEXT(E200),\"\",IF('PO-Calcs'!J204=\"Under\",\"Check\",\"\"))","v":""},{"$f":"IF('PO-Calcs'!M204=\"Exceeds\",\"Check\",0)","v":0},{"$f":"'PO-Calcs'!O204","v":"NB"},{"$f":"'PO-Calcs'!P204","v":"NB"}]
[null,null,"Week30","Mon",null,null,null,"00:00:00",{"$f":"SUM(H206:H212)","v":0},{"$f":"IF(E206=\"\",\"\",AVERAGE(I$3:I206))","v":""},"00:00:00",null,"00:00:00","00:00:00","00:00:00","00:00:00","00:00:00",0,{"$f":"IF('PO-Calcs'!J205=\"Under\",\"Check\",0)","v":0},{"$f":"IF('PO-Calcs'!M205=\"Exceeds\",\"Check\",0)","v":0},{"$f":"'PO-Calcs'!O205","v":"NB"},{"$f":"'PO-Calcs'!P205","v":"NB"}]
[null,null,null,"Tue",null,null,null,"00:00:00",null,null,"00:00:00",null,"00:00:00","00:00:00","00:00:00","00:00:00","00:00:00",0,{"$f":"IF('PO-Calcs'!J206=\"Under\",\"Check\",0)","v":0},{"$f":"IF('PO-Calcs'!M206=\"Exceeds\",\"Check\",0)","v":0},{"$f":"'PO-Calcs'!O206","v":"NB"},{"$f":"'PO-Calcs'!P206","v":"NB"}]
[null,null,null,"Wed",null,null,null,"00:00:00",null,null,"00:00:00",null,"00:00:00","00:00:00","00:00:00","00:00:00","00:00:00",0,{"$f":"IF('PO-Calcs'!J207=\"Under\",\"Check\",0)","v":0},{"$f":"IF('PO-Calcs'!M207=\"Exceeds\",\"Check\",0)","v":0},{"$f":"'PO-Calcs'!O207","v":"NB"},{"$f":"'PO-Calcs'!P207","v":"NB"}]
[null,null,null,"Thu",null,null,null,"00:00:00",null,null,"00:00:00",null,"00:00:00","00:00:00","00:00:00","00:00:00","00:00:00",0,{"$f":"IF('PO-Calcs'!J208=\"Under\",\"Check\",0)","v":0},{"$f":"IF('PO-Calcs'!M208=\"Exceeds\",\"Check\",0)","v":0},{"$f":"'PO-Calcs'!O208","v":"NB"},{"$f":"'PO-Calcs'!P208","v":"NB"}]
[null,null,null,"Fri",null,null,null,"00:00:00",null,null,0,null,"00:00:00","00:00:00","00:00:00","00:00:00","00:00:00",0,{"$f":"IF('PO-Calcs'!J209=\"Under\",\"Check\",0)","v":0},{"$f":"IF('PO-Calcs'!M209=\"Exceeds\",\"Check\",0)","v":0},{"$f":"'PO-Calcs'!O209","v":"NB"},{"$f":"'PO-Calcs'!P209","v":"NB"}]
[null,null,null,"Sat",null,null,null,"00:00:00",null,null,"00:00:00",{"$f":"H211","v":"00:00:00"},"00:00:00","00:00:00","00:00:00","00:00:00","00:00:00",0,{"$f":"IF('PO-Calcs'!J210=\"Under\",\"Check\",0)","v":0},{"$f":"IF('PO-Calcs'!M210=\"Exceeds\",\"Check\",0)","v":0},{"$f":"'PO-Calcs'!O210","v":"NB"},{"$f":"'PO-Calcs'!P210","v":"NB"}]
[null,null,null,"Sun",null,null,null,"00:00:00",null,null,"00:00:00","00:00:00","00:00:00","00:00:00","00:00:00","00:00:00","00:00:00",0,{"$f":"IF(ISTEXT(E207),\"\",IF('PO-Calcs'!J211=\"Under\",\"Check\",\"\"))","v":""},{"$f":"IF('PO-Calcs'!M211=\"Exceeds\",\"Check\",0)","v":0},{"$f":"'PO-Calcs'!O211","v":"NB"},{"$f":"'PO-Calcs'!P211","v":"NB"}]
[null,null,"Week31","Mon",null,null,null,"00:00:00",{"$f":"SUM(H213:H219)","v":0},{"$f":"IF(E213=\"\",\"\",AVERAGE(I$3:I213))","v":""},"00:00:00",null,"00:00:00","00:00:00","00:00:00","00:00:00","00:00:00",0,{"$f":"IF('PO-Calcs'!J212=\"Under\",\"Check\",0)","v":0},{"$f":"IF('PO-Calcs'!M212=\"Exceeds\",\"Check\",0)","v":0},{"$f":"'PO-Calcs'!O212","v":"NB"},{"$f":"'PO-Calcs'!P212","v":"NB"}]
[null,null,null,"Tue",null,null,null,"00:00:00",null,null,"00:00:00",null,"00:00:00","00:00:00","00:00:00","00:00:00","00:00:00",0,{"$f":"IF('PO-Calcs'!J213=\"Under\",\"Check\",0)","v":0},{"$f":"IF('PO-Calcs'!M213=\"Exceeds\",\"Check\",0)","v":0},{"$f":"'PO-Calcs'!O213","v":"NB"},{"$f":"'PO-Calcs'!P213","v":"NB"}]
[null,null,null,"Wed",null,null,null,"00:00:00",null,null,"00:00:00",null,"00:00:00","00:00:00","00:00:00","00:00:00","00:00:00",0,{"$f":"IF('PO-Calcs'!J214=\"Under\",\"Check\",0)","v":0},{"$f":"IF('PO-Calcs'!M214=\"Exceeds\",\"Check\",0)","v":0},{"$f":"'PO-Calcs'!O214","v":"NB"},{"$f":"'PO-Calcs'!P214","v":"NB"}]
[null,null,null,"Thu",null,null,null,"00:00:00",null,null,"00:00:00",null,"00:00:00","00:00:00","00:00:00","00:00:00","00:00:00",0,{"$f":"IF('PO-Calcs'!J215=\"Under\",\"Check\",0)","v":0},{"$f":"IF('PO-Calcs'!M215=\"Exceeds\",\"Check\",0)","v":0},{"$f":"'PO-Calcs'!O215","v":"NB"},{"$f":"'PO-Calcs'!P215","v":"NB"}]
[null,null,null,"Fri",null,null,null,"00:00:00",null,null,0,null,"00:00:00","00:00:00","00:00:00","00:00:00","00:00:00",0,{"$f":"IF('PO-Calcs'!J216=\"Under\",\"Check\",0)","v":0},{"$f":"IF('PO-Calcs'!M216=\"Exceeds\",\"Check\",0)","v":0},{"$f":"'PO-Calcs'!O216","v":"NB"},{"$f":"'PO-Calcs'!P216","v":"NB"}]
[null,null,null,"Sat",null,null,null,"00:00:00",null,null,"00:00:00",{"$f":"H218","v":"00:00:00"},"00:00:00","00:00:00","00:00:00","00:00:00","00:00:00",0,{"$f":"IF('PO-Calcs'!J217=\"Under\",\"Check\",0)","v":0},{"$f":"IF('PO-Calcs'!M217=\"Exceeds\",\"Check\",0)","v":0},{"$f":"'PO-Calcs'!O217","v":"NB"},{"$f":"'PO-Calcs'!P217","v":"NB"}]
[null,null,null,"Sun",null,null,null,"00:00:00",null,null,"00:00:00","00:00:00","00:00:00","00:00:00","00:00:00","00:00:00","00:00:00",0,{"$f":"IF(ISTEXT(E214),\"\",IF('PO-Calcs'!J218=\"Under\",\"Check\",\"\"))","v":""},{"$f":"IF('PO-Calcs'!M218=\"Exceeds\",\"Check\",0)","v":0},{"$f":"'PO-Calcs'!O218","v":"NB"},{"$f":"'PO-Calcs'!P218","v":"NB"}]
[null,null,"Week32","Mon",null,null,null,"00:00:00",{"$f":"SUM(H220:H226)","v":0},{"$f":"IF(E220=\"\",\"\",AVERAGE(I$3:I220))","v":""},"00:00:00",null,"00:00:00","00:00:00","00:00:00","00:00:00","00:00:00",0,{"$f":"IF('PO-Calcs'!J219=\"Under\",\"Check\",0)","v":0},{"$f":"IF('PO-Calcs'!M219=\"Exceeds\",\"Check\",0)","v":0},{"$f":"'PO-Calcs'!O219","v":"NB"},{"$f":"'PO-Calcs'!P219","v":"NB"}]
[null,null,null,"Tue",null,null,null,"00:00:00",null,null,"00:00:00",null,"00:00:00","00:00:00","00:00:00","00:00:00","00:00:00",0,{"$f":"IF('PO-Calcs'!J220=\"Under\",\"Check\",0)","v":0},{"$f":"IF('PO-Calcs'!M220=\"Exceeds\",\"Check\",0)","v":0},{"$f":"'PO-Calcs'!O220","v":"NB"},{"$f":"'PO-Calcs'!P220","v":"NB"}]
[null,null,null,"Wed",null,null,null,"00:00:00",null,null,"00:00:00",null,"00:00:00","00:00:00","00:00:00","00:00:00","00:00:00",0,{"$f":"IF('PO-Calcs'!J221=\"Under\",\"Check\",0)","v":0},{"$f":"IF('PO-Calcs'!M221=\"Exceeds\",\"Check\",0)","v":0},{"$f":"'PO-Calcs'!O221","v":"NB"},{"$f":"'PO-Calcs'!P221","v":"NB"}]
[null,null,null,"Thu",null,null,null,"00:00:00",null,null,"00:00:00",null,"00:00:00","00:00:00","00:00:00","00:00:00","00:00:00",0,{"$f":"IF('PO-Calcs'!J222=\"Under\",\"Check\",0)","v":0},{"$f":"IF('PO-Calcs'!M222=\"Exceeds\",\"Check\",0)","v":0},{"$f":"'PO-Calcs'!O222","v":"NB"},{"$f":"'PO-Calcs'!P222","v":"NB"}]
[null,null,null,"Fri",null,null,null,"00:00:00",null,null,0,null,"00:00:00","00:00:00","00:00:00","00:00:00","00:00:00",0,{"$f":"IF('PO-Calcs'!J223=\"Under\",\"Check\",0)","v":0},{"$f":"IF('PO-Calcs'!M223=\"Exceeds\",\"Check\",0)","v":0},{"$f":"'PO-Calcs'!O223","v":"NB"},{"$f":"'PO-Calcs'!P223","v":"NB"}]
[null,null,null,"Sat",null,null,null,"00:00:00",null,null,"00:00:00",{"$f":"H225","v":"00:00:00"},"00:00:00","00:00:00","00:00:00","00:00:00","00:00:00",0,{"$f":"IF('PO-Calcs'!J224=\"Under\",\"Check\",0)","v":0},{"$f":"IF('PO-Calcs'!M224=\"Exceeds\",\"Check\",0)","v":0},{"$f":"'PO-Calcs'!O224","v":"NB"},{"$f":"'PO-Calcs'!P224","v":"NB"}]
[null,null,null,"Sun",null,null,null,"00:00:00",null,null,"00:00:00","00:00:00","00:00:00","00:00:00","00:00:00","00:00:00","00:00:00",0,{"$f":"IF(ISTEXT(E221),\"\",IF('PO-Calcs'!J225=\"Under\",\"Check\",\"\"))","v":""},{"$f":"IF('PO-Calcs'!M225=\"Exceeds\",\"Check\",0)","v":0},{"$f":"'PO-Calcs'!O225","v":"NB"},{"$f":"'PO-Calcs'!P225","v":"NB"}]
[null,null,"Week33","Mon",null,null,null,"00:00:00",{"$f":"SUM(H227:H233)","v":0},{"$f":"IF(E227=\"\",\"\",AVERAGE(I$3:I227))","v":""},"00:00:00",null,"00:00:00","00:00:00","00:00:00","00:00:00","00:00:00",0,{"$f":"IF('PO-Calcs'!J226=\"Under\",\"Check\",0)","v":0},{"$f":"IF('PO-Calcs'!M226=\"Exceeds\",\"Check\",0)","v":0},{"$f":"'PO-Calcs'!O226","v":"NB"},{"$f":"'PO-Calcs'!P226","v":"NB"}]
[null,null,null,"Tue",null,null,null,"00:00:00",null,null,"00:00:00",null,"00:00:00","00:00:00","00:00:00","00:00:00","00:00:00",0,{"$f":"IF('PO-Calcs'!J227=\"Under\",\"Check\",0)","v":0},{"$f":"IF('PO-Calcs'!M227=\"Exceeds\",\"Check\",0)","v":0},{"$f":"'PO-Calcs'!O227","v":"NB"},{"$f":"'PO-Calcs'!P227","v":"NB"}]
[null,null,null,"Wed",null,null,null,"00:00:00",null,null,"00:00:00",null,"00:00:00","00:00:00","00:00:00","00:00:00","00:00:00",0,{"$f":"IF('PO-Calcs'!J228=\"Under\",\"Check\",0)","v":0},{"$f":"IF('PO-Calcs'!M228=\"Exceeds\",\"Check\",0)","v":0},{"$f":"'PO-Calcs'!O228","v":"NB"},{"$f":"'PO-Calcs'!P228","v":"NB"}]
[null,null,null,"Thu",null,null,null,"00:00:00",null,null,"00:00:00",null,"00:00:00","00:00:00","00:00:00","00:00:00","00:00:00",0,{"$f":"IF('PO-Calcs'!J229=\"Under\",\"Check\",0)","v":0},{"$f":"IF('PO-Calcs'!M229=\"Exceeds\",\"Check\",0)","v":0},{"$f":"'PO-Calcs'!O229","v":"NB"},{"$f":"'PO-Calcs'!P229","v":"NB"}]
[null,null,null,"Fri",null,null,null,"00:00:00",null,null,0,null,"00:00:00","00:00:00","00:00:00","00:00:00","00:00:00",0,{"$f":"IF('PO-Calcs'!J230=\"Under\",\"Check\",0)","v":0},{"$f":"IF('PO-Calcs'!M230=\"Exceeds\",\"Check\",0)","v":0},{"$f":"'PO-Calcs'!O230","v":"NB"},{"$f":"'PO-Calcs'!P230","v":"NB"}]
[null,null,null,"Sat",null,null,null,"00:00:00",null,null,"00:00:00",{"$f":"H232","v":"00:00:00"},"00:00:00","00:00:00","00:00:00","00:00:00","00:00:00",0,{"$f":"IF('PO-Calcs'!J231=\"Under\",\"Check\",0)","v":0},{"$f":"IF('PO-Calcs'!M231=\"Exceeds\",\"Check\",0)","v":0},{"$f":"'PO-Calcs'!O231","v":"NB"},{"$f":"'PO-Calcs'!P231","v":"NB"}]
[null,null,null,"Sun",null,null,null,"00:00:00",null,null,"00:00:00","00:00:00","00:00:00","00:00:00","00:00:00","00:00:00","00:00:00",0,{"$f":"IF(ISTEXT(E228),\"\",IF('PO-Calcs'!J232=\"Under\",\"Check\",\"\"))","v":""},{"$f":"IF('PO-Calcs'!M232=\"Exceeds\",\"Check\",0)","v":0},{"$f":"'PO-Calcs'!O232","v":"NB"},{"$f":"'PO-Calcs'!P232","v":"NB"}]
[null,null,"Week34","Mon",null,null,null,"00:00:00",{"$f":"SUM(H234:H240)","v":0},{"$f":"IF(E234=\"\",\"\",AVERAGE(I$3:I234))","v":""},"00:00:00",null,"00:00:00","00:00:00","00:00:00","00:00:00","00:00:00",0,{"$f":"IF('PO-Calcs'!J233=\"Under\",\"Check\",0)","v":0},{"$f":"IF('PO-Calcs'!M233=\"Exceeds\",\"Check\",0)","v":0},{"$f":"'PO-Calcs'!O233","v":"NB"},{"$f":"'PO-Calcs'!P233","v":"NB"}]
[null,null,null,"Tue",null,null,null,"00:00:00",null,null,"00:00:00",null,"00:00:00","00:00:00","00:00:00","00:00:00","00:00:00",0,{"$f":"IF('PO-Calcs'!J234=\"Under\",\"Check\",0)","v":0},{"$f":"IF('PO-Calcs'!M234=\"Exceeds\",\"Check\",0)","v":0},{"$f":"'PO-Calcs'!O234","v":"NB"},{"$f":"'PO-Calcs'!P234","v":"NB"}]
[null,null,null,"Wed",null,null,null,"00:00:00",null,null,"00:00:00",null,"00:00:00","00:00:00","00:00:00","00:00:00","00:00:00",0,{"$f":"IF('PO-Calcs'!J235=\"Under\",\"Check\",0)","v":0},{"$f":"IF('PO-Calcs'!M235=\"Exceeds\",\"Check\",0)","v":0},{"$f":"'PO-Calcs'!O235","v":"NB"},{"$f":"'PO-Calcs'!P235","v":"NB"}]
[null,null,null,"Thu",null,null,null,"00:00:00",null,null,"00:00:00",null,"00:00:00","00:00:00","00:00:00","00:00:00","00:00:00",0,{"$f":"IF('PO-Calcs'!J236=\"Under\",\"Check\",0)","v":0},{"$f":"IF('PO-Calcs'!M236=\"Exceeds\",\"Check\",0)","v":0},{"$f":"'PO-Calcs'!O236","v":"NB"},{"$f":"'PO-Calcs'!P236","v":"NB"}]
[null,null,null,"Fri",null,null,null,"00:00:00",null,null,0,null,"00:00:00","00:00:00","00:00:00","00:00:00","00:00:00",0,{"$f":"IF('PO-Calcs'!J237=\"Under\",\"Check\",0)","v":0},{"$f":"IF('PO-Calcs'!M237=\"Exceeds\",\"Check\",0)","v":0},{"$f":"'PO-Calcs'!O237","v":"NB"},{"$f":"'PO-Calcs'!P237","v":"NB"}]
[null,null,null,"Sat",null,null,null,"00:00:00",null,null,"00:00:00",{"$f":"H239","v":"00:00:00"},"00:00:00","00:00:00","00:00:00","00:00:00","00:00:00",0,{"$f":"IF('PO-Calcs'!J238=\"Under\",\"Check\",0)","v":0},{"$f":"IF('PO-Calcs'!M238=\"Exceeds\",\"Check\",0)","v":0},{"$f":"'PO-Calcs'!O238","v":"NB"},{"$f":"'PO-Calcs'!P238","v":"NB"}]
[null,null,null,"Sun",null,null,null,"00:00:00",null,null,"00:00:00","00:00:00","00:00:00","00:00:00","00:00:00","00:00:00","00:00:00",0,{"$f":"IF(ISTEXT(E235),\"\",IF('PO-Calcs'!J239=\"Under\",\"Check\",\"\"))","v":""},{"$f":"IF('PO-Calcs'!M239=\"Exceeds\",\"Check\",0)","v":0},{"$f":"'PO-Calcs'!O239","v":"NB"},{"$f":"'PO-Calcs'!P239","v":"NB"}]
[null,null,"Week35","Mon",null,null,null,"00:00:00",{"$f":"SUM(H241:H247)","v":0},{"$f":"IF(E241=\"\",\"\",AVERAGE(I$3:I241))","v":""},"00:00:00",null,"00:00:00","00:00:00","00:00:00","00:00:00","00:00:00",0,{"$f":"IF('PO-Calcs'!J240=\"Under\",\"Check\",0)","v":0},{"$f":"IF('PO-Calcs'!M240=\"Exceeds\",\"Check\",0)","v":0},{"$f":"'PO-Calcs'!O240","v":"NB"},{"$f":"'PO-Calcs'!P240","v":"NB"}]
[null,null,null,"Tue",null,null,null,"00:00:00",null,null,"00:00:00",null,"00:00:00","00:00:00","00:00:00","00:00:00","00:00:00",0,{"$f":"IF('PO-Calcs'!J241=\"Under\",\"Check\",0)","v":0},{"$f":"IF('PO-Calcs'!M241=\"Exceeds\",\"Check\",0)","v":0},{"$f":"'PO-Calcs'!O241","v":"NB"},{"$f":"'PO-Calcs'!P241","v":"NB"}]
[null,null,null,"Wed",null,null,null,"00:00:00",null,null,"00:00:00",null,"00:00:00","00:00:00","00:00:00","00:00:00","00:00:00",0,{"$f":"IF('PO-Calcs'!J242=\"Under\",\"Check\",0)","v":0},{"$f":"IF('PO-Calcs'!M242=\"Exceeds\",\"Check\",0)","v":0},{"$f":"'PO-Calcs'!O242","v":"NB"},{"$f":"'PO-Calcs'!P242","v":"NB"}]
[null,null,null,"Thu",null,null,null,"00:00:00",null,null,"00:00:00",null,"00:00:00","00:00:00","00:00:00","00:00:00","00:00:00",0,{"$f":"IF('PO-Calcs'!J243=\"Under\",\"Check\",0)","v":0},{"$f":"IF('PO-Calcs'!M243=\"Exceeds\",\"Check\",0)","v":0},{"$f":"'PO-Calcs'!O243","v":"NB"},{"$f":"'PO-Calcs'!P243","v":"NB"}]
[null,null,null,"Fri",null,null,null,"00:00:00",null,null,0,null,"00:00:00","00:00:00","00:00:00","00:00:00","00:00:00",0,{"$f":"IF('PO-Calcs'!J244=\"Under\",\"Check\",0)","v":0},{"$f":"IF('PO-Calcs'!M244=\"Exceeds\",\"Check\",0)","v":0},{"$f":"'PO-Calcs'!O244","v":"NB"},{"$f":"'PO-Calcs'!P244","v":"NB"}]
[null,null,null,"Sat",null,null,null,"00:00:00",null,null,"00:00:00",{"$f":"H246","v":"00:00:00"},"00:00:00","00:00:00","00:00:00","00:00:00","00:00:00",0,{"$f":"IF('PO-Calcs'!J245=\"Under\",\"Check\",0)","v":0},{"$f":"IF('PO-Calcs'!M245=\"Exceeds\",\"Check\",0)","v":0},{"$f":"'PO-Calcs'!O245","v":"NB"},{"$f":"'PO-Calcs'!P245","v":"NB"}]
[null,null,null,"Sun",null,null,null,"00:00:00",null,null,"00:00:00","00:00:00","00:00:00","00:00:00","00:00:00","00:00:00","00:00:00",0,{"$f":"IF(ISTEXT(E242),\"\",IF('PO-Calcs'!J246=\"Under\",\"Check\",\"\"))","v":""},{"$f":"IF('PO-Calcs'!M246=\"Exceeds\",\"Check\",0)","v":0},{"$f":"'PO-Calcs'!O246","v":"NB"},{"$f":"'PO-Calcs'!P246","v":"NB"}]
[null,null,"Week36","Mon",null,null,null,"00:00:00",{"$f":"SUM(H248:H254)","v":0},{"$f":"IF(E248=\"\",\"\",AVERAGE(I$3:I248))","v":""},"00:00:00",null,"00:00:00","00:00:00","00:00:00","00:00:00","00:00:00",0,{"$f":"IF('PO-Calcs'!J247=\"Under\",\"Check\",0)","v":0},{"$f":"IF('PO-Calcs'!M247=\"Exceeds\",\"Check\",0)","v":0},{"$f":"'PO-Calcs'!O247","v":"NB"},{"$f":"'PO-Calcs'!P247","v":"NB"}]
[null,null,null,"Tue",null,null,null,"00:00:00",null,null,"00:00:00",null,"00:00:00","00:00:00","00:00:00","00:00:00","00:00:00",0,{"$f":"IF('PO-Calcs'!J248=\"Under\",\"Check\",0)","v":0},{"$f":"IF('PO-Calcs'!M248=\"Exceeds\",\"Check\",0)","v":0},{"$f":"'PO-Calcs'!O248","v":"NB"},{"$f":"'PO-Calcs'!P248","v":"NB"}]
[null,null,null,"Wed",null,null,null,"00:00:00",null,null,"00:00:00",null,"00:00:00","00:00:00","00:00:00","00:00:00","00:00:00",0,{"$f":"IF('PO-Calcs'!J249=\"Under\",\"Check\",0)","v":0},{"$f":"IF('PO-Calcs'!M249=\"Exceeds\",\"Check\",0)","v":0},{"$f":"'PO-Calcs'!O249","v":"NB"},{"$f":"'PO-Calcs'!P249","v":"NB"}]
[null,null,null,"Thu",null,null,null,"00:00:00",null,null,"00:00:00",null,"00:00:00","00:00:00","00:00:00","00:00:00","00:00:00",0,{"$f":"IF('PO-Calcs'!J250=\"Under\",\"Check\",0)","v":0},{"$f":"IF('PO-Calcs'!M250=\"Exceeds\",\"Check\",0)","v":0},{"$f":"'PO-Calcs'!O250","v":"NB"},{"$f":"'PO-Calcs'!P250","v":"NB"}]
[null,null,null,"Fri",null,null,null,"00:00:00",null,null,0,null,"00:00:00","00:00:00","00:00:00","00:00:00","00:00:00",0,{"$f":"IF('PO-Calcs'!J251=\"Under\",\"Check\",0)","v":0},{"$f":"IF('PO-Calcs'!M251=\"Exceeds\",\"Check\",0)","v":0},{"$f":"'PO-Calcs'!O251","v":"NB"},{"$f":"'PO-Calcs'!P251","v":"NB"}]
[null,null,null,"Sat",null,null,null,"00:00:00",null,null,"00:00:00",{"$f":"H253","v":"00:00:00"},"00:00:00","00:00:00","00:00:00","00:00:00","00:00:00",0,{"$f":"IF('PO-Calcs'!J252=\"Under\",\"Check\",0)","v":0},{"$f":"IF('PO-Calcs'!M252=\"Exceeds\",\"Check\",0)","v":0},{"$f":"'PO-Calcs'!O252","v":"NB"},{"$f":"'PO-Calcs'!P252","v":"NB"}]
[null,null,null,"Sun",null,null,null,"00:00:00",null,null,"00:00:00","00:00:00","00:00:00","00:00:00","00:00:00","00:00:00","00:00:00",0,{"$f":"IF(ISTEXT(E249),\"\",IF('PO-Calcs'!J253=\"Under\",\"Check\",\"\"))","v":""},{"$f":"IF('PO-Calcs'!M253=\"Exceeds\",\"Check\",0)","v":0},{"$f":"'PO-Calcs'!O253","v":"NB"},{"$f":"'PO-Calcs'!P253","v":"NB"}]
[null,null,"Week37","Mon",null,null,null,"00:00:00",{"$f":"SUM(H255:H261)","v":0},{"$f":"IF(E255=\"\",\"\",AVERAGE(I$3:I255))","v":""},"00:00:00",null,"00:00:00","00:00:00","00:00:00","00:00:00","00:00:00",0,{"$f":"IF('PO-Calcs'!J254=\"Under\",\"Check\",0)","v":0},{"$f":"IF('PO-Calcs'!M254=\"Exceeds\",\"Check\",0)","v":0},{"$f":"'PO-Calcs'!O254","v":"NB"},{"$f":"'PO-Calcs'!P254","v":"NB"}]
[null,null,null,"Tue",null,null,null,"00:00:00",null,null,"00:00:00",null,"00:00:00","00:00:00","00:00:00","00:00:00","00:00:00",0,{"$f":"IF('PO-Calcs'!J255=\"Under\",\"Check\",0)","v":0},{"$f":"IF('PO-Calcs'!M255=\"Exceeds\",\"Check\",0)","v":0},{"$f":"'PO-Calcs'!O255","v":"NB"},{"$f":"'PO-Calcs'!P255","v":"NB"}]
[null,null,null,"Wed",null,null,null,"00:00:00",null,null,"00:00:00",null,"00:00:00","00:00:00","00:00:00","00:00:00","00:00:00",0,{"$f":"IF('PO-Calcs'!J256=\"Under\",\"Check\",0)","v":0},{"$f":"IF('PO-Calcs'!M256=\"Exceeds\",\"Check\",0)","v":0},{"$f":"'PO-Calcs'!O256","v":"NB"},{"$f":"'PO-Calcs'!P256","v":"NB"}]
[null,null,null,"Thu",null,null,null,"00:00:00",null,null,"00:00:00",null,"00:00:00","00:00:00","00:00:00","00:00:00","00:00:00",0,{"$f":"IF('PO-Calcs'!J257=\"Under\",\"Check\",0)","v":0},{"$f":"IF('PO-Calcs'!M257=\"Exceeds\",\"Check\",0)","v":0},{"$f":"'PO-Calcs'!O257","v":"NB"},{"$f":"'PO-Calcs'!P257","v":"NB"}]
[null,null,null,"Fri",null,null,null,{"$f":"IF(E259=\"R\",0,IF(E259=\"F\",0,IF(F259<E259,F259+1,F259)-E259))","v":"00:00:00"},null,null,{"$f":"IF(F259<E259,F259+1,F259)","v":0},null,{"$f":"IF(H259>0,IF(M$2-E259>0,M$2-E259,0),0)","v":"00:00:00"},{"$f":"IF(H259>0,IF(F259-N$2>0,F259-N$2,0),0)","v":"00:00:00"},{"$f":"IF(H259>0,IF(O$2-F259<0,0,F259),0)","v":"00:00:00"},{"$f":"IF(H259>0,IF(E259-P$2<0,0,R$2-E259),0)","v":"00:00:00"},"00:00:00",0,{"$f":"IF('PO-Calcs'!J258=\"Under\",\"Check\",0)","v":0},{"$f":"IF('PO-Calcs'!M258=\"Exceeds\",\"Check\",0)","v":0},{"$f":"'PO-Calcs'!O258","v":"NB"},{"$f":"'PO-Calcs'!P258","v":"NB"}]
[null,null,null,"Sat",null,null,null,"00:00:00",null,null,"00:00:00",{"$f":"H260","v":"00:00:00"},"00:00:00","00:00:00","00:00:00","00:00:00","00:00:00",0,{"$f":"IF('PO-Calcs'!J259=\"Under\",\"Check\",0)","v":0},{"$f":"IF('PO-Calcs'!M259=\"Exceeds\",\"Check\",0)","v":0},{"$f":"'PO-Calcs'!O259","v":"NB"},{"$f":"'PO-Calcs'!P259","v":"NB"}]
[null,null,null,"Sun",null,null,null,"00:00:00",null,null,"00:00:00","00:00:00","00:00:00","00:00:00","00:00:00","00:00:00","00:00:00",0,{"$f":"IF(ISTEXT(E256),\"\",IF('PO-Calcs'!J260=\"Under\",\"Check\",\"\"))","v":""},{"$f":"IF('PO-Calcs'!M260=\"Exceeds\",\"Check\",0)","v":0},{"$f":"'PO-Calcs'!O260","v":"NB"},{"$f":"'PO-Calcs'!P260","v":"NB"}]
[null,null,"Week38","Mon",null,null,null,"00:00:00",{"$f":"SUM(H262:H268)","v":0},{"$f":"IF(E262=\"\",\"\",AVERAGE(I$3:I262))","v":""},"00:00:00",null,"00:00:00","00:00:00","00:00:00","00:00:00","00:00:00",0,{"$f":"IF('PO-Calcs'!J261=\"Under\",\"Check\",0)","v":0},{"$f":"IF('PO-Calcs'!M261=\"Exceeds\",\"Check\",0)","v":0},{"$f":"'PO-Calcs'!O261","v":"NB"},{"$f":"'PO-Calcs'!P261","v":"NB"}]
[null,null,null,"Tue",null,null,null,"00:00:00",null,null,"00:00:00",null,"00:00:00","00:00:00","00:00:00","00:00:00","00:00:00",0,{"$f":"IF('PO-Calcs'!J262=\"Under\",\"Check\",0)","v":0},{"$f":"IF('PO-Calcs'!M262=\"Exceeds\",\"Check\",0)","v":0},{"$f":"'PO-Calcs'!O262","v":"NB"},{"$f":"'PO-Calcs'!P262","v":"NB"}]
[null,null,null,"Wed",null,null,null,"00:00:00",null,null,"00:00:00",null,"00:00:00","00:00:00","00:00:00","00:00:00","00:00:00",0,{"$f":"IF('PO-Calcs'!J263=\"Under\",\"Check\",0)","v":0},{"$f":"IF('PO-Calcs'!M263=\"Exceeds\",\"Check\",0)","v":0},{"$f":"'PO-Calcs'!O263","v":"NB"},{"$f":"'PO-Calcs'!P263","v":"NB"}]
[null,null,null,"Thu",null,null,null,"00:00:00",null,null,"00:00:00",null,"00:00:00","00:00:00","00:00:00","00:00:00","00:00:00",0,{"$f":"IF('PO-Calcs'!J264=\"Under\",\"Check\",0)","v":0},{"$f":"IF('PO-Calcs'!M264=\"Exceeds\",\"Check\",0)","v":0},{"$f":"'PO-Calcs'!O264","v":"NB"},{"$f":"'PO-Calcs'!P264","v":"NB"}]
[null,null,null,"Fri",null,null,null,"00:00:00",null,null,0,null,"00:00:00","00:00:00","00:00:00","00:00:00","00:00:00",{"$f":"IF(H266>0,IF(SUM(M266:P266)>0,\"yes\",\"no\"),0)","v":0},{"$f":"IF('PO-Calcs'!J265=\"Under\",\"Check\",0)","v":0},{"$f":"IF('PO-Calcs'!M265=\"Exceeds\",\"Check\",0)","v":0},{"$f":"'PO-Calcs'!O265","v":"NB"},{"$f":"'PO-Calcs'!P265","v":"NB"}]
[null,null,null,"Sat",null,null,null,"00:00:00",null,null,"00:00:00",{"$f":"H267","v":"00:00:00"},"00:00:00","00:00:00","00:00:00","00:00:00",{"$f":"SUM(M267:P267)","v":"00:00:00"},0,{"$f":"IF('PO-Calcs'!J266=\"Under\",\"Check\",0)","v":0},{"$f":"IF('PO-Calcs'!M266=\"Exceeds\",\"Check\",0)","v":0},{"$f":"'PO-Calcs'!O266","v":"NB"},{"$f":"'PO-Calcs'!P266","v":"NB"}]
[null,null,null,"Sun",null,null,null,"00:00:00",null,null,"00:00:00","00:00:00","00:00:00","00:00:00","00:00:00","00:00:00","00:00:00",0,{"$f":"IF(ISTEXT(E263),\"\",IF('PO-Calcs'!J267=\"Under\",\"Check\",\"\"))","v":""},{"$f":"IF('PO-Calcs'!M267=\"Exceeds\",\"Check\",0)","v":0},{"$f":"'PO-Calcs'!O267","v":"NB"},{"$f":"'PO-Calcs'!P267","v":"NB"}]
[null,null,"Week39","Mon",null,null,null,"00:00:00",{"$f":"SUM(H269:H275)","v":0},{"$f":"IF(E269=\"\",\"\",AVERAGE(I$3:I269))","v":""},"00:00:00",null,"00:00:00","00:00:00","00:00:00","00:00:00","00:00:00",0,{"$f":"IF('PO-Calcs'!J268=\"Under\",\"Check\",0)","v":0},{"$f":"IF('PO-Calcs'!M268=\"Exceeds\",\"Check\",0)","v":0},{"$f":"'PO-Calcs'!O268","v":"NB"},{"$f":"'PO-Calcs'!P268","v":"NB"}]
[null,null,null,"Tue",null,null,null,"00:00:00",null,null,"00:00:00",null,"00:00:00","00:00:00","00:00:00","00:00:00","00:00:00",0,{"$f":"IF('PO-Calcs'!J269=\"Under\",\"Check\",0)","v":0},{"$f":"IF('PO-Calcs'!M269=\"Exceeds\",\"Check\",0)","v":0},{"$f":"'PO-Calcs'!O269","v":"NB"},{"$f":"'PO-Calcs'!P269","v":"NB"}]
[null,null,null,"Wed",null,null,null,"00:00:00",null,null,"00:00:00",null,"00:00:00","00:00:00","00:00:00","00:00:00","00:00:00",0,{"$f":"IF('PO-Calcs'!J270=\"Under\",\"Check\",0)","v":0},{"$f":"IF('PO-Calcs'!M270=\"Exceeds\",\"Check\",0)","v":0},{"$f":"'PO-Calcs'!O270","v":"NB"},{"$f":"'PO-Calcs'!P270","v":"NB"}]
[null,null,null,"Thu",null,null,null,"00:00:00",null,null,"00:00:00",null,"00:00:00","00:00:00","00:00:00","00:00:00","00:00:00",0,{"$f":"IF('PO-Calcs'!J271=\"Under\",\"Check\",0)","v":0},{"$f":"IF('PO-Calcs'!M271=\"Exceeds\",\"Check\",0)","v":0},{"$f":"'PO-Calcs'!O271","v":"NB"},{"$f":"'PO-Calcs'!P271","v":"NB"}]
[null,null,null,"Fri",null,null,null,"00:00:00",null,null,0,null,"00:00:00","00:00:00","00:00:00","00:00:00","00:00:00",0,{"$f":"IF('PO-Calcs'!J272=\"Under\",\"Check\",0)","v":0},{"$f":"IF('PO-Calcs'!M272=\"Exceeds\",\"Check\",0)","v":0},{"$f":"'PO-Calcs'!O272","v":"NB"},{"$f":"'PO-Calcs'!P272","v":"NB"}]
[null,null,null,"Sat",null,null,null,"00:00:00",null,null,"00:00:00",{"$f":"H274","v":"00:00:00"},"00:00:00","00:00:00","00:00:00","00:00:00","00:00:00",0,{"$f":"IF('PO-Calcs'!J273=\"Under\",\"Check\",0)","v":0},{"$f":"IF('PO-Calcs'!M273=\"Exceeds\",\"Check\",0)","v":0},{"$f":"'PO-Calcs'!O273","v":"NB"},{"$f":"'PO-Calcs'!P273","v":"NB"}]
[null,null,null,"Sun",null,null,null,"00:00:00",null,null,"00:00:00","00:00:00","00:00:00","00:00:00","00:00:00","00:00:00","00:00:00",0,{"$f":"IF(ISTEXT(E270),\"\",IF('PO-Calcs'!J274=\"Under\",\"Check\",\"\"))","v":""},{"$f":"IF('PO-Calcs'!M274=\"Exceeds\",\"Check\",0)","v":0},{"$f":"'PO-Calcs'!O274","v":"NB"},{"$f":"'PO-Calcs'!P274","v":"NB"}]
[null,null,"Week40","Mon",null,null,null,"00:00:00",{"$f":"SUM(H276:H282)","v":0},{"$f":"IF(E276=\"\",\"\",AVERAGE(I$3:I276))","v":""},"00:00:00",null,"00:00:00","00:00:00","00:00:00","00:00:00","00:00:00",0,{"$f":"IF('PO-Calcs'!J275=\"Under\",\"Check\",0)","v":0},{"$f":"IF('PO-Calcs'!M275=\"Exceeds\",\"Check\",0)","v":0},{"$f":"'PO-Calcs'!O275","v":"NB"},{"$f":"'PO-Calcs'!P275","v":"NB"}]
[null,null,null,"Tue",null,null,null,"00:00:00",null,null,"00:00:00",null,"00:00:00","00:00:00","00:00:00","00:00:00","00:00:00",0,{"$f":"IF('PO-Calcs'!J276=\"Under\",\"Check\",0)","v":0},{"$f":"IF('PO-Calcs'!M276=\"Exceeds\",\"Check\",0)","v":0},{"$f":"'PO-Calcs'!O276","v":"NB"},{"$f":"'PO-Calcs'!P276","v":"NB"}]
[null,null,null,"Wed",null,null,null,"00:00:00",null,null,"00:00:00",null,"00:00:00","00:00:00","00:00:00","00:00:00","00:00:00",0,{"$f":"IF('PO-Calcs'!J277=\"Under\",\"Check\",0)","v":0},{"$f":"IF('PO-Calcs'!M277=\"Exceeds\",\"Check\",0)","v":0},{"$f":"'PO-Calcs'!O277","v":"NB"},{"$f":"'PO-Calcs'!P277","v":"NB"}]
[null,null,null,"Thu",null,null,null,"00:00:00",null,null,"00:00:00",null,"00:00:00","00:00:00","00:00:00","00:00:00","00:00:00",0,{"$f":"IF('PO-Calcs'!J278=\"Under\",\"Check\",0)","v":0},{"$f":"IF('PO-Calcs'!M278=\"Exceeds\",\"Check\",0)","v":0},{"$f":"'PO-Calcs'!O278","v":"NB"},{"$f":"'PO-Calcs'!P278","v":"NB"}]
[null,null,null,"Fri",null,null,null,"00:00:00",null,null,0,null,"00:00:00","00:00:00","00:00:00","00:00:00","00:00:00",0,{"$f":"IF('PO-Calcs'!J279=\"Under\",\"Check\",0)","v":0},{"$f":"IF('PO-Calcs'!M279=\"Exceeds\",\"Check\",0)","v":0},{"$f":"'PO-Calcs'!O279","v":"NB"},{"$f":"'PO-Calcs'!P279","v":"NB"}]
[null,null,null,"Sat",null,null,null,"00:00:00",null,null,"00:00:00",{"$f":"H281","v":"00:00:00"},"00:00:00","00:00:00","00:00:00","00:00:00","00:00:00",0,{"$f":"IF('PO-Calcs'!J280=\"Under\",\"Check\",0)","v":0},{"$f":"IF('PO-Calcs'!M280=\"Exceeds\",\"Check\",0)","v":0},{"$f":"'PO-Calcs'!O280","v":"NB"},{"$f":"'PO-Calcs'!P280","v":"NB"}]
[null,null,null,"Sun",null,null,null,"00:00:00",null,null,"00:00:00","00:00:00","00:00:00","00:00:00","00:00:00","00:00:00","00:00:00",0,{"$f":"IF(ISTEXT(E277),\"\",IF('PO-Calcs'!J281=\"Under\",\"Check\",\"\"))","v":""},{"$f":"IF('PO-Calcs'!M281=\"Exceeds\",\"Check\",0)","v":0},{"$f":"'PO-Calcs'!O281","v":"NB"},{"$f":"'PO-Calcs'!P281","v":"NB"}]
[null,null,"Week41","Mon",null,null,null,"00:00:00",{"$f":"SUM(H283:H289)","v":0},{"$f":"IF(E283=\"\",\"\",AVERAGE(I$3:I283))","v":""},"00:00:00",null,"00:00:00","00:00:00","00:00:00","00:00:00","00:00:00",0,{"$f":"IF('PO-Calcs'!J282=\"Under\",\"Check\",0)","v":0},{"$f":"IF('PO-Calcs'!M282=\"Exceeds\",\"Check\",0)","v":0},{"$f":"'PO-Calcs'!O282","v":"NB"},{"$f":"'PO-Calcs'!P282","v":"NB"}]
[null,null,null,"Tue",null,null,null,"00:00:00",null,null,"00:00:00",null,"00:00:00","00:00:00","00:00:00","00:00:00","00:00:00",0,{"$f":"IF('PO-Calcs'!J283=\"Under\",\"Check\",0)","v":0},{"$f":"IF('PO-Calcs'!M283=\"Exceeds\",\"Check\",0)","v":0},{"$f":"'PO-Calcs'!O283","v":"NB"},{"$f":"'PO-Calcs'!P283","v":"NB"}]
[null,null,null,"Wed",null,null,null,"00:00:00",null,null,"00:00:00",null,"00:00:00","00:00:00","00:00:00","00:00:00","00:00:00",0,{"$f":"IF('PO-Calcs'!J284=\"Under\",\"Check\",0)","v":0},{"$f":"IF('PO-Calcs'!M284=\"Exceeds\",\"Check\",0)","v":0},{"$f":"'PO-Calcs'!O284","v":"NB"},{"$f":"'PO-Calcs'!P284","v":"NB"}]
[null,null,null,"Thu",null,null,null,"00:00:00",null,null,"00:00:00",null,"00:00:00","00:00:00","00:00:00","00:00:00","00:00:00",0,{"$f":"IF('PO-Calcs'!J285=\"Under\",\"Check\",0)","v":0},{"$f":"IF('PO-Calcs'!M285=\"Exceeds\",\"Check\",0)","v":0},{"$f":"'PO-Calcs'!O285","v":"NB"},{"$f":"'PO-Calcs'!P285","v":"NB"}]
[null,null,null,"Fri",null,null,null,"00:00:00",null,null,0,null,"00:00:00","00:00:00","00:00:00","00:00:00","00:00:00",0,{"$f":"IF('PO-Calcs'!J286=\"Under\",\"Check\",0)","v":0},{"$f":"IF('PO-Calcs'!M286=\"Exceeds\",\"Check\",0)","v":0},{"$f":"'PO-Calcs'!O286","v":"NB"},{"$f":"'PO-Calcs'!P286","v":"NB"}]
[null,null,null,"Sat",null,null,null,"00:00:00",null,null,"00:00:00",{"$f":"H288","v":"00:00:00"},"00:00:00","00:00:00","00:00:00","00:00:00","00:00:00",0,{"$f":"IF('PO-Calcs'!J287=\"Under\",\"Check\",0)","v":0},{"$f":"IF('PO-Calcs'!M287=\"Exceeds\",\"Check\",0)","v":0},{"$f":"'PO-Calcs'!O287","v":"NB"},{"$f":"'PO-Calcs'!P287","v":"NB"}]
[null,null,null,"Sun",null,null,null,"00:00:00",null,null,"00:00:00","00:00:00","00:00:00","00:00:00","00:00:00","00:00:00","00:00:00",0,{"$f":"IF(ISTEXT(E284),\"\",IF('PO-Calcs'!J288=\"Under\",\"Check\",\"\"))","v":""},{"$f":"IF('PO-Calcs'!M288=\"Exceeds\",\"Check\",0)","v":0},{"$f":"'PO-Calcs'!O288","v":"NB"},{"$f":"'PO-Calcs'!P288","v":"NB"}]
[null,null,"Week42","Mon",null,null,null,"00:00:00",{"$f":"SUM(H290:H296)","v":0},{"$f":"IF(E290=\"\",\"\",AVERAGE(I$3:I290))","v":""},"00:00:00",null,"00:00:00","00:00:00","00:00:00","00:00:00","00:00:00",0,{"$f":"IF('PO-Calcs'!J289=\"Under\",\"Check\",0)","v":0},{"$f":"IF('PO-Calcs'!M289=\"Exceeds\",\"Check\",0)","v":0},{"$f":"'PO-Calcs'!O289","v":"NB"},{"$f":"'PO-Calcs'!P289","v":"NB"}]
[null,null,null,"Tue",null,null,null,"00:00:00",null,null,"00:00:00",null,"00:00:00","00:00:00","00:00:00","00:00:00","00:00:00",0,{"$f":"IF('PO-Calcs'!J290=\"Under\",\"Check\",0)","v":0},{"$f":"IF('PO-Calcs'!M290=\"Exceeds\",\"Check\",0)","v":0},{"$f":"'PO-Calcs'!O290","v":"NB"},{"$f":"'PO-Calcs'!P290","v":"NB"}]
[null,null,null,"Wed",null,null,null,"00:00:00",null,null,"00:00:00",null,"00:00:00","00:00:00","00:00:00","00:00:00","00:00:00",0,{"$f":"IF('PO-Calcs'!J291=\"Under\",\"Check\",0)","v":0},{"$f":"IF('PO-Calcs'!M291=\"Exceeds\",\"Check\",0)","v":0},{"$f":"'PO-Calcs'!O291","v":"NB"},{"$f":"'PO-Calcs'!P291","v":"NB"}]
[null,null,null,"Thu",null,null,null,"00:00:00",null,null,"00:00:00",null,"00:00:00","00:00:00","00:00:00","00:00:00","00:00:00",0,{"$f":"IF('PO-Calcs'!J292=\"Under\",\"Check\",0)","v":0},{"$f":"IF('PO-Calcs'!M292=\"Exceeds\",\"Check\",0)","v":0},{"$f":"'PO-Calcs'!O292","v":"NB"},{"$f":"'PO-Calcs'!P292","v":"NB"}]
[null,null,null,"Fri",null,null,null,"00:00:00",null,null,0,null,"00:00:00","00:00:00","00:00:00","00:00:00","00:00:00",0,{"$f":"IF('PO-Calcs'!J293=\"Under\",\"Check\",0)","v":0},{"$f":"IF('PO-Calcs'!M293=\"Exceeds\",\"Check\",0)","v":0},{"$f":"'PO-Calcs'!O293","v":"NB"},{"$f":"'PO-Calcs'!P293","v":"NB"}]
[null,null,null,"Sat",null,null,null,"00:00:00",null,null,"00:00:00",{"$f":"H295","v":"00:00:00"},"00:00:00","00:00:00","00:00:00","00:00:00","00:00:00",0,{"$f":"IF('PO-Calcs'!J294=\"Under\",\"Check\",0)","v":0},{"$f":"IF('PO-Calcs'!M294=\"Exceeds\",\"Check\",0)","v":0},{"$f":"'PO-Calcs'!O294","v":"NB"},{"$f":"'PO-Calcs'!P294","v":"NB"}]
[null,null,null,"Sun",null,null,null,"00:00:00",null,null,"00:00:00","00:00:00","00:00:00","00:00:00","00:00:00","00:00:00","00:00:00",0,{"$f":"IF(ISTEXT(E291),\"\",IF('PO-Calcs'!J295=\"Under\",\"Check\",\"\"))","v":""},{"$f":"IF('PO-Calcs'!M295=\"Exceeds\",\"Check\",0)","v":0},{"$f":"'PO-Calcs'!O295","v":"NB"},{"$f":"'PO-Calcs'!P295","v":"NB"}]
[null,null,"Week43","Mon",null,null,null,"00:00:00",{"$f":"SUM(H297:H303)","v":0},{"$f":"IF(E297=\"\",\"\",AVERAGE(I$3:I297))","v":""},"00:00:00",null,"00:00:00","00:00:00","00:00:00","00:00:00","00:00:00",0,{"$f":"IF('PO-Calcs'!J296=\"Under\",\"Check\",0)","v":0},{"$f":"IF('PO-Calcs'!M296=\"Exceeds\",\"Check\",0)","v":0},{"$f":"'PO-Calcs'!O296","v":"NB"},{"$f":"'PO-Calcs'!P296","v":"NB"}]
[null,null,null,"Tue",null,null,null,"00:00:00",null,null,"00:00:00",null,"00:00:00","00:00:00","00:00:00","00:00:00","00:00:00",0,{"$f":"IF('PO-Calcs'!J297=\"Under\",\"Check\",0)","v":0},{"$f":"IF('PO-Calcs'!M297=\"Exceeds\",\"Check\",0)","v":0},{"$f":"'PO-Calcs'!O297","v":"NB"},{"$f":"'PO-Calcs'!P297","v":"NB"}]
[null,null,null,"Wed",null,null,null,"00:00:00",null,null,"00:00:00",null,"00:00:00","00:00:00","00:00:00","00:00:00","00:00:00",0,{"$f":"IF('PO-Calcs'!J298=\"Under\",\"Check\",0)","v":0},{"$f":"IF('PO-Calcs'!M298=\"Exceeds\",\"Check\",0)","v":0},{"$f":"'PO-Calcs'!O298","v":"NB"},{"$f":"'PO-Calcs'!P298","v":"NB"}]
[null,null,null,"Thu",null,null,null,"00:00:00",null,null,"00:00:00",null,"00:00:00","00:00:00","00:00:00","00:00:00","00:00:00",0,{"$f":"IF('PO-Calcs'!J299=\"Under\",\"Check\",0)","v":0},{"$f":"IF('PO-Calcs'!M299=\"Exceeds\",\"Check\",0)","v":0},{"$f":"'PO-Calcs'!O299","v":"NB"},{"$f":"'PO-Calcs'!P299","v":"NB"}]
[null,null,null,"Fri",null,null,null,"00:00:00",null,null,0,null,"00:00:00","00:00:00","00:00:00","00:00:00","00:00:00",0,{"$f":"IF('PO-Calcs'!J300=\"Under\",\"Check\",0)","v":0},{"$f":"IF('PO-Calcs'!M300=\"Exceeds\",\"Check\",0)","v":0},{"$f":"'PO-Calcs'!O300","v":"NB"},{"$f":"'PO-Calcs'!P300","v":"NB"}]
[null,null,null,"Sat",null,null,null,"00:00:00",null,null,"00:00:00",{"$f":"H302","v":"00:00:00"},"00:00:00","00:00:00","00:00:00","00:00:00","00:00:00",0,{"$f":"IF('PO-Calcs'!J301=\"Under\",\"Check\",0)","v":0},{"$f":"IF('PO-Calcs'!M301=\"Exceeds\",\"Check\",0)","v":0},{"$f":"'PO-Calcs'!O301","v":"NB"},{"$f":"'PO-Calcs'!P301","v":"NB"}]
[null,null,null,"Sun",null,null,null,"00:00:00",null,null,"00:00:00","00:00:00","00:00:00","00:00:00","00:00:00","00:00:00","00:00:00",0,{"$f":"IF(ISTEXT(E298),\"\",IF('PO-Calcs'!J302=\"Under\",\"Check\",\"\"))","v":""},{"$f":"IF('PO-Calcs'!M302=\"Exceeds\",\"Check\",0)","v":0},{"$f":"'PO-Calcs'!O302","v":"NB"},{"$f":"'PO-Calcs'!P302","v":"NB"}]
[null,null,"Week44","Mon",null,null,null,"00:00:00",{"$f":"SUM(H304:H310)","v":0},{"$f":"IF(E304=\"\",\"\",AVERAGE(I$3:I304))","v":""},"00:00:00",null,"00:00:00","00:00:00","00:00:00","00:00:00","00:00:00",0,{"$f":"IF('PO-Calcs'!J303=\"Under\",\"Check\",0)","v":0},{"$f":"IF('PO-Calcs'!M303=\"Exceeds\",\"Check\",0)","v":0},{"$f":"'PO-Calcs'!O303","v":"NB"},{"$f":"'PO-Calcs'!P303","v":"NB"}]
[null,null,null,"Tue",null,null,null,"00:00:00",null,null,"00:00:00",null,"00:00:00","00:00:00","00:00:00","00:00:00","00:00:00",0,{"$f":"IF('PO-Calcs'!J304=\"Under\",\"Check\",0)","v":0},{"$f":"IF('PO-Calcs'!M304=\"Exceeds\",\"Check\",0)","v":0},{"$f":"'PO-Calcs'!O304","v":"NB"},{"$f":"'PO-Calcs'!P304","v":"NB"}]
[null,null,null,"Wed",null,null,null,"00:00:00",null,null,"00:00:00",null,"00:00:00","00:00:00","00:00:00","00:00:00","00:00:00",0,{"$f":"IF('PO-Calcs'!J305=\"Under\",\"Check\",0)","v":0},{"$f":"IF('PO-Calcs'!M305=\"Exceeds\",\"Check\",0)","v":0},{"$f":"'PO-Calcs'!O305","v":"NB"},{"$f":"'PO-Calcs'!P305","v":"NB"}]
[null,null,null,"Thu",null,null,null,"00:00:00",null,null,"00:00:00",null,"00:00:00","00:00:00","00:00:00","00:00:00","00:00:00",0,{"$f":"IF('PO-Calcs'!J306=\"Under\",\"Check\",0)","v":0},{"$f":"IF('PO-Calcs'!M306=\"Exceeds\",\"Check\",0)","v":0},{"$f":"'PO-Calcs'!O306","v":"NB"},{"$f":"'PO-Calcs'!P306","v":"NB"}]
[null,null,null,"Fri",null,null,null,"00:00:00",null,null,0,null,"00:00:00","00:00:00","00:00:00","00:00:00","00:00:00",0,{"$f":"IF('PO-Calcs'!J307=\"Under\",\"Check\",0)","v":0},{"$f":"IF('PO-Calcs'!M307=\"Exceeds\",\"Check\",0)","v":0},{"$f":"'PO-Calcs'!O307","v":"NB"},{"$f":"'PO-Calcs'!P307","v":"NB"}]
[null,null,null,"Sat",null,null,null,"00:00:00",null,null,"00:00:00",{"$f":"H309","v":"00:00:00"},"00:00:00","00:00:00","00:00:00","00:00:00","00:00:00",0,{"$f":"IF('PO-Calcs'!J308=\"Under\",\"Check\",0)","v":0},{"$f":"IF('PO-Calcs'!M308=\"Exceeds\",\"Check\",0)","v":0},{"$f":"'PO-Calcs'!O308","v":"NB"},{"$f":"'PO-Calcs'!P308","v":"NB"}]
[null,null,null,"Sun",null,null,null,"00:00:00",null,null,"00:00:00","00:00:00","00:00:00","00:00:00","00:00:00","00:00:00","00:00:00",0,{"$f":"IF(ISTEXT(E305),\"\",IF('PO-Calcs'!J309=\"Under\",\"Check\",\"\"))","v":""},{"$f":"IF('PO-Calcs'!M309=\"Exceeds\",\"Check\",0)","v":0},{"$f":"'PO-Calcs'!O309","v":"NB"},{"$f":"'PO-Calcs'!P309","v":"NB"}]
[null,null,"Week45","Mon",null,null,null,"00:00:00",{"$f":"SUM(H311:H317)","v":0},{"$f":"IF(E311=\"\",\"\",AVERAGE(I$3:I311))","v":""},"00:00:00",null,"00:00:00","00:00:00","00:00:00","00:00:00","00:00:00",0,{"$f":"IF('PO-Calcs'!J310=\"Under\",\"Check\",0)","v":0},{"$f":"IF('PO-Calcs'!M310=\"Exceeds\",\"Check\",0)","v":0},{"$f":"'PO-Calcs'!O310","v":"NB"},{"$f":"'PO-Calcs'!P310","v":"NB"}]
[null,null,null,"Tue",null,null,null,"00:00:00",null,null,"00:00:00",null,"00:00:00","00:00:00","00:00:00","00:00:00","00:00:00",0,{"$f":"IF('PO-Calcs'!J311=\"Under\",\"Check\",0)","v":0},{"$f":"IF('PO-Calcs'!M311=\"Exceeds\",\"Check\",0)","v":0},{"$f":"'PO-Calcs'!O311","v":"NB"},{"$f":"'PO-Calcs'!P311","v":"NB"}]
[null,null,null,"Wed",null,null,null,"00:00:00",null,null,"00:00:00",null,"00:00:00","00:00:00","00:00:00","00:00:00","00:00:00",0,{"$f":"IF('PO-Calcs'!J312=\"Under\",\"Check\",0)","v":0},{"$f":"IF('PO-Calcs'!M312=\"Exceeds\",\"Check\",0)","v":0},{"$f":"'PO-Calcs'!O312","v":"NB"},{"$f":"'PO-Calcs'!P312","v":"NB"}]
[null,null,null,"Thu",null,null,null,"00:00:00",null,null,"00:00:00",null,"00:00:00","00:00:00","00:00:00","00:00:00","00:00:00",0,{"$f":"IF('PO-Calcs'!J313=\"Under\",\"Check\",0)","v":0},{"$f":"IF('PO-Calcs'!M313=\"Exceeds\",\"Check\",0)","v":0},{"$f":"'PO-Calcs'!O313","v":"NB"},{"$f":"'PO-Calcs'!P313","v":"NB"}]
[null,null,null,"Fri",null,null,null,"00:00:00",null,null,0,null,"00:00:00","00:00:00","00:00:00","00:00:00","00:00:00",0,{"$f":"IF('PO-Calcs'!J314=\"Under\",\"Check\",0)","v":0},{"$f":"IF('PO-Calcs'!M314=\"Exceeds\",\"Check\",0)","v":0},{"$f":"'PO-Calcs'!O314","v":"NB"},{"$f":"'PO-Calcs'!P314","v":"NB"}]
[null,null,null,"Sat",null,null,null,"00:00:00",null,null,"00:00:00",{"$f":"H316","v":"00:00:00"},"00:00:00","00:00:00","00:00:00","00:00:00","00:00:00",0,{"$f":"IF('PO-Calcs'!J315=\"Under\",\"Check\",0)","v":0},{"$f":"IF('PO-Calcs'!M315=\"Exceeds\",\"Check\",0)","v":0},{"$f":"'PO-Calcs'!O315","v":"NB"},{"$f":"'PO-Calcs'!P315","v":"NB"}]
[null,null,null,"Sun",null,null,null,"00:00:00",null,null,"00:00:00","00:00:00","00:00:00","00:00:00","00:00:00","00:00:00","00:00:00",0,{"$f":"IF(ISTEXT(E312),\"\",IF('PO-Calcs'!J316=\"Under\",\"Check\",\"\"))","v":""},{"$f":"IF('PO-Calcs'!M316=\"Exceeds\",\"Check\",0)","v":0},{"$f":"'PO-Calcs'!O316","v":"NB"},{"$f":"'PO-Calcs'!P316","v":"NB"}]
[null,null,"Week46","Mon",null,null,null,"00:00:00",{"$f":"SUM(H318:H324)","v":0},{"$f":"IF(E318=\"\",\"\",AVERAGE(I$3:I318))","v":""},"00:00:00",null,"00:00:00","00:00:00","00:00:00","00:00:00","00:00:00",0,{"$f":"IF('PO-Calcs'!J317=\"Under\",\"Check\",0)","v":0},{"$f":"IF('PO-Calcs'!M317=\"Exceeds\",\"Check\",0)","v":0},{"$f":"'PO-Calcs'!O317","v":"NB"},{"$f":"'PO-Calcs'!P317","v":"NB"}]
[null,null,null,"Tue",null,null,null,"00:00:00",null,null,"00:00:00",null,"00:00:00","00:00:00","00:00:00","00:00:00","00:00:00",0,{"$f":"IF('PO-Calcs'!J318=\"Under\",\"Check\",0)","v":0},{"$f":"IF('PO-Calcs'!M318=\"Exceeds\",\"Check\",0)","v":0},{"$f":"'PO-Calcs'!O318","v":"NB"},{"$f":"'PO-Calcs'!P318","v":"NB"}]
[null,null,null,"Wed",null,null,null,"00:00:00",null,null,"00:00:00",null,"00:00:00","00:00:00","00:00:00","00:00:00","00:00:00",0,{"$f":"IF('PO-Calcs'!J319=\"Under\",\"Check\",0)","v":0},{"$f":"IF('PO-Calcs'!M319=\"Exceeds\",\"Check\",0)","v":0},{"$f":"'PO-Calcs'!O319","v":"NB"},{"$f":"'PO-Calcs'!P319","v":"NB"}]
[null,null,null,"Thu",null,null,null,"00:00:00",null,null,"00:00:00",null,"00:00:00","00:00:00","00:00:00","00:00:00","00:00:00",0,{"$f":"IF('PO-Calcs'!J320=\"Under\",\"Check\",0)","v":0},{"$f":"IF('PO-Calcs'!M320=\"Exceeds\",\"Check\",0)","v":0},{"$f":"'PO-Calcs'!O320","v":"NB"},{"$f":"'PO-Calcs'!P320","v":"NB"}]
[null,null,null,"Fri",null,null,null,"00:00:00",null,null,0,null,"00:00:00","00:00:00","00:00:00","00:00:00","00:00:00",0,{"$f":"IF('PO-Calcs'!J321=\"Under\",\"Check\",0)","v":0},{"$f":"IF('PO-Calcs'!M321=\"Exceeds\",\"Check\",0)","v":0},{"$f":"'PO-Calcs'!O321","v":"NB"},{"$f":"'PO-Calcs'!P321","v":"NB"}]
[null,null,null,"Sat",null,null,null,{"$f":"IF(E323=\"R\",0,IF(E323=\"F\",0,IF(F323<E323,F323+1,F323)-E323))","v":"00:00:00"},null,null,{"$f":"IF(F323<E323,F323+1,F323)","v":"00:00:00"},{"$f":"H323","v":"00:00:00"},{"$f":"IF(H323>0,IF(M$2-E323>0,M$2-E323,0),0)","v":"00:00:00"},{"$f":"IF(H323>0,IF(F323-N$2>0,F323-N$2,0),0)","v":"00:00:00"},{"$f":"IF(H323>0,IF(O$2-F323<0,0,F323),0)","v":"00:00:00"},{"$f":"IF(H323>0,IF(E323-P$2<0,0,R$2-E323),0)","v":"00:00:00"},"00:00:00",0,{"$f":"IF('PO-Calcs'!J322=\"Under\",\"Check\",0)","v":0},{"$f":"IF('PO-Calcs'!M322=\"Exceeds\",\"Check\",0)","v":0},{"$f":"'PO-Calcs'!O322","v":"NB"},{"$f":"'PO-Calcs'!P322","v":"NB"}]
[null,null,null,"Sun",null,null,null,"00:00:00",null,null,"00:00:00","00:00:00","00:00:00","00:00:00","00:00:00","00:00:00","00:00:00",0,{"$f":"IF(ISTEXT(E319),\"\",IF('PO-Calcs'!J323=\"Under\",\"Check\",\"\"))","v":""},{"$f":"IF('PO-Calcs'!M323=\"Exceeds\",\"Check\",0)","v":0},{"$f":"'PO-Calcs'!O323","v":"NB"},{"$f":"'PO-Calcs'!P323","v":"NB"}]
[null,null,"Week47","Mon",null,null,null,"00:00:00",{"$f":"SUM(H325:H331)","v":0},{"$f":"IF(E325=\"\",\"\",AVERAGE(I$3:I325))","v":""},"00:00:00",null,"00:00:00","00:00:00","00:00:00","00:00:00","00:00:00",0,{"$f":"IF('PO-Calcs'!J324=\"Under\",\"Check\",0)","v":0},{"$f":"IF('PO-Calcs'!M324=\"Exceeds\",\"Check\",0)","v":0},{"$f":"'PO-Calcs'!O324","v":"NB"},{"$f":"'PO-Calcs'!P324","v":"NB"}]
[null,null,null,"Tue",null,null,null,"00:00:00",null,null,"00:00:00",null,"00:00:00","00:00:00","00:00:00","00:00:00","00:00:00",0,{"$f":"IF('PO-Calcs'!J325=\"Under\",\"Check\",0)","v":0},{"$f":"IF('PO-Calcs'!M325=\"Exceeds\",\"Check\",0)","v":0},{"$f":"'PO-Calcs'!O325","v":"NB"},{"$f":"'PO-Calcs'!P325","v":"NB"}]
[null,null,null,"Wed",null,null,null,"00:00:00",null,null,"00:00:00",null,"00:00:00","00:00:00","00:00:00","00:00:00","00:00:00",0,{"$f":"IF('PO-Calcs'!J326=\"Under\",\"Check\",0)","v":0},{"$f":"IF('PO-Calcs'!M326=\"Exceeds\",\"Check\",0)","v":0},{"$f":"'PO-Calcs'!O326","v":"NB"},{"$f":"'PO-Calcs'!P326","v":"NB"}]
[null,null,null,"Thu",null,null,null,"00:00:00",null,null,"00:00:00",null,"00:00:00","00:00:00","00:00:00","00:00:00","00:00:00",0,{"$f":"IF('PO-Calcs'!J327=\"Under\",\"Check\",0)","v":0},{"$f":"IF('PO-Calcs'!M327=\"Exceeds\",\"Check\",0)","v":0},{"$f":"'PO-Calcs'!O327","v":"NB"},{"$f":"'PO-Calcs'!P327","v":"NB"}]
[null,null,null,"Fri",null,null,null,"00:00:00",null,null,0,null,"00:00:00","00:00:00","00:00:00","00:00:00","00:00:00",0,{"$f":"IF('PO-Calcs'!J328=\"Under\",\"Check\",0)","v":0},{"$f":"IF('PO-Calcs'!M328=\"Exceeds\",\"Check\",0)","v":0},{"$f":"'PO-Calcs'!O328","v":"NB"},{"$f":"'PO-Calcs'!P328","v":"NB"}]
[null,null,null,"Sat",null,null,null,"00:00:00",null,null,"00:00:00",{"$f":"H330","v":"00:00:00"},"00:00:00","00:00:00","00:00:00","00:00:00","00:00:00",{"$f":"IF(H330>0,IF(SUM(M330:P330)>0,\"yes\",\"no\"),0)","v":0},{"$f":"IF('PO-Calcs'!J329=\"Under\",\"Check\",0)","v":0},{"$f":"IF('PO-Calcs'!M329=\"Exceeds\",\"Check\",0)","v":0},{"$f":"'PO-Calcs'!O329","v":"NB"},{"$f":"'PO-Calcs'!P329","v":"NB"}]
[null,null,null,"Sun",null,null,null,"00:00:00",null,null,"00:00:00","00:00:00","00:00:00","00:00:00","00:00:00","00:00:00",{"$f":"SUM(M331:P331)","v":"00:00:00"},0,{"$f":"IF(ISTEXT(E326),\"\",IF('PO-Calcs'!J330=\"Under\",\"Check\",\"\"))","v":""},{"$f":"IF('PO-Calcs'!M330=\"Exceeds\",\"Check\",0)","v":0},{"$f":"'PO-Calcs'!O330","v":"NB"},{"$f":"'PO-Calcs'!P330","v":"NB"}]
[null,null,"Week48","Mon",null,null,null,"00:00:00",{"$f":"SUM(H332:H338)","v":0},{"$f":"IF(E332=\"\",\"\",AVERAGE(I$3:I332))","v":""},"00:00:00",null,"00:00:00","00:00:00","00:00:00","00:00:00","00:00:00",0,{"$f":"IF('PO-Calcs'!J331=\"Under\",\"Check\",0)","v":0},{"$f":"IF('PO-Calcs'!M331=\"Exceeds\",\"Check\",0)","v":0},{"$f":"'PO-Calcs'!O331","v":"NB"},{"$f":"'PO-Calcs'!P331","v":"NB"}]
[null,null,null,"Tue",null,null,null,"00:00:00",null,null,"00:00:00",null,"00:00:00","00:00:00","00:00:00","00:00:00","00:00:00",0,{"$f":"IF('PO-Calcs'!J332=\"Under\",\"Check\",0)","v":0},{"$f":"IF('PO-Calcs'!M332=\"Exceeds\",\"Check\",0)","v":0},{"$f":"'PO-Calcs'!O332","v":"NB"},{"$f":"'PO-Calcs'!P332","v":"NB"}]
[null,null,null,"Wed",null,null,null,"00:00:00",null,null,"00:00:00",null,"00:00:00","00:00:00","00:00:00","00:00:00","00:00:00",0,{"$f":"IF('PO-Calcs'!J333=\"Under\",\"Check\",0)","v":0},{"$f":"IF('PO-Calcs'!M333=\"Exceeds\",\"Check\",0)","v":0},{"$f":"'PO-Calcs'!O333","v":"NB"},{"$f":"'PO-Calcs'!P333","v":"NB"}]
[null,null,null,"Thu",null,null,null,"00:00:00",null,null,"00:00:00",null,"00:00:00","00:00:00","00:00:00","00:00:00","00:00:00",0,{"$f":"IF('PO-Calcs'!J334=\"Under\",\"Check\",0)","v":0},{"$f":"IF('PO-Calcs'!M334=\"Exceeds\",\"Check\",0)","v":0},{"$f":"'PO-Calcs'!O334","v":"NB"},{"$f":"'PO-Calcs'!P334","v":"NB"}]
[null,null,null,"Fri",null,null,null,"00:00:00",null,null,0,null,"00:00:00","00:00:00","00:00:00","00:00:00","00:00:00",0,{"$f":"IF('PO-Calcs'!J335=\"Under\",\"Check\",0)","v":0},{"$f":"IF('PO-Calcs'!M335=\"Exceeds\",\"Check\",0)","v":0},{"$f":"'PO-Calcs'!O335","v":"NB"},{"$f":"'PO-Calcs'!P335","v":"NB"}]
[null,null,null,"Sat",null,null,null,"00:00:00",null,null,"00:00:00",{"$f":"H337","v":"00:00:00"},"00:00:00","00:00:00","00:00:00","00:00:00","00:00:00",0,{"$f":"IF('PO-Calcs'!J336=\"Under\",\"Check\",0)","v":0},{"$f":"IF('PO-Calcs'!M336=\"Exceeds\",\"Check\",0)","v":0},{"$f":"'PO-Calcs'!O336","v":"NB"},{"$f":"'PO-Calcs'!P336","v":"NB"}]
[null,null,null,"Sun",null,null,null,"00:00:00",null,null,"00:00:00","00:00:00","00:00:00","00:00:00","00:00:00","00:00:00","00:00:00",0,{"$f":"IF(ISTEXT(E333),\"\",IF('PO-Calcs'!J337=\"Under\",\"Check\",\"\"))","v":""},{"$f":"IF('PO-Calcs'!M337=\"Exceeds\",\"Check\",0)","v":0},{"$f":"'PO-Calcs'!O337","v":"NB"},{"$f":"'PO-Calcs'!P337","v":"NB"}]
[null,null,"Week49","Mon",null,null,null,"00:00:00",{"$f":"SUM(H339:H345)","v":0},{"$f":"IF(E339=\"\",\"\",AVERAGE(I$3:I339))","v":""},"00:00:00",null,"00:00:00","00:00:00","00:00:00","00:00:00","00:00:00",0,{"$f":"IF('PO-Calcs'!J338=\"Under\",\"Check\",0)","v":0},{"$f":"IF('PO-Calcs'!M338=\"Exceeds\",\"Check\",0)","v":0},{"$f":"'PO-Calcs'!O338","v":"NB"},{"$f":"'PO-Calcs'!P338","v":"NB"}]
[null,null,null,"Tue",null,null,null,"00:00:00",null,null,"00:00:00",null,"00:00:00","00:00:00","00:00:00","00:00:00","00:00:00",0,{"$f":"IF('PO-Calcs'!J339=\"Under\",\"Check\",0)","v":0},{"$f":"IF('PO-Calcs'!M339=\"Exceeds\",\"Check\",0)","v":0},{"$f":"'PO-Calcs'!O339","v":"NB"},{"$f":"'PO-Calcs'!P339","v":"NB"}]
[null,null,null,"Wed",null,null,null,"00:00:00",null,null,"00:00:00",null,"00:00:00","00:00:00","00:00:00","00:00:00","00:00:00",0,{"$f":"IF('PO-Calcs'!J340=\"Under\",\"Check\",0)","v":0},{"$f":"IF('PO-Calcs'!M340=\"Exceeds\",\"Check\",0)","v":0},{"$f":"'PO-Calcs'!O340","v":"NB"},{"$f":"'PO-Calcs'!P340","v":"NB"}]
[null,null,null,"Thu",null,null,null,"00:00:00",null,null,"00:00:00",null,"00:00:00","00:00:00","00:00:00","00:00:00","00:00:00",0,{"$f":"IF('PO-Calcs'!J341=\"Under\",\"Check\",0)","v":0},{"$f":"IF('PO-Calcs'!M341=\"Exceeds\",\"Check\",0)","v":0},{"$f":"'PO-Calcs'!O341","v":"NB"},{"$f":"'PO-Calcs'!P341","v":"NB"}]
[null,null,null,"Fri",null,null,null,"00:00:00",null,null,0,null,"00:00:00","00:00:00","00:00:00","00:00:00","00:00:00",0,{"$f":"IF('PO-Calcs'!J342=\"Under\",\"Check\",0)","v":0},{"$f":"IF('PO-Calcs'!M342=\"Exceeds\",\"Check\",0)","v":0},{"$f":"'PO-Calcs'!O342","v":"NB"},{"$f":"'PO-Calcs'!P342","v":"NB"}]
[null,null,null,"Sat",null,null,null,"00:00:00",null,null,"00:00:00",{"$f":"H344","v":"00:00:00"},"00:00:00","00:00:00","00:00:00","00:00:00","00:00:00",0,{"$f":"IF('PO-Calcs'!J343=\"Under\",\"Check\",0)","v":0},{"$f":"IF('PO-Calcs'!M343=\"Exceeds\",\"Check\",0)","v":0},{"$f":"'PO-Calcs'!O343","v":"NB"},{"$f":"'PO-Calcs'!P343","v":"NB"}]
[null,null,null,"Sun",null,null,null,"00:00:00",null,null,"00:00:00","00:00:00","00:00:00","00:00:00","00:00:00","00:00:00","00:00:00",0,{"$f":"IF(ISTEXT(E340),\"\",IF('PO-Calcs'!J344=\"Under\",\"Check\",\"\"))","v":""},{"$f":"IF('PO-Calcs'!M344=\"Exceeds\",\"Check\",0)","v":0},{"$f":"'PO-Calcs'!O344","v":"NB"},{"$f":"'PO-Calcs'!P344","v":"NB"}]
[null,null,"Week50","Mon",null,null,null,"00:00:00",{"$f":"SUM(H346:H352)","v":0},{"$f":"IF(E346=\"\",\"\",AVERAGE(I$3:I346))","v":""},"00:00:00",null,"00:00:00","00:00:00","00:00:00","00:00:00","00:00:00",0,{"$f":"IF('PO-Calcs'!J345=\"Under\",\"Check\",0)","v":0},{"$f":"IF('PO-Calcs'!M345=\"Exceeds\",\"Check\",0)","v":0},{"$f":"'PO-Calcs'!O345","v":"NB"},{"$f":"'PO-Calcs'!P345","v":"NB"}]
[null,null,null,"Tue",null,null,null,"00:00:00",null,null,"00:00:00",null,"00:00:00","00:00:00","00:00:00","00:00:00","00:00:00",0,{"$f":"IF('PO-Calcs'!J346=\"Under\",\"Check\",0)","v":0},{"$f":"IF('PO-Calcs'!M346=\"Exceeds\",\"Check\",0)","v":0},{"$f":"'PO-Calcs'!O346","v":"NB"},{"$f":"'PO-Calcs'!P346","v":"NB"}]
[null,null,null,"Wed",null,null,null,"00:00:00",null,null,"00:00:00",null,"00:00:00","00:00:00","00:00:00","00:00:00","00:00:00",0,{"$f":"IF('PO-Calcs'!J347=\"Under\",\"Check\",0)","v":0},{"$f":"IF('PO-Calcs'!M347=\"Exceeds\",\"Check\",0)","v":0},{"$f":"'PO-Calcs'!O347","v":"NB"},{"$f":"'PO-Calcs'!P347","v":"NB"}]
[null,null,null,"Thu",null,null,null,"00:00:00",null,null,"00:00:00",null,"00:00:00","00:00:00","00:00:00","00:00:00","00:00:00",0,{"$f":"IF('PO-Calcs'!J348=\"Under\",\"Check\",0)","v":0},{"$f":"IF('PO-Calcs'!M348=\"Exceeds\",\"Check\",0)","v":0},{"$f":"'PO-Calcs'!O348","v":"NB"},{"$f":"'PO-Calcs'!P348","v":"NB"}]
[null,null,null,"Fri",null,null,null,"00:00:00",null,null,0,null,"00:00:00","00:00:00","00:00:00","00:00:00","00:00:00",0,{"$f":"IF('PO-Calcs'!J349=\"Under\",\"Check\",0)","v":0},{"$f":"IF('PO-Calcs'!M349=\"Exceeds\",\"Check\",0)","v":0},{"$f":"'PO-Calcs'!O349","v":"NB"},{"$f":"'PO-Calcs'!P349","v":"NB"}]
[null,null,null,"Sat",null,null,null,"00:00:00",null,null,"00:00:00",{"$f":"H351","v":"00:00:00"},"00:00:00","00:00:00","00:00:00","00:00:00","00:00:00",0,{"$f":"IF('PO-Calcs'!J350=\"Under\",\"Check\",0)","v":0},{"$f":"IF('PO-Calcs'!M350=\"Exceeds\",\"Check\",0)","v":0},{"$f":"'PO-Calcs'!O350","v":"NB"},{"$f":"'PO-Calcs'!P350","v":"NB"}]
[null,null,null,"Sun",null,null,null,"00:00:00",null,null,"00:00:00","00:00:00","00:00:00","00:00:00","00:00:00","00:00:00","00:00:00",0,{"$f":"IF(ISTEXT(E347),\"\",IF('PO-Calcs'!J351=\"Under\",\"Check\",\"\"))","v":""},{"$f":"IF('PO-Calcs'!M351=\"Exceeds\",\"Check\",0)","v":0},{"$f":"'PO-Calcs'!O351","v":"NB"},{"$f":"'PO-Calcs'!P351","v":"NB"}]
[null,null,"Week51","Mon",null,null,null,"00:00:00",{"$f":"SUM(H353:H359)","v":0},{"$f":"IF(E353=\"\",\"\",AVERAGE(I$3:I353))","v":""},"00:00:00",null,"00:00:00","00:00:00","00:00:00","00:00:00","00:00:00",0,{"$f":"IF('PO-Calcs'!J352=\"Under\",\"Check\",0)","v":0},{"$f":"IF('PO-Calcs'!M352=\"Exceeds\",\"Check\",0)","v":0},{"$f":"'PO-Calcs'!O352","v":"NB"},{"$f":"'PO-Calcs'!P352","v":"NB"}]
[null,null,null,"Tue",null,null,null,"00:00:00",null,null,"00:00:00",null,"00:00:00","00:00:00","00:00:00","00:00:00","00:00:00",0,{"$f":"IF('PO-Calcs'!J353=\"Under\",\"Check\",0)","v":0},{"$f":"IF('PO-Calcs'!M353=\"Exceeds\",\"Check\",0)","v":0},{"$f":"'PO-Calcs'!O353","v":"NB"},{"$f":"'PO-Calcs'!P353","v":"NB"}]
[null,null,null,"Wed",null,null,null,"00:00:00",null,null,"00:00:00",null,"00:00:00","00:00:00","00:00:00","00:00:00","00:00:00",0,{"$f":"IF('PO-Calcs'!J354=\"Under\",\"Check\",0)","v":0},{"$f":"IF('PO-Calcs'!M354=\"Exceeds\",\"Check\",0)","v":0},{"$f":"'PO-Calcs'!O354","v":"NB"},{"$f":"'PO-Calcs'!P354","v":"NB"}]
[null,null,null,"Thu",null,null,null,"00:00:00",null,null,"00:00:00",null,"00:00:00","00:00:00","00:00:00","00:00:00","00:00:00",0,{"$f":"IF('PO-Calcs'!J355=\"Under\",\"Check\",0)","v":0},{"$f":"IF('PO-Calcs'!M355=\"Exceeds\",\"Check\",0)","v":0},{"$f":"'PO-Calcs'!O355","v":"NB"},{"$f":"'PO-Calcs'!P355","v":"NB"}]
[null,null,null,"Fri",null,null,null,"00:00:00",null,null,0,null,"00:00:00","00:00:00","00:00:00","00:00:00","00:00:00",0,{"$f":"IF('PO-Calcs'!J356=\"Under\",\"Check\",0)","v":0},{"$f":"IF('PO-Calcs'!M356=\"Exceeds\",\"Check\",0)","v":0},{"$f":"'PO-Calcs'!O356","v":"NB"},{"$f":"'PO-Calcs'!P356","v":"NB"}]
[null,null,null,"Sat",null,null,null,"00:00:00",null,null,"00:00:00",{"$f":"H358","v":"00:00:00"},"00:00:00","00:00:00","00:00:00","00:00:00","00:00:00",0,{"$f":"IF('PO-Calcs'!J357=\"Under\",\"Check\",0)","v":0},{"$f":"IF('PO-Calcs'!M357=\"Exceeds\",\"Check\",0)","v":0},{"$f":"'PO-Calcs'!O357","v":"NB"},{"$f":"'PO-Calcs'!P357","v":"NB"}]
[null,null,null,"Sun",null,null,null,"00:00:00",null,null,"00:00:00","00:00:00","00:00:00","00:00:00","00:00:00","00:00:00","00:00:00",0,{"$f":"IF(ISTEXT(E354),\"\",IF('PO-Calcs'!J358=\"Under\",\"Check\",\"\"))","v":""},{"$f":"IF('PO-Calcs'!M358=\"Exceeds\",\"Check\",0)","v":0},{"$f":"'PO-Calcs'!O358","v":"NB"},{"$f":"'PO-Calcs'!P358","v":"NB"}]
[null,null,"Week52","Mon",null,null,null,"00:00:00",{"$f":"SUM(H360:H366)","v":0},{"$f":"IF(E360=\"\",\"\",AVERAGE(I$3:I360))","v":""},"00:00:00",null,"00:00:00","00:00:00","00:00:00","00:00:00","00:00:00",0,{"$f":"IF('PO-Calcs'!J359=\"Under\",\"Check\",0)","v":0},{"$f":"IF('PO-Calcs'!M359=\"Exceeds\",\"Check\",0)","v":0},{"$f":"'PO-Calcs'!O359","v":"NB"},{"$f":"'PO-Calcs'!P359","v":"NB"}]
[null,null,null,"Tue",null,null,null,"00:00:00",null,null,"00:00:00",null,"00:00:00","00:00:00","00:00:00","00:00:00","00:00:00",0,{"$f":"IF('PO-Calcs'!J360=\"Under\",\"Check\",0)","v":0},{"$f":"IF('PO-Calcs'!M360=\"Exceeds\",\"Check\",0)","v":0},{"$f":"'PO-Calcs'!O360","v":"NB"},{"$f":"'PO-Calcs'!P360","v":"NB"}]
[null,null,null,"Wed",null,null,null,"00:00:00",null,null,"00:00:00",null,"00:00:00","00:00:00","00:00:00","00:00:00","00:00:00",0,{"$f":"IF('PO-Calcs'!J361=\"Under\",\"Check\",0)","v":0},{"$f":"IF('PO-Calcs'!M361=\"Exceeds\",\"Check\",0)","v":0},{"$f":"'PO-Calcs'!O361","v":"NB"},{"$f":"'PO-Calcs'!P361","v":"NB"}]
[null,null,null,"Thu",null,null,null,"00:00:00",null,null,"00:00:00",null,"00:00:00","00:00:00","00:00:00","00:00:00","00:00:00",0,{"$f":"IF('PO-Calcs'!J362=\"Under\",\"Check\",0)","v":0},{"$f":"IF('PO-Calcs'!M362=\"Exceeds\",\"Check\",0)","v":0},{"$f":"'PO-Calcs'!O362","v":"NB"},{"$f":"'PO-Calcs'!P362","v":"NB"}]
[null,null,null,"Fri",null,null,null,"00:00:00",null,null,0,null,"00:00:00","00:00:00","00:00:00","00:00:00","00:00:00",0,{"$f":"IF('PO-Calcs'!J363=\"Under\",\"Check\",0)","v":0},{"$f":"IF('PO-Calcs'!M363=\"Exceeds\",\"Check\",0)","v":0},{"$f":"'PO-Calcs'!O363","v":"NB"},{"$f":"'PO-Calcs'!P363","v":"NB"}]
[null,null,null,"Sat",null,null,null,"00:00:00",null,null,"00:00:00",{"$f":"H365","v":"00:00:00"},"00:00:00","00:00:00","00:00:00","00:00:00","00:00:00",0,{"$f":"IF('PO-Calcs'!J364=\"Under\",\"Check\",0)","v":0},{"$f":"IF('PO-Calcs'!M364=\"Exceeds\",\"Check\",0)","v":0},{"$f":"'PO-Calcs'!O364","v":"NB"},{"$f":"'PO-Calcs'!P364","v":"NB"}]
[null,null,null,"Sun",null,null,null,"00:00:00",null,null,"00:00:00","00:00:00","00:00:00","00:00:00","00:00:00","00:00:00","00:00:00",0,{"$f":"IF(ISTEXT(E361),\"\",IF('PO-Calcs'!J365=\"Under\",\"Check\",\"\"))","v":""},{"$f":"IF('PO-Calcs'!M365=\"Exceeds\",\"Check\",0)","v":0},{"$f":"'PO-Calcs'!O365","v":"NB"},{"$f":"'PO-Calcs'!P365","v":"NB"}]
[null,null,"Week53","Mon",null,null,null,"00:00:00",{"$f":"SUM(H367:H373)","v":0},{"$f":"IF(E367=\"\",\"\",AVERAGE(I$3:I367))","v":""},"00:00:00",null,"00:00:00","00:00:00","00:00:00","00:00:00","00:00:00",0,{"$f":"IF('PO-Calcs'!J366=\"Under\",\"Check\",0)","v":0},{"$f":"IF('PO-Calcs'!M366=\"Exceeds\",\"Check\",0)","v":0},{"$f":"'PO-Calcs'!O366","v":"NB"},{"$f":"'PO-Calcs'!P366","v":"NB"}]
[null,null,null,"Tue",null,null,null,"00:00:00",null,null,"00:00:00",null,"00:00:00","00:00:00","00:00:00","00:00:00","00:00:00",0,{"$f":"IF('PO-Calcs'!J367=\"Under\",\"Check\",0)","v":0},{"$f":"IF('PO-Calcs'!M367=\"Exceeds\",\"Check\",0)","v":0},{"$f":"'PO-Calcs'!O367","v":"B"},{"$f":"'PO-Calcs'!P367","v":"NB"}]
[null,null,null,"Wed",null,null,null,"00:00:00",null,null,"00:00:00",null,"00:00:00","00:00:00","00:00:00","00:00:00","00:00:00",0,{"$f":"IF('PO-Calcs'!J368=\"Under\",\"Check\",0)","v":0},{"$f":"IF('PO-Calcs'!M368=\"Exceeds\",\"Check\",0)","v":0},{"$f":"'PO-Calcs'!O368","v":"B"},{"$f":"'PO-Calcs'!P368","v":"NB"}]
[null,null,null,"Thu",null,null,null,"00:00:00",null,null,"00:00:00",null,"00:00:00","00:00:00","00:00:00","00:00:00","00:00:00",0,{"$f":"IF('PO-Calcs'!J369=\"Under\",\"Check\",0)","v":0},{"$f":"IF('PO-Calcs'!M369=\"Exceeds\",\"Check\",0)","v":0},{"$f":"'PO-Calcs'!O369","v":"B"},{"$f":"'PO-Calcs'!P369","v":"NB"}]
[null,null,null,"Fri",null,null,null,"00:00:00",null,null,0,null,"00:00:00","00:00:00","00:00:00","00:00:00","00:00:00",0,{"$f":"IF('PO-Calcs'!J370=\"Under\",\"Check\",0)","v":0},{"$f":"IF('PO-Calcs'!M370=\"Exceeds\",\"Check\",0)","v":0},{"$f":"'PO-Calcs'!O370","v":"B"},{"$f":"'PO-Calcs'!P370","v":"NB"}]
[null,null,null,"Sat",null,null,null,"00:00:00",null,null,"00:00:00",{"$f":"H372","v":"00:00:00"},"00:00:00","00:00:00","00:00:00","00:00:00","00:00:00",0,{"$f":"IF('PO-Calcs'!J371=\"Under\",\"Check\",0)","v":0},{"$f":"IF('PO-Calcs'!M371=\"Exceeds\",\"Check\",0)","v":0},{"$f":"'PO-Calcs'!O371","v":"B"},{"$f":"'PO-Calcs'!P371","v":"NB"}]
[null,null,null,"Sun",null,null,null,"00:00:00",null,null,"00:00:00","00:00:00","00:00:00","00:00:00","00:00:00","00:00:00","00:00:00",0,{"$f":"IF(ISTEXT(E368),\"\",IF('PO-Calcs'!J372=\"Under\",\"Check\",\"\"))","v":""},{"$f":"IF('PO-Calcs'!M372=\"Exceeds\",\"Check\",0)","v":0},{"$f":"'PO-Calcs'!O372","v":"B"},{"$f":"'PO-Calcs'!P372","v":"NB"}]

{"sheet":"PO-Calcs","index":9,"n_rows":374,"n_cols":17,"rows_kept":374,"cut":false,"hidden":true,"merged":[]}
[null,"Day","Date","Start Time","ST1","End Time","ET1","Daily hours","Hrs until next shift","11:00:00",1,null,"WTD6",null,"24BRK","48BRK",1.6666666666666667]
[{"$f":"IF('Officer proposed'!C3>0,'Officer proposed'!C3,\"\")","v":"Week1"},{"$f":"IF(C2>0,TEXT(C2, \"ddd\"),\"\")","v":""},{"$f":"'Officer proposed'!X12","v":"00:00:00"},{"$f":"IF(ISTEXT('Officer proposed'!E3),0,'Officer proposed'!E3)","v":"00:00:00"},{"$f":"'Officer proposed'!E3","v":"00:00:00"},{"$f":"IF(ISTEXT('Officer proposed'!F3),0,'Officer proposed'!F3)","v":"00:00:00"},{"$f":"'Officer proposed'!F3","v":"00:00:00"},{"$f":"IF(ISTEXT(D2),0,F2-D2)","v":0},{"$f":"IF(ISTEXT(E2),0,IF(ISTEXT(E3),0,E3+(G2>E2)-G2))","v":0},{"$f":"IF(I2=\"\",\"\",IF(I2>=$J$1,\"Over\",IF(AND(I2>0,I2<=$J$1),\"Under\",\"Rest\")))","v":"Rest"},{"$f":"IF(ISNUMBER(E2),1,\"\")","v":1},{"$f":"IF(K2=\"\",\"Rest Day\",IF(K1=\"\",K2,(L1+K2)))","v":1},{"$f":"IF($D$2=0,\"\",IF(ISTEXT(L2),\"\",IF(L2>6,\"Exceeds\",\"\")))","v":""},{"$f":"IF(L2=\"Rest Day\",0,L2)","v":1},{"$f":"IF(AND(N3>=7,N2>=7),\"NB\",\"B\")","v":"B"},{"$f":"IF(AND(N2>=14,N1>=14),\"NB\",\"B\")","v":"B"}]
[null,{"$f":"IF(C3>0,TEXT(C3, \"ddd\"),\"\")","v":"Sun"},{"$f":"IF($A$2=0,\"\",C2+1)","v":"1900-01-01"},{"$f":"IF(ISTEXT('Officer proposed'!E4),0,'Officer proposed'!E4)","v":"00:00:00"},{"$f":"'Officer proposed'!E4","v":"00:00:00"},{"$f":"IF(ISTEXT('Officer proposed'!F4),0,'Officer proposed'!F4)","v":"00:00:00"},{"$f":"'Officer proposed'!F4","v":"00:00:00"},{"$f":"IF(ISTEXT(D3),0,F3-D3)","v":0},{"$f":"IF(ISTEXT(E3),0,IF(ISTEXT(E4),0,E4+(G3>E3)-G3))","v":0},"Rest",{"$f":"IF(ISNUMBER(E3),1,\"\")","v":1},{"$f":"IF(K3=\"\",\"Rest Day\",IF(K2=\"\",K3,(L2+K3)))","v":2},{"$f":"IF($D$2=0,\"\",IF(ISTEXT(L3),\"\",IF(L3>6,\"Exceeds\",\"\")))","v":""},{"$f":"IF(L3=\"Rest Day\",0,L3)","v":2},{"$f":"IF(AND(N4>=7,N3>=7),\"NB\",\"B\")","v":"B"},{"$f":"IF(AND(N3>=14,N2>=14),\"NB\",\"B\")","v":"B"}]
[null,"Mon",{"$f":"IF($A$2=0,\"\",C3+1)","v":"1900-01-02"},{"$f":"IF(ISTEXT('Officer proposed'!E5),0,'Officer proposed'!E5)","v":"00:00:00"},{"$f":"'Officer proposed'!E5","v":"00:00:00"},{"$f":"IF(ISTEXT('Officer proposed'!F5),0,'Officer proposed'!F5)","v":"00:00:00"},{"$f":"'Officer proposed'!F5","v":"00:00:00"},0,0,"Rest",1,{"$f":"IF(K4=\"\",\"Rest Day\",IF(K3=\"\",K4,(L3+K4)))","v":3},"",3,"B","B"]
[null,"Tue","1900-01-03",{"$f":"IF(ISTEXT('Officer proposed'!E6),0,'Officer proposed'!E6)","v":"00:00:00"},{"$f":"'Officer proposed'!E6","v":"00:00:00"},{"$f":"IF(ISTEXT('Officer proposed'!F6),0,'Officer proposed'!F6)","v":"00:00:00"},{"$f":"'Officer proposed'!F6","v":"00:00:00"},0,0,"Rest",1,4,"",4,"B","B"]
[null,"Wed","1900-01-04",{"$f":"IF(ISTEXT('Officer proposed'!E7),0,'Officer proposed'!E7)","v":"00:00:00"},{"$f":"'Officer proposed'!E7","v":"00:00:00"},{"$f":"IF(ISTEXT('Officer proposed'!F7),0,'Officer proposed'!F7)","v":"00:00:00"},{"$f":"'Officer proposed'!F7","v":"00:00:00"},0,0,"Rest",1,5,"",5,"B","B"]
[null,"Thu","1900-01-05",{"$f":"IF(ISTEXT('Officer proposed'!E8),0,'Officer proposed'!E8)","v":"00:00:00"},{"$f":"'Officer proposed'!E8","v":"00:00:00"},{"$f":"IF(ISTEXT('Officer proposed'!F8),0,'Officer proposed'!F8)","v":"00:00:00"},{"$f":"'Officer proposed'!F8","v":"00:00:00"},0,0,"Rest",1,6,"",6,"B","B"]
[null,"Fri","1900-01-06",{"$f":"IF(ISTEXT('Officer proposed'!E9),0,'Officer proposed'!E9)","v":"00:00:00"},{"$f":"'Officer proposed'!E9","v":"00:00:00"},{"$f":"IF(ISTEXT('Officer proposed'!F9),0,'Officer proposed'!F9)","v":"00:00:00"},{"$f":"'Officer proposed'!F9","v":"00:00:00"},0,0,"Rest",1,7,"",7,"NB","B"]
[{"$f":"IF('Officer proposed'!C10>0,'Officer proposed'!C10,\"\")","v":"Week2"},{"$f":"IF(C9>0,TEXT(C9, \"ddd\"),\"\")","v":"Sat"},"1900-01-07",{"$f":"IF(ISTEXT('Officer proposed'!E10),0,'Officer proposed'!E10)","v":"00:00:00"},{"$f":"'Officer proposed'!E10","v":"00:00:00"},{"$f":"IF(ISTEXT('Officer proposed'!F10),0,'Officer proposed'!F10)","v":"00:00:00"},{"$f":"'Officer proposed'!F10","v":"00:00:00"},0,0,"Rest",1,8,"",8,"NB","B"]
[null,"Sun","1900-01-08",{"$f":"IF(ISTEXT('Officer proposed'!E11),0,'Officer proposed'!E11)","v":"00:00:00"},{"$f":"'Officer proposed'!E11","v":"00:00:00"},{"$f":"IF(ISTEXT('Officer proposed'!F11),0,'Officer proposed'!F11)","v":"00:00:00"},{"$f":"'Officer proposed'!F11","v":"00:00:00"},0,0,"Rest",1,9,"",9,"NB","B"]
[null,"Mon","1900-01-09",{"$f":"IF(ISTEXT('Officer proposed'!E12),0,'Officer proposed'!E12)","v":"00:00:00"},{"$f":"'Officer proposed'!E12","v":"00:00:00"},{"$f":"IF(ISTEXT('Officer proposed'!F12),0,'Officer proposed'!F12)","v":"00:00:00"},{"$f":"'Officer proposed'!F12","v":"00:00:00"},0,0,"Rest",1,10,"",10,"NB","B"]
[null,"Tue","1900-01-10",{"$f":"IF(ISTEXT('Officer proposed'!E13),0,'Officer proposed'!E13)","v":"00:00:00"},{"$f":"'Officer proposed'!E13","v":"00:00:00"},{"$f":"IF(ISTEXT('Officer proposed'!F13),0,'Officer proposed'!F13)","v":"00:00:00"},{"$f":"'Officer proposed'!F13","v":"00:00:00"},0,0,"Rest",1,11,"",11,"NB","B"]
[null,"Wed","1900-01-11",{"$f":"IF(ISTEXT('Officer proposed'!E14),0,'Officer proposed'!E14)","v":"00:00:00"},{"$f":"'Officer proposed'!E14","v":"00:00:00"},{"$f":"IF(ISTEXT('Officer proposed'!F14),0,'Officer proposed'!F14)","v":"00:00:00"},{"$f":"'Officer proposed'!F14","v":"00:00:00"},0,0,"Rest",1,12,"",12,"NB","B"]
[null,"Thu","1900-01-12",{"$f":"IF(ISTEXT('Officer proposed'!E15),0,'Officer proposed'!E15)","v":"00:00:00"},{"$f":"'Officer proposed'!E15","v":"00:00:00"},{"$f":"IF(ISTEXT('Officer proposed'!F15),0,'Officer proposed'!F15)","v":"00:00:00"},{"$f":"'Officer proposed'!F15","v":"00:00:00"},0,0,"Rest",1,13,"",13,"NB","B"]
[null,"Fri","1900-01-13",{"$f":"IF(ISTEXT('Officer proposed'!E16),0,'Officer proposed'!E16)","v":"00:00:00"},{"$f":"'Officer proposed'!E16","v":"00:00:00"},{"$f":"IF(ISTEXT('Officer proposed'!F16),0,'Officer proposed'!F16)","v":"00:00:00"},{"$f":"'Officer proposed'!F16","v":"00:00:00"},0,0,"Rest",1,14,"",14,"NB","B"]
[{"$f":"IF('Officer proposed'!C17>0,'Officer proposed'!C17,\"\")","v":"Week3"},"Sat","1900-01-14",{"$f":"IF(ISTEXT('Officer proposed'!E17),0,'Officer proposed'!E17)","v":"00:00:00"},{"$f":"'Officer proposed'!E17","v":"00:00:00"},{"$f":"IF(ISTEXT('Officer proposed'!F17),0,'Officer proposed'!F17)","v":"00:00:00"},{"$f":"'Officer proposed'!F17","v":"00:00:00"},0,0,"Rest",1,15,"",15,"NB","NB"]
[null,"Sun","1900-01-15",{"$f":"IF(ISTEXT('Officer proposed'!E18),0,'Officer proposed'!E18)","v":"00:00:00"},{"$f":"'Officer proposed'!E18","v":"00:00:00"},{"$f":"IF(ISTEXT('Officer proposed'!F18),0,'Officer proposed'!F18)","v":"00:00:00"},{"$f":"'Officer proposed'!F18","v":"00:00:00"},0,0,"Rest",1,16,"",16,"NB","NB"]
[null,"Mon","1900-01-16",{"$f":"IF(ISTEXT('Officer proposed'!E19),0,'Officer proposed'!E19)","v":"00:00:00"},{"$f":"'Officer proposed'!E19","v":"00:00:00"},{"$f":"IF(ISTEXT('Officer proposed'!F19),0,'Officer proposed'!F19)","v":"00:00:00"},{"$f":"'Officer proposed'!F19","v":"00:00:00"},0,0,"Rest",1,17,"",17,"NB","NB"]
[null,"Tue","1900-01-17",{"$f":"IF(ISTEXT('Officer proposed'!E20),0,'Officer proposed'!E20)","v":"00:00:00"},{"$f":"'Officer proposed'!E20","v":"00:00:00"},{"$f":"IF(ISTEXT('Officer proposed'!F20),0,'Officer proposed'!F20)","v":"00:00:00"},{"$f":"'Officer proposed'!F20","v":"00:00:00"},0,0,"Rest",1,18,"",18,"NB","NB"]
[null,"Wed","1900-01-18",{"$f":"IF(ISTEXT('Officer proposed'!E21),0,'Officer proposed'!E21)","v":"00:00:00"},{"$f":"'Officer proposed'!E21","v":"00:00:00"},{"$f":"IF(ISTEXT('Officer proposed'!F21),0,'Officer proposed'!F21)","v":"00:00:00"},{"$f":"'Officer proposed'!F21","v":"00:00:00"},0,0,"Rest",1,19,"",19,"NB","NB"]
[null,"Thu","1900-01-19",{"$f":"IF(ISTEXT('Officer proposed'!E22),0,'Officer proposed'!E22)","v":"00:00:00"},{"$f":"'Officer proposed'!E22","v":"00:00:00"},{"$f":"IF(ISTEXT('Officer proposed'!F22),0,'Officer proposed'!F22)","v":"00:00:00"},{"$f":"'Officer proposed'!F22","v":"00:00:00"},0,0,"Rest",1,20,"",20,"NB","NB"]
[null,"Fri","1900-01-20",{"$f":"IF(ISTEXT('Officer proposed'!E23),0,'Officer proposed'!E23)","v":"00:00:00"},{"$f":"'Officer proposed'!E23","v":"00:00:00"},{"$f":"IF(ISTEXT('Officer proposed'!F23),0,'Officer proposed'!F23)","v":"00:00:00"},{"$f":"'Officer proposed'!F23","v":"00:00:00"},0,0,"Rest",1,21,"",21,"NB","NB"]
[{"$f":"IF('Officer proposed'!C24>0,'Officer proposed'!C24,\"\")","v":"Week4"},"Sat","1900-01-21",{"$f":"IF(ISTEXT('Officer proposed'!E24),0,'Officer proposed'!E24)","v":"00:00:00"},{"$f":"'Officer proposed'!E24","v":"00:00:00"},{"$f":"IF(ISTEXT('Officer proposed'!F24),0,'Officer proposed'!F24)","v":"00:00:00"},{"$f":"'Officer proposed'!F24","v":"00:00:00"},0,0,"Rest",1,22,"",22,"NB","NB"]
[null,"Sun","1900-01-22",{"$f":"IF(ISTEXT('Officer proposed'!E25),0,'Officer proposed'!E25)","v":"00:00:00"},{"$f":"'Officer proposed'!E25","v":"00:00:00"},{"$f":"IF(ISTEXT('Officer proposed'!F25),0,'Officer proposed'!F25)","v":"00:00:00"},{"$f":"'Officer proposed'!F25","v":"00:00:00"},0,0,"Rest",1,23,"",23,"NB","NB"]
[null,"Mon","1900-01-23",{"$f":"IF(ISTEXT('Officer proposed'!E26),0,'Officer proposed'!E26)","v":"00:00:00"},{"$f":"'Officer proposed'!E26","v":"00:00:00"},{"$f":"IF(ISTEXT('Officer proposed'!F26),0,'Officer proposed'!F26)","v":"00:00:00"},{"$f":"'Officer proposed'!F26","v":"00:00:00"},0,0,"Rest",1,24,"",24,"NB","NB"]
[null,"Tue","1900-01-24",{"$f":"IF(ISTEXT('Officer proposed'!E27),0,'Officer proposed'!E27)","v":"00:00:00"},{"$f":"'Officer proposed'!E27","v":"00:00:00"},{"$f":"IF(ISTEXT('Officer proposed'!F27),0,'Officer proposed'!F27)","v":"00:00:00"},{"$f":"'Officer proposed'!F27","v":"00:00:00"},0,0,"Rest",1,25,"",25,"NB","NB"]
[null,"Wed","1900-01-25",{"$f":"IF(ISTEXT('Officer proposed'!E28),0,'Officer proposed'!E28)","v":"00:00:00"},{"$f":"'Officer proposed'!E28","v":"00:00:00"},{"$f":"IF(ISTEXT('Officer proposed'!F28),0,'Officer proposed'!F28)","v":"00:00:00"},{"$f":"'Officer proposed'!F28","v":"00:00:00"},0,0,"Rest",1,26,"",26,"NB","NB"]
[null,"Thu","1900-01-26",{"$f":"IF(ISTEXT('Officer proposed'!E29),0,'Officer proposed'!E29)","v":"00:00:00"},{"$f":"'Officer proposed'!E29","v":"00:00:00"},{"$f":"IF(ISTEXT('Officer proposed'!F29),0,'Officer proposed'!F29)","v":"00:00:00"},{"$f":"'Officer proposed'!F29","v":"00:00:00"},0,0,"Rest",1,27,"",27,"NB","NB"]
[null,"Fri","1900-01-27",{"$f":"IF(ISTEXT('Officer proposed'!E30),0,'Officer proposed'!E30)","v":"00:00:00"},{"$f":"'Officer proposed'!E30","v":"00:00:00"},{"$f":"IF(ISTEXT('Officer proposed'!F30),0,'Officer proposed'!F30)","v":"00:00:00"},{"$f":"'Officer proposed'!F30","v":"00:00:00"},0,0,"Rest",1,28,"",28,"NB","NB"]
[{"$f":"IF('Officer proposed'!C31>0,'Officer proposed'!C31,\"\")","v":"Week5"},"Sat","1900-01-28",{"$f":"IF(ISTEXT('Officer proposed'!E31),0,'Officer proposed'!E31)","v":"00:00:00"},{"$f":"'Officer proposed'!E31","v":"00:00:00"},{"$f":"IF(ISTEXT('Officer proposed'!F31),0,'Officer proposed'!F31)","v":"00:00:00"},{"$f":"'Officer proposed'!F31","v":"00:00:00"},0,0,"Rest",1,29,"",29,"NB","NB"]
[null,"Sun","1900-01-29",{"$f":"IF(ISTEXT('Officer proposed'!E32),0,'Officer proposed'!E32)","v":"00:00:00"},{"$f":"'Officer proposed'!E32","v":"00:00:00"},{"$f":"IF(ISTEXT('Officer proposed'!F32),0,'Officer proposed'!F32)","v":"00:00:00"},{"$f":"'Officer proposed'!F32","v":"00:00:00"},0,0,"Rest",1,30,"",30,"NB","NB"]
[null,"Mon","1900-01-30",{"$f":"IF(ISTEXT('Officer proposed'!E33),0,'Officer proposed'!E33)","v":"00:00:00"},{"$f":"'Officer proposed'!E33","v":"00:00:00"},{"$f":"IF(ISTEXT('Officer proposed'!F33),0,'Officer proposed'!F33)","v":"00:00:00"},{"$f":"'Officer proposed'!F33","v":"00:00:00"},0,0,"Rest",1,31,"",31,"NB","NB"]
[null,"Tue","1900-01-31",{"$f":"IF(ISTEXT('Officer proposed'!E34),0,'Officer proposed'!E34)","v":"00:00:00"},{"$f":"'Officer proposed'!E34","v":"00:00:00"},{"$f":"IF(ISTEXT('Officer proposed'!F34),0,'Officer proposed'!F34)","v":"00:00:00"},{"$f":"'Officer proposed'!F34","v":"00:00:00"},0,0,"Rest",1,32,"",32,"NB","NB"]
[null,"Wed","1900-02-01",{"$f":"IF(ISTEXT('Officer proposed'!E35),0,'Officer proposed'!E35)","v":"00:00:00"},{"$f":"'Officer proposed'!E35","v":"00:00:00"},{"$f":"IF(ISTEXT('Officer proposed'!F35),0,'Officer proposed'!F35)","v":"00:00:00"},{"$f":"'Officer proposed'!F35","v":"00:00:00"},0,0,"Rest",1,33,"",33,"NB","NB"]
[null,"Thu","1900-02-02",{"$f":"IF(ISTEXT('Officer proposed'!E36),0,'Officer proposed'!E36)","v":"00:00:00"},{"$f":"'Officer proposed'!E36","v":"00:00:00"},{"$f":"IF(ISTEXT('Officer proposed'!F36),0,'Officer proposed'!F36)","v":"00:00:00"},{"$f":"'Officer proposed'!F36","v":"00:00:00"},0,0,"Rest",1,34,"",34,"NB","NB"]
[null,"Fri","1900-02-03",{"$f":"IF(ISTEXT('Officer proposed'!E37),0,'Officer proposed'!E37)","v":"00:00:00"},{"$f":"'Officer proposed'!E37","v":"00:00:00"},{"$f":"IF(ISTEXT('Officer proposed'!F37),0,'Officer proposed'!F37)","v":"00:00:00"},{"$f":"'Officer proposed'!F37","v":"00:00:00"},0,0,"Rest",1,35,"",35,"NB","NB"]
[{"$f":"IF('Officer proposed'!C38>0,'Officer proposed'!C38,\"\")","v":"Week6"},"Sat","1900-02-04",{"$f":"IF(ISTEXT('Officer proposed'!E38),0,'Officer proposed'!E38)","v":"00:00:00"},{"$f":"'Officer proposed'!E38","v":"00:00:00"},{"$f":"IF(ISTEXT('Officer proposed'!F38),0,'Officer proposed'!F38)","v":"00:00:00"},{"$f":"'Officer proposed'!F38","v":"00:00:00"},0,0,"Rest",1,36,"",36,"NB","NB"]
[null,"Sun","1900-02-05",{"$f":"IF(ISTEXT('Officer proposed'!E39),0,'Officer proposed'!E39)","v":"00:00:00"},{"$f":"'Officer proposed'!E39","v":"00:00:00"},{"$f":"IF(ISTEXT('Officer proposed'!F39),0,'Officer proposed'!F39)","v":"00:00:00"},{"$f":"'Officer proposed'!F39","v":"00:00:00"},0,0,"Rest",1,37,"",37,"NB","NB"]
[null,"Mon","1900-02-06",{"$f":"IF(ISTEXT('Officer proposed'!E40),0,'Officer proposed'!E40)","v":"00:00:00"},{"$f":"'Officer proposed'!E40","v":"00:00:00"},{"$f":"IF(ISTEXT('Officer proposed'!F40),0,'Officer proposed'!F40)","v":"00:00:00"},{"$f":"'Officer proposed'!F40","v":"00:00:00"},0,0,"Rest",1,38,"",38,"NB","NB"]
[null,"Tue","1900-02-07",{"$f":"IF(ISTEXT('Officer proposed'!E41),0,'Officer proposed'!E41)","v":"00:00:00"},{"$f":"'Officer proposed'!E41","v":"00:00:00"},{"$f":"IF(ISTEXT('Officer proposed'!F41),0,'Officer proposed'!F41)","v":"00:00:00"},{"$f":"'Officer proposed'!F41","v":"00:00:00"},0,0,"Rest",1,39,"",39,"NB","NB"]
[null,"Wed","1900-02-08",{"$f":"IF(ISTEXT('Officer proposed'!E42),0,'Officer proposed'!E42)","v":"00:00:00"},{"$f":"'Officer proposed'!E42","v":"00:00:00"},{"$f":"IF(ISTEXT('Officer proposed'!F42),0,'Officer proposed'!F42)","v":"00:00:00"},{"$f":"'Officer proposed'!F42","v":"00:00:00"},0,0,"Rest",1,40,"",40,"NB","NB"]
[null,"Thu","1900-02-09",{"$f":"IF(ISTEXT('Officer proposed'!E43),0,'Officer proposed'!E43)","v":"00:00:00"},{"$f":"'Officer proposed'!E43","v":"00:00:00"},{"$f":"IF(ISTEXT('Officer proposed'!F43),0,'Officer proposed'!F43)","v":"00:00:00"},{"$f":"'Officer proposed'!F43","v":"00:00:00"},0,0,"Rest",1,41,"",41,"NB","NB"]
[null,"Fri","1900-02-10",{"$f":"IF(ISTEXT('Officer proposed'!E44),0,'Officer proposed'!E44)","v":"00:00:00"},{"$f":"'Officer proposed'!E44","v":"00:00:00"},{"$f":"IF(ISTEXT('Officer proposed'!F44),0,'Officer proposed'!F44)","v":"00:00:00"},{"$f":"'Officer proposed'!F44","v":"00:00:00"},0,0,"Rest",1,42,"",42,"NB","NB"]
[{"$f":"IF('Officer proposed'!C45>0,'Officer proposed'!C45,\"\")","v":"Week7"},"Sat","1900-02-11",{"$f":"IF(ISTEXT('Officer proposed'!E45),0,'Officer proposed'!E45)","v":"00:00:00"},{"$f":"'Officer proposed'!E45","v":"00:00:00"},{"$f":"IF(ISTEXT('Officer proposed'!F45),0,'Officer proposed'!F45)","v":"00:00:00"},{"$f":"'Officer proposed'!F45","v":"00:00:00"},0,0,"Rest",1,43,"",43,"NB","NB"]
[null,"Sun","1900-02-12",{"$f":"IF(ISTEXT('Officer proposed'!E46),0,'Officer proposed'!E46)","v":"00:00:00"},{"$f":"'Officer proposed'!E46","v":"00:00:00"},{"$f":"IF(ISTEXT('Officer proposed'!F46),0,'Officer proposed'!F46)","v":"00:00:00"},{"$f":"'Officer proposed'!F46","v":"00:00:00"},0,0,"Rest",1,44,"",44,"NB","NB"]
[null,"Mon","1900-02-13",{"$f":"IF(ISTEXT('Officer proposed'!E47),0,'Officer proposed'!E47)","v":"00:00:00"},{"$f":"'Officer proposed'!E47","v":"00:00:00"},{"$f":"IF(ISTEXT('Officer proposed'!F47),0,'Officer proposed'!F47)","v":"00:00:00"},{"$f":"'Officer proposed'!F47","v":"00:00:00"},0,0,"Rest",1,45,"",45,"NB","NB"]
[null,"Tue","1900-02-14",{"$f":"IF(ISTEXT('Officer proposed'!E48),0,'Officer proposed'!E48)","v":"00:00:00"},{"$f":"'Officer proposed'!E48","v":"00:00:00"},{"$f":"IF(ISTEXT('Officer proposed'!F48),0,'Officer proposed'!F48)","v":"00:00:00"},{"$f":"'Officer proposed'!F48","v":"00:00:00"},0,0,"Rest",1,46,"",46,"NB","NB"]
[null,"Wed","1900-02-15",{"$f":"IF(ISTEXT('Officer proposed'!E49),0,'Officer proposed'!E49)","v":"00:00:00"},{"$f":"'Officer proposed'!E49","v":"00:00:00"},{"$f":"IF(ISTEXT('Officer proposed'!F49),0,'Officer proposed'!F49)","v":"00:00:00"},{"$f":"'Officer proposed'!F49","v":"00:00:00"},0,0,"Rest",1,47,"",47,"NB","NB"]
[null,"Thu","1900-02-16",{"$f":"IF(ISTEXT('Officer proposed'!E50),0,'Officer proposed'!E50)","v":"00:00:00"},{"$f":"'Officer proposed'!E50","v":"00:00:00"},{"$f":"IF(ISTEXT('Officer proposed'!F50),0,'Officer proposed'!F50)","v":"00:00:00"},{"$f":"'Officer proposed'!F50","v":"00:00:00"},0,0,"Rest",1,48,"",48,"NB","NB"]
[null,"Fri","1900-02-17",{"$f":"IF(ISTEXT('Officer proposed'!E51),0,'Officer proposed'!E51)","v":"00:00:00"},{"$f":"'Officer proposed'!E51","v":"00:00:00"},{"$f":"IF(ISTEXT('Officer proposed'!F51),0,'Officer proposed'!F51)","v":"00:00:00"},{"$f":"'Officer proposed'!F51","v":"00:00:00"},0,0,"Rest",1,49,"",49,"NB","NB"]
[{"$f":"IF('Officer proposed'!C52>0,'Officer proposed'!C52,\"\")","v":"Week8"},"Sat","1900-02-18",{"$f":"IF(ISTEXT('Officer proposed'!E52),0,'Officer proposed'!E52)","v":"00:00:00"},{"$f":"'Officer proposed'!E52","v":"00:00:00"},{"$f":"IF(ISTEXT('Officer proposed'!F52),0,'Officer proposed'!F52)","v":"00:00:00"},{"$f":"'Officer proposed'!F52","v":"00:00:00"},0,0,"Rest",1,50,"",50,"NB","NB"]
[null,"Sun","1900-02-19",{"$f":"IF(ISTEXT('Officer proposed'!E53),0,'Officer proposed'!E53)","v":"00:00:00"},{"$f":"'Officer proposed'!E53","v":"00:00:00"},{"$f":"IF(ISTEXT('Officer proposed'!F53),0,'Officer proposed'!F53)","v":"00:00:00"},{"$f":"'Officer proposed'!F53","v":"00:00:00"},0,0,"Rest",1,51,"",51,"NB","NB"]
[null,"Mon","1900-02-20",{"$f":"IF(ISTEXT('Officer proposed'!E54),0,'Officer proposed'!E54)","v":"00:00:00"},{"$f":"'Officer proposed'!E54","v":"00:00:00"},{"$f":"IF(ISTEXT('Officer proposed'!F54),0,'Officer proposed'!F54)","v":"00:00:00"},{"$f":"'Officer proposed'!F54","v":"00:00:00"},0,0,"Rest",1,52,"",52,"NB","NB"]
[null,"Tue","1900-02-21",{"$f":"IF(ISTEXT('Officer proposed'!E55),0,'Officer proposed'!E55)","v":"00:00:00"},{"$f":"'Officer proposed'!E55","v":"00:00:00"},{"$f":"IF(ISTEXT('Officer proposed'!F55),0,'Officer proposed'!F55)","v":"00:00:00"},{"$f":"'Officer proposed'!F55","v":"00:00:00"},0,0,"Rest",1,53,"",53,"NB","NB"]
[null,"Wed","1900-02-22",{"$f":"IF(ISTEXT('Officer proposed'!E56),0,'Officer proposed'!E56)","v":"00:00:00"},{"$f":"'Officer proposed'!E56","v":"00:00:00"},{"$f":"IF(ISTEXT('Officer proposed'!F56),0,'Officer proposed'!F56)","v":"00:00:00"},{"$f":"'Officer proposed'!F56","v":"00:00:00"},0,0,"Rest",1,54,"",54,"NB","NB"]
[null,"Thu","1900-02-23",{"$f":"IF(ISTEXT('Officer proposed'!E57),0,'Officer proposed'!E57)","v":"00:00:00"},{"$f":"'Officer proposed'!E57","v":"00:00:00"},{"$f":"IF(ISTEXT('Officer proposed'!F57),0,'Officer proposed'!F57)","v":"00:00:00"},{"$f":"'Officer proposed'!F57","v":"00:00:00"},0,0,"Rest",1,55,"",55,"NB","NB"]
[null,"Fri","1900-02-24",{"$f":"IF(ISTEXT('Officer proposed'!E58),0,'Officer proposed'!E58)","v":"00:00:00"},{"$f":"'Officer proposed'!E58","v":"00:00:00"},{"$f":"IF(ISTEXT('Officer proposed'!F58),0,'Officer proposed'!F58)","v":"00:00:00"},{"$f":"'Officer proposed'!F58","v":"00:00:00"},0,0,"Rest",1,56,"",56,"NB","NB"]
[{"$f":"IF('Officer proposed'!C59>0,'Officer proposed'!C59,\"\")","v":"Week9"},"Sat","1900-02-25",{"$f":"IF(ISTEXT('Officer proposed'!E59),0,'Officer proposed'!E59)","v":"00:00:00"},{"$f":"'Officer proposed'!E59","v":"00:00:00"},{"$f":"IF(ISTEXT('Officer proposed'!F59),0,'Officer proposed'!F59)","v":"00:00:00"},{"$f":"'Officer proposed'!F59","v":"00:00:00"},0,0,"Rest",1,57,"",57,"NB","NB"]
[null,"Sun","1900-02-26",{"$f":"IF(ISTEXT('Officer proposed'!E60),0,'Officer proposed'!E60)","v":"00:00:00"},{"$f":"'Officer proposed'!E60","v":"00:00:00"},{"$f":"IF(ISTEXT('Officer proposed'!F60),0,'Officer proposed'!F60)","v":"00:00:00"},{"$f":"'Officer proposed'!F60","v":"00:00:00"},0,0,"Rest",1,58,"",58,"NB","NB"]
[null,"Mon","1900-02-27",{"$f":"IF(ISTEXT('Officer proposed'!E61),0,'Officer proposed'!E61)","v":"00:00:00"},{"$f":"'Officer proposed'!E61","v":"00:00:00"},{"$f":"IF(ISTEXT('Officer proposed'!F61),0,'Officer proposed'!F61)","v":"00:00:00"},{"$f":"'Officer proposed'!F61","v":"00:00:00"},0,0,"Rest",1,59,"",59,"NB","NB"]
[null,"Tue","1900-02-28",{"$f":"IF(ISTEXT('Officer proposed'!E62),0,'Officer proposed'!E62)","v":"00:00:00"},{"$f":"'Officer proposed'!E62","v":"00:00:00"},{"$f":"IF(ISTEXT('Officer proposed'!F62),0,'Officer proposed'!F62)","v":"00:00:00"},{"$f":"'Officer proposed'!F62","v":"00:00:00"},0,0,"Rest",1,60,"",60,"NB","NB"]
[null,"Wed",60,{"$f":"IF(ISTEXT('Officer proposed'!E63),0,'Officer proposed'!E63)","v":"00:00:00"},{"$f":"'Officer proposed'!E63","v":"00:00:00"},{"$f":"IF(ISTEXT('Officer proposed'!F63),0,'Officer proposed'!F63)","v":"00:00:00"},{"$f":"'Officer proposed'!F63","v":"00:00:00"},0,0,"Rest",1,61,"",61,"NB","NB"]
[null,"Thu","1900-03-01",{"$f":"IF(ISTEXT('Officer proposed'!E64),0,'Officer proposed'!E64)","v":"00:00:00"},{"$f":"'Officer proposed'!E64","v":"00:00:00"},{"$f":"IF(ISTEXT('Officer proposed'!F64),0,'Officer proposed'!F64)","v":"00:00:00"},{"$f":"'Officer proposed'!F64","v":"00:00:00"},0,0,"Rest",1,62,"",62,"NB","NB"]
[null,"Fri","1900-03-02",{"$f":"IF(ISTEXT('Officer proposed'!E65),0,'Officer proposed'!E65)","v":"00:00:00"},{"$f":"'Officer proposed'!E65","v":"00:00:00"},{"$f":"IF(ISTEXT('Officer proposed'!F65),0,'Officer proposed'!F65)","v":"00:00:00"},{"$f":"'Officer proposed'!F65","v":"00:00:00"},0,0,"Rest",1,63,"",63,"NB","NB"]
[{"$f":"IF('Officer proposed'!C66>0,'Officer proposed'!C66,\"\")","v":"Week10"},"Sat","1900-03-03",{"$f":"IF(ISTEXT('Officer proposed'!E66),0,'Officer proposed'!E66)","v":"00:00:00"},{"$f":"'Officer proposed'!E66","v":"00:00:00"},{"$f":"IF(ISTEXT('Officer proposed'!F66),0,'Officer proposed'!F66)","v":"00:00:00"},{"$f":"'Officer proposed'!F66","v":"00:00:00"},0,0,"Rest",1,64,"",64,"NB","NB"]
[null,"Sun","1900-03-04",{"$f":"IF(ISTEXT('Officer proposed'!E67),0,'Officer proposed'!E67)","v":"00:00:00"},{"$f":"'Officer proposed'!E67","v":"00:00:00"},{"$f":"IF(ISTEXT('Officer proposed'!F67),0,'Officer proposed'!F67)","v":"00:00:00"},{"$f":"'Officer proposed'!F67","v":"00:00:00"},0,0,{"$f":"IF(I66=\"\",\"\",IF(I66>=$J$1,\"Over\",IF(AND(I66>0,I66<=$J$1),\"Under\",\"Rest\")))","v":"Rest"},1,65,"",65,"NB","NB"]
[null,{"$f":"IF(C67>0,TEXT(C67, \"ddd\"),\"\")","v":"Mon"},"1900-03-05",{"$f":"IF(ISTEXT('Officer proposed'!E68),0,'Officer proposed'!E68)","v":"00:00:00"},{"$f":"'Officer proposed'!E68","v":"00:00:00"},{"$f":"IF(ISTEXT('Officer proposed'!F68),0,'Officer proposed'!F68)","v":"00:00:00"},{"$f":"'Officer proposed'!F68","v":"00:00:00"},{"$f":"IF(ISTEXT(D67),0,F67-D67)","v":0},{"$f":"IF(ISTEXT(E67),0,IF(ISTEXT(E68),0,E68+(G67>E67)-G67))","v":0},"Rest",{"$f":"IF(ISNUMBER(E67),1,\"\")","v":1},{"$f":"IF(K67=\"\",\"Rest Day\",IF(K66=\"\",K67,(L66+K67)))","v":66},{"$f":"IF($D$2=0,\"\",IF(ISTEXT(L67),\"\",IF(L67>6,\"Exceeds\",\"\")))","v":""},{"$f":"IF(L67=\"Rest Day\",0,L67)","v":66},{"$f":"IF(AND(N68>=7,N67>=7),\"NB\",\"B\")","v":"NB"},{"$f":"IF(AND(N67>=14,N66>=14),\"NB\",\"B\")","v":"NB"}]
[null,"Tue",{"$f":"IF($A$2=0,\"\",C67+1)","v":"1900-03-06"},{"$f":"IF(ISTEXT('Officer proposed'!E69),0,'Officer proposed'!E69)","v":"00:00:00"},{"$f":"'Officer proposed'!E69","v":"00:00:00"},{"$f":"IF(ISTEXT('Officer proposed'!F69),0,'Officer proposed'!F69)","v":"00:00:00"},{"$f":"'Officer proposed'!F69","v":"00:00:00"},0,0,"Rest",1,67,"",67,"NB","NB"]
[null,"Wed","1900-03-07",{"$f":"IF(ISTEXT('Officer proposed'!E70),0,'Officer proposed'!E70)","v":"00:00:00"},{"$f":"'Officer proposed'!E70","v":"00:00:00"},{"$f":"IF(ISTEXT('Officer proposed'!F70),0,'Officer proposed'!F70)","v":"00:00:00"},{"$f":"'Officer proposed'!F70","v":"00:00:00"},0,0,"Rest",1,68,"",68,"NB","NB"]
[null,"Thu","1900-03-08",{"$f":"IF(ISTEXT('Officer proposed'!E71),0,'Officer proposed'!E71)","v":"00:00:00"},{"$f":"'Officer proposed'!E71","v":"00:00:00"},{"$f":"IF(ISTEXT('Officer proposed'!F71),0,'Officer proposed'!F71)","v":"00:00:00"},{"$f":"'Officer proposed'!F71","v":"00:00:00"},0,0,"Rest",1,69,"",69,"NB","NB"]
[null,"Fri","1900-03-09",{"$f":"IF(ISTEXT('Officer proposed'!E72),0,'Officer proposed'!E72)","v":"00:00:00"},{"$f":"'Officer proposed'!E72","v":"00:00:00"},{"$f":"IF(ISTEXT('Officer proposed'!F72),0,'Officer proposed'!F72)","v":"00:00:00"},{"$f":"'Officer proposed'!F72","v":"00:00:00"},0,0,"Rest",1,70,"",70,"NB","NB"]
[{"$f":"IF('Officer proposed'!C73>0,'Officer proposed'!C73,\"\")","v":"Week11"},"Sat","1900-03-10",{"$f":"IF(ISTEXT('Officer proposed'!E73),0,'Officer proposed'!E73)","v":"00:00:00"},{"$f":"'Officer proposed'!E73","v":"00:00:00"},{"$f":"IF(ISTEXT('Officer proposed'!F73),0,'Officer proposed'!F73)","v":"00:00:00"},{"$f":"'Officer proposed'!F73","v":"00:00:00"},0,0,"Rest",1,71,"",71,"NB","NB"]
[null,"Sun","1900-03-11",{"$f":"IF(ISTEXT('Officer proposed'!E74),0,'Officer proposed'!E74)","v":"00:00:00"},{"$f":"'Officer proposed'!E74","v":"00:00:00"},{"$f":"IF(ISTEXT('Officer proposed'!F74),0,'Officer proposed'!F74)","v":"00:00:00"},{"$f":"'Officer proposed'!F74","v":"00:00:00"},0,0,"Rest",1,72,"",72,"NB","NB"]
[null,"Mon","1900-03-12",{"$f":"IF(ISTEXT('Officer proposed'!E75),0,'Officer proposed'!E75)","v":"00:00:00"},{"$f":"'Officer proposed'!E75","v":"00:00:00"},{"$f":"IF(ISTEXT('Officer proposed'!F75),0,'Officer proposed'!F75)","v":"00:00:00"},{"$f":"'Officer proposed'!F75","v":"00:00:00"},0,0,"Rest",1,73,"",73,"NB","NB"]
[null,"Tue","1900-03-13",{"$f":"IF(ISTEXT('Officer proposed'!E76),0,'Officer proposed'!E76)","v":"00:00:00"},{"$f":"'Officer proposed'!E76","v":"00:00:00"},{"$f":"IF(ISTEXT('Officer proposed'!F76),0,'Officer proposed'!F76)","v":"00:00:00"},{"$f":"'Officer proposed'!F76","v":"00:00:00"},0,0,"Rest",1,74,"",74,"NB","NB"]
[null,"Wed","1900-03-14",{"$f":"IF(ISTEXT('Officer proposed'!E77),0,'Officer proposed'!E77)","v":"00:00:00"},{"$f":"'Officer proposed'!E77","v":"00:00:00"},{"$f":"IF(ISTEXT('Officer proposed'!F77),0,'Officer proposed'!F77)","v":"00:00:00"},{"$f":"'Officer proposed'!F77","v":"00:00:00"},0,0,"Rest",1,75,"",75,"NB","NB"]
[null,"Thu","1900-03-15",{"$f":"IF(ISTEXT('Officer proposed'!E78),0,'Officer proposed'!E78)","v":"00:00:00"},{"$f":"'Officer proposed'!E78","v":"00:00:00"},{"$f":"IF(ISTEXT('Officer proposed'!F78),0,'Officer proposed'!F78)","v":"00:00:00"},{"$f":"'Officer proposed'!F78","v":"00:00:00"},0,0,"Rest",1,76,"",76,"NB","NB"]
[null,"Fri","1900-03-16",{"$f":"IF(ISTEXT('Officer proposed'!E79),0,'Officer proposed'!E79)","v":"00:00:00"},{"$f":"'Officer proposed'!E79","v":"00:00:00"},{"$f":"IF(ISTEXT('Officer proposed'!F79),0,'Officer proposed'!F79)","v":"00:00:00"},{"$f":"'Officer proposed'!F79","v":"00:00:00"},0,0,"Rest",1,77,"",77,"NB","NB"]
[{"$f":"IF('Officer proposed'!C80>0,'Officer proposed'!C80,\"\")","v":"Week12"},"Sat","1900-03-17",{"$f":"IF(ISTEXT('Officer proposed'!E80),0,'Officer proposed'!E80)","v":"00:00:00"},{"$f":"'Officer proposed'!E80","v":"00:00:00"},{"$f":"IF(ISTEXT('Officer proposed'!F80),0,'Officer proposed'!F80)","v":"00:00:00"},{"$f":"'Officer proposed'!F80","v":"00:00:00"},0,0,"Rest",1,78,"",78,"NB","NB"]
[null,"Sun","1900-03-18",{"$f":"IF(ISTEXT('Officer proposed'!E81),0,'Officer proposed'!E81)","v":"00:00:00"},{"$f":"'Officer proposed'!E81","v":"00:00:00"},{"$f":"IF(ISTEXT('Officer proposed'!F81),0,'Officer proposed'!F81)","v":"00:00:00"},{"$f":"'Officer proposed'!F81","v":"00:00:00"},0,0,"Rest",1,79,"",79,"NB","NB"]
[null,"Mon","1900-03-19",{"$f":"IF(ISTEXT('Officer proposed'!E82),0,'Officer proposed'!E82)","v":"00:00:00"},{"$f":"'Officer proposed'!E82","v":"00:00:00"},{"$f":"IF(ISTEXT('Officer proposed'!F82),0,'Officer proposed'!F82)","v":"00:00:00"},{"$f":"'Officer proposed'!F82","v":"00:00:00"},0,0,"Rest",1,80,"",80,"NB","NB"]
[null,"Tue","1900-03-20",{"$f":"IF(ISTEXT('Officer proposed'!E83),0,'Officer proposed'!E83)","v":"00:00:00"},{"$f":"'Officer proposed'!E83","v":"00:00:00"},{"$f":"IF(ISTEXT('Officer proposed'!F83),0,'Officer proposed'!F83)","v":"00:00:00"},{"$f":"'Officer proposed'!F83","v":"00:00:00"},0,0,"Rest",1,81,"",81,"NB","NB"]
[null,"Wed","1900-03-21",{"$f":"IF(ISTEXT('Officer proposed'!E84),0,'Officer proposed'!E84)","v":"00:00:00"},{"$f":"'Officer proposed'!E84","v":"00:00:00"},{"$f":"IF(ISTEXT('Officer proposed'!F84),0,'Officer proposed'!F84)","v":"00:00:00"},{"$f":"'Officer proposed'!F84","v":"00:00:00"},0,0,"Rest",1,82,"",82,"NB","NB"]
[null,"Thu","1900-03-22",{"$f":"IF(ISTEXT('Officer proposed'!E85),0,'Officer proposed'!E85)","v":"00:00:00"},{"$f":"'Officer proposed'!E85","v":"00:00:00"},{"$f":"IF(ISTEXT('Officer proposed'!F85),0,'Officer proposed'!F85)","v":"00:00:00"},{"$f":"'Officer proposed'!F85","v":"00:00:00"},0,0,"Rest",1,83,"",83,"NB","NB"]
[null,"Fri","1900-03-23",{"$f":"IF(ISTEXT('Officer proposed'!E86),0,'Officer proposed'!E86)","v":"00:00:00"},{"$f":"'Officer proposed'!E86","v":"00:00:00"},{"$f":"IF(ISTEXT('Officer proposed'!F86),0,'Officer proposed'!F86)","v":"00:00:00"},{"$f":"'Officer proposed'!F86","v":"00:00:00"},0,0,"Rest",1,84,"",84,"NB","NB"]
[{"$f":"IF('Officer proposed'!C87>0,'Officer proposed'!C87,\"\")","v":"Week13"},"Sat","1900-03-24",{"$f":"IF(ISTEXT('Officer proposed'!E87),0,'Officer proposed'!E87)","v":"00:00:00"},{"$f":"'Officer proposed'!E87","v":"00:00:00"},{"$f":"IF(ISTEXT('Officer proposed'!F87),0,'Officer proposed'!F87)","v":"00:00:00"},{"$f":"'Officer proposed'!F87","v":"00:00:00"},0,0,"Rest",1,85,"",85,"NB","NB"]
[null,"Sun","1900-03-25",{"$f":"IF(ISTEXT('Officer proposed'!E88),0,'Officer proposed'!E88)","v":"00:00:00"},{"$f":"'Officer proposed'!E88","v":"00:00:00"},{"$f":"IF(ISTEXT('Officer proposed'!F88),0,'Officer proposed'!F88)","v":"00:00:00"},{"$f":"'Officer proposed'!F88","v":"00:00:00"},0,0,"Rest",1,86,"",86,"NB","NB"]
[null,"Mon","1900-03-26",{"$f":"IF(ISTEXT('Officer proposed'!E89),0,'Officer proposed'!E89)","v":"00:00:00"},{"$f":"'Officer proposed'!E89","v":"00:00:00"},{"$f":"IF(ISTEXT('Officer proposed'!F89),0,'Officer proposed'!F89)","v":"00:00:00"},{"$f":"'Officer proposed'!F89","v":"00:00:00"},0,0,"Rest",1,87,"",87,"NB","NB"]
[null,"Tue","1900-03-27",{"$f":"IF(ISTEXT('Officer proposed'!E90),0,'Officer proposed'!E90)","v":"00:00:00"},{"$f":"'Officer proposed'!E90","v":"00:00:00"},{"$f":"IF(ISTEXT('Officer proposed'!F90),0,'Officer proposed'!F90)","v":"00:00:00"},{"$f":"'Officer proposed'!F90","v":"00:00:00"},0,0,"Rest",1,88,"",88,"NB","NB"]
[null,"Wed","1900-03-28",{"$f":"IF(ISTEXT('Officer proposed'!E91),0,'Officer proposed'!E91)","v":"00:00:00"},{"$f":"'Officer proposed'!E91","v":"00:00:00"},{"$f":"IF(ISTEXT('Officer proposed'!F91),0,'Officer proposed'!F91)","v":"00:00:00"},{"$f":"'Officer proposed'!F91","v":"00:00:00"},0,0,"Rest",1,89,"",89,"NB","NB"]
[null,"Thu","1900-03-29",{"$f":"IF(ISTEXT('Officer proposed'!E92),0,'Officer proposed'!E92)","v":"00:00:00"},{"$f":"'Officer proposed'!E92","v":"00:00:00"},{"$f":"IF(ISTEXT('Officer proposed'!F92),0,'Officer proposed'!F92)","v":"00:00:00"},{"$f":"'Officer proposed'!F92","v":"00:00:00"},0,0,"Rest",1,90,"",90,"NB","NB"]
[null,"Fri","1900-03-30",{"$f":"IF(ISTEXT('Officer proposed'!E93),0,'Officer proposed'!E93)","v":"00:00:00"},{"$f":"'Officer proposed'!E93","v":"00:00:00"},{"$f":"IF(ISTEXT('Officer proposed'!F93),0,'Officer proposed'!F93)","v":"00:00:00"},{"$f":"'Officer proposed'!F93","v":"00:00:00"},0,0,"Rest",1,91,"",91,"NB","NB"]
[{"$f":"IF('Officer proposed'!C94>0,'Officer proposed'!C94,\"\")","v":"Week14"},"Sat","1900-03-31",{"$f":"IF(ISTEXT('Officer proposed'!E94),0,'Officer proposed'!E94)","v":"00:00:00"},{"$f":"'Officer proposed'!E94","v":"00:00:00"},{"$f":"IF(ISTEXT('Officer proposed'!F94),0,'Officer proposed'!F94)","v":"00:00:00"},{"$f":"'Officer proposed'!F94","v":"00:00:00"},0,0,"Rest",1,92,"",92,"NB","NB"]
[null,"Sun","1900-04-01",{"$f":"IF(ISTEXT('Officer proposed'!E95),0,'Officer proposed'!E95)","v":"00:00:00"},{"$f":"'Officer proposed'!E95","v":"00:00:00"},{"$f":"IF(ISTEXT('Officer proposed'!F95),0,'Officer proposed'!F95)","v":"00:00:00"},{"$f":"'Officer proposed'!F95","v":"00:00:00"},0,0,"Rest",1,93,"",93,"NB","NB"]
[null,"Mon","1900-04-02",{"$f":"IF(ISTEXT('Officer proposed'!E96),0,'Officer proposed'!E96)","v":"00:00:00"},{"$f":"'Officer proposed'!E96","v":"00:00:00"},{"$f":"IF(ISTEXT('Officer proposed'!F96),0,'Officer proposed'!F96)","v":"00:00:00"},{"$f":"'Officer proposed'!F96","v":"00:00:00"},0,0,"Rest",1,94,"",94,"NB","NB"]
[null,"Tue","1900-04-03",{"$f":"IF(ISTEXT('Officer proposed'!E97),0,'Officer proposed'!E97)","v":"00:00:00"},{"$f":"'Officer proposed'!E97","v":"00:00:00"},{"$f":"IF(ISTEXT('Officer proposed'!F97),0,'Officer proposed'!F97)","v":"00:00:00"},{"$f":"'Officer proposed'!F97","v":"00:00:00"},0,0,"Rest",1,95,"",95,"NB","NB"]
[null,"Wed","1900-04-04",{"$f":"IF(ISTEXT('Officer proposed'!E98),0,'Officer proposed'!E98)","v":"00:00:00"},{"$f":"'Officer proposed'!E98","v":"00:00:00"},{"$f":"IF(ISTEXT('Officer proposed'!F98),0,'Officer proposed'!F98)","v":"00:00:00"},{"$f":"'Officer proposed'!F98","v":"00:00:00"},0,0,"Rest",1,96,"",96,"NB","NB"]
[null,"Thu","1900-04-05",{"$f":"IF(ISTEXT('Officer proposed'!E99),0,'Officer proposed'!E99)","v":"00:00:00"},{"$f":"'Officer proposed'!E99","v":"00:00:00"},{"$f":"IF(ISTEXT('Officer proposed'!F99),0,'Officer proposed'!F99)","v":"00:00:00"},{"$f":"'Officer proposed'!F99","v":"00:00:00"},0,0,"Rest",1,97,"",97,"NB","NB"]
[null,"Fri","1900-04-06",{"$f":"IF(ISTEXT('Officer proposed'!E100),0,'Officer proposed'!E100)","v":"00:00:00"},{"$f":"'Officer proposed'!E100","v":"00:00:00"},{"$f":"IF(ISTEXT('Officer proposed'!F100),0,'Officer proposed'!F100)","v":"00:00:00"},{"$f":"'Officer proposed'!F100","v":"00:00:00"},0,0,"Rest",1,98,"",98,"NB","NB"]
[{"$f":"IF('Officer proposed'!C101>0,'Officer proposed'!C101,\"\")","v":"Week15"},"Sat","1900-04-07",{"$f":"IF(ISTEXT('Officer proposed'!E101),0,'Officer proposed'!E101)","v":"00:00:00"},{"$f":"'Officer proposed'!E101","v":"00:00:00"},{"$f":"IF(ISTEXT('Officer proposed'!F101),0,'Officer proposed'!F101)","v":"00:00:00"},{"$f":"'Officer proposed'!F101","v":"00:00:00"},0,0,"Rest",1,99,"",99,"NB","NB"]
[null,"Sun","1900-04-08",{"$f":"IF(ISTEXT('Officer proposed'!E102),0,'Officer proposed'!E102)","v":"00:00:00"},{"$f":"'Officer proposed'!E102","v":"00:00:00"},{"$f":"IF(ISTEXT('Officer proposed'!F102),0,'Officer proposed'!F102)","v":"00:00:00"},{"$f":"'Officer proposed'!F102","v":"00:00:00"},0,0,"Rest",1,100,"",100,"NB","NB"]
[null,"Mon","1900-04-09",{"$f":"IF(ISTEXT('Officer proposed'!E103),0,'Officer proposed'!E103)","v":"00:00:00"},{"$f":"'Officer proposed'!E103","v":"00:00:00"},{"$f":"IF(ISTEXT('Officer proposed'!F103),0,'Officer proposed'!F103)","v":"00:00:00"},{"$f":"'Officer proposed'!F103","v":"00:00:00"},0,0,"Rest",1,101,"",101,"NB","NB"]
[null,"Tue","1900-04-10",{"$f":"IF(ISTEXT('Officer proposed'!E104),0,'Officer proposed'!E104)","v":"00:00:00"},{"$f":"'Officer proposed'!E104","v":"00:00:00"},{"$f":"IF(ISTEXT('Officer proposed'!F104),0,'Officer proposed'!F104)","v":"00:00:00"},{"$f":"'Officer proposed'!F104","v":"00:00:00"},0,0,"Rest",1,102,"",102,"NB","NB"]
[null,"Wed","1900-04-11",{"$f":"IF(ISTEXT('Officer proposed'!E105),0,'Officer proposed'!E105)","v":"00:00:00"},{"$f":"'Officer proposed'!E105","v":"00:00:00"},{"$f":"IF(ISTEXT('Officer proposed'!F105),0,'Officer proposed'!F105)","v":"00:00:00"},{"$f":"'Officer proposed'!F105","v":"00:00:00"},0,0,"Rest",1,103,"",103,"NB","NB"]
[null,"Thu","1900-04-12",{"$f":"IF(ISTEXT('Officer proposed'!E106),0,'Officer proposed'!E106)","v":"00:00:00"},{"$f":"'Officer proposed'!E106","v":"00:00:00"},{"$f":"IF(ISTEXT('Officer proposed'!F106),0,'Officer proposed'!F106)","v":"00:00:00"},{"$f":"'Officer proposed'!F106","v":"00:00:00"},0,0,"Rest",1,104,"",104,"NB","NB"]
[null,"Fri","1900-04-13",{"$f":"IF(ISTEXT('Officer proposed'!E107),0,'Officer proposed'!E107)","v":"00:00:00"},{"$f":"'Officer proposed'!E107","v":"00:00:00"},{"$f":"IF(ISTEXT('Officer proposed'!F107),0,'Officer proposed'!F107)","v":"00:00:00"},{"$f":"'Officer proposed'!F107","v":"00:00:00"},0,0,"Rest",1,105,"",105,"NB","NB"]
[{"$f":"IF('Officer proposed'!C108>0,'Officer proposed'!C108,\"\")","v":"Week16"},"Sat","1900-04-14",{"$f":"IF(ISTEXT('Officer proposed'!E108),0,'Officer proposed'!E108)","v":"00:00:00"},{"$f":"'Officer proposed'!E108","v":"00:00:00"},{"$f":"IF(ISTEXT('Officer proposed'!F108),0,'Officer proposed'!F108)","v":"00:00:00"},{"$f":"'Officer proposed'!F108","v":"00:00:00"},0,0,"Rest",1,106,"",106,"NB","NB"]
[null,"Sun","1900-04-15",{"$f":"IF(ISTEXT('Officer proposed'!E109),0,'Officer proposed'!E109)","v":"00:00:00"},{"$f":"'Officer proposed'!E109","v":"00:00:00"},{"$f":"IF(ISTEXT('Officer proposed'!F109),0,'Officer proposed'!F109)","v":"00:00:00"},{"$f":"'Officer proposed'!F109","v":"00:00:00"},0,0,"Rest",1,107,"",107,"NB","NB"]
[null,"Mon","1900-04-16",{"$f":"IF(ISTEXT('Officer proposed'!E110),0,'Officer proposed'!E110)","v":"00:00:00"},{"$f":"'Officer proposed'!E110","v":"00:00:00"},{"$f":"IF(ISTEXT('Officer proposed'!F110),0,'Officer proposed'!F110)","v":"00:00:00"},{"$f":"'Officer proposed'!F110","v":"00:00:00"},0,0,"Rest",1,108,"",108,"NB","NB"]
[null,"Tue","1900-04-17",{"$f":"IF(ISTEXT('Officer proposed'!E111),0,'Officer proposed'!E111)","v":"00:00:00"},{"$f":"'Officer proposed'!E111","v":"00:00:00"},{"$f":"IF(ISTEXT('Officer proposed'!F111),0,'Officer proposed'!F111)","v":"00:00:00"},{"$f":"'Officer proposed'!F111","v":"00:00:00"},0,0,"Rest",1,109,"",109,"NB","NB"]
[null,"Wed","1900-04-18",{"$f":"IF(ISTEXT('Officer proposed'!E112),0,'Officer proposed'!E112)","v":"00:00:00"},{"$f":"'Officer proposed'!E112","v":"00:00:00"},{"$f":"IF(ISTEXT('Officer proposed'!F112),0,'Officer proposed'!F112)","v":"00:00:00"},{"$f":"'Officer proposed'!F112","v":"00:00:00"},0,0,"Rest",1,110,"",110,"NB","NB"]
[null,"Thu","1900-04-19",{"$f":"IF(ISTEXT('Officer proposed'!E113),0,'Officer proposed'!E113)","v":"00:00:00"},{"$f":"'Officer proposed'!E113","v":"00:00:00"},{"$f":"IF(ISTEXT('Officer proposed'!F113),0,'Officer proposed'!F113)","v":"00:00:00"},{"$f":"'Officer proposed'!F113","v":"00:00:00"},0,0,"Rest",1,111,"",111,"NB","NB"]
[null,"Fri","1900-04-20",{"$f":"IF(ISTEXT('Officer proposed'!E114),0,'Officer proposed'!E114)","v":"00:00:00"},{"$f":"'Officer proposed'!E114","v":"00:00:00"},{"$f":"IF(ISTEXT('Officer proposed'!F114),0,'Officer proposed'!F114)","v":"00:00:00"},{"$f":"'Officer proposed'!F114","v":"00:00:00"},0,0,"Rest",1,112,"",112,"NB","NB"]
[{"$f":"IF('Officer proposed'!C115>0,'Officer proposed'!C115,\"\")","v":"Week17"},"Sat","1900-04-21",{"$f":"IF(ISTEXT('Officer proposed'!E115),0,'Officer proposed'!E115)","v":"00:00:00"},{"$f":"'Officer proposed'!E115","v":"00:00:00"},{"$f":"IF(ISTEXT('Officer proposed'!F115),0,'Officer proposed'!F115)","v":"00:00:00"},{"$f":"'Officer proposed'!F115","v":"00:00:00"},0,0,"Rest",1,113,"",113,"NB","NB"]
[null,"Sun","1900-04-22",{"$f":"IF(ISTEXT('Officer proposed'!E116),0,'Officer proposed'!E116)","v":"00:00:00"},{"$f":"'Officer proposed'!E116","v":"00:00:00"},{"$f":"IF(ISTEXT('Officer proposed'!F116),0,'Officer proposed'!F116)","v":"00:00:00"},{"$f":"'Officer proposed'!F116","v":"00:00:00"},0,0,"Rest",1,114,"",114,"NB","NB"]
[null,"Mon","1900-04-23",{"$f":"IF(ISTEXT('Officer proposed'!E117),0,'Officer proposed'!E117)","v":"00:00:00"},{"$f":"'Officer proposed'!E117","v":"00:00:00"},{"$f":"IF(ISTEXT('Officer proposed'!F117),0,'Officer proposed'!F117)","v":"00:00:00"},{"$f":"'Officer proposed'!F117","v":"00:00:00"},0,0,"Rest",1,115,"",115,"NB","NB"]
[null,"Tue","1900-04-24",{"$f":"IF(ISTEXT('Officer proposed'!E118),0,'Officer proposed'!E118)","v":"00:00:00"},{"$f":"'Officer proposed'!E118","v":"00:00:00"},{"$f":"IF(ISTEXT('Officer proposed'!F118),0,'Officer proposed'!F118)","v":"00:00:00"},{"$f":"'Officer proposed'!F118","v":"00:00:00"},0,0,"Rest",1,116,"",116,"NB","NB"]
[null,"Wed","1900-04-25",{"$f":"IF(ISTEXT('Officer proposed'!E119),0,'Officer proposed'!E119)","v":"00:00:00"},{"$f":"'Officer proposed'!E119","v":"00:00:00"},{"$f":"IF(ISTEXT('Officer proposed'!F119),0,'Officer proposed'!F119)","v":"00:00:00"},{"$f":"'Officer proposed'!F119","v":"00:00:00"},0,0,"Rest",1,117,"",117,"NB","NB"]
[null,"Thu","1900-04-26",{"$f":"IF(ISTEXT('Officer proposed'!E120),0,'Officer proposed'!E120)","v":"00:00:00"},{"$f":"'Officer proposed'!E120","v":"00:00:00"},{"$f":"IF(ISTEXT('Officer proposed'!F120),0,'Officer proposed'!F120)","v":"00:00:00"},{"$f":"'Officer proposed'!F120","v":"00:00:00"},0,0,"Rest",1,118,"",118,"NB","NB"]
[null,"Fri","1900-04-27",{"$f":"IF(ISTEXT('Officer proposed'!E121),0,'Officer proposed'!E121)","v":"00:00:00"},{"$f":"'Officer proposed'!E121","v":"00:00:00"},{"$f":"IF(ISTEXT('Officer proposed'!F121),0,'Officer proposed'!F121)","v":"00:00:00"},{"$f":"'Officer proposed'!F121","v":"00:00:00"},0,0,"Rest",1,119,"",119,"NB","NB"]
[{"$f":"IF('Officer proposed'!C122>0,'Officer proposed'!C122,\"\")","v":"Week18"},"Sat","1900-04-28",{"$f":"IF(ISTEXT('Officer proposed'!E122),0,'Officer proposed'!E122)","v":"00:00:00"},{"$f":"'Officer proposed'!E122","v":"00:00:00"},{"$f":"IF(ISTEXT('Officer proposed'!F122),0,'Officer proposed'!F122)","v":"00:00:00"},{"$f":"'Officer proposed'!F122","v":"00:00:00"},0,0,"Rest",1,120,"",120,"NB","NB"]
[null,"Sun","1900-04-29",{"$f":"IF(ISTEXT('Officer proposed'!E123),0,'Officer proposed'!E123)","v":"00:00:00"},{"$f":"'Officer proposed'!E123","v":"00:00:00"},{"$f":"IF(ISTEXT('Officer proposed'!F123),0,'Officer proposed'!F123)","v":"00:00:00"},{"$f":"'Officer proposed'!F123","v":"00:00:00"},0,0,"Rest",1,121,"",121,"NB","NB"]
[null,"Mon","1900-04-30",{"$f":"IF(ISTEXT('Officer proposed'!E124),0,'Officer proposed'!E124)","v":"00:00:00"},{"$f":"'Officer proposed'!E124","v":"00:00:00"},{"$f":"IF(ISTEXT('Officer proposed'!F124),0,'Officer proposed'!F124)","v":"00:00:00"},{"$f":"'Officer proposed'!F124","v":"00:00:00"},0,0,"Rest",1,122,"",122,"NB","NB"]
[null,"Tue","1900-05-01",{"$f":"IF(ISTEXT('Officer proposed'!E125),0,'Officer proposed'!E125)","v":"00:00:00"},{"$f":"'Officer proposed'!E125","v":"00:00:00"},{"$f":"IF(ISTEXT('Officer proposed'!F125),0,'Officer proposed'!F125)","v":"00:00:00"},{"$f":"'Officer proposed'!F125","v":"00:00:00"},0,0,"Rest",1,123,"",123,"NB","NB"]
[null,"Wed","1900-05-02",{"$f":"IF(ISTEXT('Officer proposed'!E126),0,'Officer proposed'!E126)","v":"00:00:00"},{"$f":"'Officer proposed'!E126","v":"00:00:00"},{"$f":"IF(ISTEXT('Officer proposed'!F126),0,'Officer proposed'!F126)","v":"00:00:00"},{"$f":"'Officer proposed'!F126","v":"00:00:00"},0,0,"Rest",1,124,"",124,"NB","NB"]
[null,"Thu","1900-05-03",{"$f":"IF(ISTEXT('Officer proposed'!E127),0,'Officer proposed'!E127)","v":"00:00:00"},{"$f":"'Officer proposed'!E127","v":"00:00:00"},{"$f":"IF(ISTEXT('Officer proposed'!F127),0,'Officer proposed'!F127)","v":"00:00:00"},{"$f":"'Officer proposed'!F127","v":"00:00:00"},0,0,"Rest",1,125,"",125,"NB","NB"]
[null,"Fri","1900-05-04",{"$f":"IF(ISTEXT('Officer proposed'!E128),0,'Officer proposed'!E128)","v":"00:00:00"},{"$f":"'Officer proposed'!E128","v":"00:00:00"},{"$f":"IF(ISTEXT('Officer proposed'!F128),0,'Officer proposed'!F128)","v":"00:00:00"},{"$f":"'Officer proposed'!F128","v":"00:00:00"},0,0,"Rest",1,126,"",126,"NB","NB"]
[{"$f":"IF('Officer proposed'!C129>0,'Officer proposed'!C129,\"\")","v":"Week19"},"Sat","1900-05-05",{"$f":"IF(ISTEXT('Officer proposed'!E129),0,'Officer proposed'!E129)","v":"00:00:00"},{"$f":"'Officer proposed'!E129","v":"00:00:00"},{"$f":"IF(ISTEXT('Officer proposed'!F129),0,'Officer proposed'!F129)","v":"00:00:00"},{"$f":"'Officer proposed'!F129","v":"00:00:00"},0,0,"Rest",1,127,"",127,"NB","NB"]
[null,"Sun","1900-05-06",{"$f":"IF(ISTEXT('Officer proposed'!E130),0,'Officer proposed'!E130)","v":"00:00:00"},{"$f":"'Officer proposed'!E130","v":"00:00:00"},{"$f":"IF(ISTEXT('Officer proposed'!F130),0,'Officer proposed'!F130)","v":"00:00:00"},{"$f":"'Officer proposed'!F130","v":"00:00:00"},0,0,"Rest",1,128,"",128,"NB","NB"]
[null,"Mon","1900-05-07",{"$f":"IF(ISTEXT('Officer proposed'!E131),0,'Officer proposed'!E131)","v":"00:00:00"},{"$f":"'Officer proposed'!E131","v":"00:00:00"},{"$f":"IF(ISTEXT('Officer proposed'!F131),0,'Officer proposed'!F131)","v":"00:00:00"},{"$f":"'Officer proposed'!F131","v":"00:00:00"},0,0,{"$f":"IF(I130=\"\",\"\",IF(I130>=$J$1,\"Over\",IF(AND(I130>0,I130<=$J$1),\"Under\",\"Rest\")))","v":"Rest"},1,129,"",129,"NB","NB"]
[null,{"$f":"IF(C131>0,TEXT(C131, \"ddd\"),\"\")","v":"Tue"},"1900-05-08",{"$f":"IF(ISTEXT('Officer proposed'!E132),0,'Officer proposed'!E132)","v":"00:00:00"},{"$f":"'Officer proposed'!E132","v":"00:00:00"},{"$f":"IF(ISTEXT('Officer proposed'!F132),0,'Officer proposed'!F132)","v":"00:00:00"},{"$f":"'Officer proposed'!F132","v":"00:00:00"},{"$f":"IF(ISTEXT(D131),0,F131-D131)","v":0},{"$f":"IF(ISTEXT(E131),0,IF(ISTEXT(E132),0,E132+(G131>E131)-G131))","v":0},"Rest",{"$f":"IF(ISNUMBER(E131),1,\"\")","v":1},{"$f":"IF(K131=\"\",\"Rest Day\",IF(K130=\"\",K131,(L130+K131)))","v":130},{"$f":"IF($D$2=0,\"\",IF(ISTEXT(L131),\"\",IF(L131>6,\"Exceeds\",\"\")))","v":""},{"$f":"IF(L131=\"Rest Day\",0,L131)","v":130},{"$f":"IF(AND(N132>=7,N131>=7),\"NB\",\"B\")","v":"NB"},{"$f":"IF(AND(N131>=14,N130>=14),\"NB\",\"B\")","v":"NB"}]
[null,"Wed",{"$f":"IF($A$2=0,\"\",C131+1)","v":"1900-05-09"},{"$f":"IF(ISTEXT('Officer proposed'!E133),0,'Officer proposed'!E133)","v":"00:00:00"},{"$f":"'Officer proposed'!E133","v":"00:00:00"},{"$f":"IF(ISTEXT('Officer proposed'!F133),0,'Officer proposed'!F133)","v":"00:00:00"},{"$f":"'Officer proposed'!F133","v":"00:00:00"},0,0,"Rest",1,131,"",131,"NB","NB"]
[null,"Thu","1900-05-10",{"$f":"IF(ISTEXT('Officer proposed'!E134),0,'Officer proposed'!E134)","v":"00:00:00"},{"$f":"'Officer proposed'!E134","v":"00:00:00"},{"$f":"IF(ISTEXT('Officer proposed'!F134),0,'Officer proposed'!F134)","v":"00:00:00"},{"$f":"'Officer proposed'!F134","v":"00:00:00"},0,0,"Rest",1,132,"",132,"NB","NB"]
[null,"Fri","1900-05-11",{"$f":"IF(ISTEXT('Officer proposed'!E135),0,'Officer proposed'!E135)","v":"00:00:00"},{"$f":"'Officer proposed'!E135","v":"00:00:00"},{"$f":"IF(ISTEXT('Officer proposed'!F135),0,'Officer proposed'!F135)","v":"00:00:00"},{"$f":"'Officer proposed'!F135","v":"00:00:00"},0,0,"Rest",1,133,"",133,"NB","NB"]
[{"$f":"IF('Officer proposed'!C136>0,'Officer proposed'!C136,\"\")","v":"Week20"},"Sat","1900-05-12",{"$f":"IF(ISTEXT('Officer proposed'!E136),0,'Officer proposed'!E136)","v":"00:00:00"},{"$f":"'Officer proposed'!E136","v":"00:00:00"},{"$f":"IF(ISTEXT('Officer proposed'!F136),0,'Officer proposed'!F136)","v":"00:00:00"},{"$f":"'Officer proposed'!F136","v":"00:00:00"},0,0,"Rest",1,134,"",134,"NB","NB"]
[null,"Sun","1900-05-13",{"$f":"IF(ISTEXT('Officer proposed'!E137),0,'Officer proposed'!E137)","v":"00:00:00"},{"$f":"'Officer proposed'!E137","v":"00:00:00"},{"$f":"IF(ISTEXT('Officer proposed'!F137),0,'Officer proposed'!F137)","v":"00:00:00"},{"$f":"'Officer proposed'!F137","v":"00:00:00"},0,0,"Rest",1,135,"",135,"NB","NB"]
[null,"Mon","1900-05-14",{"$f":"IF(ISTEXT('Officer proposed'!E138),0,'Officer proposed'!E138)","v":"00:00:00"},{"$f":"'Officer proposed'!E138","v":"00:00:00"},{"$f":"IF(ISTEXT('Officer proposed'!F138),0,'Officer proposed'!F138)","v":"00:00:00"},{"$f":"'Officer proposed'!F138","v":"00:00:00"},0,0,"Rest",1,136,"",136,"NB","NB"]
[null,"Tue","1900-05-15",{"$f":"IF(ISTEXT('Officer proposed'!E139),0,'Officer proposed'!E139)","v":"00:00:00"},{"$f":"'Officer proposed'!E139","v":"00:00:00"},{"$f":"IF(ISTEXT('Officer proposed'!F139),0,'Officer proposed'!F139)","v":"00:00:00"},{"$f":"'Officer proposed'!F139","v":"00:00:00"},0,0,"Rest",1,137,"",137,"NB","NB"]
[null,"Wed","1900-05-16",{"$f":"IF(ISTEXT('Officer proposed'!E140),0,'Officer proposed'!E140)","v":"00:00:00"},{"$f":"'Officer proposed'!E140","v":"00:00:00"},{"$f":"IF(ISTEXT('Officer proposed'!F140),0,'Officer proposed'!F140)","v":"00:00:00"},{"$f":"'Officer proposed'!F140","v":"00:00:00"},0,0,"Rest",1,138,"",138,"NB","NB"]
[null,"Thu","1900-05-17",{"$f":"IF(ISTEXT('Officer proposed'!E141),0,'Officer proposed'!E141)","v":"00:00:00"},{"$f":"'Officer proposed'!E141","v":"00:00:00"},{"$f":"IF(ISTEXT('Officer proposed'!F141),0,'Officer proposed'!F141)","v":"00:00:00"},{"$f":"'Officer proposed'!F141","v":"00:00:00"},0,0,"Rest",1,139,"",139,"NB","NB"]
[null,"Fri","1900-05-18",{"$f":"IF(ISTEXT('Officer proposed'!E142),0,'Officer proposed'!E142)","v":"00:00:00"},{"$f":"'Officer proposed'!E142","v":"00:00:00"},{"$f":"IF(ISTEXT('Officer proposed'!F142),0,'Officer proposed'!F142)","v":"00:00:00"},{"$f":"'Officer proposed'!F142","v":"00:00:00"},0,0,"Rest",1,140,"",140,"NB","NB"]
[{"$f":"IF('Officer proposed'!C143>0,'Officer proposed'!C143,\"\")","v":"Week21"},"Sat","1900-05-19",{"$f":"IF(ISTEXT('Officer proposed'!E143),0,'Officer proposed'!E143)","v":"00:00:00"},{"$f":"'Officer proposed'!E143","v":"00:00:00"},{"$f":"IF(ISTEXT('Officer proposed'!F143),0,'Officer proposed'!F143)","v":"00:00:00"},{"$f":"'Officer proposed'!F143","v":"00:00:00"},0,0,"Rest",1,141,"",141,"NB","NB"]
[null,"Sun","1900-05-20",{"$f":"IF(ISTEXT('Officer proposed'!E144),0,'Officer proposed'!E144)","v":"00:00:00"},{"$f":"'Officer proposed'!E144","v":"00:00:00"},{"$f":"IF(ISTEXT('Officer proposed'!F144),0,'Officer proposed'!F144)","v":"00:00:00"},{"$f":"'Officer proposed'!F144","v":"00:00:00"},0,0,"Rest",1,142,"",142,"NB","NB"]
[null,"Mon","1900-05-21",{"$f":"IF(ISTEXT('Officer proposed'!E145),0,'Officer proposed'!E145)","v":"00:00:00"},{"$f":"'Officer proposed'!E145","v":"00:00:00"},{"$f":"IF(ISTEXT('Officer proposed'!F145),0,'Officer proposed'!F145)","v":"00:00:00"},{"$f":"'Officer proposed'!F145","v":"00:00:00"},0,0,"Rest",1,143,"",143,"NB","NB"]
[null,"Tue","1900-05-22",{"$f":"IF(ISTEXT('Officer proposed'!E146),0,'Officer proposed'!E146)","v":"00:00:00"},{"$f":"'Officer proposed'!E146","v":"00:00:00"},{"$f":"IF(ISTEXT('Officer proposed'!F146),0,'Officer proposed'!F146)","v":"00:00:00"},{"$f":"'Officer proposed'!F146","v":"00:00:00"},0,0,"Rest",1,144,"",144,"NB","NB"]
[null,"Wed","1900-05-23",{"$f":"IF(ISTEXT('Officer proposed'!E147),0,'Officer proposed'!E147)","v":"00:00:00"},{"$f":"'Officer proposed'!E147","v":"00:00:00"},{"$f":"IF(ISTEXT('Officer proposed'!F147),0,'Officer proposed'!F147)","v":"00:00:00"},{"$f":"'Officer proposed'!F147","v":"00:00:00"},0,0,"Rest",1,145,"",145,"NB","NB"]
[null,"Thu","1900-05-24",{"$f":"IF(ISTEXT('Officer proposed'!E148),0,'Officer proposed'!E148)","v":"00:00:00"},{"$f":"'Officer proposed'!E148","v":"00:00:00"},{"$f":"IF(ISTEXT('Officer proposed'!F148),0,'Officer proposed'!F148)","v":"00:00:00"},{"$f":"'Officer proposed'!F148","v":"00:00:00"},0,0,"Rest",1,146,"",146,"NB","NB"]
[null,"Fri","1900-05-25",{"$f":"IF(ISTEXT('Officer proposed'!E149),0,'Officer proposed'!E149)","v":"00:00:00"},{"$f":"'Officer proposed'!E149","v":"00:00:00"},{"$f":"IF(ISTEXT('Officer proposed'!F149),0,'Officer proposed'!F149)","v":"00:00:00"},{"$f":"'Officer proposed'!F149","v":"00:00:00"},0,0,"Rest",1,147,"",147,"NB","NB"]
[{"$f":"IF('Officer proposed'!C150>0,'Officer proposed'!C150,\"\")","v":"Week22"},"Sat","1900-05-26",{"$f":"IF(ISTEXT('Officer proposed'!E150),0,'Officer proposed'!E150)","v":"00:00:00"},{"$f":"'Officer proposed'!E150","v":"00:00:00"},{"$f":"IF(ISTEXT('Officer proposed'!F150),0,'Officer proposed'!F150)","v":"00:00:00"},{"$f":"'Officer proposed'!F150","v":"00:00:00"},0,0,"Rest",1,148,"",148,"NB","NB"]
[null,"Sun","1900-05-27",{"$f":"IF(ISTEXT('Officer proposed'!E151),0,'Officer proposed'!E151)","v":"00:00:00"},{"$f":"'Officer proposed'!E151","v":"00:00:00"},{"$f":"IF(ISTEXT('Officer proposed'!F151),0,'Officer proposed'!F151)","v":"00:00:00"},{"$f":"'Officer proposed'!F151","v":"00:00:00"},0,0,"Rest",1,149,"",149,"NB","NB"]
[null,"Mon","1900-05-28",{"$f":"IF(ISTEXT('Officer proposed'!E152),0,'Officer proposed'!E152)","v":"00:00:00"},{"$f":"'Officer proposed'!E152","v":"00:00:00"},{"$f":"IF(ISTEXT('Officer proposed'!F152),0,'Officer proposed'!F152)","v":"00:00:00"},{"$f":"'Officer proposed'!F152","v":"00:00:00"},0,0,"Rest",1,150,"",150,"NB","NB"]
[null,"Tue","1900-05-29",{"$f":"IF(ISTEXT('Officer proposed'!E153),0,'Officer proposed'!E153)","v":"00:00:00"},{"$f":"'Officer proposed'!E153","v":"00:00:00"},{"$f":"IF(ISTEXT('Officer proposed'!F153),0,'Officer proposed'!F153)","v":"00:00:00"},{"$f":"'Officer proposed'!F153","v":"00:00:00"},0,0,"Rest",1,151,"",151,"NB","NB"]
[null,"Wed","1900-05-30",{"$f":"IF(ISTEXT('Officer proposed'!E154),0,'Officer proposed'!E154)","v":"00:00:00"},{"$f":"'Officer proposed'!E154","v":"00:00:00"},{"$f":"IF(ISTEXT('Officer proposed'!F154),0,'Officer proposed'!F154)","v":"00:00:00"},{"$f":"'Officer proposed'!F154","v":"00:00:00"},0,0,"Rest",1,152,"",152,"NB","NB"]
[null,"Thu","1900-05-31",{"$f":"IF(ISTEXT('Officer proposed'!E155),0,'Officer proposed'!E155)","v":"00:00:00"},{"$f":"'Officer proposed'!E155","v":"00:00:00"},{"$f":"IF(ISTEXT('Officer proposed'!F155),0,'Officer proposed'!F155)","v":"00:00:00"},{"$f":"'Officer proposed'!F155","v":"00:00:00"},0,0,"Rest",1,153,"",153,"NB","NB"]
[null,"Fri","1900-06-01",{"$f":"IF(ISTEXT('Officer proposed'!E156),0,'Officer proposed'!E156)","v":"00:00:00"},{"$f":"'Officer proposed'!E156","v":"00:00:00"},{"$f":"IF(ISTEXT('Officer proposed'!F156),0,'Officer proposed'!F156)","v":"00:00:00"},{"$f":"'Officer proposed'!F156","v":"00:00:00"},0,0,"Rest",1,154,"",154,"NB","NB"]
[{"$f":"IF('Officer proposed'!C157>0,'Officer proposed'!C157,\"\")","v":"Week23"},"Sat","1900-06-02",{"$f":"IF(ISTEXT('Officer proposed'!E157),0,'Officer proposed'!E157)","v":"00:00:00"},{"$f":"'Officer proposed'!E157","v":"00:00:00"},{"$f":"IF(ISTEXT('Officer proposed'!F157),0,'Officer proposed'!F157)","v":"00:00:00"},{"$f":"'Officer proposed'!F157","v":"00:00:00"},0,0,"Rest",1,155,"",155,"NB","NB"]
[null,"Sun","1900-06-03",{"$f":"IF(ISTEXT('Officer proposed'!E158),0,'Officer proposed'!E158)","v":"00:00:00"},{"$f":"'Officer proposed'!E158","v":"00:00:00"},{"$f":"IF(ISTEXT('Officer proposed'!F158),0,'Officer proposed'!F158)","v":"00:00:00"},{"$f":"'Officer proposed'!F158","v":"00:00:00"},0,0,"Rest",1,156,"",156,"NB","NB"]
[null,"Mon","1900-06-04",{"$f":"IF(ISTEXT('Officer proposed'!E159),0,'Officer proposed'!E159)","v":"00:00:00"},{"$f":"'Officer proposed'!E159","v":"00:00:00"},{"$f":"IF(ISTEXT('Officer proposed'!F159),0,'Officer proposed'!F159)","v":"00:00:00"},{"$f":"'Officer proposed'!F159","v":"00:00:00"},0,0,"Rest",1,157,"",157,"NB","NB"]
[null,"Tue","1900-06-05",{"$f":"IF(ISTEXT('Officer proposed'!E160),0,'Officer proposed'!E160)","v":"00:00:00"},{"$f":"'Officer proposed'!E160","v":"00:00:00"},{"$f":"IF(ISTEXT('Officer proposed'!F160),0,'Officer proposed'!F160)","v":"00:00:00"},{"$f":"'Officer proposed'!F160","v":"00:00:00"},0,0,"Rest",1,158,"",158,"NB","NB"]
[null,"Wed","1900-06-06",{"$f":"IF(ISTEXT('Officer proposed'!E161),0,'Officer proposed'!E161)","v":"00:00:00"},{"$f":"'Officer proposed'!E161","v":"00:00:00"},{"$f":"IF(ISTEXT('Officer proposed'!F161),0,'Officer proposed'!F161)","v":"00:00:00"},{"$f":"'Officer proposed'!F161","v":"00:00:00"},0,0,"Rest",1,159,"",159,"NB","NB"]
[null,"Thu","1900-06-07",{"$f":"IF(ISTEXT('Officer proposed'!E162),0,'Officer proposed'!E162)","v":"00:00:00"},{"$f":"'Officer proposed'!E162","v":"00:00:00"},{"$f":"IF(ISTEXT('Officer proposed'!F162),0,'Officer proposed'!F162)","v":"00:00:00"},{"$f":"'Officer proposed'!F162","v":"00:00:00"},0,0,"Rest",1,160,"",160,"NB","NB"]
[null,"Fri","1900-06-08",{"$f":"IF(ISTEXT('Officer proposed'!E163),0,'Officer proposed'!E163)","v":"00:00:00"},{"$f":"'Officer proposed'!E163","v":"00:00:00"},{"$f":"IF(ISTEXT('Officer proposed'!F163),0,'Officer proposed'!F163)","v":"00:00:00"},{"$f":"'Officer proposed'!F163","v":"00:00:00"},0,0,"Rest",1,161,"",161,"NB","NB"]
[{"$f":"IF('Officer proposed'!C164>0,'Officer proposed'!C164,\"\")","v":"Week24"},"Sat","1900-06-09",{"$f":"IF(ISTEXT('Officer proposed'!E164),0,'Officer proposed'!E164)","v":"00:00:00"},{"$f":"'Officer proposed'!E164","v":"00:00:00"},{"$f":"IF(ISTEXT('Officer proposed'!F164),0,'Officer proposed'!F164)","v":"00:00:00"},{"$f":"'Officer proposed'!F164","v":"00:00:00"},0,0,"Rest",1,162,"",162,"NB","NB"]
[null,"Sun","1900-06-10",{"$f":"IF(ISTEXT('Officer proposed'!E165),0,'Officer proposed'!E165)","v":"00:00:00"},{"$f":"'Officer proposed'!E165","v":"00:00:00"},{"$f":"IF(ISTEXT('Officer proposed'!F165),0,'Officer proposed'!F165)","v":"00:00:00"},{"$f":"'Officer proposed'!F165","v":"00:00:00"},0,0,"Rest",1,163,"",163,"NB","NB"]
[null,"Mon","1900-06-11",{"$f":"IF(ISTEXT('Officer proposed'!E166),0,'Officer proposed'!E166)","v":"00:00:00"},{"$f":"'Officer proposed'!E166","v":"00:00:00"},{"$f":"IF(ISTEXT('Officer proposed'!F166),0,'Officer proposed'!F166)","v":"00:00:00"},{"$f":"'Officer proposed'!F166","v":"00:00:00"},0,0,"Rest",1,164,"",164,"NB","NB"]
[null,"Tue","1900-06-12",{"$f":"IF(ISTEXT('Officer proposed'!E167),0,'Officer proposed'!E167)","v":"00:00:00"},{"$f":"'Officer proposed'!E167","v":"00:00:00"},{"$f":"IF(ISTEXT('Officer proposed'!F167),0,'Officer proposed'!F167)","v":"00:00:00"},{"$f":"'Officer proposed'!F167","v":"00:00:00"},0,0,"Rest",1,165,"",165,"NB","NB"]
[null,"Wed","1900-06-13",{"$f":"IF(ISTEXT('Officer proposed'!E168),0,'Officer proposed'!E168)","v":"00:00:00"},{"$f":"'Officer proposed'!E168","v":"00:00:00"},{"$f":"IF(ISTEXT('Officer proposed'!F168),0,'Officer proposed'!F168)","v":"00:00:00"},{"$f":"'Officer proposed'!F168","v":"00:00:00"},0,0,"Rest",1,166,"",166,"NB","NB"]
[null,"Thu","1900-06-14",{"$f":"IF(ISTEXT('Officer proposed'!E169),0,'Officer proposed'!E169)","v":"00:00:00"},{"$f":"'Officer proposed'!E169","v":"00:00:00"},{"$f":"IF(ISTEXT('Officer proposed'!F169),0,'Officer proposed'!F169)","v":"00:00:00"},{"$f":"'Officer proposed'!F169","v":"00:00:00"},0,0,"Rest",1,167,"",167,"NB","NB"]
[null,"Fri","1900-06-15",{"$f":"IF(ISTEXT('Officer proposed'!E170),0,'Officer proposed'!E170)","v":"00:00:00"},{"$f":"'Officer proposed'!E170","v":"00:00:00"},{"$f":"IF(ISTEXT('Officer proposed'!F170),0,'Officer proposed'!F170)","v":"00:00:00"},{"$f":"'Officer proposed'!F170","v":"00:00:00"},0,0,"Rest",1,168,"",168,"NB","NB"]
[{"$f":"IF('Officer proposed'!C171>0,'Officer proposed'!C171,\"\")","v":"Week25"},"Sat","1900-06-16",{"$f":"IF(ISTEXT('Officer proposed'!E171),0,'Officer proposed'!E171)","v":"00:00:00"},{"$f":"'Officer proposed'!E171","v":"00:00:00"},{"$f":"IF(ISTEXT('Officer proposed'!F171),0,'Officer proposed'!F171)","v":"00:00:00"},{"$f":"'Officer proposed'!F171","v":"00:00:00"},0,0,"Rest",1,169,"",169,"NB","NB"]
[null,"Sun","1900-06-17",{"$f":"IF(ISTEXT('Officer proposed'!E172),0,'Officer proposed'!E172)","v":"00:00:00"},{"$f":"'Officer proposed'!E172","v":"00:00:00"},{"$f":"IF(ISTEXT('Officer proposed'!F172),0,'Officer proposed'!F172)","v":"00:00:00"},{"$f":"'Officer proposed'!F172","v":"00:00:00"},0,0,"Rest",1,170,"",170,"NB","NB"]
[null,"Mon","1900-06-18",{"$f":"IF(ISTEXT('Officer proposed'!E173),0,'Officer proposed'!E173)","v":"00:00:00"},{"$f":"'Officer proposed'!E173","v":"00:00:00"},{"$f":"IF(ISTEXT('Officer proposed'!F173),0,'Officer proposed'!F173)","v":"00:00:00"},{"$f":"'Officer proposed'!F173","v":"00:00:00"},0,0,"Rest",1,171,"",171,"NB","NB"]
[null,"Tue","1900-06-19",{"$f":"IF(ISTEXT('Officer proposed'!E174),0,'Officer proposed'!E174)","v":"00:00:00"},{"$f":"'Officer proposed'!E174","v":"00:00:00"},{"$f":"IF(ISTEXT('Officer proposed'!F174),0,'Officer proposed'!F174)","v":"00:00:00"},{"$f":"'Officer proposed'!F174","v":"00:00:00"},0,0,"Rest",1,172,"",172,"NB","NB"]
[null,"Wed","1900-06-20",{"$f":"IF(ISTEXT('Officer proposed'!E175),0,'Officer proposed'!E175)","v":"00:00:00"},{"$f":"'Officer proposed'!E175","v":"00:00:00"},{"$f":"IF(ISTEXT('Officer proposed'!F175),0,'Officer proposed'!F175)","v":"00:00:00"},{"$f":"'Officer proposed'!F175","v":"00:00:00"},0,0,"Rest",1,173,"",173,"NB","NB"]
[null,"Thu","1900-06-21",{"$f":"IF(ISTEXT('Officer proposed'!E176),0,'Officer proposed'!E176)","v":"00:00:00"},{"$f":"'Officer proposed'!E176","v":"00:00:00"},{"$f":"IF(ISTEXT('Officer proposed'!F176),0,'Officer proposed'!F176)","v":"00:00:00"},{"$f":"'Officer proposed'!F176","v":"00:00:00"},0,0,"Rest",1,174,"",174,"NB","NB"]
[null,"Fri","1900-06-22",{"$f":"IF(ISTEXT('Officer proposed'!E177),0,'Officer proposed'!E177)","v":"00:00:00"},{"$f":"'Officer proposed'!E177","v":"00:00:00"},{"$f":"IF(ISTEXT('Officer proposed'!F177),0,'Officer proposed'!F177)","v":"00:00:00"},{"$f":"'Officer proposed'!F177","v":"00:00:00"},0,0,"Rest",1,175,"",175,"NB","NB"]
[{"$f":"IF('Officer proposed'!C178>0,'Officer proposed'!C178,\"\")","v":"Week26"},"Sat","1900-06-23",{"$f":"IF(ISTEXT('Officer proposed'!E178),0,'Officer proposed'!E178)","v":"00:00:00"},{"$f":"'Officer proposed'!E178","v":"00:00:00"},{"$f":"IF(ISTEXT('Officer proposed'!F178),0,'Officer proposed'!F178)","v":"00:00:00"},{"$f":"'Officer proposed'!F178","v":"00:00:00"},0,0,"Rest",1,176,"",176,"NB","NB"]
[null,"Sun","1900-06-24",{"$f":"IF(ISTEXT('Officer proposed'!E179),0,'Officer proposed'!E179)","v":"00:00:00"},{"$f":"'Officer proposed'!E179","v":"00:00:00"},{"$f":"IF(ISTEXT('Officer proposed'!F179),0,'Officer proposed'!F179)","v":"00:00:00"},{"$f":"'Officer proposed'!F179","v":"00:00:00"},0,0,"Rest",1,177,"",177,"NB","NB"]
[null,"Mon","1900-06-25",{"$f":"IF(ISTEXT('Officer proposed'!E180),0,'Officer proposed'!E180)","v":"00:00:00"},{"$f":"'Officer proposed'!E180","v":"00:00:00"},{"$f":"IF(ISTEXT('Officer proposed'!F180),0,'Officer proposed'!F180)","v":"00:00:00"},{"$f":"'Officer proposed'!F180","v":"00:00:00"},0,0,"Rest",1,178,"",178,"NB","NB"]
[null,"Tue","1900-06-26",{"$f":"IF(ISTEXT('Officer proposed'!E181),0,'Officer proposed'!E181)","v":"00:00:00"},{"$f":"'Officer proposed'!E181","v":"00:00:00"},{"$f":"IF(ISTEXT('Officer proposed'!F181),0,'Officer proposed'!F181)","v":"00:00:00"},{"$f":"'Officer proposed'!F181","v":"00:00:00"},0,0,"Rest",1,179,"",179,"NB","NB"]
[null,"Wed","1900-06-27",{"$f":"IF(ISTEXT('Officer proposed'!E182),0,'Officer proposed'!E182)","v":"00:00:00"},{"$f":"'Officer proposed'!E182","v":"00:00:00"},{"$f":"IF(ISTEXT('Officer proposed'!F182),0,'Officer proposed'!F182)","v":"00:00:00"},{"$f":"'Officer proposed'!F182","v":"00:00:00"},0,0,"Rest",1,180,"",180,"NB","NB"]
[null,"Thu","1900-06-28",{"$f":"IF(ISTEXT('Officer proposed'!E183),0,'Officer proposed'!E183)","v":"00:00:00"},{"$f":"'Officer proposed'!E183","v":"00:00:00"},{"$f":"IF(ISTEXT('Officer proposed'!F183),0,'Officer proposed'!F183)","v":"00:00:00"},{"$f":"'Officer proposed'!F183","v":"00:00:00"},0,0,"Rest",1,181,"",181,"NB","NB"]
[null,"Fri","1900-06-29",{"$f":"IF(ISTEXT('Officer proposed'!E184),0,'Officer proposed'!E184)","v":"00:00:00"},{"$f":"'Officer proposed'!E184","v":"00:00:00"},{"$f":"IF(ISTEXT('Officer proposed'!F184),0,'Officer proposed'!F184)","v":"00:00:00"},{"$f":"'Officer proposed'!F184","v":"00:00:00"},0,0,"Rest",1,182,"",182,"NB","NB"]
[{"$f":"IF('Officer proposed'!C185>0,'Officer proposed'!C185,\"\")","v":"Week27"},"Sat","1900-06-30",{"$f":"IF(ISTEXT('Officer proposed'!E185),0,'Officer proposed'!E185)","v":"00:00:00"},{"$f":"'Officer proposed'!E185","v":"00:00:00"},{"$f":"IF(ISTEXT('Officer proposed'!F185),0,'Officer proposed'!F185)","v":"00:00:00"},{"$f":"'Officer proposed'!F185","v":"00:00:00"},0,0,"Rest",1,183,"",183,"NB","NB"]
[null,"Sun","1900-07-01",{"$f":"IF(ISTEXT('Officer proposed'!E186),0,'Officer proposed'!E186)","v":"00:00:00"},{"$f":"'Officer proposed'!E186","v":"00:00:00"},{"$f":"IF(ISTEXT('Officer proposed'!F186),0,'Officer proposed'!F186)","v":"00:00:00"},{"$f":"'Officer proposed'!F186","v":"00:00:00"},0,0,"Rest",1,184,"",184,"NB","NB"]
[null,"Mon","1900-07-02",{"$f":"IF(ISTEXT('Officer proposed'!E187),0,'Officer proposed'!E187)","v":"00:00:00"},{"$f":"'Officer proposed'!E187","v":"00:00:00"},{"$f":"IF(ISTEXT('Officer proposed'!F187),0,'Officer proposed'!F187)","v":"00:00:00"},{"$f":"'Officer proposed'!F187","v":"00:00:00"},0,0,"Rest",1,185,"",185,"NB","NB"]
[null,"Tue","1900-07-03",{"$f":"IF(ISTEXT('Officer proposed'!E188),0,'Officer proposed'!E188)","v":"00:00:00"},{"$f":"'Officer proposed'!E188","v":"00:00:00"},{"$f":"IF(ISTEXT('Officer proposed'!F188),0,'Officer proposed'!F188)","v":"00:00:00"},{"$f":"'Officer proposed'!F188","v":"00:00:00"},0,0,"Rest",1,186,"",186,"NB","NB"]
[null,"Wed","1900-07-04",{"$f":"IF(ISTEXT('Officer proposed'!E189),0,'Officer proposed'!E189)","v":"00:00:00"},{"$f":"'Officer proposed'!E189","v":"00:00:00"},{"$f":"IF(ISTEXT('Officer proposed'!F189),0,'Officer proposed'!F189)","v":"00:00:00"},{"$f":"'Officer proposed'!F189","v":"00:00:00"},0,0,"Rest",1,187,"",187,"NB","NB"]
[null,"Thu","1900-07-05",{"$f":"IF(ISTEXT('Officer proposed'!E190),0,'Officer proposed'!E190)","v":"00:00:00"},{"$f":"'Officer proposed'!E190","v":"00:00:00"},{"$f":"IF(ISTEXT('Officer proposed'!F190),0,'Officer proposed'!F190)","v":"00:00:00"},{"$f":"'Officer proposed'!F190","v":"00:00:00"},0,0,"Rest",1,188,"",188,"NB","NB"]
[null,"Fri","1900-07-06",{"$f":"IF(ISTEXT('Officer proposed'!E191),0,'Officer proposed'!E191)","v":"00:00:00"},{"$f":"'Officer proposed'!E191","v":"00:00:00"},{"$f":"IF(ISTEXT('Officer proposed'!F191),0,'Officer proposed'!F191)","v":"00:00:00"},{"$f":"'Officer proposed'!F191","v":"00:00:00"},0,0,"Rest",1,189,"",189,"NB","NB"]
[{"$f":"IF('Officer proposed'!C192>0,'Officer proposed'!C192,\"\")","v":"Week28"},"Sat","1900-07-07",{"$f":"IF(ISTEXT('Officer proposed'!E192),0,'Officer proposed'!E192)","v":"00:00:00"},{"$f":"'Officer proposed'!E192","v":"00:00:00"},{"$f":"IF(ISTEXT('Officer proposed'!F192),0,'Officer proposed'!F192)","v":"00:00:00"},{"$f":"'Officer proposed'!F192","v":"00:00:00"},0,0,"Rest",1,190,"",190,"NB","NB"]
[null,"Sun","1900-07-08",{"$f":"IF(ISTEXT('Officer proposed'!E193),0,'Officer proposed'!E193)","v":"00:00:00"},{"$f":"'Officer proposed'!E193","v":"00:00:00"},{"$f":"IF(ISTEXT('Officer proposed'!F193),0,'Officer proposed'!F193)","v":"00:00:00"},{"$f":"'Officer proposed'!F193","v":"00:00:00"},0,0,"Rest",1,191,"",191,"NB","NB"]
[null,"Mon","1900-07-09",{"$f":"IF(ISTEXT('Officer proposed'!E194),0,'Officer proposed'!E194)","v":"00:00:00"},{"$f":"'Officer proposed'!E194","v":"00:00:00"},{"$f":"IF(ISTEXT('Officer proposed'!F194),0,'Officer proposed'!F194)","v":"00:00:00"},{"$f":"'Officer proposed'!F194","v":"00:00:00"},0,0,"Rest",1,192,"",192,"NB","NB"]
[null,"Tue","1900-07-10",{"$f":"IF(ISTEXT('Officer proposed'!E195),0,'Officer proposed'!E195)","v":"00:00:00"},{"$f":"'Officer proposed'!E195","v":"00:00:00"},{"$f":"IF(ISTEXT('Officer proposed'!F195),0,'Officer proposed'!F195)","v":"00:00:00"},{"$f":"'Officer proposed'!F195","v":"00:00:00"},0,0,{"$f":"IF(I194=\"\",\"\",IF(I194>=$J$1,\"Over\",IF(AND(I194>0,I194<=$J$1),\"Under\",\"Rest\")))","v":"Rest"},1,193,"",193,"NB","NB"]
[null,{"$f":"IF(C195>0,TEXT(C195, \"ddd\"),\"\")","v":"Wed"},"1900-07-11",{"$f":"IF(ISTEXT('Officer proposed'!E196),0,'Officer proposed'!E196)","v":"00:00:00"},{"$f":"'Officer proposed'!E196","v":"00:00:00"},{"$f":"IF(ISTEXT('Officer proposed'!F196),0,'Officer proposed'!F196)","v":"00:00:00"},{"$f":"'Officer proposed'!F196","v":"00:00:00"},{"$f":"IF(ISTEXT(D195),0,F195-D195)","v":0},{"$f":"IF(ISTEXT(E195),0,IF(ISTEXT(E196),0,E196+(G195>E195)-G195))","v":0},"Rest",{"$f":"IF(ISNUMBER(E195),1,\"\")","v":1},{"$f":"IF(K195=\"\",\"Rest Day\",IF(K194=\"\",K195,(L194+K195)))","v":194},{"$f":"IF($D$2=0,\"\",IF(ISTEXT(L195),\"\",IF(L195>6,\"Exceeds\",\"\")))","v":""},{"$f":"IF(L195=\"Rest Day\",0,L195)","v":194},{"$f":"IF(AND(N196>=7,N195>=7),\"NB\",\"B\")","v":"NB"},{"$f":"IF(AND(N195>=14,N194>=14),\"NB\",\"B\")","v":"NB"}]
[null,"Thu",{"$f":"IF($A$2=0,\"\",C195+1)","v":"1900-07-12"},{"$f":"IF(ISTEXT('Officer proposed'!E197),0,'Officer proposed'!E197)","v":"00:00:00"},{"$f":"'Officer proposed'!E197","v":"00:00:00"},{"$f":"IF(ISTEXT('Officer proposed'!F197),0,'Officer proposed'!F197)","v":"00:00:00"},{"$f":"'Officer proposed'!F197","v":"00:00:00"},0,0,"Rest",1,195,"",195,"NB","NB"]
[null,"Fri","1900-07-13",{"$f":"IF(ISTEXT('Officer proposed'!E198),0,'Officer proposed'!E198)","v":"00:00:00"},{"$f":"'Officer proposed'!E198","v":"00:00:00"},{"$f":"IF(ISTEXT('Officer proposed'!F198),0,'Officer proposed'!F198)","v":"00:00:00"},{"$f":"'Officer proposed'!F198","v":"00:00:00"},0,0,"Rest",1,196,"",196,"NB","NB"]
[{"$f":"IF('Officer proposed'!C199>0,'Officer proposed'!C199,\"\")","v":"Week29"},"Sat","1900-07-14",{"$f":"IF(ISTEXT('Officer proposed'!E199),0,'Officer proposed'!E199)","v":"00:00:00"},{"$f":"'Officer proposed'!E199","v":"00:00:00"},{"$f":"IF(ISTEXT('Officer proposed'!F199),0,'Officer proposed'!F199)","v":"00:00:00"},{"$f":"'Officer proposed'!F199","v":"00:00:00"},0,0,"Rest",1,197,"",197,"NB","NB"]
[null,"Sun","1900-07-15",{"$f":"IF(ISTEXT('Officer proposed'!E200),0,'Officer proposed'!E200)","v":"00:00:00"},{"$f":"'Officer proposed'!E200","v":"00:00:00"},{"$f":"IF(ISTEXT('Officer proposed'!F200),0,'Officer proposed'!F200)","v":"00:00:00"},{"$f":"'Officer proposed'!F200","v":"00:00:00"},0,0,"Rest",1,198,"",198,"NB","NB"]
[null,"Mon","1900-07-16",{"$f":"IF(ISTEXT('Officer proposed'!E201),0,'Officer proposed'!E201)","v":"00:00:00"},{"$f":"'Officer proposed'!E201","v":"00:00:00"},{"$f":"IF(ISTEXT('Officer proposed'!F201),0,'Officer proposed'!F201)","v":"00:00:00"},{"$f":"'Officer proposed'!F201","v":"00:00:00"},0,0,"Rest",1,199,"",199,"NB","NB"]
[null,"Tue","1900-07-17",{"$f":"IF(ISTEXT('Officer proposed'!E202),0,'Officer proposed'!E202)","v":"00:00:00"},{"$f":"'Officer proposed'!E202","v":"00:00:00"},{"$f":"IF(ISTEXT('Officer proposed'!F202),0,'Officer proposed'!F202)","v":"00:00:00"},{"$f":"'Officer proposed'!F202","v":"00:00:00"},0,0,"Rest",1,200,"",200,"NB","NB"]
[null,"Wed","1900-07-18",{"$f":"IF(ISTEXT('Officer proposed'!E203),0,'Officer proposed'!E203)","v":"00:00:00"},{"$f":"'Officer proposed'!E203","v":"00:00:00"},{"$f":"IF(ISTEXT('Officer proposed'!F203),0,'Officer proposed'!F203)","v":"00:00:00"},{"$f":"'Officer proposed'!F203","v":"00:00:00"},0,0,"Rest",1,201,"",201,"NB","NB"]
[null,"Thu","1900-07-19",{"$f":"IF(ISTEXT('Officer proposed'!E204),0,'Officer proposed'!E204)","v":"00:00:00"},{"$f":"'Officer proposed'!E204","v":"00:00:00"},{"$f":"IF(ISTEXT('Officer proposed'!F204),0,'Officer proposed'!F204)","v":"00:00:00"},{"$f":"'Officer proposed'!F204","v":"00:00:00"},0,0,"Rest",1,202,"",202,"NB","NB"]
[null,"Fri","1900-07-20",{"$f":"IF(ISTEXT('Officer proposed'!E205),0,'Officer proposed'!E205)","v":"00:00:00"},{"$f":"'Officer proposed'!E205","v":"00:00:00"},{"$f":"IF(ISTEXT('Officer proposed'!F205),0,'Officer proposed'!F205)","v":"00:00:00"},{"$f":"'Officer proposed'!F205","v":"00:00:00"},0,0,"Rest",1,203,"",203,"NB","NB"]
[{"$f":"IF('Officer proposed'!C206>0,'Officer proposed'!C206,\"\")","v":"Week30"},"Sat","1900-07-21",{"$f":"IF(ISTEXT('Officer proposed'!E206),0,'Officer proposed'!E206)","v":"00:00:00"},{"$f":"'Officer proposed'!E206","v":"00:00:00"},{"$f":"IF(ISTEXT('Officer proposed'!F206),0,'Officer proposed'!F206)","v":"00:00:00"},{"$f":"'Officer proposed'!F206","v":"00:00:00"},0,0,"Rest",1,204,"",204,"NB","NB"]
[null,"Sun","1900-07-22",{"$f":"IF(ISTEXT('Officer proposed'!E207),0,'Officer proposed'!E207)","v":"00:00:00"},{"$f":"'Officer proposed'!E207","v":"00:00:00"},{"$f":"IF(ISTEXT('Officer proposed'!F207),0,'Officer proposed'!F207)","v":"00:00:00"},{"$f":"'Officer proposed'!F207","v":"00:00:00"},0,0,"Rest",1,205,"",205,"NB","NB"]
[null,"Mon","1900-07-23",{"$f":"IF(ISTEXT('Officer proposed'!E208),0,'Officer proposed'!E208)","v":"00:00:00"},{"$f":"'Officer proposed'!E208","v":"00:00:00"},{"$f":"IF(ISTEXT('Officer proposed'!F208),0,'Officer proposed'!F208)","v":"00:00:00"},{"$f":"'Officer proposed'!F208","v":"00:00:00"},0,0,"Rest",1,206,"",206,"NB","NB"]
[null,"Tue","1900-07-24",{"$f":"IF(ISTEXT('Officer proposed'!E209),0,'Officer proposed'!E209)","v":"00:00:00"},{"$f":"'Officer proposed'!E209","v":"00:00:00"},{"$f":"IF(ISTEXT('Officer proposed'!F209),0,'Officer proposed'!F209)","v":"00:00:00"},{"$f":"'Officer proposed'!F209","v":"00:00:00"},0,0,"Rest",1,207,"",207,"NB","NB"]
[null,"Wed","1900-07-25",{"$f":"IF(ISTEXT('Officer proposed'!E210),0,'Officer proposed'!E210)","v":"00:00:00"},{"$f":"'Officer proposed'!E210","v":"00:00:00"},{"$f":"IF(ISTEXT('Officer proposed'!F210),0,'Officer proposed'!F210)","v":"00:00:00"},{"$f":"'Officer proposed'!F210","v":"00:00:00"},0,0,"Rest",1,208,"",208,"NB","NB"]
[null,"Thu","1900-07-26",{"$f":"IF(ISTEXT('Officer proposed'!E211),0,'Officer proposed'!E211)","v":"00:00:00"},{"$f":"'Officer proposed'!E211","v":"00:00:00"},{"$f":"IF(ISTEXT('Officer proposed'!F211),0,'Officer proposed'!F211)","v":"00:00:00"},{"$f":"'Officer proposed'!F211","v":"00:00:00"},0,0,"Rest",1,209,"",209,"NB","NB"]
[null,"Fri","1900-07-27",{"$f":"IF(ISTEXT('Officer proposed'!E212),0,'Officer proposed'!E212)","v":"00:00:00"},{"$f":"'Officer proposed'!E212","v":"00:00:00"},{"$f":"IF(ISTEXT('Officer proposed'!F212),0,'Officer proposed'!F212)","v":"00:00:00"},{"$f":"'Officer proposed'!F212","v":"00:00:00"},0,0,"Rest",1,210,"",210,"NB","NB"]
[{"$f":"IF('Officer proposed'!C213>0,'Officer proposed'!C213,\"\")","v":"Week31"},"Sat","1900-07-28",{"$f":"IF(ISTEXT('Officer proposed'!E213),0,'Officer proposed'!E213)","v":"00:00:00"},{"$f":"'Officer proposed'!E213","v":"00:00:00"},{"$f":"IF(ISTEXT('Officer proposed'!F213),0,'Officer proposed'!F213)","v":"00:00:00"},{"$f":"'Officer proposed'!F213","v":"00:00:00"},0,0,"Rest",1,211,"",211,"NB","NB"]
[null,"Sun","1900-07-29",{"$f":"IF(ISTEXT('Officer proposed'!E214),0,'Officer proposed'!E214)","v":"00:00:00"},{"$f":"'Officer proposed'!E214","v":"00:00:00"},{"$f":"IF(ISTEXT('Officer proposed'!F214),0,'Officer proposed'!F214)","v":"00:00:00"},{"$f":"'Officer proposed'!F214","v":"00:00:00"},0,0,"Rest",1,212,"",212,"NB","NB"]
[null,"Mon","1900-07-30",{"$f":"IF(ISTEXT('Officer proposed'!E215),0,'Officer proposed'!E215)","v":"00:00:00"},{"$f":"'Officer proposed'!E215","v":"00:00:00"},{"$f":"IF(ISTEXT('Officer proposed'!F215),0,'Officer proposed'!F215)","v":"00:00:00"},{"$f":"'Officer proposed'!F215","v":"00:00:00"},0,0,"Rest",1,213,"",213,"NB","NB"]
[null,"Tue","1900-07-31",{"$f":"IF(ISTEXT('Officer proposed'!E216),0,'Officer proposed'!E216)","v":"00:00:00"},{"$f":"'Officer proposed'!E216","v":"00:00:00"},{"$f":"IF(ISTEXT('Officer proposed'!F216),0,'Officer proposed'!F216)","v":"00:00:00"},{"$f":"'Officer proposed'!F216","v":"00:00:00"},0,0,"Rest",1,214,"",214,"NB","NB"]
[null,"Wed","1900-08-01",{"$f":"IF(ISTEXT('Officer proposed'!E217),0,'Officer proposed'!E217)","v":"00:00:00"},{"$f":"'Officer proposed'!E217","v":"00:00:00"},{"$f":"IF(ISTEXT('Officer proposed'!F217),0,'Officer proposed'!F217)","v":"00:00:00"},{"$f":"'Officer proposed'!F217","v":"00:00:00"},0,0,"Rest",1,215,"",215,"NB","NB"]
[null,"Thu","1900-08-02",{"$f":"IF(ISTEXT('Officer proposed'!E218),0,'Officer proposed'!E218)","v":"00:00:00"},{"$f":"'Officer proposed'!E218","v":"00:00:00"},{"$f":"IF(ISTEXT('Officer proposed'!F218),0,'Officer proposed'!F218)","v":"00:00:00"},{"$f":"'Officer proposed'!F218","v":"00:00:00"},0,0,"Rest",1,216,"",216,"NB","NB"]
[null,"Fri","1900-08-03",{"$f":"IF(ISTEXT('Officer proposed'!E219),0,'Officer proposed'!E219)","v":"00:00:00"},{"$f":"'Officer proposed'!E219","v":"00:00:00"},{"$f":"IF(ISTEXT('Officer proposed'!F219),0,'Officer proposed'!F219)","v":"00:00:00"},{"$f":"'Officer proposed'!F219","v":"00:00:00"},0,0,"Rest",1,217,"",217,"NB","NB"]
[{"$f":"IF('Officer proposed'!C220>0,'Officer proposed'!C220,\"\")","v":"Week32"},"Sat","1900-08-04",{"$f":"IF(ISTEXT('Officer proposed'!E220),0,'Officer proposed'!E220)","v":"00:00:00"},{"$f":"'Officer proposed'!E220","v":"00:00:00"},{"$f":"IF(ISTEXT('Officer proposed'!F220),0,'Officer proposed'!F220)","v":"00:00:00"},{"$f":"'Officer proposed'!F220","v":"00:00:00"},0,0,"Rest",1,218,"",218,"NB","NB"]
[null,"Sun","1900-08-05",{"$f":"IF(ISTEXT('Officer proposed'!E221),0,'Officer proposed'!E221)","v":"00:00:00"},{"$f":"'Officer proposed'!E221","v":"00:00:00"},{"$f":"IF(ISTEXT('Officer proposed'!F221),0,'Officer proposed'!F221)","v":"00:00:00"},{"$f":"'Officer proposed'!F221","v":"00:00:00"},0,0,"Rest",1,219,"",219,"NB","NB"]
[null,"Mon","1900-08-06",{"$f":"IF(ISTEXT('Officer proposed'!E222),0,'Officer proposed'!E222)","v":"00:00:00"},{"$f":"'Officer proposed'!E222","v":"00:00:00"},{"$f":"IF(ISTEXT('Officer proposed'!F222),0,'Officer proposed'!F222)","v":"00:00:00"},{"$f":"'Officer proposed'!F222","v":"00:00:00"},0,0,"Rest",1,220,"",220,"NB","NB"]
[null,"Tue","1900-08-07",{"$f":"IF(ISTEXT('Officer proposed'!E223),0,'Officer proposed'!E223)","v":"00:00:00"},{"$f":"'Officer proposed'!E223","v":"00:00:00"},{"$f":"IF(ISTEXT('Officer proposed'!F223),0,'Officer proposed'!F223)","v":"00:00:00"},{"$f":"'Officer proposed'!F223","v":"00:00:00"},0,0,"Rest",1,221,"",221,"NB","NB"]
[null,"Wed","1900-08-08",{"$f":"IF(ISTEXT('Officer proposed'!E224),0,'Officer proposed'!E224)","v":"00:00:00"},{"$f":"'Officer proposed'!E224","v":"00:00:00"},{"$f":"IF(ISTEXT('Officer proposed'!F224),0,'Officer proposed'!F224)","v":"00:00:00"},{"$f":"'Officer proposed'!F224","v":"00:00:00"},0,0,"Rest",1,222,"",222,"NB","NB"]
[null,"Thu","1900-08-09",{"$f":"IF(ISTEXT('Officer proposed'!E225),0,'Officer proposed'!E225)","v":"00:00:00"},{"$f":"'Officer proposed'!E225","v":"00:00:00"},{"$f":"IF(ISTEXT('Officer proposed'!F225),0,'Officer proposed'!F225)","v":"00:00:00"},{"$f":"'Officer proposed'!F225","v":"00:00:00"},0,0,"Rest",1,223,"",223,"NB","NB"]
[null,"Fri","1900-08-10",{"$f":"IF(ISTEXT('Officer proposed'!E226),0,'Officer proposed'!E226)","v":"00:00:00"},{"$f":"'Officer proposed'!E226","v":"00:00:00"},{"$f":"IF(ISTEXT('Officer proposed'!F226),0,'Officer proposed'!F226)","v":"00:00:00"},{"$f":"'Officer proposed'!F226","v":"00:00:00"},0,0,"Rest",1,224,"",224,"NB","NB"]
[{"$f":"IF('Officer proposed'!C227>0,'Officer proposed'!C227,\"\")","v":"Week33"},"Sat","1900-08-11",{"$f":"IF(ISTEXT('Officer proposed'!E227),0,'Officer proposed'!E227)","v":"00:00:00"},{"$f":"'Officer proposed'!E227","v":"00:00:00"},{"$f":"IF(ISTEXT('Officer proposed'!F227),0,'Officer proposed'!F227)","v":"00:00:00"},{"$f":"'Officer proposed'!F227","v":"00:00:00"},0,0,"Rest",1,225,"",225,"NB","NB"]
[null,"Sun","1900-08-12",{"$f":"IF(ISTEXT('Officer proposed'!E228),0,'Officer proposed'!E228)","v":"00:00:00"},{"$f":"'Officer proposed'!E228","v":"00:00:00"},{"$f":"IF(ISTEXT('Officer proposed'!F228),0,'Officer proposed'!F228)","v":"00:00:00"},{"$f":"'Officer proposed'!F228","v":"00:00:00"},0,0,"Rest",1,226,"",226,"NB","NB"]
[null,"Mon","1900-08-13",{"$f":"IF(ISTEXT('Officer proposed'!E229),0,'Officer proposed'!E229)","v":"00:00:00"},{"$f":"'Officer proposed'!E229","v":"00:00:00"},{"$f":"IF(ISTEXT('Officer proposed'!F229),0,'Officer proposed'!F229)","v":"00:00:00"},{"$f":"'Officer proposed'!F229","v":"00:00:00"},0,0,"Rest",1,227,"",227,"NB","NB"]
[null,"Tue","1900-08-14",{"$f":"IF(ISTEXT('Officer proposed'!E230),0,'Officer proposed'!E230)","v":"00:00:00"},{"$f":"'Officer proposed'!E230","v":"00:00:00"},{"$f":"IF(ISTEXT('Officer proposed'!F230),0,'Officer proposed'!F230)","v":"00:00:00"},{"$f":"'Officer proposed'!F230","v":"00:00:00"},0,0,"Rest",1,228,"",228,"NB","NB"]
[null,"Wed","1900-08-15",{"$f":"IF(ISTEXT('Officer proposed'!E231),0,'Officer proposed'!E231)","v":"00:00:00"},{"$f":"'Officer proposed'!E231","v":"00:00:00"},{"$f":"IF(ISTEXT('Officer proposed'!F231),0,'Officer proposed'!F231)","v":"00:00:00"},{"$f":"'Officer proposed'!F231","v":"00:00:00"},0,0,"Rest",1,229,"",229,"NB","NB"]
[null,"Thu","1900-08-16",{"$f":"IF(ISTEXT('Officer proposed'!E232),0,'Officer proposed'!E232)","v":"00:00:00"},{"$f":"'Officer proposed'!E232","v":"00:00:00"},{"$f":"IF(ISTEXT('Officer proposed'!F232),0,'Officer proposed'!F232)","v":"00:00:00"},{"$f":"'Officer proposed'!F232","v":"00:00:00"},0,0,"Rest",1,230,"",230,"NB","NB"]
[null,"Fri","1900-08-17",{"$f":"IF(ISTEXT('Officer proposed'!E233),0,'Officer proposed'!E233)","v":"00:00:00"},{"$f":"'Officer proposed'!E233","v":"00:00:00"},{"$f":"IF(ISTEXT('Officer proposed'!F233),0,'Officer proposed'!F233)","v":"00:00:00"},{"$f":"'Officer proposed'!F233","v":"00:00:00"},0,0,"Rest",1,231,"",231,"NB","NB"]
[{"$f":"IF('Officer proposed'!C234>0,'Officer proposed'!C234,\"\")","v":"Week34"},"Sat","1900-08-18",{"$f":"IF(ISTEXT('Officer proposed'!E234),0,'Officer proposed'!E234)","v":"00:00:00"},{"$f":"'Officer proposed'!E234","v":"00:00:00"},{"$f":"IF(ISTEXT('Officer proposed'!F234),0,'Officer proposed'!F234)","v":"00:00:00"},{"$f":"'Officer proposed'!F234","v":"00:00:00"},0,0,"Rest",1,232,"",232,"NB","NB"]
[null,"Sun","1900-08-19",{"$f":"IF(ISTEXT('Officer proposed'!E235),0,'Officer proposed'!E235)","v":"00:00:00"},{"$f":"'Officer proposed'!E235","v":"00:00:00"},{"$f":"IF(ISTEXT('Officer proposed'!F235),0,'Officer proposed'!F235)","v":"00:00:00"},{"$f":"'Officer proposed'!F235","v":"00:00:00"},0,0,"Rest",1,233,"",233,"NB","NB"]
[null,"Mon","1900-08-20",{"$f":"IF(ISTEXT('Officer proposed'!E236),0,'Officer proposed'!E236)","v":"00:00:00"},{"$f":"'Officer proposed'!E236","v":"00:00:00"},{"$f":"IF(ISTEXT('Officer proposed'!F236),0,'Officer proposed'!F236)","v":"00:00:00"},{"$f":"'Officer proposed'!F236","v":"00:00:00"},0,0,"Rest",1,234,"",234,"NB","NB"]
[null,"Tue","1900-08-21",{"$f":"IF(ISTEXT('Officer proposed'!E237),0,'Officer proposed'!E237)","v":"00:00:00"},{"$f":"'Officer proposed'!E237","v":"00:00:00"},{"$f":"IF(ISTEXT('Officer proposed'!F237),0,'Officer proposed'!F237)","v":"00:00:00"},{"$f":"'Officer proposed'!F237","v":"00:00:00"},0,0,"Rest",1,235,"",235,"NB","NB"]
[null,"Wed","1900-08-22",{"$f":"IF(ISTEXT('Officer proposed'!E238),0,'Officer proposed'!E238)","v":"00:00:00"},{"$f":"'Officer proposed'!E238","v":"00:00:00"},{"$f":"IF(ISTEXT('Officer proposed'!F238),0,'Officer proposed'!F238)","v":"00:00:00"},{"$f":"'Officer proposed'!F238","v":"00:00:00"},0,0,"Rest",1,236,"",236,"NB","NB"]
[null,"Thu","1900-08-23",{"$f":"IF(ISTEXT('Officer proposed'!E239),0,'Officer proposed'!E239)","v":"00:00:00"},{"$f":"'Officer proposed'!E239","v":"00:00:00"},{"$f":"IF(ISTEXT('Officer proposed'!F239),0,'Officer proposed'!F239)","v":"00:00:00"},{"$f":"'Officer proposed'!F239","v":"00:00:00"},0,0,"Rest",1,237,"",237,"NB","NB"]
[null,"Fri","1900-08-24",{"$f":"IF(ISTEXT('Officer proposed'!E240),0,'Officer proposed'!E240)","v":"00:00:00"},{"$f":"'Officer proposed'!E240","v":"00:00:00"},{"$f":"IF(ISTEXT('Officer proposed'!F240),0,'Officer proposed'!F240)","v":"00:00:00"},{"$f":"'Officer proposed'!F240","v":"00:00:00"},0,0,"Rest",1,238,"",238,"NB","NB"]
[{"$f":"IF('Officer proposed'!C241>0,'Officer proposed'!C241,\"\")","v":"Week35"},"Sat","1900-08-25",{"$f":"IF(ISTEXT('Officer proposed'!E241),0,'Officer proposed'!E241)","v":"00:00:00"},{"$f":"'Officer proposed'!E241","v":"00:00:00"},{"$f":"IF(ISTEXT('Officer proposed'!F241),0,'Officer proposed'!F241)","v":"00:00:00"},{"$f":"'Officer proposed'!F241","v":"00:00:00"},0,0,"Rest",1,239,"",239,"NB","NB"]
[null,"Sun","1900-08-26",{"$f":"IF(ISTEXT('Officer proposed'!E242),0,'Officer proposed'!E242)","v":"00:00:00"},{"$f":"'Officer proposed'!E242","v":"00:00:00"},{"$f":"IF(ISTEXT('Officer proposed'!F242),0,'Officer proposed'!F242)","v":"00:00:00"},{"$f":"'Officer proposed'!F242","v":"00:00:00"},0,0,"Rest",1,240,"",240,"NB","NB"]
[null,"Mon","1900-08-27",{"$f":"IF(ISTEXT('Officer proposed'!E243),0,'Officer proposed'!E243)","v":"00:00:00"},{"$f":"'Officer proposed'!E243","v":"00:00:00"},{"$f":"IF(ISTEXT('Officer proposed'!F243),0,'Officer proposed'!F243)","v":"00:00:00"},{"$f":"'Officer proposed'!F243","v":"00:00:00"},0,0,"Rest",1,241,"",241,"NB","NB"]
[null,"Tue","1900-08-28",{"$f":"IF(ISTEXT('Officer proposed'!E244),0,'Officer proposed'!E244)","v":"00:00:00"},{"$f":"'Officer proposed'!E244","v":"00:00:00"},{"$f":"IF(ISTEXT('Officer proposed'!F244),0,'Officer proposed'!F244)","v":"00:00:00"},{"$f":"'Officer proposed'!F244","v":"00:00:00"},0,0,"Rest",1,242,"",242,"NB","NB"]
[null,"Wed","1900-08-29",{"$f":"IF(ISTEXT('Officer proposed'!E245),0,'Officer proposed'!E245)","v":"00:00:00"},{"$f":"'Officer proposed'!E245","v":"00:00:00"},{"$f":"IF(ISTEXT('Officer proposed'!F245),0,'Officer proposed'!F245)","v":"00:00:00"},{"$f":"'Officer proposed'!F245","v":"00:00:00"},0,0,"Rest",1,243,"",243,"NB","NB"]
[null,"Thu","1900-08-30",{"$f":"IF(ISTEXT('Officer proposed'!E246),0,'Officer proposed'!E246)","v":"00:00:00"},{"$f":"'Officer proposed'!E246","v":"00:00:00"},{"$f":"IF(ISTEXT('Officer proposed'!F246),0,'Officer proposed'!F246)","v":"00:00:00"},{"$f":"'Officer proposed'!F246","v":"00:00:00"},0,0,"Rest",1,244,"",244,"NB","NB"]
[null,"Fri","1900-08-31",{"$f":"IF(ISTEXT('Officer proposed'!E247),0,'Officer proposed'!E247)","v":"00:00:00"},{"$f":"'Officer proposed'!E247","v":"00:00:00"},{"$f":"IF(ISTEXT('Officer proposed'!F247),0,'Officer proposed'!F247)","v":"00:00:00"},{"$f":"'Officer proposed'!F247","v":"00:00:00"},0,0,"Rest",1,245,"",245,"NB","NB"]
[{"$f":"IF('Officer proposed'!C248>0,'Officer proposed'!C248,\"\")","v":"Week36"},"Sat","1900-09-01",{"$f":"IF(ISTEXT('Officer proposed'!E248),0,'Officer proposed'!E248)","v":"00:00:00"},{"$f":"'Officer proposed'!E248","v":"00:00:00"},{"$f":"IF(ISTEXT('Officer proposed'!F248),0,'Officer proposed'!F248)","v":"00:00:00"},{"$f":"'Officer proposed'!F248","v":"00:00:00"},0,0,"Rest",1,246,"",246,"NB","NB"]
[null,"Sun","1900-09-02",{"$f":"IF(ISTEXT('Officer proposed'!E249),0,'Officer proposed'!E249)","v":"00:00:00"},{"$f":"'Officer proposed'!E249","v":"00:00:00"},{"$f":"IF(ISTEXT('Officer proposed'!F249),0,'Officer proposed'!F249)","v":"00:00:00"},{"$f":"'Officer proposed'!F249","v":"00:00:00"},0,0,"Rest",1,247,"",247,"NB","NB"]
[null,"Mon","1900-09-03",{"$f":"IF(ISTEXT('Officer proposed'!E250),0,'Officer proposed'!E250)","v":"00:00:00"},{"$f":"'Officer proposed'!E250","v":"00:00:00"},{"$f":"IF(ISTEXT('Officer proposed'!F250),0,'Officer proposed'!F250)","v":"00:00:00"},{"$f":"'Officer proposed'!F250","v":"00:00:00"},0,0,"Rest",1,248,"",248,"NB","NB"]
[null,"Tue","1900-09-04",{"$f":"IF(ISTEXT('Officer proposed'!E251),0,'Officer proposed'!E251)","v":"00:00:00"},{"$f":"'Officer proposed'!E251","v":"00:00:00"},{"$f":"IF(ISTEXT('Officer proposed'!F251),0,'Officer proposed'!F251)","v":"00:00:00"},{"$f":"'Officer proposed'!F251","v":"00:00:00"},0,0,"Rest",1,249,"",249,"NB","NB"]
[null,"Wed","1900-09-05",{"$f":"IF(ISTEXT('Officer proposed'!E252),0,'Officer proposed'!E252)","v":"00:00:00"},{"$f":"'Officer proposed'!E252","v":"00:00:00"},{"$f":"IF(ISTEXT('Officer proposed'!F252),0,'Officer proposed'!F252)","v":"00:00:00"},{"$f":"'Officer proposed'!F252","v":"00:00:00"},0,0,"Rest",1,250,"",250,"NB","NB"]
[null,"Thu","1900-09-06",{"$f":"IF(ISTEXT('Officer proposed'!E253),0,'Officer proposed'!E253)","v":"00:00:00"},{"$f":"'Officer proposed'!E253","v":"00:00:00"},{"$f":"IF(ISTEXT('Officer proposed'!F253),0,'Officer proposed'!F253)","v":"00:00:00"},{"$f":"'Officer proposed'!F253","v":"00:00:00"},0,0,"Rest",1,251,"",251,"NB","NB"]
[null,"Fri","1900-09-07",{"$f":"IF(ISTEXT('Officer proposed'!E254),0,'Officer proposed'!E254)","v":"00:00:00"},{"$f":"'Officer proposed'!E254","v":"00:00:00"},{"$f":"IF(ISTEXT('Officer proposed'!F254),0,'Officer proposed'!F254)","v":"00:00:00"},{"$f":"'Officer proposed'!F254","v":"00:00:00"},0,0,"Rest",1,252,"",252,"NB","NB"]
[{"$f":"IF('Officer proposed'!C255>0,'Officer proposed'!C255,\"\")","v":"Week37"},"Sat","1900-09-08",{"$f":"IF(ISTEXT('Officer proposed'!E255),0,'Officer proposed'!E255)","v":"00:00:00"},{"$f":"'Officer proposed'!E255","v":"00:00:00"},{"$f":"IF(ISTEXT('Officer proposed'!F255),0,'Officer proposed'!F255)","v":"00:00:00"},{"$f":"'Officer proposed'!F255","v":"00:00:00"},0,0,"Rest",1,253,"",253,"NB","NB"]
[null,"Sun","1900-09-09",{"$f":"IF(ISTEXT('Officer proposed'!E256),0,'Officer proposed'!E256)","v":"00:00:00"},{"$f":"'Officer proposed'!E256","v":"00:00:00"},{"$f":"IF(ISTEXT('Officer proposed'!F256),0,'Officer proposed'!F256)","v":"00:00:00"},{"$f":"'Officer proposed'!F256","v":"00:00:00"},0,0,"Rest",1,254,"",254,"NB","NB"]
[null,"Mon","1900-09-10",{"$f":"IF(ISTEXT('Officer proposed'!E257),0,'Officer proposed'!E257)","v":"00:00:00"},{"$f":"'Officer proposed'!E257","v":"00:00:00"},{"$f":"IF(ISTEXT('Officer proposed'!F257),0,'Officer proposed'!F257)","v":"00:00:00"},{"$f":"'Officer proposed'!F257","v":"00:00:00"},0,0,"Rest",1,255,"",255,"NB","NB"]
[null,"Tue","1900-09-11",{"$f":"IF(ISTEXT('Officer proposed'!E258),0,'Officer proposed'!E258)","v":"00:00:00"},{"$f":"'Officer proposed'!E258","v":"00:00:00"},{"$f":"IF(ISTEXT('Officer proposed'!F258),0,'Officer proposed'!F258)","v":"00:00:00"},{"$f":"'Officer proposed'!F258","v":"00:00:00"},0,0,"Rest",1,256,"",256,"NB","NB"]
[null,"Wed","1900-09-12",{"$f":"IF(ISTEXT('Officer proposed'!E259),0,'Officer proposed'!E259)","v":"00:00:00"},{"$f":"'Officer proposed'!E259","v":"00:00:00"},{"$f":"IF(ISTEXT('Officer proposed'!F259),0,'Officer proposed'!F259)","v":"00:00:00"},{"$f":"'Officer proposed'!F259","v":"00:00:00"},0,0,{"$f":"IF(I258=\"\",\"\",IF(I258>=$J$1,\"Over\",IF(AND(I258>0,I258<=$J$1),\"Under\",\"Rest\")))","v":"Rest"},1,257,"",257,"NB","NB"]
[null,{"$f":"IF(C259>0,TEXT(C259, \"ddd\"),\"\")","v":"Thu"},"1900-09-13",{"$f":"IF(ISTEXT('Officer proposed'!E260),0,'Officer proposed'!E260)","v":"00:00:00"},{"$f":"'Officer proposed'!E260","v":"00:00:00"},{"$f":"IF(ISTEXT('Officer proposed'!F260),0,'Officer proposed'!F260)","v":"00:00:00"},{"$f":"'Officer proposed'!F260","v":"00:00:00"},{"$f":"IF(ISTEXT(D259),0,F259-D259)","v":0},{"$f":"IF(ISTEXT(E259),0,IF(ISTEXT(E260),0,E260+(G259>E259)-G259))","v":0},"Rest",{"$f":"IF(ISNUMBER(E259),1,\"\")","v":1},{"$f":"IF(K259=\"\",\"Rest Day\",IF(K258=\"\",K259,(L258+K259)))","v":258},{"$f":"IF($D$2=0,\"\",IF(ISTEXT(L259),\"\",IF(L259>6,\"Exceeds\",\"\")))","v":""},{"$f":"IF(L259=\"Rest Day\",0,L259)","v":258},{"$f":"IF(AND(N260>=7,N259>=7),\"NB\",\"B\")","v":"NB"},{"$f":"IF(AND(N259>=14,N258>=14),\"NB\",\"B\")","v":"NB"}]
[null,"Fri",{"$f":"IF($A$2=0,\"\",C259+1)","v":"1900-09-14"},{"$f":"IF(ISTEXT('Officer proposed'!E261),0,'Officer proposed'!E261)","v":"00:00:00"},{"$f":"'Officer proposed'!E261","v":"00:00:00"},{"$f":"IF(ISTEXT('Officer proposed'!F261),0,'Officer proposed'!F261)","v":"00:00:00"},{"$f":"'Officer proposed'!F261","v":"00:00:00"},0,0,"Rest",1,259,"",259,"NB","NB"]
[{"$f":"IF('Officer proposed'!C262>0,'Officer proposed'!C262,\"\")","v":"Week38"},"Sat","1900-09-15",{"$f":"IF(ISTEXT('Officer proposed'!E262),0,'Officer proposed'!E262)","v":"00:00:00"},{"$f":"'Officer proposed'!E262","v":"00:00:00"},{"$f":"IF(ISTEXT('Officer proposed'!F262),0,'Officer proposed'!F262)","v":"00:00:00"},{"$f":"'Officer proposed'!F262","v":"00:00:00"},0,0,"Rest",1,260,"",260,"NB","NB"]
[null,"Sun","1900-09-16",{"$f":"IF(ISTEXT('Officer proposed'!E263),0,'Officer proposed'!E263)","v":"00:00:00"},{"$f":"'Officer proposed'!E263","v":"00:00:00"},{"$f":"IF(ISTEXT('Officer proposed'!F263),0,'Officer proposed'!F263)","v":"00:00:00"},{"$f":"'Officer proposed'!F263","v":"00:00:00"},0,0,"Rest",1,261,"",261,"NB","NB"]
[null,"Mon","1900-09-17",{"$f":"IF(ISTEXT('Officer proposed'!E264),0,'Officer proposed'!E264)","v":"00:00:00"},{"$f":"'Officer proposed'!E264","v":"00:00:00"},{"$f":"IF(ISTEXT('Officer proposed'!F264),0,'Officer proposed'!F264)","v":"00:00:00"},{"$f":"'Officer proposed'!F264","v":"00:00:00"},0,0,"Rest",1,262,"",262,"NB","NB"]
[null,"Tue","1900-09-18",{"$f":"IF(ISTEXT('Officer proposed'!E265),0,'Officer proposed'!E265)","v":"00:00:00"},{"$f":"'Officer proposed'!E265","v":"00:00:00"},{"$f":"IF(ISTEXT('Officer proposed'!F265),0,'Officer proposed'!F265)","v":"00:00:00"},{"$f":"'Officer proposed'!F265","v":"00:00:00"},0,0,"Rest",1,263,"",263,"NB","NB"]
[null,"Wed","1900-09-19",{"$f":"IF(ISTEXT('Officer proposed'!E266),0,'Officer proposed'!E266)","v":"00:00:00"},{"$f":"'Officer proposed'!E266","v":"00:00:00"},{"$f":"IF(ISTEXT('Officer proposed'!F266),0,'Officer proposed'!F266)","v":"00:00:00"},{"$f":"'Officer proposed'!F266","v":"00:00:00"},0,0,"Rest",1,264,"",264,"NB","NB"]
[null,"Thu","1900-09-20",{"$f":"IF(ISTEXT('Officer proposed'!E267),0,'Officer proposed'!E267)","v":"00:00:00"},{"$f":"'Officer proposed'!E267","v":"00:00:00"},{"$f":"IF(ISTEXT('Officer proposed'!F267),0,'Officer proposed'!F267)","v":"00:00:00"},{"$f":"'Officer proposed'!F267","v":"00:00:00"},0,0,"Rest",1,265,"",265,"NB","NB"]
[null,"Fri","1900-09-21",{"$f":"IF(ISTEXT('Officer proposed'!E268),0,'Officer proposed'!E268)","v":"00:00:00"},{"$f":"'Officer proposed'!E268","v":"00:00:00"},{"$f":"IF(ISTEXT('Officer proposed'!F268),0,'Officer proposed'!F268)","v":"00:00:00"},{"$f":"'Officer proposed'!F268","v":"00:00:00"},0,0,"Rest",1,266,"",266,"NB","NB"]
[{"$f":"IF('Officer proposed'!C269>0,'Officer proposed'!C269,\"\")","v":"Week39"},"Sat","1900-09-22",{"$f":"IF(ISTEXT('Officer proposed'!E269),0,'Officer proposed'!E269)","v":"00:00:00"},{"$f":"'Officer proposed'!E269","v":"00:00:00"},{"$f":"IF(ISTEXT('Officer proposed'!F269),0,'Officer proposed'!F269)","v":"00:00:00"},{"$f":"'Officer proposed'!F269","v":"00:00:00"},0,0,"Rest",1,267,"",267,"NB","NB"]
[null,"Sun","1900-09-23",{"$f":"IF(ISTEXT('Officer proposed'!E270),0,'Officer proposed'!E270)","v":"00:00:00"},{"$f":"'Officer proposed'!E270","v":"00:00:00"},{"$f":"IF(ISTEXT('Officer proposed'!F270),0,'Officer proposed'!F270)","v":"00:00:00"},{"$f":"'Officer proposed'!F270","v":"00:00:00"},0,0,"Rest",1,268,"",268,"NB","NB"]
[null,"Mon","1900-09-24",{"$f":"IF(ISTEXT('Officer proposed'!E271),0,'Officer proposed'!E271)","v":"00:00:00"},{"$f":"'Officer proposed'!E271","v":"00:00:00"},{"$f":"IF(ISTEXT('Officer proposed'!F271),0,'Officer proposed'!F271)","v":"00:00:00"},{"$f":"'Officer proposed'!F271","v":"00:00:00"},0,0,"Rest",1,269,"",269,"NB","NB"]
[null,"Tue","1900-09-25",{"$f":"IF(ISTEXT('Officer proposed'!E272),0,'Officer proposed'!E272)","v":"00:00:00"},{"$f":"'Officer proposed'!E272","v":"00:00:00"},{"$f":"IF(ISTEXT('Officer proposed'!F272),0,'Officer proposed'!F272)","v":"00:00:00"},{"$f":"'Officer proposed'!F272","v":"00:00:00"},0,0,"Rest",1,270,"",270,"NB","NB"]
[null,"Wed","1900-09-26",{"$f":"IF(ISTEXT('Officer proposed'!E273),0,'Officer proposed'!E273)","v":"00:00:00"},{"$f":"'Officer proposed'!E273","v":"00:00:00"},{"$f":"IF(ISTEXT('Officer proposed'!F273),0,'Officer proposed'!F273)","v":"00:00:00"},{"$f":"'Officer proposed'!F273","v":"00:00:00"},0,0,"Rest",1,271,"",271,"NB","NB"]
[null,"Thu","1900-09-27",{"$f":"IF(ISTEXT('Officer proposed'!E274),0,'Officer proposed'!E274)","v":"00:00:00"},{"$f":"'Officer proposed'!E274","v":"00:00:00"},{"$f":"IF(ISTEXT('Officer proposed'!F274),0,'Officer proposed'!F274)","v":"00:00:00"},{"$f":"'Officer proposed'!F274","v":"00:00:00"},0,0,"Rest",1,272,"",272,"NB","NB"]
[null,"Fri","1900-09-28",{"$f":"IF(ISTEXT('Officer proposed'!E275),0,'Officer proposed'!E275)","v":"00:00:00"},{"$f":"'Officer proposed'!E275","v":"00:00:00"},{"$f":"IF(ISTEXT('Officer proposed'!F275),0,'Officer proposed'!F275)","v":"00:00:00"},{"$f":"'Officer proposed'!F275","v":"00:00:00"},0,0,"Rest",1,273,"",273,"NB","NB"]
[{"$f":"IF('Officer proposed'!C276>0,'Officer proposed'!C276,\"\")","v":"Week40"},"Sat","1900-09-29",{"$f":"IF(ISTEXT('Officer proposed'!E276),0,'Officer proposed'!E276)","v":"00:00:00"},{"$f":"'Officer proposed'!E276","v":"00:00:00"},{"$f":"IF(ISTEXT('Officer proposed'!F276),0,'Officer proposed'!F276)","v":"00:00:00"},{"$f":"'Officer proposed'!F276","v":"00:00:00"},0,0,"Rest",1,274,"",274,"NB","NB"]
[null,"Sun","1900-09-30",{"$f":"IF(ISTEXT('Officer proposed'!E277),0,'Officer proposed'!E277)","v":"00:00:00"},{"$f":"'Officer proposed'!E277","v":"00:00:00"},{"$f":"IF(ISTEXT('Officer proposed'!F277),0,'Officer proposed'!F277)","v":"00:00:00"},{"$f":"'Officer proposed'!F277","v":"00:00:00"},0,0,"Rest",1,275,"",275,"NB","NB"]
[null,"Mon","1900-10-01",{"$f":"IF(ISTEXT('Officer proposed'!E278),0,'Officer proposed'!E278)","v":"00:00:00"},{"$f":"'Officer proposed'!E278","v":"00:00:00"},{"$f":"IF(ISTEXT('Officer proposed'!F278),0,'Officer proposed'!F278)","v":"00:00:00"},{"$f":"'Officer proposed'!F278","v":"00:00:00"},0,0,"Rest",1,276,"",276,"NB","NB"]
[null,"Tue","1900-10-02",{"$f":"IF(ISTEXT('Officer proposed'!E279),0,'Officer proposed'!E279)","v":"00:00:00"},{"$f":"'Officer proposed'!E279","v":"00:00:00"},{"$f":"IF(ISTEXT('Officer proposed'!F279),0,'Officer proposed'!F279)","v":"00:00:00"},{"$f":"'Officer proposed'!F279","v":"00:00:00"},0,0,"Rest",1,277,"",277,"NB","NB"]
[null,"Wed","1900-10-03",{"$f":"IF(ISTEXT('Officer proposed'!E280),0,'Officer proposed'!E280)","v":"00:00:00"},{"$f":"'Officer proposed'!E280","v":"00:00:00"},{"$f":"IF(ISTEXT('Officer proposed'!F280),0,'Officer proposed'!F280)","v":"00:00:00"},{"$f":"'Officer proposed'!F280","v":"00:00:00"},0,0,"Rest",1,278,"",278,"NB","NB"]
[null,"Thu","1900-10-04",{"$f":"IF(ISTEXT('Officer proposed'!E281),0,'Officer proposed'!E281)","v":"00:00:00"},{"$f":"'Officer proposed'!E281","v":"00:00:00"},{"$f":"IF(ISTEXT('Officer proposed'!F281),0,'Officer proposed'!F281)","v":"00:00:00"},{"$f":"'Officer proposed'!F281","v":"00:00:00"},0,0,"Rest",1,279,"",279,"NB","NB"]
[null,"Fri","1900-10-05",{"$f":"IF(ISTEXT('Officer proposed'!E282),0,'Officer proposed'!E282)","v":"00:00:00"},{"$f":"'Officer proposed'!E282","v":"00:00:00"},{"$f":"IF(ISTEXT('Officer proposed'!F282),0,'Officer proposed'!F282)","v":"00:00:00"},{"$f":"'Officer proposed'!F282","v":"00:00:00"},0,0,"Rest",1,280,"",280,"NB","NB"]
[{"$f":"IF('Officer proposed'!C283>0,'Officer proposed'!C283,\"\")","v":"Week41"},"Sat","1900-10-06",{"$f":"IF(ISTEXT('Officer proposed'!E283),0,'Officer proposed'!E283)","v":"00:00:00"},{"$f":"'Officer proposed'!E283","v":"00:00:00"},{"$f":"IF(ISTEXT('Officer proposed'!F283),0,'Officer proposed'!F283)","v":"00:00:00"},{"$f":"'Officer proposed'!F283","v":"00:00:00"},0,0,"Rest",1,281,"",281,"NB","NB"]
[null,"Sun","1900-10-07",{"$f":"IF(ISTEXT('Officer proposed'!E284),0,'Officer proposed'!E284)","v":"00:00:00"},{"$f":"'Officer proposed'!E284","v":"00:00:00"},{"$f":"IF(ISTEXT('Officer proposed'!F284),0,'Officer proposed'!F284)","v":"00:00:00"},{"$f":"'Officer proposed'!F284","v":"00:00:00"},0,0,"Rest",1,282,"",282,"NB","NB"]
[null,"Mon","1900-10-08",{"$f":"IF(ISTEXT('Officer proposed'!E285),0,'Officer proposed'!E285)","v":"00:00:00"},{"$f":"'Officer proposed'!E285","v":"00:00:00"},{"$f":"IF(ISTEXT('Officer proposed'!F285),0,'Officer proposed'!F285)","v":"00:00:00"},{"$f":"'Officer proposed'!F285","v":"00:00:00"},0,0,"Rest",1,283,"",283,"NB","NB"]
[null,"Tue","1900-10-09",{"$f":"IF(ISTEXT('Officer proposed'!E286),0,'Officer proposed'!E286)","v":"00:00:00"},{"$f":"'Officer proposed'!E286","v":"00:00:00"},{"$f":"IF(ISTEXT('Officer proposed'!F286),0,'Officer proposed'!F286)","v":"00:00:00"},{"$f":"'Officer proposed'!F286","v":"00:00:00"},0,0,"Rest",1,284,"",284,"NB","NB"]
[null,"Wed","1900-10-10",{"$f":"IF(ISTEXT('Officer proposed'!E287),0,'Officer proposed'!E287)","v":"00:00:00"},{"$f":"'Officer proposed'!E287","v":"00:00:00"},{"$f":"IF(ISTEXT('Officer proposed'!F287),0,'Officer proposed'!F287)","v":"00:00:00"},{"$f":"'Officer proposed'!F287","v":"00:00:00"},0,0,"Rest",1,285,"",285,"NB","NB"]
[null,"Thu","1900-10-11",{"$f":"IF(ISTEXT('Officer proposed'!E288),0,'Officer proposed'!E288)","v":"00:00:00"},{"$f":"'Officer proposed'!E288","v":"00:00:00"},{"$f":"IF(ISTEXT('Officer proposed'!F288),0,'Officer proposed'!F288)","v":"00:00:00"},{"$f":"'Officer proposed'!F288","v":"00:00:00"},0,0,"Rest",1,286,"",286,"NB","NB"]
[null,"Fri","1900-10-12",{"$f":"IF(ISTEXT('Officer proposed'!E289),0,'Officer proposed'!E289)","v":"00:00:00"},{"$f":"'Officer proposed'!E289","v":"00:00:00"},{"$f":"IF(ISTEXT('Officer proposed'!F289),0,'Officer proposed'!F289)","v":"00:00:00"},{"$f":"'Officer proposed'!F289","v":"00:00:00"},0,0,"Rest",1,287,"",287,"NB","NB"]
[{"$f":"IF('Officer proposed'!C290>0,'Officer proposed'!C290,\"\")","v":"Week42"},"Sat","1900-10-13",{"$f":"IF(ISTEXT('Officer proposed'!E290),0,'Officer proposed'!E290)","v":"00:00:00"},{"$f":"'Officer proposed'!E290","v":"00:00:00"},{"$f":"IF(ISTEXT('Officer proposed'!F290),0,'Officer proposed'!F290)","v":"00:00:00"},{"$f":"'Officer proposed'!F290","v":"00:00:00"},0,0,"Rest",1,288,"",288,"NB","NB"]
[null,"Sun","1900-10-14",{"$f":"IF(ISTEXT('Officer proposed'!E291),0,'Officer proposed'!E291)","v":"00:00:00"},{"$f":"'Officer proposed'!E291","v":"00:00:00"},{"$f":"IF(ISTEXT('Officer proposed'!F291),0,'Officer proposed'!F291)","v":"00:00:00"},{"$f":"'Officer proposed'!F291","v":"00:00:00"},0,0,"Rest",1,289,"",289,"NB","NB"]
[null,"Mon","1900-10-15",{"$f":"IF(ISTEXT('Officer proposed'!E292),0,'Officer proposed'!E292)","v":"00:00:00"},{"$f":"'Officer proposed'!E292","v":"00:00:00"},{"$f":"IF(ISTEXT('Officer proposed'!F292),0,'Officer proposed'!F292)","v":"00:00:00"},{"$f":"'Officer proposed'!F292","v":"00:00:00"},0,0,"Rest",1,290,"",290,"NB","NB"]
[null,"Tue","1900-10-16",{"$f":"IF(ISTEXT('Officer proposed'!E293),0,'Officer proposed'!E293)","v":"00:00:00"},{"$f":"'Officer proposed'!E293","v":"00:00:00"},{"$f":"IF(ISTEXT('Officer proposed'!F293),0,'Officer proposed'!F293)","v":"00:00:00"},{"$f":"'Officer proposed'!F293","v":"00:00:00"},0,0,"Rest",1,291,"",291,"NB","NB"]
[null,"Wed","1900-10-17",{"$f":"IF(ISTEXT('Officer proposed'!E294),0,'Officer proposed'!E294)","v":"00:00:00"},{"$f":"'Officer proposed'!E294","v":"00:00:00"},{"$f":"IF(ISTEXT('Officer proposed'!F294),0,'Officer proposed'!F294)","v":"00:00:00"},{"$f":"'Officer proposed'!F294","v":"00:00:00"},0,0,"Rest",1,292,"",292,"NB","NB"]
[null,"Thu","1900-10-18",{"$f":"IF(ISTEXT('Officer proposed'!E295),0,'Officer proposed'!E295)","v":"00:00:00"},{"$f":"'Officer proposed'!E295","v":"00:00:00"},{"$f":"IF(ISTEXT('Officer proposed'!F295),0,'Officer proposed'!F295)","v":"00:00:00"},{"$f":"'Officer proposed'!F295","v":"00:00:00"},0,0,"Rest",1,293,"",293,"NB","NB"]
[null,"Fri","1900-10-19",{"$f":"IF(ISTEXT('Officer proposed'!E296),0,'Officer proposed'!E296)","v":"00:00:00"},{"$f":"'Officer proposed'!E296","v":"00:00:00"},{"$f":"IF(ISTEXT('Officer proposed'!F296),0,'Officer proposed'!F296)","v":"00:00:00"},{"$f":"'Officer proposed'!F296","v":"00:00:00"},0,0,"Rest",1,294,"",294,"NB","NB"]
[{"$f":"IF('Officer proposed'!C297>0,'Officer proposed'!C297,\"\")","v":"Week43"},"Sat","1900-10-20",{"$f":"IF(ISTEXT('Officer proposed'!E297),0,'Officer proposed'!E297)","v":"00:00:00"},{"$f":"'Officer proposed'!E297","v":"00:00:00"},{"$f":"IF(ISTEXT('Officer proposed'!F297),0,'Officer proposed'!F297)","v":"00:00:00"},{"$f":"'Officer proposed'!F297","v":"00:00:00"},0,0,"Rest",1,295,"",295,"NB","NB"]
[null,"Sun","1900-10-21",{"$f":"IF(ISTEXT('Officer proposed'!E298),0,'Officer proposed'!E298)","v":"00:00:00"},{"$f":"'Officer proposed'!E298","v":"00:00:00"},{"$f":"IF(ISTEXT('Officer proposed'!F298),0,'Officer proposed'!F298)","v":"00:00:00"},{"$f":"'Officer proposed'!F298","v":"00:00:00"},0,0,"Rest",1,296,"",296,"NB","NB"]
[null,"Mon","1900-10-22",{"$f":"IF(ISTEXT('Officer proposed'!E299),0,'Officer proposed'!E299)","v":"00:00:00"},{"$f":"'Officer proposed'!E299","v":"00:00:00"},{"$f":"IF(ISTEXT('Officer proposed'!F299),0,'Officer proposed'!F299)","v":"00:00:00"},{"$f":"'Officer proposed'!F299","v":"00:00:00"},0,0,"Rest",1,297,"",297,"NB","NB"]
[null,"Tue","1900-10-23",{"$f":"IF(ISTEXT('Officer proposed'!E300),0,'Officer proposed'!E300)","v":"00:00:00"},{"$f":"'Officer proposed'!E300","v":"00:00:00"},{"$f":"IF(ISTEXT('Officer proposed'!F300),0,'Officer proposed'!F300)","v":"00:00:00"},{"$f":"'Officer proposed'!F300","v":"00:00:00"},0,0,"Rest",1,298,"",298,"NB","NB"]
[null,"Wed","1900-10-24",{"$f":"IF(ISTEXT('Officer proposed'!E301),0,'Officer proposed'!E301)","v":"00:00:00"},{"$f":"'Officer proposed'!E301","v":"00:00:00"},{"$f":"IF(ISTEXT('Officer proposed'!F301),0,'Officer proposed'!F301)","v":"00:00:00"},{"$f":"'Officer proposed'!F301","v":"00:00:00"},0,0,"Rest",1,299,"",299,"NB","NB"]
[null,"Thu","1900-10-25",{"$f":"IF(ISTEXT('Officer proposed'!E302),0,'Officer proposed'!E302)","v":"00:00:00"},{"$f":"'Officer proposed'!E302","v":"00:00:00"},{"$f":"IF(ISTEXT('Officer proposed'!F302),0,'Officer proposed'!F302)","v":"00:00:00"},{"$f":"'Officer proposed'!F302","v":"00:00:00"},0,0,"Rest",1,300,"",300,"NB","NB"]
[null,"Fri","1900-10-26",{"$f":"IF(ISTEXT('Officer proposed'!E303),0,'Officer proposed'!E303)","v":"00:00:00"},{"$f":"'Officer proposed'!E303","v":"00:00:00"},{"$f":"IF(ISTEXT('Officer proposed'!F303),0,'Officer proposed'!F303)","v":"00:00:00"},{"$f":"'Officer proposed'!F303","v":"00:00:00"},0,0,"Rest",1,301,"",301,"NB","NB"]
[{"$f":"IF('Officer proposed'!C304>0,'Officer proposed'!C304,\"\")","v":"Week44"},"Sat","1900-10-27",{"$f":"IF(ISTEXT('Officer proposed'!E304),0,'Officer proposed'!E304)","v":"00:00:00"},{"$f":"'Officer proposed'!E304","v":"00:00:00"},{"$f":"IF(ISTEXT('Officer proposed'!F304),0,'Officer proposed'!F304)","v":"00:00:00"},{"$f":"'Officer proposed'!F304","v":"00:00:00"},0,0,"Rest",1,302,"",302,"NB","NB"]
[null,"Sun","1900-10-28",{"$f":"IF(ISTEXT('Officer proposed'!E305),0,'Officer proposed'!E305)","v":"00:00:00"},{"$f":"'Officer proposed'!E305","v":"00:00:00"},{"$f":"IF(ISTEXT('Officer proposed'!F305),0,'Officer proposed'!F305)","v":"00:00:00"},{"$f":"'Officer proposed'!F305","v":"00:00:00"},0,0,"Rest",1,303,"",303,"NB","NB"]
[null,"Mon","1900-10-29",{"$f":"IF(ISTEXT('Officer proposed'!E306),0,'Officer proposed'!E306)","v":"00:00:00"},{"$f":"'Officer proposed'!E306","v":"00:00:00"},{"$f":"IF(ISTEXT('Officer proposed'!F306),0,'Officer proposed'!F306)","v":"00:00:00"},{"$f":"'Officer proposed'!F306","v":"00:00:00"},0,0,"Rest",1,304,"",304,"NB","NB"]
[null,"Tue","1900-10-30",{"$f":"IF(ISTEXT('Officer proposed'!E307),0,'Officer proposed'!E307)","v":"00:00:00"},{"$f":"'Officer proposed'!E307","v":"00:00:00"},{"$f":"IF(ISTEXT('Officer proposed'!F307),0,'Officer proposed'!F307)","v":"00:00:00"},{"$f":"'Officer proposed'!F307","v":"00:00:00"},0,0,"Rest",1,305,"",305,"NB","NB"]
[null,"Wed","1900-10-31",{"$f":"IF(ISTEXT('Officer proposed'!E308),0,'Officer proposed'!E308)","v":"00:00:00"},{"$f":"'Officer proposed'!E308","v":"00:00:00"},{"$f":"IF(ISTEXT('Officer proposed'!F308),0,'Officer proposed'!F308)","v":"00:00:00"},{"$f":"'Officer proposed'!F308","v":"00:00:00"},0,0,"Rest",1,306,"",306,"NB","NB"]
[null,"Thu","1900-11-01",{"$f":"IF(ISTEXT('Officer proposed'!E309),0,'Officer proposed'!E309)","v":"00:00:00"},{"$f":"'Officer proposed'!E309","v":"00:00:00"},{"$f":"IF(ISTEXT('Officer proposed'!F309),0,'Officer proposed'!F309)","v":"00:00:00"},{"$f":"'Officer proposed'!F309","v":"00:00:00"},0,0,"Rest",1,307,"",307,"NB","NB"]
[null,"Fri","1900-11-02",{"$f":"IF(ISTEXT('Officer proposed'!E310),0,'Officer proposed'!E310)","v":"00:00:00"},{"$f":"'Officer proposed'!E310","v":"00:00:00"},{"$f":"IF(ISTEXT('Officer proposed'!F310),0,'Officer proposed'!F310)","v":"00:00:00"},{"$f":"'Officer proposed'!F310","v":"00:00:00"},0,0,"Rest",1,308,"",308,"NB","NB"]
[{"$f":"IF('Officer proposed'!C311>0,'Officer proposed'!C311,\"\")","v":"Week45"},"Sat","1900-11-03",{"$f":"IF(ISTEXT('Officer proposed'!E311),0,'Officer proposed'!E311)","v":"00:00:00"},{"$f":"'Officer proposed'!E311","v":"00:00:00"},{"$f":"IF(ISTEXT('Officer proposed'!F311),0,'Officer proposed'!F311)","v":"00:00:00"},{"$f":"'Officer proposed'!F311","v":"00:00:00"},0,0,"Rest",1,309,"",309,"NB","NB"]
[null,"Sun","1900-11-04",{"$f":"IF(ISTEXT('Officer proposed'!E312),0,'Officer proposed'!E312)","v":"00:00:00"},{"$f":"'Officer proposed'!E312","v":"00:00:00"},{"$f":"IF(ISTEXT('Officer proposed'!F312),0,'Officer proposed'!F312)","v":"00:00:00"},{"$f":"'Officer proposed'!F312","v":"00:00:00"},0,0,"Rest",1,310,"",310,"NB","NB"]
[null,"Mon","1900-11-05",{"$f":"IF(ISTEXT('Officer proposed'!E313),0,'Officer proposed'!E313)","v":"00:00:00"},{"$f":"'Officer proposed'!E313","v":"00:00:00"},{"$f":"IF(ISTEXT('Officer proposed'!F313),0,'Officer proposed'!F313)","v":"00:00:00"},{"$f":"'Officer proposed'!F313","v":"00:00:00"},0,0,"Rest",1,311,"",311,"NB","NB"]
[null,"Tue","1900-11-06",{"$f":"IF(ISTEXT('Officer proposed'!E314),0,'Officer proposed'!E314)","v":"00:00:00"},{"$f":"'Officer proposed'!E314","v":"00:00:00"},{"$f":"IF(ISTEXT('Officer proposed'!F314),0,'Officer proposed'!F314)","v":"00:00:00"},{"$f":"'Officer proposed'!F314","v":"00:00:00"},0,0,"Rest",1,312,"",312,"NB","NB"]
[null,"Wed","1900-11-07",{"$f":"IF(ISTEXT('Officer proposed'!E315),0,'Officer proposed'!E315)","v":"00:00:00"},{"$f":"'Officer proposed'!E315","v":"00:00:00"},{"$f":"IF(ISTEXT('Officer proposed'!F315),0,'Officer proposed'!F315)","v":"00:00:00"},{"$f":"'Officer proposed'!F315","v":"00:00:00"},0,0,"Rest",1,313,"",313,"NB","NB"]
[null,"Thu","1900-11-08",{"$f":"IF(ISTEXT('Officer proposed'!E316),0,'Officer proposed'!E316)","v":"00:00:00"},{"$f":"'Officer proposed'!E316","v":"00:00:00"},{"$f":"IF(ISTEXT('Officer proposed'!F316),0,'Officer proposed'!F316)","v":"00:00:00"},{"$f":"'Officer proposed'!F316","v":"00:00:00"},0,0,"Rest",1,314,"",314,"NB","NB"]
[null,"Fri","1900-11-09",{"$f":"IF(ISTEXT('Officer proposed'!E317),0,'Officer proposed'!E317)","v":"00:00:00"},{"$f":"'Officer proposed'!E317","v":"00:00:00"},{"$f":"IF(ISTEXT('Officer proposed'!F317),0,'Officer proposed'!F317)","v":"00:00:00"},{"$f":"'Officer proposed'!F317","v":"00:00:00"},0,0,"Rest",1,315,"",315,"NB","NB"]
[{"$f":"IF('Officer proposed'!C318>0,'Officer proposed'!C318,\"\")","v":"Week46"},"Sat","1900-11-10",{"$f":"IF(ISTEXT('Officer proposed'!E318),0,'Officer proposed'!E318)","v":"00:00:00"},{"$f":"'Officer proposed'!E318","v":"00:00:00"},{"$f":"IF(ISTEXT('Officer proposed'!F318),0,'Officer proposed'!F318)","v":"00:00:00"},{"$f":"'Officer proposed'!F318","v":"00:00:00"},0,0,"Rest",1,316,"",316,"NB","NB"]
[null,"Sun","1900-11-11",{"$f":"IF(ISTEXT('Officer proposed'!E319),0,'Officer proposed'!E319)","v":"00:00:00"},{"$f":"'Officer proposed'!E319","v":"00:00:00"},{"$f":"IF(ISTEXT('Officer proposed'!F319),0,'Officer proposed'!F319)","v":"00:00:00"},{"$f":"'Officer proposed'!F319","v":"00:00:00"},0,0,"Rest",1,317,"",317,"NB","NB"]
[null,"Mon","1900-11-12",{"$f":"IF(ISTEXT('Officer proposed'!E320),0,'Officer proposed'!E320)","v":"00:00:00"},{"$f":"'Officer proposed'!E320","v":"00:00:00"},{"$f":"IF(ISTEXT('Officer proposed'!F320),0,'Officer proposed'!F320)","v":"00:00:00"},{"$f":"'Officer proposed'!F320","v":"00:00:00"},0,0,"Rest",1,318,"",318,"NB","NB"]
[null,"Tue","1900-11-13",{"$f":"IF(ISTEXT('Officer proposed'!E321),0,'Officer proposed'!E321)","v":"00:00:00"},{"$f":"'Officer proposed'!E321","v":"00:00:00"},{"$f":"IF(ISTEXT('Officer proposed'!F321),0,'Officer proposed'!F321)","v":"00:00:00"},{"$f":"'Officer proposed'!F321","v":"00:00:00"},0,0,"Rest",1,319,"",319,"NB","NB"]
[null,"Wed","1900-11-14",{"$f":"IF(ISTEXT('Officer proposed'!E322),0,'Officer proposed'!E322)","v":"00:00:00"},{"$f":"'Officer proposed'!E322","v":"00:00:00"},{"$f":"IF(ISTEXT('Officer proposed'!F322),0,'Officer proposed'!F322)","v":"00:00:00"},{"$f":"'Officer proposed'!F322","v":"00:00:00"},0,0,"Rest",1,320,"",320,"NB","NB"]
[null,"Thu","1900-11-15",{"$f":"IF(ISTEXT('Officer proposed'!E323),0,'Officer proposed'!E323)","v":"00:00:00"},{"$f":"'Officer proposed'!E323","v":"00:00:00"},{"$f":"IF(ISTEXT('Officer proposed'!F323),0,'Officer proposed'!F323)","v":"00:00:00"},{"$f":"'Officer proposed'!F323","v":"00:00:00"},0,0,{"$f":"IF(I322=\"\",\"\",IF(I322>=$J$1,\"Over\",IF(AND(I322>0,I322<=$J$1),\"Under\",\"Rest\")))","v":"Rest"},1,321,"",321,"NB","NB"]
[null,{"$f":"IF(C323>0,TEXT(C323, \"ddd\"),\"\")","v":"Fri"},"1900-11-16",{"$f":"IF(ISTEXT('Officer proposed'!E324),0,'Officer proposed'!E324)","v":"00:00:00"},{"$f":"'Officer proposed'!E324","v":"00:00:00"},{"$f":"IF(ISTEXT('Officer proposed'!F324),0,'Officer proposed'!F324)","v":"00:00:00"},{"$f":"'Officer proposed'!F324","v":"00:00:00"},{"$f":"IF(ISTEXT(D323),0,F323-D323)","v":0},{"$f":"IF(ISTEXT(E323),0,IF(ISTEXT(E324),0,E324+(G323>E323)-G323))","v":0},"Rest",{"$f":"IF(ISNUMBER(E323),1,\"\")","v":1},{"$f":"IF(K323=\"\",\"Rest Day\",IF(K322=\"\",K323,(L322+K323)))","v":322},{"$f":"IF($D$2=0,\"\",IF(ISTEXT(L323),\"\",IF(L323>6,\"Exceeds\",\"\")))","v":""},{"$f":"IF(L323=\"Rest Day\",0,L323)","v":322},{"$f":"IF(AND(N324>=7,N323>=7),\"NB\",\"B\")","v":"NB"},{"$f":"IF(AND(N323>=14,N322>=14),\"NB\",\"B\")","v":"NB"}]
[{"$f":"IF('Officer proposed'!C325>0,'Officer proposed'!C325,\"\")","v":"Week47"},"Sat",{"$f":"IF($A$2=0,\"\",C323+1)","v":"1900-11-17"},{"$f":"IF(ISTEXT('Officer proposed'!E325),0,'Officer proposed'!E325)","v":"00:00:00"},{"$f":"'Officer proposed'!E325","v":"00:00:00"},{"$f":"IF(ISTEXT('Officer proposed'!F325),0,'Officer proposed'!F325)","v":"00:00:00"},{"$f":"'Officer proposed'!F325","v":"00:00:00"},0,0,"Rest",1,323,"",323,"NB","NB"]
[null,"Sun","1900-11-18",{"$f":"IF(ISTEXT('Officer proposed'!E326),0,'Officer proposed'!E326)","v":"00:00:00"},{"$f":"'Officer proposed'!E326","v":"00:00:00"},{"$f":"IF(ISTEXT('Officer proposed'!F326),0,'Officer proposed'!F326)","v":"00:00:00"},{"$f":"'Officer proposed'!F326","v":"00:00:00"},0,0,"Rest",1,324,"",324,"NB","NB"]
[null,"Mon","1900-11-19",{"$f":"IF(ISTEXT('Officer proposed'!E327),0,'Officer proposed'!E327)","v":"00:00:00"},{"$f":"'Officer proposed'!E327","v":"00:00:00"},{"$f":"IF(ISTEXT('Officer proposed'!F327),0,'Officer proposed'!F327)","v":"00:00:00"},{"$f":"'Officer proposed'!F327","v":"00:00:00"},0,0,"Rest",1,325,"",325,"NB","NB"]
[null,"Tue","1900-11-20",{"$f":"IF(ISTEXT('Officer proposed'!E328),0,'Officer proposed'!E328)","v":"00:00:00"},{"$f":"'Officer proposed'!E328","v":"00:00:00"},{"$f":"IF(ISTEXT('Officer proposed'!F328),0,'Officer proposed'!F328)","v":"00:00:00"},{"$f":"'Officer proposed'!F328","v":"00:00:00"},0,0,"Rest",1,326,"",326,"NB","NB"]
[null,"Wed","1900-11-21",{"$f":"IF(ISTEXT('Officer proposed'!E329),0,'Officer proposed'!E329)","v":"00:00:00"},{"$f":"'Officer proposed'!E329","v":"00:00:00"},{"$f":"IF(ISTEXT('Officer proposed'!F329),0,'Officer proposed'!F329)","v":"00:00:00"},{"$f":"'Officer proposed'!F329","v":"00:00:00"},0,0,"Rest",1,327,"",327,"NB","NB"]
[null,"Thu","1900-11-22",{"$f":"IF(ISTEXT('Officer proposed'!E330),0,'Officer proposed'!E330)","v":"00:00:00"},{"$f":"'Officer proposed'!E330","v":"00:00:00"},{"$f":"IF(ISTEXT('Officer proposed'!F330),0,'Officer proposed'!F330)","v":"00:00:00"},{"$f":"'Officer proposed'!F330","v":"00:00:00"},0,0,"Rest",1,328,"",328,"NB","NB"]
[null,"Fri","1900-11-23",{"$f":"IF(ISTEXT('Officer proposed'!E331),0,'Officer proposed'!E331)","v":"00:00:00"},{"$f":"'Officer proposed'!E331","v":"00:00:00"},{"$f":"IF(ISTEXT('Officer proposed'!F331),0,'Officer proposed'!F331)","v":"00:00:00"},{"$f":"'Officer proposed'!F331","v":"00:00:00"},0,0,"Rest",1,329,"",329,"NB","NB"]
[{"$f":"IF('Officer proposed'!C332>0,'Officer proposed'!C332,\"\")","v":"Week48"},"Sat","1900-11-24",{"$f":"IF(ISTEXT('Officer proposed'!E332),0,'Officer proposed'!E332)","v":"00:00:00"},{"$f":"'Officer proposed'!E332","v":"00:00:00"},{"$f":"IF(ISTEXT('Officer proposed'!F332),0,'Officer proposed'!F332)","v":"00:00:00"},{"$f":"'Officer proposed'!F332","v":"00:00:00"},0,0,"Rest",1,330,"",330,"NB","NB"]
[null,"Sun","1900-11-25",{"$f":"IF(ISTEXT('Officer proposed'!E333),0,'Officer proposed'!E333)","v":"00:00:00"},{"$f":"'Officer proposed'!E333","v":"00:00:00"},{"$f":"IF(ISTEXT('Officer proposed'!F333),0,'Officer proposed'!F333)","v":"00:00:00"},{"$f":"'Officer proposed'!F333","v":"00:00:00"},0,0,"Rest",1,331,"",331,"NB","NB"]
[null,"Mon","1900-11-26",{"$f":"IF(ISTEXT('Officer proposed'!E334),0,'Officer proposed'!E334)","v":"00:00:00"},{"$f":"'Officer proposed'!E334","v":"00:00:00"},{"$f":"IF(ISTEXT('Officer proposed'!F334),0,'Officer proposed'!F334)","v":"00:00:00"},{"$f":"'Officer proposed'!F334","v":"00:00:00"},0,0,"Rest",1,332,"",332,"NB","NB"]
[null,"Tue","1900-11-27",{"$f":"IF(ISTEXT('Officer proposed'!E335),0,'Officer proposed'!E335)","v":"00:00:00"},{"$f":"'Officer proposed'!E335","v":"00:00:00"},{"$f":"IF(ISTEXT('Officer proposed'!F335),0,'Officer proposed'!F335)","v":"00:00:00"},{"$f":"'Officer proposed'!F335","v":"00:00:00"},0,0,"Rest",1,333,"",333,"NB","NB"]
[null,"Wed","1900-11-28",{"$f":"IF(ISTEXT('Officer proposed'!E336),0,'Officer proposed'!E336)","v":"00:00:00"},{"$f":"'Officer proposed'!E336","v":"00:00:00"},{"$f":"IF(ISTEXT('Officer proposed'!F336),0,'Officer proposed'!F336)","v":"00:00:00"},{"$f":"'Officer proposed'!F336","v":"00:00:00"},0,0,"Rest",1,334,"",334,"NB","NB"]
[null,"Thu","1900-11-29",{"$f":"IF(ISTEXT('Officer proposed'!E337),0,'Officer proposed'!E337)","v":"00:00:00"},{"$f":"'Officer proposed'!E337","v":"00:00:00"},{"$f":"IF(ISTEXT('Officer proposed'!F337),0,'Officer proposed'!F337)","v":"00:00:00"},{"$f":"'Officer proposed'!F337","v":"00:00:00"},0,0,"Rest",1,335,"",335,"NB","NB"]
[null,"Fri","1900-11-30",{"$f":"IF(ISTEXT('Officer proposed'!E338),0,'Officer proposed'!E338)","v":"00:00:00"},{"$f":"'Officer proposed'!E338","v":"00:00:00"},{"$f":"IF(ISTEXT('Officer proposed'!F338),0,'Officer proposed'!F338)","v":"00:00:00"},{"$f":"'Officer proposed'!F338","v":"00:00:00"},0,0,"Rest",1,336,"",336,"NB","NB"]
[{"$f":"IF('Officer proposed'!C339>0,'Officer proposed'!C339,\"\")","v":"Week49"},"Sat","1900-12-01",{"$f":"IF(ISTEXT('Officer proposed'!E339),0,'Officer proposed'!E339)","v":"00:00:00"},{"$f":"'Officer proposed'!E339","v":"00:00:00"},{"$f":"IF(ISTEXT('Officer proposed'!F339),0,'Officer proposed'!F339)","v":"00:00:00"},{"$f":"'Officer proposed'!F339","v":"00:00:00"},0,0,"Rest",1,337,"",337,"NB","NB"]
[null,"Sun","1900-12-02",{"$f":"IF(ISTEXT('Officer proposed'!E340),0,'Officer proposed'!E340)","v":"00:00:00"},{"$f":"'Officer proposed'!E340","v":"00:00:00"},{"$f":"IF(ISTEXT('Officer proposed'!F340),0,'Officer proposed'!F340)","v":"00:00:00"},{"$f":"'Officer proposed'!F340","v":"00:00:00"},0,0,"Rest",1,338,"",338,"NB","NB"]
[null,"Mon","1900-12-03",{"$f":"IF(ISTEXT('Officer proposed'!E341),0,'Officer proposed'!E341)","v":"00:00:00"},{"$f":"'Officer proposed'!E341","v":"00:00:00"},{"$f":"IF(ISTEXT('Officer proposed'!F341),0,'Officer proposed'!F341)","v":"00:00:00"},{"$f":"'Officer proposed'!F341","v":"00:00:00"},0,0,"Rest",1,339,"",339,"NB","NB"]
[null,"Tue","1900-12-04",{"$f":"IF(ISTEXT('Officer proposed'!E342),0,'Officer proposed'!E342)","v":"00:00:00"},{"$f":"'Officer proposed'!E342","v":"00:00:00"},{"$f":"IF(ISTEXT('Officer proposed'!F342),0,'Officer proposed'!F342)","v":"00:00:00"},{"$f":"'Officer proposed'!F342","v":"00:00:00"},0,0,"Rest",1,340,"",340,"NB","NB"]
[null,"Wed","1900-12-05",{"$f":"IF(ISTEXT('Officer proposed'!E343),0,'Officer proposed'!E343)","v":"00:00:00"},{"$f":"'Officer proposed'!E343","v":"00:00:00"},{"$f":"IF(ISTEXT('Officer proposed'!F343),0,'Officer proposed'!F343)","v":"00:00:00"},{"$f":"'Officer proposed'!F343","v":"00:00:00"},0,0,"Rest",1,341,"",341,"NB","NB"]
[null,"Thu","1900-12-06",{"$f":"IF(ISTEXT('Officer proposed'!E344),0,'Officer proposed'!E344)","v":"00:00:00"},{"$f":"'Officer proposed'!E344","v":"00:00:00"},{"$f":"IF(ISTEXT('Officer proposed'!F344),0,'Officer proposed'!F344)","v":"00:00:00"},{"$f":"'Officer proposed'!F344","v":"00:00:00"},0,0,"Rest",1,342,"",342,"NB","NB"]
[null,"Fri","1900-12-07",{"$f":"IF(ISTEXT('Officer proposed'!E345),0,'Officer proposed'!E345)","v":"00:00:00"},{"$f":"'Officer proposed'!E345","v":"00:00:00"},{"$f":"IF(ISTEXT('Officer proposed'!F345),0,'Officer proposed'!F345)","v":"00:00:00"},{"$f":"'Officer proposed'!F345","v":"00:00:00"},0,0,"Rest",1,343,"",343,"NB","NB"]
[{"$f":"IF('Officer proposed'!C346>0,'Officer proposed'!C346,\"\")","v":"Week50"},"Sat","1900-12-08",{"$f":"IF(ISTEXT('Officer proposed'!E346),0,'Officer proposed'!E346)","v":"00:00:00"},{"$f":"'Officer proposed'!E346","v":"00:00:00"},{"$f":"IF(ISTEXT('Officer proposed'!F346),0,'Officer proposed'!F346)","v":"00:00:00"},{"$f":"'Officer proposed'!F346","v":"00:00:00"},0,0,"Rest",1,344,"",344,"NB","NB"]
[null,"Sun","1900-12-09",{"$f":"IF(ISTEXT('Officer proposed'!E347),0,'Officer proposed'!E347)","v":"00:00:00"},{"$f":"'Officer proposed'!E347","v":"00:00:00"},{"$f":"IF(ISTEXT('Officer proposed'!F347),0,'Officer proposed'!F347)","v":"00:00:00"},{"$f":"'Officer proposed'!F347","v":"00:00:00"},0,0,"Rest",1,345,"",345,"NB","NB"]
[null,"Mon","1900-12-10",{"$f":"IF(ISTEXT('Officer proposed'!E348),0,'Officer proposed'!E348)","v":"00:00:00"},{"$f":"'Officer proposed'!E348","v":"00:00:00"},{"$f":"IF(ISTEXT('Officer proposed'!F348),0,'Officer proposed'!F348)","v":"00:00:00"},{"$f":"'Officer proposed'!F348","v":"00:00:00"},0,0,"Rest",1,346,"",346,"NB","NB"]
[null,"Tue","1900-12-11",{"$f":"IF(ISTEXT('Officer proposed'!E349),0,'Officer proposed'!E349)","v":"00:00:00"},{"$f":"'Officer proposed'!E349","v":"00:00:00"},{"$f":"IF(ISTEXT('Officer proposed'!F349),0,'Officer proposed'!F349)","v":"00:00:00"},{"$f":"'Officer proposed'!F349","v":"00:00:00"},0,0,"Rest",1,347,"",347,"NB","NB"]
[null,"Wed","1900-12-12",{"$f":"IF(ISTEXT('Officer proposed'!E350),0,'Officer proposed'!E350)","v":"00:00:00"},{"$f":"'Officer proposed'!E350","v":"00:00:00"},{"$f":"IF(ISTEXT('Officer proposed'!F350),0,'Officer proposed'!F350)","v":"00:00:00"},{"$f":"'Officer proposed'!F350","v":"00:00:00"},0,0,"Rest",1,348,"",348,"NB","NB"]
[null,"Thu","1900-12-13",{"$f":"IF(ISTEXT('Officer proposed'!E351),0,'Officer proposed'!E351)","v":"00:00:00"},{"$f":"'Officer proposed'!E351","v":"00:00:00"},{"$f":"IF(ISTEXT('Officer proposed'!F351),0,'Officer proposed'!F351)","v":"00:00:00"},{"$f":"'Officer proposed'!F351","v":"00:00:00"},0,0,"Rest",1,349,"",349,"NB","NB"]
[null,"Fri","1900-12-14",{"$f":"IF(ISTEXT('Officer proposed'!E352),0,'Officer proposed'!E352)","v":"00:00:00"},{"$f":"'Officer proposed'!E352","v":"00:00:00"},{"$f":"IF(ISTEXT('Officer proposed'!F352),0,'Officer proposed'!F352)","v":"00:00:00"},{"$f":"'Officer proposed'!F352","v":"00:00:00"},0,0,"Rest",1,350,"",350,"NB","NB"]
[{"$f":"IF('Officer proposed'!C353>0,'Officer proposed'!C353,\"\")","v":"Week51"},"Sat","1900-12-15",{"$f":"IF(ISTEXT('Officer proposed'!E353),0,'Officer proposed'!E353)","v":"00:00:00"},{"$f":"'Officer proposed'!E353","v":"00:00:00"},{"$f":"IF(ISTEXT('Officer proposed'!F353),0,'Officer proposed'!F353)","v":"00:00:00"},{"$f":"'Officer proposed'!F353","v":"00:00:00"},0,0,"Rest",1,351,"",351,"NB","NB"]
[null,"Sun","1900-12-16",{"$f":"IF(ISTEXT('Officer proposed'!E354),0,'Officer proposed'!E354)","v":"00:00:00"},{"$f":"'Officer proposed'!E354","v":"00:00:00"},{"$f":"IF(ISTEXT('Officer proposed'!F354),0,'Officer proposed'!F354)","v":"00:00:00"},{"$f":"'Officer proposed'!F354","v":"00:00:00"},0,0,"Rest",1,352,"",352,"NB","NB"]
[null,"Mon","1900-12-17",{"$f":"IF(ISTEXT('Officer proposed'!E355),0,'Officer proposed'!E355)","v":"00:00:00"},{"$f":"'Officer proposed'!E355","v":"00:00:00"},{"$f":"IF(ISTEXT('Officer proposed'!F355),0,'Officer proposed'!F355)","v":"00:00:00"},{"$f":"'Officer proposed'!F355","v":"00:00:00"},0,0,"Rest",1,353,"",353,"NB","NB"]
[null,"Tue","1900-12-18",{"$f":"IF(ISTEXT('Officer proposed'!E356),0,'Officer proposed'!E356)","v":"00:00:00"},{"$f":"'Officer proposed'!E356","v":"00:00:00"},{"$f":"IF(ISTEXT('Officer proposed'!F356),0,'Officer proposed'!F356)","v":"00:00:00"},{"$f":"'Officer proposed'!F356","v":"00:00:00"},0,0,"Rest",1,354,"",354,"NB","NB"]
[null,"Wed","1900-12-19",{"$f":"IF(ISTEXT('Officer proposed'!E357),0,'Officer proposed'!E357)","v":"00:00:00"},{"$f":"'Officer proposed'!E357","v":"00:00:00"},{"$f":"IF(ISTEXT('Officer proposed'!F357),0,'Officer proposed'!F357)","v":"00:00:00"},{"$f":"'Officer proposed'!F357","v":"00:00:00"},0,0,"Rest",1,355,"",355,"NB","NB"]
[null,"Thu","1900-12-20",{"$f":"IF(ISTEXT('Officer proposed'!E358),0,'Officer proposed'!E358)","v":"00:00:00"},{"$f":"'Officer proposed'!E358","v":"00:00:00"},{"$f":"IF(ISTEXT('Officer proposed'!F358),0,'Officer proposed'!F358)","v":"00:00:00"},{"$f":"'Officer proposed'!F358","v":"00:00:00"},0,0,"Rest",1,356,"",356,"NB","NB"]
[null,"Fri","1900-12-21",{"$f":"IF(ISTEXT('Officer proposed'!E359),0,'Officer proposed'!E359)","v":"00:00:00"},{"$f":"'Officer proposed'!E359","v":"00:00:00"},{"$f":"IF(ISTEXT('Officer proposed'!F359),0,'Officer proposed'!F359)","v":"00:00:00"},{"$f":"'Officer proposed'!F359","v":"00:00:00"},0,0,"Rest",1,357,"",357,"NB","NB"]
[{"$f":"IF('Officer proposed'!C360>0,'Officer proposed'!C360,\"\")","v":"Week52"},"Sat","1900-12-22",{"$f":"IF(ISTEXT('Officer proposed'!E360),0,'Officer proposed'!E360)","v":"00:00:00"},{"$f":"'Officer proposed'!E360","v":"00:00:00"},{"$f":"IF(ISTEXT('Officer proposed'!F360),0,'Officer proposed'!F360)","v":"00:00:00"},{"$f":"'Officer proposed'!F360","v":"00:00:00"},0,0,"Rest",1,358,"",358,"NB","NB"]
[null,"Sun","1900-12-23",{"$f":"IF(ISTEXT('Officer proposed'!E361),0,'Officer proposed'!E361)","v":"00:00:00"},{"$f":"'Officer proposed'!E361","v":"00:00:00"},{"$f":"IF(ISTEXT('Officer proposed'!F361),0,'Officer proposed'!F361)","v":"00:00:00"},{"$f":"'Officer proposed'!F361","v":"00:00:00"},0,0,"Rest",1,359,"",359,"NB","NB"]
[null,"Mon","1900-12-24",{"$f":"IF(ISTEXT('Officer proposed'!E362),0,'Officer proposed'!E362)","v":"00:00:00"},{"$f":"'Officer proposed'!E362","v":"00:00:00"},{"$f":"IF(ISTEXT('Officer proposed'!F362),0,'Officer proposed'!F362)","v":"00:00:00"},{"$f":"'Officer proposed'!F362","v":"00:00:00"},0,0,"Rest",1,360,"",360,"NB","NB"]
[null,"Tue","1900-12-25",{"$f":"IF(ISTEXT('Officer proposed'!E363),0,'Officer proposed'!E363)","v":"00:00:00"},{"$f":"'Officer proposed'!E363","v":"00:00:00"},{"$f":"IF(ISTEXT('Officer proposed'!F363),0,'Officer proposed'!F363)","v":"00:00:00"},{"$f":"'Officer proposed'!F363","v":"00:00:00"},0,0,"Rest",1,361,"",361,"NB","NB"]
[null,"Wed","1900-12-26",{"$f":"IF(ISTEXT('Officer proposed'!E364),0,'Officer proposed'!E364)","v":"00:00:00"},{"$f":"'Officer proposed'!E364","v":"00:00:00"},{"$f":"IF(ISTEXT('Officer proposed'!F364),0,'Officer proposed'!F364)","v":"00:00:00"},{"$f":"'Officer proposed'!F364","v":"00:00:00"},0,0,"Rest",1,362,"",362,"NB","NB"]
[null,"Thu","1900-12-27",{"$f":"IF(ISTEXT('Officer proposed'!E365),0,'Officer proposed'!E365)","v":"00:00:00"},{"$f":"'Officer proposed'!E365","v":"00:00:00"},{"$f":"IF(ISTEXT('Officer proposed'!F365),0,'Officer proposed'!F365)","v":"00:00:00"},{"$f":"'Officer proposed'!F365","v":"00:00:00"},0,0,"Rest",1,363,"",363,"NB","NB"]
[null,"Fri","1900-12-28",{"$f":"IF(ISTEXT('Officer proposed'!E366),0,'Officer proposed'!E366)","v":"00:00:00"},{"$f":"'Officer proposed'!E366","v":"00:00:00"},{"$f":"IF(ISTEXT('Officer proposed'!F366),0,'Officer proposed'!F366)","v":"00:00:00"},{"$f":"'Officer proposed'!F366","v":"00:00:00"},0,{"$f":"IF(ISTEXT(E365),0,IF(ISTEXT(E373),0,E373+(G365>E365)-G365))","v":0},"Rest",1,364,"",364,{"$f":"IF(AND(N373>=7,N365>=7),\"NB\",\"B\")","v":"NB"},"NB"]
[{"$f":"IF('Officer proposed'!C367>0,'Officer proposed'!C367,\"\")","v":"Week53"},"Sat","1900-12-29",{"$f":"IF(ISTEXT('Officer proposed'!E367),0,'Officer proposed'!E367)","v":"00:00:00"},{"$f":"'Officer proposed'!E367","v":"00:00:00"},{"$f":"IF(ISTEXT('Officer proposed'!F367),0,'Officer proposed'!F367)","v":"00:00:00"},{"$f":"'Officer proposed'!F367","v":"00:00:00"},0,{"$f":"IF(ISTEXT(E366),0,IF(ISTEXT(E374),0,E374+(G366>E366)-G366))","v":0},"Rest",1,365,"",365,{"$f":"IF(AND(N374>=7,N366>=7),\"NB\",\"B\")","v":"NB"},"NB"]
[null,"Sun","1900-12-30",{"$f":"IF(ISTEXT('Officer proposed'!E368),0,'Officer proposed'!E368)","v":"00:00:00"},{"$f":"'Officer proposed'!E368","v":"00:00:00"},{"$f":"IF(ISTEXT('Officer proposed'!F368),0,'Officer proposed'!F368)","v":"00:00:00"},{"$f":"'Officer proposed'!F368","v":"00:00:00"},0,0,"Rest",1,366,"",366,"B","NB"]
[null,"Mon","1900-12-31",{"$f":"IF(ISTEXT('Officer proposed'!E369),0,'Officer proposed'!E369)","v":"00:00:00"},{"$f":"'Officer proposed'!E369","v":"00:00:00"},{"$f":"IF(ISTEXT('Officer proposed'!F369),0,'Officer proposed'!F369)","v":"00:00:00"},{"$f":"'Officer proposed'!F369","v":"00:00:00"},0,0,"Rest",1,367,"",367,"B","NB"]
[null,"Tue","1901-01-01",{"$f":"IF(ISTEXT('Officer proposed'!E370),0,'Officer proposed'!E370)","v":"00:00:00"},{"$f":"'Officer proposed'!E370","v":"00:00:00"},{"$f":"IF(ISTEXT('Officer proposed'!F370),0,'Officer proposed'!F370)","v":"00:00:00"},{"$f":"'Officer proposed'!F370","v":"00:00:00"},0,0,"Rest",1,368,"",368,"B","NB"]
[null,"Wed","1901-01-02",{"$f":"IF(ISTEXT('Officer proposed'!E371),0,'Officer proposed'!E371)","v":"00:00:00"},{"$f":"'Officer proposed'!E371","v":"00:00:00"},{"$f":"IF(ISTEXT('Officer proposed'!F371),0,'Officer proposed'!F371)","v":"00:00:00"},{"$f":"'Officer proposed'!F371","v":"00:00:00"},0,0,"Rest",1,369,"",369,"B","NB"]
[null,"Thu","1901-01-03",{"$f":"IF(ISTEXT('Officer proposed'!E372),0,'Officer proposed'!E372)","v":"00:00:00"},{"$f":"'Officer proposed'!E372","v":"00:00:00"},{"$f":"IF(ISTEXT('Officer proposed'!F372),0,'Officer proposed'!F372)","v":"00:00:00"},{"$f":"'Officer proposed'!F372","v":"00:00:00"},0,0,"Rest",1,370,"",370,"B","NB"]
[null,"Fri","1901-01-04",{"$f":"IF(ISTEXT('Officer proposed'!E373),0,'Officer proposed'!E373)","v":"00:00:00"},{"$f":"'Officer proposed'!E373","v":"00:00:00"},{"$f":"IF(ISTEXT('Officer proposed'!F373),0,'Officer proposed'!F373)","v":"00:00:00"},{"$f":"'Officer proposed'!F373","v":"00:00:00"},0,0,"Rest",1,371,"",371,"B","NB"]
["Add Day",{"$f":"IF(C373>0,TEXT(C373, \"ddd\"),\"\")","v":"Sat"},{"$f":"IF($A$2=0,\"\",C365+1)","v":"1900-12-29"},{"$f":"IF(ISTEXT('Officer proposed'!E367),0,'Officer proposed'!E367)","v":"00:00:00"},{"$f":"'Officer proposed'!E367","v":"00:00:00"},{"$f":"IF(ISTEXT('Officer proposed'!F367),0,'Officer proposed'!F367)","v":"00:00:00"},{"$f":"'Officer proposed'!F367","v":"00:00:00"},{"$f":"IF(ISTEXT(D373),0,F373-D373)","v":0},{"$f":"IF(ISTEXT(E373),0,IF(ISTEXT(E374),0,E374+(G373>E373)-G373))","v":0},{"$f":"IF(I373=\"\",\"\",IF(I373>=$J$1,\"Over\",IF(AND(I373>0,I373<=$J$1),\"Under\",\"Rest\")))","v":"Rest"},{"$f":"IF(ISNUMBER(E373),1,\"\")","v":1},{"$f":"IF(K373=\"\",\"Rest Day\",IF(K365=\"\",K373,(L365+K373)))","v":365},{"$f":"IF($D$2=0,\"\",IF(ISTEXT(L373),\"\",IF(L373>6,\"Exceeds\",\"\")))","v":""},{"$f":"IF(L373=\"Rest Day\",0,L373)","v":365},{"$f":"IF(AND(N374>=7,N373>=7),\"NB\",\"B\")","v":"NB"},{"$f":"IF(AND(N373>=14,N365>=14),\"NB\",\"B\")","v":"NB"}]
["Leap Year",{"$f":"IF(C374>0,TEXT(C374, \"ddd\"),\"\")","v":"Sun"},{"$f":"IF($A$2=0,\"\",C373+1)","v":"1900-12-30"},{"$f":"IF(ISTEXT('Officer proposed'!E368),0,'Officer proposed'!E368)","v":"00:00:00"},{"$f":"'Officer proposed'!E368","v":"00:00:00"},{"$f":"IF(ISTEXT('Officer proposed'!F368),0,'Officer proposed'!F368)","v":"00:00:00"},{"$f":"'Officer proposed'!F368","v":"00:00:00"},{"$f":"IF(ISTEXT(D374),0,F374-D374)","v":0},{"$f":"IF(ISTEXT(E374),0,IF(ISTEXT(E368),0,E368+(G374>E374)-G374))","v":0},{"$f":"IF(I374=\"\",\"\",IF(I374>=$J$1,\"Over\",IF(AND(I374>0,I374<=$J$1),\"Under\",\"Rest\")))","v":"Rest"},{"$f":"IF(ISNUMBER(E374),1,\"\")","v":1},{"$f":"IF(K374=\"\",\"Rest Day\",IF(K373=\"\",K374,(L373+K374)))","v":366},{"$f":"IF($D$2=0,\"\",IF(ISTEXT(L374),\"\",IF(L374>6,\"Exceeds\",\"\")))","v":""},{"$f":"IF(L374=\"Rest Day\",0,L374)","v":366},{"$f":"IF(AND(N368>=7,N374>=7),\"NB\",\"B\")","v":"NB"},{"$f":"IF(AND(N374>=14,N373>=14),\"NB\",\"B\")","v":"NB"}]

{"sheet":"Application-PS","index":10,"n_rows":87,"n_cols":15,"rows_kept":87,"cut":false,"hidden":false,"merged":[[20,1,20,4],[18,1,18,3],[29,1,29,5],[35,1,35,7],[46,8,46,12],[39,1,40,12],[20,5,20,6],[46,1,46,4],[35,11,35,12],[22,1,23,10],[25,1,25,6],[37,1,37,10],[43,1,43,11],[26,1,27,12],[0,1,0,12],[4,11,4,12],[4,5,4,10],[6,5,6,12],[8,5,8,12],[6,1,6,3],[8,1,8,3],[2,1,2,12],[10,1,10,3],[4,1,4,3],[12,1,14,3],[10,5,10,12],[18,5,18,6],[12,5,14,12],[87,8,87,9],[87,11,87,12],[87,1,87,6],[76,1,76,2],[77,1,82,12],[86,1,86,6],[86,8,86,9],[84,1,84,10],[31,14,45,17],[67,1,74,12],[65,1,66,12],[58,1,58,10],[60,11,60,12],[61,11,61,12],[62,11,62,12],[60,1,62,5],[56,14,58,17],[52,1,52,8],[48,8,48,12],[50,8,50,12],[48,1,48,4],[50,1,50,4],[31,1,31,8],[33,1,33,12]]}
[]
[]
[null,"Please note: a current and proposed pattern must be submitted with this request. If this request is not submitted in full, it will be returned for amendment, delaying the process."]
[]
[null,"Name and Force Number:",null,null,null,{"$f":"'Staff current'!AB3","v":"Type name here"},null,null,null,null,null,{"$f":"'Staff current'!AC3","v":"Type Force No. here"}]
[]
[null,"Role/Title:"]
[]
[null,"BCU/Department:"]
[]
[null,"Location:"]
[]
[null,"Preferred Contact Details:\n(for individuals not currently at work)"]
[]
[]
[]
[null,"Request number within the last 12 months:"]
[]
[null,"Date of Request:"]
[]
[null,"Preferred Start Date of New Pattern:",null,null,null,{"$f":"'Staff proposed'!AB18","v":"00:00:00"},null,{"$f":"IF(AND(F19>0,F21>0),SUM(F21-F19),\"\")","v":""}]
[]
[null,"I have provided the appropriate notice:\n(minimum of 3 months notice of start date and minimum of 28 days notice to HR Operations - Admin)"]
[]
[]
[null,{"$f":"IF(M23=\"No\",\"Please provide an explanation:\",\"\")","v":""}]
[]
[]
[]
[null,"Eligibility:"]
[]
[null,"I have submitted no more than one application within 12 months:",null,null,null,null,null,null,null,null,null,null,null,null,{"$f":"IF(OR(B88=\"\",I88=\"\",L88=\"\"),\"Ensure you have entered your Name, Force Number and Date at the bottom of this form BEFORE sending to your Line Manager\",\"\")","v":"Ensure you have entered your Name, Force Number and Date at the bottom of this form BEFORE sending to your Line Manager"}]
[]
[null,{"$f":"IF(M32=\"Yes\",\"Please note, you may only make two applications within a rolling twelve month period.\",\"\")","v":""}]
[]
[null,{"$f":"IF(M32=\"Yes\",\"Please state the date you made your previous application:\",\"\")","v":""}]
[]
[null,"I can confirm my application is a personal request to change my hours:"]
[]
[null,{"$f":"IF(M38=\"No\",\"This form does NOT need to be completed.  The line manager must provide details to the People Services Centre (Operations) advising them of the requirement for a variation to contract.)\",\"\")","v":""}]
[]
[]
[null,"Reason for Request:"]
[]
[null,"Select reason(s) for request:"]
[]
[null,null,null,null,null,null,null,null,{"$f":"IF(B47=\"Other Reason\", \"Please specify Reason for Application\",\"\")","v":""}]
[]
[]
[]
[null,null,null,null,null,null,null,null,{"$f":"IF(B51=\"Other Reason\", \"Please specify Reason for Application\",\"\")","v":""}]
[]
[null,"Is the application part of a Flexible Retirement Request:"]
[]
[null,"Does Flexi Time Apply (not applicable for shift workers):"]
[]
[null,"This request is a for a permanent change to my working pattern (subject to regular reviews):",null,null,null,null,null,null,null,null,null,null,null,null,{"$f":"IF(AND(M57=\"No\",M59=\"No\"),\"Review answer, you cannot state No to both questions\",\"\")","v":""}]
[]
[null,{"$f":"IF(M57=\"No\",\"This request is for a temporary period:\",\"\")","v":""}]
[]
[null,{"$f":"IF(AND(B59>\"\",M59=\"Yes\"),\"Please ensure you enter the Proposed Start and End Dates\",\"\")","v":""},null,null,null,null,null,null,{"$f":"IF(M59=\"Yes\",\"Proposed Start Date:\",\"\")","v":""}]
[]
[null,null,null,null,null,null,null,null,{"$f":"IF(M59=\"Yes\",\"Proposed End Date:\",\"\")","v":""}]
[null,"Details of Request:"]
[]
[null,"Please provide details of the reasons for your Flexible Working Request including any impact your request will have on the Force/Unit and suggestions as to how this may be dealt with."]
[]
[]
[]
[]
[]
[]
[]
[]
[]
[]
[]
[null,"1. I confirm that I have completed all fields and submitted all the relevant information.  \n2. I understand that it will not be possible to process my request if any information is missing or incorrect. \n3. I confirm I have checked the information submitted and understand that if any error has been made in my application or the\n    processing of it, that it will be necessary to make the required adjustment to my next available salary.\n4. I understand that changes in my working hours may affect my current allowances.\n5. I am aware that I am not eligible to make more than two applications to change my working pattern within 12 months.\n"]
[]
[]
[]
[]
[]
[]
[null,"Do you give consent for this application to be considered by a Flexible Working Panel / Board?"]
[]
[null,"Name:",null,null,null,null,null,null,"Force ID:",null,null,"Date:"]

{"sheet":"PS-AP_MAN","index":11,"n_rows":82,"n_cols":13,"rows_kept":82,"cut":false,"hidden":true,"merged":[[54,1,54,10],[56,1,58,5],[56,11,56,12],[57,11,57,12],[58,11,58,12],[81,1,81,6],[81,8,81,9],[81,11,81,12],[61,1,62,12],[63,1,70,12],[72,1,72,2],[73,1,78,12],[80,1,80,6],[80,8,80,9],[50,1,50,3],[25,1,25,5],[27,1,27,7],[29,1,29,10],[31,1,31,7],[42,1,42,4],[42,8,42,12],[33,1,33,10],[35,1,36,12],[44,1,44,4],[44,8,44,12],[46,1,46,4],[46,8,46,12],[48,1,48,8],[39,1,39,11],[21,1,21,6],[22,1,23,12],[31,11,31,12],[6,1,6,3],[6,5,6,12],[8,1,8,3],[8,5,8,12],[10,1,12,3],[10,5,12,12],[14,1,14,3],[14,5,14,6],[16,1,16,4],[16,5,16,6],[18,1,19,10],[0,1,0,12],[2,1,2,3],[2,5,2,10],[2,11,2,12],[4,1,4,3],[4,5,4,12]]}
[]
[]
[null,"Name and Force Number:",null,null,null,{"$f":"Dashboard1!C19","v":"Type name here"},null,null,null,null,null,{"$f":"Dashboard1!C20","v":"Type Force No. here"}]
[]
[null,"Role/Title:",null,null,null,{"$f":"'Application-PS'!F7","v":0}]
[]
[null,"BCU/Department:",null,null,null,{"$f":"'Application-PS'!F9","v":0}]
[]
[null,"Location:",null,null,null,{"$f":"'Application-PS'!F11","v":0}]
[]
[null,"Preferred Contact Details:\n(for individuals not currently at work)",null,null,null,{"$f":"'Application-PS'!F13","v":0}]
[]
[]
[]
[null,"Date of Application:",null,null,null,{"$f":"'Application-PS'!F19","v":"00:00:00"}]
[]
[null,"Preferred Start Date of New Pattern:",null,null,null,{"$f":"'Staff proposed'!AB18","v":"00:00:00"},null,{"$f":"IF(AND(F15>0,F17>0),SUM(F17-F15),\"\")","v":""}]
[]
[null,"I have provided the appropriate notice:\n(minimum of 3 months notice of start date and minimum of 28 days notice to the People Services Centre)",null,null,null,null,null,null,null,null,null,null,{"$f":"'Application-PS'!M23","v":0}]
[]
[]
[null,{"$f":"IF(M19=\"No\",\"Please provide an explanation:\",\"\")","v":""}]
[null,{"$f":"'Application-PS'!B27","v":0}]
[]
[]
[null,"Eligibility:"]
[]
[null,"I confirm that I have not submitted an application within 12 months:",null,null,null,null,null,null,null,null,null,null,{"$f":"'Application-PS'!M32","v":0}]
[]
[null,{"$f":"IF(M28=\"No\", \"I confirm that I have submitted an application within 12 months:\",\"\")","v":""},null,null,null,null,null,null,null,null,null,null,{"$f":"'Application-PS'!M34","v":0}]
[]
[null,{"$f":"IF(M30=\"Yes\",\"Please state the date you made your previous application:\",\"\")","v":""},null,null,null,null,null,null,null,null,null,{"$f":"'Application-PS'!L36","v":"00:00:00"}]
[]
[null,"I can confirm my application is a personal request to change my hours:",null,null,null,null,null,null,null,null,null,null,{"$f":"'Application-PS'!M38","v":0}]
[]
[null,{"$f":"IF(M34=\"No\",\"This form does NOT need to be completed.  The line manager must provide details to the People Services Centre (Operations) advising them of the requirement for a variation to contract.)\",\"\")","v":""}]
[]
[]
[null,"Reason for Request:"]
[]
[null,"Select reason(s) for request:"]
[]
[null,{"$f":"'Application-PS'!B47","v":0},null,null,null,null,null,null,{"$f":"'Application-PS'!I47","v":""}]
[]
[null,{"$f":"'Application-PS'!B49","v":0},null,null,null,null,null,null,{"$f":"'Application-PS'!I49","v":0}]
[]
[null,{"$f":"'Application-PS'!B51","v":0},null,null,null,null,null,null,{"$f":"'Application-PS'!I51","v":""}]
[]
[null,"Is the application part of a Flexible Retirement Request:",null,null,null,null,null,null,null,null,null,null,{"$f":"'Application-PS'!M53","v":0}]
[]
[null,"Does Flexi Time Apply:",null,null,null,null,null,null,null,null,null,null,{"$f":"'Application-PS'!M55","v":0}]
[]
[null,"This request is a for a permanent change to my working pattern (subject to regular reviews):",null,null,null,null,null,null,null,null,null,null,{"$f":"'Application-PS'!M57","v":0}]
[]
[null,{"$f":"IF(M53=\"No\",\"This request is for a temporary period:\",\"\")","v":""},null,null,null,null,null,null,null,null,null,null,{"$f":"'Application-PS'!M59","v":0}]
[]
[null,{"$f":"'Application-PS'!B61:F63","v":{"$error":"#VALUE!"}},null,null,null,null,null,null,{"$f":"IF(M55=\"Yes\",\"Proposed Start Date:\",\"\")","v":""},null,null,{"$f":"'Application-PS'!L61","v":"00:00:00"}]
[]
[null,null,null,null,null,null,null,null,{"$f":"IF(M55=\"Yes\",\"Proposed End Date:\",\"\")","v":""},null,null,{"$f":"'Application-PS'!L63","v":"00:00:00"}]
[null,"Details of Request:"]
[]
[null,"Please provide details of the reasons for your Flexible Working Request including any impact your request will have on the Force/Unit and suggestions as to how this may be dealt with."]
[]
[null,{"$f":"'Application-PS'!B68","v":0}]
[]
[]
[]
[]
[]
[]
[]
[]
[]
[null,"1. I confirm that I have completed all fields and submitted all the relevant information.  \n2. I understand that it will not be possible to process my request if any information is missing or incorrect. \n3. I confirm I have checked the information submitted and understand that if any error has been made in my application or the\n    processing of it, that it will be necessary to make the required adjustment to my next available salary.\n4. I understand that changes in my working hours may affect my current allowances.\n5. I am aware that I am not eligible to make another application to change my working pattern for 12 months.\n\n\n"]
[]
[]
[]
[]
[]
[]
[null,"Name:",null,null,null,null,null,null,"Force ID:",null,null,"Date:"]
[null,{"$f":"'Application-PS'!B88","v":0},null,null,null,null,null,null,{"$f":"'Application-PS'!I88","v":0},null,null,{"$f":"'Application-PS'!L88","v":"00:00:00"}]

{"sheet":"Application-PO","index":12,"n_rows":80,"n_cols":15,"rows_kept":80,"cut":false,"hidden":false,"merged":[[37,14,48,17],[60,1,61,12],[62,1,69,12],[71,1,71,2],[79,1,79,6],[79,8,79,9],[51,14,53,17],[53,1,53,10],[55,1,57,5],[55,11,55,12],[46,1,46,4],[46,8,46,12],[48,1,48,4],[48,8,48,12],[44,1,44,4],[44,8,44,12],[80,1,80,6],[80,8,80,9],[80,11,80,12],[72,1,76,12],[56,11,56,12],[57,11,57,12],[77,1,77,10],[35,1,35,10],[37,1,38,12],[41,1,41,11],[27,1,27,5],[29,1,29,7],[31,1,31,10],[33,1,33,7],[33,11,33,12],[24,1,25,12],[8,1,8,3],[8,5,8,12],[10,1,10,3],[10,5,10,12],[12,1,14,3],[12,5,14,12],[16,1,16,3],[16,5,16,6],[18,1,18,4],[18,5,18,6],[20,1,21,10],[23,1,23,6],[0,1,0,12],[4,1,4,3],[4,5,4,10],[4,11,4,12],[6,1,6,3],[6,5,6,12],[2,1,2,12]]}
[]
[]
[null,"Please note: a current and proposed pattern must be submitted with this request. If this request is not submitted in full, it will be returned for amendment, delaying the process."]
[]
[null,"Name and Force Number:",null,null,null,{"$f":"'Officer current'!U3","v":"Type name here"},null,null,null,null,null,{"$f":"'Officer current'!V3","v":"Type Force No. here"}]
[]
[null,"Role/Title:"]
[]
[null,"BCU/Department:"]
[]
[null,"Location:"]
[]
[null,"Preferred Contact Details:\n(for individuals not currently at work)"]
[]
[]
[]
[null,"Date of Request:"]
[]
[null,"Preferred Start Date of New Pattern:",null,null,null,{"$f":"'Officer proposed'!X12","v":"00:00:00"},null,{"$f":"IF(AND(F17>0,F19>0),SUM(F19-F17),\"\")","v":""}]
[]
[null,"I have provided the appropriate notice:\n(minimum of 3 months notice of start date and minimum of 28 days notice to HR Operations - Admin)"]
[]
[]
[null,{"$f":"IF(M21=\"No\",\"Please provide an explanation:\",\"\")","v":""}]
[]
[]
[]
[null,"Eligibility:"]
[]
[null,"I confirm that I have not submitted an application within 12 months:",null,null,null,null,null,null,null,null,null,null,"No"]
[]
[null,{"$f":"IF(M30=\"No\", \"I confirm that I have submitted an application within 12 months:\",\"\")","v":"I confirm that I have submitted an application within 12 months:"},null,null,null,null,null,null,null,null,null,null,"Yes"]
[]
[null,{"$f":"IF(M32=\"Yes\",\"Please state the date you made your previous application:\",\"\")","v":"Please state the date you made your previous application:"}]
[]
[null,"I can confirm my application is a personal request to change my hours:"]
[]
[null,{"$f":"IF(M36=\"No\",\"This form does NOT need to be completed.  The line manager must provide details to the People Services Centre (Operations) advising them of the requirement for a variation to contract.)\",\"\")","v":""},null,null,null,null,null,null,null,null,null,null,null,null,{"$f":"IF(OR(B81=\"\",I81=\"\",L81=\"\"),\"Ensure you have entered your Name, Force Number and Date at the bottom of this form BEFORE sending to your Line Manager\",\"\")","v":"Ensure you have entered your Name, Force Number and Date at the bottom of this form BEFORE sending to your Line Manager"}]
[]
[]
[null,"Reason for Request:"]
[]
[null,"Select reason(s) for request:"]
[]
[null,null,null,null,null,null,null,null,{"$f":"IF(B45=\"Other Reason\", \"Please specify Reason for Application\",\"\")","v":""}]
[]
[null,null,null,null,null,null,null,null,{"$f":"IF(B47=\"Other Reason\", \"Please specify Reason for Application\",\"\")","v":""}]
[]
[null,null,null,null,null,null,null,null,{"$f":"IF(B49=\"Other Reason\", \"Please specify Reason for Application\",\"\")","v":""}]
[]
[]
[null,"This request is a for a permanent change to my working pattern (subject to regular reviews):",null,null,null,null,null,null,null,null,null,null,null,null,{"$f":"IF(AND(M52=\"No\",M54=\"No\"),\"Review answer, you cannot state No to both questions\",\"\")","v":""}]
[]
[null,{"$f":"IF(M52=\"No\",\"This request is for a temporary period:\",\"\")","v":""}]
[]
[null,{"$f":"IF(AND(B54>\"\",M54=\"Yes\"),\"Please ensure you enter the Proposed Start and End Dates\",\"\")","v":""},null,null,null,null,null,null,{"$f":"IF(M54=\"Yes\",\"Proposed Start Date:\",\"\")","v":""}]
[]
[null,null,null,null,null,null,null,null,{"$f":"IF(M54=\"Yes\",\"Proposed End Date:\",\"\")","v":""}]
[null,"Details of Request:"]
[]
[null,"Please provide details of the reasons for your Flexible Working Request including any impact your request will have on the Force/Unit and suggestions as to how this may be dealt with."]
[]
[]
[]
[]
[]
[]
[]
[]
[]
[]
[]
[null,"1. I confirm that I have completed all fields and submitted all the relevant information.  \n2. I understand that it will not be possible to process my request if any information is missing or incorrect. \n3. I confirm I have checked the information submitted and understand that if any error has been made in my application or the\n    processing of it, that it will be necessary to make the required adjustment to my next available salary.\n\n\n\n"]
[]
[]
[]
[]
[null,"Do you give consent for this application to be considered by a Flexible Working Panel / Board?"]
[]
[null,"Name:",null,null,null,null,null,null,"Force ID:",null,null,"Date:"]

{"sheet":"Application-PO2","index":13,"n_rows":61,"n_cols":15,"rows_kept":61,"cut":false,"hidden":true,"merged":[[16,1,16,4],[32,11,32,12],[34,11,34,12],[30,1,30,10],[18,1,18,10],[19,1,20,12],[8,5,8,12],[10,5,12,12],[16,5,16,6],[10,1,12,3],[61,1,61,6],[61,8,61,9],[61,11,61,12],[54,1,58,12],[37,1,38,12],[39,1,46,12],[48,1,48,10],[49,1,51,12],[53,1,53,2],[32,1,34,5],[14,1,14,3],[14,5,14,6],[30,14,43,17],[60,1,60,6],[60,8,60,9],[60,11,60,12],[0,1,0,12],[2,1,2,3],[2,5,2,10],[2,11,2,12],[4,1,4,3],[4,5,4,12],[23,1,23,11],[24,9,24,12],[26,8,26,12],[6,1,6,3],[6,5,6,12],[8,1,8,3]]}
[]
[]
[null,"Name and Force Number:",null,null,null,{"$f":"Dashboard1!C19","v":"Type name here"},null,null,null,null,null,{"$f":"Dashboard1!C20","v":"Type Force No. here"}]
[]
[null,"Role/Title:"]
[]
[null,"BCU/Department:"]
[]
[null,"Location:"]
[]
[null,"Preferred Contact Details:\n(for individuals not currently at work)"]
[]
[]
[]
[null,"Date of Application:"]
[]
[null,"Preferred Start Date of New Pattern:",null,null,null,{"$f":"Dashboard1!C30","v":"00:00:00"},null,{"$f":"IF(AND(F15>0,F17>0),SUM(F17-F15),\"\")","v":""}]
[]
[null,"I can confirm my application is a personal request to change my hours"]
[null,{"$f":"IF(M19=\"No\",\"This form does NOT need to be completed.  The line manager must provide details to the People Services Centre (Operations) advising them of the requirement for a variation to contract.)\",\"\")","v":""}]
[]
[]
[null,"Reason for Application:"]
[]
[null,"Select Reason for Application:"]
[]
[null,null,null,null,null,null,null,null,{"$f":"IF(J25=\"Other Reason\", \"Please specify Reason for Application\",\"\")","v":""}]
[]
[null,"This request is a for a permanent change to my working pattern (subject to regular reviews):"]
[]
[null,{"$f":"IF(M29=\"No\",\"This request is for a temporary period:\",\"\")","v":""},null,null,null,null,null,null,null,null,null,null,null,null,{"$f":"IF(OR(B62=\"\",I62=\"\",L62=\"\"),\"Ensure you complete your Name, Force Number and Date at the bottom of this form BEFORE sending to your Line Manager\",\"\")","v":"Ensure you complete your Name, Force Number and Date at the bottom of this form BEFORE sending to your Line Manager"}]
[]
[null,{"$f":"IF(AND(B31>\"\",M31=\"Yes\"),\"Please ensure you enter the Proposed Start and End Dates\",\"\")","v":""},null,null,null,null,null,{"$f":"IF(M31=\"Yes\",\"Proposed Start Date:\",\"\")","v":""}]
[]
[null,null,null,null,null,null,null,{"$f":"IF(M31=\"Yes\",\"Proposed End Date:\",\"\")","v":""}]
[null,"Details of Request:"]
[]
[null,"Please provide details of the reasons for your flexible working request including any impact your request will have on the Force/Unit and suggestions as to how this may be dealt with."]
[]
[]
[]
[]
[]
[]
[]
[]
[]
[]
[null,"Please provide further comments that you wish to be taken into consideration"]
[]
[]
[]
[]
[]
[null,"1. I confirm that I have completed all fields and submitted all the relevant information.  \n2. I understand that it will not be possible to process my request if any information is missing or incorrect. \n3. I confirm I have checked the information submitted and understand that if any error has been made in my application or the\n    processing of it, that it will be necessary to make the required adjustment to my next available salary.\n\n\n\n"]
[]
[]
[]
[]
[]
[null,"Enter Name:",null,null,null,null,null,null,"Enter Force ID:",null,null,"Date:"]

{"sheet":"PO_AP_MAN","index":14,"n_rows":78,"n_cols":15,"rows_kept":78,"cut":false,"hidden":true,"merged":[[77,1,77,6],[77,8,77,9],[77,11,77,12],[58,1,59,12],[60,1,67,12],[69,1,69,2],[70,1,74,12],[76,1,76,6],[76,8,76,9],[49,14,51,17],[51,1,51,10],[53,1,55,5],[53,11,53,12],[54,11,54,12],[55,11,55,12],[42,1,42,4],[42,8,42,12],[44,1,44,4],[44,8,44,12],[46,1,46,4],[46,8,46,12],[22,1,23,12],[25,1,25,5],[27,1,27,7],[27,14,41,17],[29,1,29,10],[31,1,31,7],[31,11,31,12],[33,1,33,10],[35,1,36,12],[39,1,39,11],[21,1,21,6],[6,1,6,3],[6,5,6,12],[8,1,8,3],[8,5,8,12],[10,1,12,3],[10,5,12,12],[14,1,14,3],[14,5,14,6],[16,1,16,4],[16,5,16,6],[18,1,19,10],[0,1,0,12],[2,1,2,3],[2,5,2,10],[2,11,2,12],[4,1,4,3],[4,5,4,12]]}
[]
[]
[null,"Name and Force Number:",null,null,null,{"$f":"Dashboard1!C19","v":"Type name here"},null,null,null,null,null,{"$f":"Dashboard1!C20","v":"Type Force No. here"}]
[]
[null,"Role/Title:",null,null,null,{"$f":"'Application-PO'!F7","v":0}]
[]
[null,"BCU/Department:",null,null,null,{"$f":"'Application-PO'!F9","v":0}]
[]
[null,"Location:",null,null,null,{"$f":"'Application-PO'!F11","v":0}]
[]
[null,"Preferred Contact Details:\n(for individuals not currently at work)",null,null,null,{"$f":"'Application-PO'!F13","v":0}]
[]
[]
[]
[null,"Date of Application:",null,null,null,{"$f":"'Application-PO'!F17","v":"00:00:00"}]
[]
[null,"Preferred Start Date of New Pattern:",null,null,null,{"$f":"'Officer proposed'!X12","v":"00:00:00"},null,{"$f":"IF(AND(F15>0,F17>0),SUM(F17-F15),\"\")","v":""}]
[]
[null,"I have provided the appropriate notice:\n(minimum of 3 months notice of start date and minimum of 28 days notice to the People Services Centre)",null,null,null,null,null,null,null,null,null,null,{"$f":"'Application-PO'!M21","v":0}]
[]
[]
[null,{"$f":"IF(M19=\"No\",\"Please provide an explanation:\",\"\")","v":""}]
[null,{"$f":"'Application-PO'!B25","v":0}]
[]
[]
[null,"Eligibility:"]
[]
[null,"I confirm that I have not submitted an application within 12 months:",null,null,null,null,null,null,null,null,null,null,"No"]
[]
[null,{"$f":"IF(M28=\"No\", \"I confirm that I have submitted an application within 12 months:\",\"\")","v":"I confirm that I have submitted an application within 12 months:"},null,null,null,null,null,null,null,null,null,null,"Yes"]
[]
[null,{"$f":"IF(M30=\"Yes\",\"Please state the date you made your previous application:\",\"\")","v":"Please state the date you made your previous application:"}]
[]
[null,"I can confirm my application is a personal request to change my hours:",null,null,null,null,null,null,null,null,null,null,{"$f":"'Application-PO'!M36","v":0}]
[]
[null,{"$f":"IF(M34=\"No\",\"This form does NOT need to be completed.  The line manager must provide details to the People Services Centre (Operations) advising them of the requirement for a variation to contract.)\",\"\")","v":""}]
[]
[]
[null,"Reason for Request:"]
[]
[null,"Select reason(s) for request:"]
[]
[null,{"$f":"'Application-PO'!B45","v":0},null,null,null,null,null,null,{"$f":"'Application-PO'!I45","v":""}]
[]
[null,{"$f":"'Application-PO'!B47","v":0},null,null,null,null,null,null,{"$f":"'Application-PO'!I47","v":""}]
[]
[null,{"$f":"'Application-PO'!B49","v":0},null,null,null,null,null,null,{"$f":"'Application-PO'!I49","v":""}]
[]
[]
[null,"This request is a for a permanent change to my working pattern (subject to regular reviews):",null,null,null,null,null,null,null,null,null,null,{"$f":"'Application-PO'!M52","v":0},null,{"$f":"IF(AND(M50=\"No\",M52=\"No\"),\"Review answer, you cannot state No to both questions\",\"\")","v":""}]
[]
[null,{"$f":"IF(M50=\"No\",\"This request is for a temporary period:\",\"\")","v":""},null,null,null,null,null,null,null,null,null,null,{"$f":"'Application-PO'!M54","v":0}]
[]
[null,{"$f":"IF(AND(B52>\"\",M52=\"Yes\"),\"Please ensure you enter the Proposed Start and End Dates\",\"\")","v":""},null,null,null,null,null,null,{"$f":"IF(M52=\"Yes\",\"Proposed Start Date:\",\"\")","v":""},null,null,{"$f":"'Application-PO'!L56","v":"00:00:00"}]
[]
[null,null,null,null,null,null,null,null,{"$f":"IF(M52=\"Yes\",\"Proposed End Date:\",\"\")","v":""},null,null,{"$f":"'Application-PO'!L58","v":"00:00:00"}]
[null,"Details of Request:"]
[]
[null,"Please provide details of the reasons for your Flexible Working Request including any impact your request will have on the Force/Unit and suggestions as to how this may be dealt with."]
[]
[]
[]
[]
[]
[]
[]
[]
[]
[]
[]
[null,"1. I confirm that I have completed all fields and submitted all the relevant information.  \n2. I understand that it will not be possible to process my request if any information is missing or incorrect. \n3. I confirm I have checked the information submitted and understand that if any error has been made in my application or the\n    processing of it, that it will be necessary to make the required adjustment to my next available salary.\n\n\n\n"]
[]
[]
[]
[]
[]
[null,"Name:",null,null,null,null,null,null,"Force ID:",null,null,"Date:"]
[null,{"$f":"'Application-PO'!B81","v":0},null,null,null,null,null,null,{"$f":"'Application-PO'!I81","v":0},null,null,{"$f":"'Application-PO'!L81","v":"00:00:00"}]

{"sheet":"PO_AP_MAN2","index":15,"n_rows":58,"n_cols":13,"rows_kept":58,"cut":false,"hidden":true,"merged":[[57,1,57,6],[57,8,57,9],[57,11,57,12],[28,1,28,10],[33,1,34,12],[44,1,44,10],[45,1,47,12],[49,1,49,2],[50,1,54,12],[35,1,42,12],[19,1,20,12],[23,1,23,11],[24,9,24,12],[6,1,6,3],[6,5,6,12],[8,1,8,3],[8,5,8,12],[10,5,12,12],[10,1,12,3],[14,1,14,3],[14,5,14,6],[14,8,16,12],[16,1,16,4],[16,5,16,6],[18,1,18,10],[0,1,0,12],[2,1,2,3],[2,5,2,10],[2,11,2,12],[4,1,4,3],[4,5,4,12]]}
[]
[]
[null,"Name and Force Number:",null,null,null,{"$f":"Dashboard1!C19","v":"Type name here"},null,null,null,null,null,{"$f":"Dashboard1!C20","v":"Type Force No. here"}]
[]
[null,"Role/Title:",null,null,null,{"$f":"'Application-PO2'!F5","v":0}]
[]
[null,"BCU/Department:",null,null,null,{"$f":"'Application-PO2'!F7","v":0}]
[]
[null,"Location:",null,null,null,{"$f":"'Application-PO2'!F9","v":0}]
[]
[null,"Preferred Contact Details:\n(for individuals not currently at work)",null,null,null,{"$f":"'Application-PO2'!F11","v":0}]
[]
[]
[]
[null,"Date of Application:",null,null,null,{"$f":"Dashboard1!C29","v":"00:00:00"},null,null,{"$f":"IF(H17<90,\"The preferred Start Date MUST not be less than 3 months from the Date of Application\",\"\")","v":""}]
[]
[null,"Preferred Start Date of New Pattern:",null,null,null,{"$f":"Dashboard1!C30","v":"00:00:00"},null,{"$f":"IF(AND(F15>0,F17>0),SUM(F17-F15),\"\")","v":""}]
[]
[null,"I can confirm my application is a personal request to change my hours",null,null,null,null,null,null,null,null,null,null,{"$f":"'Application-PO2'!M19","v":0}]
[null,{"$f":"'Application-PO2'!B20:M21","v":""}]
[]
[]
[null,"Reason for Application:"]
[]
[null,"Select Reason for Application:",null,null,null,null,null,null,null,{"$f":"'Application-PO2'!J25","v":0}]
[]
[null,"This request is a for a permanent change to my working pattern (subject to regular reviews):",null,null,null,null,null,null,null,null,null,null,{"$f":"'Application-PO2'!M29","v":0}]
[]
[null,{"$f":"'Application-PO2'!B31","v":""},null,null,null,null,null,null,null,null,null,null,{"$f":"IF(B29>\"\",'Application-PO2'!M31,\"\")","v":""}]
[]
[]
[null,"Details of Request:"]
[]
[null,"Please provide details of the reasons for your flexible working request including any impact your request will have on the Force/Unit and suggestions as to how this may be dealt with."]
[]
[null,{"$f":"'Application-PO2'!B40","v":0}]
[]
[]
[]
[]
[]
[]
[]
[]
[null,"Please provide further comments that you wish to be taken into consideration"]
[null,{"$f":"'Application-PO2'!B50","v":0}]
[]
[]
[]
[null,"Disclaimer:"]
[null,"1. I confirm that I have completed all fields and submitted all the relevant information.  \n2. I understand that it will not be possible to process my request if any information is missing or incorrect. \n3. I confirm I have checked the information submitted and understand that if any error has been made in my application or the\n    processing of it, that it will be necessary to make the required adjustment to my next available salary.\n\n\n\n"]
[]
[]
[]
[]
[]
[null,"Name:",null,null,null,null,null,null,"Force ID:",null,null,"Date:"]
[null,{"$f":"'Application-PO2'!B62","v":0},null,null,null,null,null,null,{"$f":"'Application-PO2'!I62","v":0},null,null,{"$f":"'Application-PO2'!L62","v":"00:00:00"}]

{"sheet":"Review-PS","index":16,"n_rows":79,"n_cols":16,"rows_kept":79,"cut":false,"hidden":false,"merged":[[79,11,79,12],[48,1,48,5],[48,9,48,12],[56,1,56,2],[71,1,71,4],[71,11,71,12],[54,1,54,2],[58,1,58,2],[54,3,54,8],[56,3,56,8],[58,3,58,8],[8,1,8,3],[8,5,8,12],[10,1,10,3],[10,5,10,12],[44,1,44,5],[44,9,44,12],[12,1,12,3],[12,5,14,12],[16,5,16,6],[18,5,18,6],[18,8,18,12],[25,1,25,9],[20,1,21,3],[21,5,21,6],[22,1,22,7],[39,1,39,12],[0,2,0,13],[4,1,4,3],[4,5,4,10],[4,11,4,12],[6,1,6,3],[6,5,6,12],[22,14,24,17],[26,14,28,17],[30,14,32,17],[69,11,69,12],[76,1,76,6],[54,10,54,12],[56,10,56,12],[58,10,58,12],[61,1,65,12],[72,15,85,18],[69,1,69,9],[40,1,40,8],[42,1,42,7],[42,9,42,12],[79,1,79,6],[79,8,79,9]]}
[]
[]
[]
[]
[null,"Name/Force Number:",null,null,null,{"$f":"'Staff current'!AB3","v":"Type name here"},null,null,null,null,null,{"$f":"'Staff current'!AC3","v":"Type Force No. here"}]
[]
[null,"Role/Title:",null,null,null,{"$f":"Dashboard1!C22","v":0}]
[]
[null,"BCU/Department:",null,null,null,{"$f":"Dashboard1!C23","v":0}]
[]
[null,"Location:",null,null,null,{"$f":"Dashboard1!C24","v":0}]
[]
[null,"Preferred Contact Details:",null,null,null,{"$f":"Dashboard1!C25","v":0}]
[]
[]
[]
[null,"Date of Request:",null,null,null,{"$f":"Dashboard1!C29","v":"00:00:00"}]
[]
[null,"Date Request Received:"]
[]
[null,"Date of Discussion Meeting with Individual"]
[null,null,null,null,null,null,null,{"$f":"SUM(F22-F19)","v":0}]
[]
[]
[]
[]
[]
[]
[]
[]
[]
[]
[]
[]
[]
[]
[null,"I confirm I have reviewed the proposed working pattern and I’ve discussed this with the individual as appropriate:"]
[]
[null,"I confirm I have sought budget approval from Finance where there is an increased financial impact: "]
[null,{"$f":"IF(M39=\"No\",\"You are required to ensure that budgetary approval is sought as part of the decision making process\",\"\")","v":""}]
[null,"I confirm that Financial approval has been granted by Alliance Finance:"]
[]
[null,"Please provide the name and Force No. of who granted Finance approval:"]
[]
[null,"Please provide the name of the Budget Holder:"]
[]
[null,"I confirm I have consulted an appropriate SMT Member or submitted the request to a flexible working panel as appropriate:"]
[]
[null,"Please provide the name of the SMT Member:"]
[]
[null,"I confirm that the flexible working request meets business requirements and therefore is approved:"]
[]
[null,{"$f":"IF(M51=\"No\",\"I confirm that the flexible working request is declined:\",\"\")","v":""}]
[]
[null,{"$f":"IF(M53=\"Yes\",\"Reject Reason 1\",\"\")","v":""}]
[]
[null,{"$f":"IF(M53=\"Yes\",\"Reject Reason 2\",\"\")","v":""}]
[]
[null,{"$f":"IF(M53=\"Yes\",\"Reject Reason 3\",\"\")","v":""}]
[]
[null,"Please record a summary of your decision and discussion held with the individual below:"]
[]
[]
[]
[]
[]
[]
[null,{"$f":"IF(M51=\"No\",\"\",\"Where the flexible working request has been approved please confirm:\")","v":"Where the flexible working request has been approved please confirm:"}]
[]
[null,{"$f":"IF(M51=\"No\",\"\",\"Start Date of the Flexible Working Request, if different to that stated above:\")","v":"Start Date of the Flexible Working Request, if different to that stated above:"}]
[]
[null,{"$f":"IF(M51=\"No\",\"\",\"Review Period:\")","v":"Review Period:"}]
[null,null,null,null,null,null,null,null,null,null,null,null,null,null,null,{"$f":"IF(OR(B80=0,I80=0,L80=0),\"Ensure you complete your Name, Force Number and Date at the bottom of this form BEFORE sending back to the individual\",\"\")","v":"Ensure you complete your Name, Force Number and Date at the bottom of this form BEFORE sending back to the individual"}]
[]
[]
[]
[null,"I can confirm I fully support the application:",null,null,null,null,null,null,null,null,null,null,{"$f":"M51","v":0}]
[]
[null,"Line Manager Name:",null,null,null,null,null,null,"Force ID:",null,null,"Date:"]

{"sheet":"PS_RVW_MAN","index":17,"n_rows":72,"n_cols":15,"rows_kept":72,"cut":false,"hidden":true,"merged":[[72,11,72,12],[54,1,58,12],[62,1,62,4],[62,11,62,12],[64,1,64,4],[64,11,64,12],[71,1,71,6],[71,8,71,9],[71,11,71,12],[37,1,37,5],[37,9,37,12],[41,1,41,5],[41,9,41,12],[49,1,49,2],[49,3,49,8],[49,10,49,12],[47,1,47,2],[51,1,51,2],[51,3,51,8],[51,10,51,12],[47,3,47,8],[47,10,47,12],[14,5,14,6],[16,5,16,6],[18,1,19,3],[19,5,19,6],[19,8,21,12],[20,1,20,7],[6,1,6,3],[6,5,6,12],[8,1,8,3],[8,5,8,12],[10,1,10,3],[10,5,12,12],[0,2,0,13],[2,1,2,3],[2,5,2,10],[2,11,2,12],[4,1,4,3],[4,5,4,12],[20,14,21,17],[23,1,23,9],[23,14,25,17],[27,14,29,17],[31,14,33,17]]}
[]
[]
[null,"Name/Force Number:",null,null,null,{"$f":"Dashboard1!C19","v":"Type name here"},null,null,null,null,null,{"$f":"Dashboard1!C20","v":"Type Force No. here"}]
[]
[null,"Role/Title:",null,null,null,{"$f":"Dashboard1!C22","v":0}]
[]
[null,"BCU/Department:",null,null,null,{"$f":"Dashboard1!C23","v":0}]
[]
[null,"Location:",null,null,null,{"$f":"Dashboard1!C24","v":0}]
[]
[null,"Preferred Contact Details:",null,null,null,{"$f":"Dashboard1!C25","v":0}]
[]
[]
[]
[null,"Date of Application:",null,null,null,{"$f":"Dashboard1!C29","v":"00:00:00"}]
[]
[null,"Date Request Received:",null,null,null,{"$f":"'Review-PS'!F19","v":"00:00:00"}]
[]
[null,"Date of Meeting to discuss the Application"]
[null,null,null,null,null,{"$f":"'Review-PS'!F22","v":"00:00:00"},null,{"$f":"SUM(F20-F17)","v":0},{"$f":"IF(H20>28,\"Date of Meeting is more than 28 days after receipt of application\",\"\")","v":""}]
[null,"(within 28 days of the date of receipt of your application)",null,null,null,null,null,null,null,null,null,null,null,null,{"$f":"IF(M44=\"No\",HYPERLINK(\"#'Appeal-PS'!l15\",\"Appeal Decision\"),\"\")","v":""}]
[]
[]
[null,null,null,null,null,null,null,null,null,null,null,null,null,null,{"$f":"IF(Dashboard1!D20=\"Staff\",HYPERLINK(\"#'Staff current'!a1\",\"View Current Pattern\"),IF(Dashboard1!D20=\"Officer\",HYPERLINK(\"#'Officer current'!a1\",\"View Current Pattern\"),\"\"))","v":"View Current Pattern"}]
[]
[]
[]
[null,null,null,null,null,null,null,null,null,null,null,null,null,null,{"$f":"IF(Dashboard1!D20=\"Staff\",HYPERLINK(\"#'Staff proposed'!a1\",\"View Proposed Pattern\"),IF(Dashboard1!D20=\"Officer\",HYPERLINK(\"#'Officer proposed'!a1\",\"View Proposed Pattern\"),\"\"))","v":"View Proposed Pattern"}]
[]
[]
[]
[null,null,null,null,null,null,null,null,null,null,null,null,null,null,{"$f":"IF(Dashboard1!D20=\"Staff\",HYPERLINK(\"#'Guidance for calculator'!a1\",\"View Guidance Notes\"),IF(Dashboard1!D20=\"Officer\",HYPERLINK(\"#'Guidance-PO'!a1\",\"View Guidance Notes\"),\"\"))","v":"View Guidance Notes"}]
[]
[null,"I confirm that I have reviewed the proposed working pattern and I’ve discussed this with the individual as appropriate:",null,null,null,null,null,null,null,null,null,null,{"$f":"'Review-PS'!M37","v":0}]
[]
[null,"I confirm that I have sought budget approval where there is an increased financial impact: ",null,null,null,null,null,null,null,null,null,null,{"$f":"'Review-PS'!M39","v":0}]
[]
[null,"Please provide the name of the Budget Holder:",null,null,null,null,null,null,null,{"$f":"'Review-PS'!J45","v":0}]
[]
[null,"I confirm I have consulted an appropriate SMT Member or submitted the request to a flexible working panel as appropriate:",null,null,null,null,null,null,null,null,null,null,{"$f":"'Review-PS'!M47","v":0}]
[]
[null,"Please provide the name of the Budget Holder:",null,null,null,null,null,null,null,{"$f":"'Review-PS'!J49","v":0}]
[]
[null,"I confirm that the flexible working request meets business requirements and therefore is approved:",null,null,null,null,null,null,null,null,null,null,{"$f":"'Review-PS'!M51","v":0}]
[]
[null,{"$f":"IF(M44=\"No\",\"I confirm that the flexible working request is declined for the following reasons:\",\"\")","v":""},null,null,null,null,null,null,null,null,null,null,{"$f":"'Review-PS'!M53","v":0}]
[]
[null,{"$f":"IF(M46=\"Yes\",\"Reject Reason 1\",\"\")","v":""},null,{"$f":"'Review-PS'!D55","v":0}]
[]
[null,{"$f":"IF(M46=\"Yes\",\"Reject Reason 2\",\"\")","v":""},null,{"$f":"'Review-PS'!D57","v":0}]
[]
[null,{"$f":"IF(M46=\"Yes\",\"Reject Reason 3\",\"\")","v":""},null,{"$f":"'Review-PS'!D59","v":0}]
[]
[null,"The rationale for my decision to decline the flexible working request is as follows:"]
[null,{"$f":"'Review-PS'!B62","v":0}]
[]
[]
[]
[]
[]
[null,"Where the flexible working request has been approved please confirm:"]
[]
[null,"Start Date of the Flexible Working Pattern:",null,null,null,null,null,null,null,null,null,{"$f":"'Review-PS'!L70","v":"00:00:00"}]
[]
[null,"Review Period:",null,null,null,null,null,null,null,null,null,{"$f":"'Review-PS'!L72","v":0}]
[]
[]
[]
[]
[]
[null,"Line Manager Name:",null,null,null,null,null,null,"Force ID:",null,null,"Date:"]
[null,{"$f":"'Review-PS'!B80","v":0},null,null,null,null,null,null,{"$f":"'Review-PS'!I80","v":0},null,null,{"$f":"'Review-PS'!L80","v":"00:00:00"}]

{"sheet":"Review-PO","index":18,"n_rows":80,"n_cols":16,"rows_kept":80,"cut":false,"hidden":false,"merged":[[55,3,55,8],[55,10,55,12],[57,1,57,2],[59,1,59,2],[59,3,59,8],[59,10,59,12],[57,10,57,12],[62,1,66,12],[70,1,70,9],[70,11,70,12],[72,1,72,4],[72,11,72,12],[80,1,80,6],[80,8,80,9],[80,11,80,12],[77,1,77,6],[22,14,24,17],[25,1,25,9],[26,14,28,17],[30,14,32,17],[45,1,45,5],[45,9,45,12],[73,15,86,18],[49,1,49,5],[49,9,49,12],[55,1,55,2],[22,1,22,7],[57,3,57,8],[40,1,40,12],[41,1,41,8],[43,9,43,12],[16,5,16,6],[18,5,18,6],[18,8,18,12],[20,1,21,3],[21,5,21,6],[43,1,43,7],[8,1,8,3],[8,5,8,12],[10,1,10,3],[10,5,10,12],[12,1,12,3],[12,5,14,12],[0,2,0,13],[4,1,4,3],[4,5,4,10],[4,11,4,12],[6,1,6,3],[6,5,6,12]]}
[]
[]
[]
[]
[null,"Name/Force Number:",null,null,null,{"$f":"'Officer current'!U3","v":"Type name here"},null,null,null,null,null,{"$f":"'Officer current'!V3","v":"Type Force No. here"}]
[]
[null,"Role/Title:",null,null,null,{"$f":"Dashboard1!C22","v":0}]
[]
[null,"BCU/Department:",null,null,null,{"$f":"Dashboard1!C23","v":0}]
[]
[null,"Location:",null,null,null,{"$f":"Dashboard1!C24","v":0}]
[]
[null,"Preferred Contact Details:",null,null,null,{"$f":"Dashboard1!C25","v":0}]
[]
[]
[]
[null,"Date of Request:",null,null,null,{"$f":"Dashboard1!C29","v":"00:00:00"}]
[]
[null,"Date Request Received:"]
[]
[null,"Date of Discussion Meeting with Individual"]
[null,null,null,null,null,null,null,{"$f":"SUM(F22-F19)","v":0}]
[]
[]
[]
[]
[]
[]
[]
[]
[]
[]
[]
[]
[]
[]
[null,"I confirm I have reviewed the proposed working pattern and I’ve discussed this with the individual as appropriate:"]
[]
[]
[null,"I have sought budget approval from Finance where there is an increased financial impact: "]
[null,{"$f":"IF(M40=\"No\",\"You are required to ensure that budgetary approval is sought as part of the decision making process\",\"\")","v":""}]
[null,"I confirm that Financial approval has been granted by Alliance Finance:"]
[]
[null,"Please provide the name and Force No. of who granted Finance approval:"]
[]
[null,"Please provide the name and Force No. of the Budget Holder:"]
[]
[null,"I confirm I have consulted an appropriate SMT Member or submitted the request to a flexible working panel as appropriate:"]
[]
[null,"Please provide the name of the SMT Member:"]
[]
[null,"I confirm that the flexible working request meets business requirements and therefore is approved:"]
[]
[null,{"$f":"IF(M52=\"No\",\"I confirm that the flexible working request is declined:\",\"\")","v":""}]
[]
[null,{"$f":"IF(M54=\"Yes\",\"Reject Reason 1\",\"\")","v":""}]
[]
[null,{"$f":"IF(M54=\"Yes\",\"Reject Reason 2\",\"\")","v":""}]
[]
[null,{"$f":"IF(M54=\"Yes\",\"Reject Reason 3\",\"\")","v":""}]
[]
[null,"Please record a summary of your decision and discussion held with the individual below:"]
[]
[]
[]
[]
[]
[]
[null,{"$f":"IF(M52=\"No\",\"\",\"Where the flexible working request has been approved please confirm:\")","v":"Where the flexible working request has been approved please confirm:"}]
[]
[null,{"$f":"IF(M52=\"No\",\"\",\"Start Date of the Flexible Working Request, if different to that stated above:\")","v":"Start Date of the Flexible Working Request, if different to that stated above:"}]
[]
[null,{"$f":"IF(M52=\"No\",\"\",\"Review Period:\")","v":"Review Period:"}]
[null,null,null,null,null,null,null,null,null,null,null,null,null,null,null,{"$f":"IF(OR(B81=0,I81=0,L81=0),\"Ensure you complete your Name, Force Number and Date at the bottom of this form BEFORE sending back to the individual\",\"\")","v":"Ensure you complete your Name, Force Number and Date at the bottom of this form BEFORE sending back to the individual"}]
[]
[]
[]
[null,"I can confirm I fully support the application:",null,null,null,null,null,null,null,null,null,null,{"$f":"M52","v":0}]
[]
[null,"Line Manager Name:",null,null,null,null,null,null,"Force ID:",null,null,"Date:"]

{"sheet":"Appeal-PS","index":19,"n_rows":46,"n_cols":16,"rows_kept":46,"cut":false,"hidden":false,"merged":[[15,1,15,7],[10,1,10,3],[10,11,10,12],[12,11,12,12],[14,11,14,12],[12,1,12,3],[10,5,14,9],[6,1,6,3],[6,5,6,12],[8,1,8,3],[8,5,8,12],[2,1,2,3],[2,5,2,10],[2,11,2,12],[4,1,4,3],[4,5,4,12],[19,14,21,17],[25,1,38,12],[22,1,24,12],[45,15,58,18],[41,1,41,6],[41,8,41,9],[41,11,41,12]]}
[]
[]
[null,"Name/Force Number:",null,null,null,{"$f":"'Staff currentNA'!V3","v":"Type name here"},null,null,null,null,null,{"$f":"'Staff currentNA'!W3","v":"Type Force No. here"}]
[]
[null,"Role/Title:",null,null,null,{"$f":"Dashboard1!C22","v":0}]
[]
[null,"BCU/Department:",null,null,null,{"$f":"Dashboard1!C23","v":0}]
[]
[null,"Location:",null,null,null,{"$f":"Dashboard1!C24","v":0}]
[]
[null,"Date of Request:",null,null,null,{"$f":"IF(K15>14,\"You have submitted an Appeal more than 14 days after the Date Rejected\",\"\")","v":{"$error":"#VALUE!"}},null,null,null,null,null,{"$f":"Dashboard1!C29","v":"00:00:00"}]
[]
[null,"Date Rejected:",null,null,null,null,null,null,null,null,null,{"$f":"IF('Review-PS'!M51=\"No\",'Review-PS'!L80,\"\")","v":""}]
[]
[null,"Date of Appeal:",null,null,null,null,null,null,null,null,{"$f":"L15-L13","v":{"$error":"#VALUE!"}}]
[null,"(This should be within 10 calendar days from date of rejection)"]
[]
[]
[]
[]
[]
[null,"Grounds of Appeal:"]
[null,"Please provide details of your appeal including any further information or any amendments to your request to reduce the impact on the Force/Unit."]
[]
[]
[]
[]
[]
[]
[]
[]
[]
[]
[]
[]
[]
[]
[]
[]
[]
[null,"Name:",null,null,null,null,null,null,"Force ID:",null,null,"Date:"]
[]
[]
[]
[]
[null,null,null,null,null,null,null,null,null,null,null,null,null,null,null,{"$f":"IF(OR(B42=\"\",I42=\"\",L42=\"\"),\"Ensure you complete your Name, Force Number and Date at the bottom of this form BEFORE submitting your appeal\",\"\")","v":"Ensure you complete your Name, Force Number and Date at the bottom of this form BEFORE submitting your appeal"}]

{"sheet":"Appeal_MAN","index":20,"n_rows":42,"n_cols":15,"rows_kept":42,"cut":false,"hidden":true,"merged":[[6,1,6,3],[6,5,6,12],[2,1,2,3],[2,5,2,10],[2,11,2,12],[4,1,4,3],[4,5,4,12],[8,1,8,3],[8,5,8,12],[10,1,10,3],[10,11,10,12],[12,1,12,3],[12,4,12,7],[12,11,12,12],[19,14,21,17],[22,1,24,12],[23,14,25,17],[25,1,38,12],[35,14,37,17],[27,14,29,17],[31,14,33,17],[41,1,41,6],[41,8,41,9],[41,11,41,12],[14,11,14,12],[15,1,15,7]]}
[]
[]
[null,"Name/Force Number:",null,null,null,{"$f":"Dashboard1!C19","v":"Type name here"},null,null,null,null,null,{"$f":"Dashboard1!C20","v":"Type Force No. here"}]
[]
[null,"Role/Title:",null,null,null,{"$f":"Dashboard1!C22","v":0}]
[]
[null,"BCU/Department:",null,null,null,{"$f":"Dashboard1!C23","v":0}]
[]
[null,"Location:",null,null,null,{"$f":"Dashboard1!C24","v":0}]
[]
[null,"Date of Application:",null,null,null,null,null,null,null,null,null,{"$f":"Dashboard1!C29","v":"00:00:00"}]
[]
[null,"Date Rejected:",null,null,null,null,null,null,null,null,null,{"$f":"'Appeal-PS'!L13","v":""}]
[]
[null,"Date of Appeal:",null,null,null,null,null,null,null,null,null,{"$f":"'Appeal-PS'!L15","v":"00:00:00"}]
[null,"(This should be within 14 days of receiving the rejection)"]
[]
[]
[]
[null,null,null,null,null,null,null,null,null,null,null,null,null,null,{"$f":"IF(Dashboard1!D20=\"Staff\",HYPERLINK(\"#'Staff current'!a1\",\"View Current Pattern\"),IF(Dashboard1!D20=\"Officer\",HYPERLINK(\"#'Officer current'!a1\",\"View Current Pattern\"),\"\"))","v":"View Current Pattern"}]
[]
[null,"Grounds of Appeal:"]
[null,"Please provide details of your appeal including any further information or any amendments to your request to reduce the impact on the Force/Unit."]
[null,null,null,null,null,null,null,null,null,null,null,null,null,null,{"$f":"IF(Dashboard1!D20=\"Staff\",HYPERLINK(\"#'Staff proposed'!a1\",\"View Proposed Pattern\"),IF(Dashboard1!D20=\"Officer\",HYPERLINK(\"#'Officer proposed'!a1\",\"View Proposed Pattern\"),\"\"))","v":"View Proposed Pattern"}]
[]
[null,{"$f":"'Appeal-PS'!B26","v":0}]
[]
[null,null,null,null,null,null,null,null,null,null,null,null,null,null,{"$f":"IF(Dashboard1!D20=\"Staff\",HYPERLINK(\"#'PS-AP_MAN'!a1\",\"View Request\"),IF(Dashboard1!D20=\"Officer\",HYPERLINK(\"#'PO_AP_MAN'!a1\",\"View Request\"),\"\"))","v":"View Request"}]
[]
[]
[]
[null,null,null,null,null,null,null,null,null,null,null,null,null,null,{"$f":"IF(Dashboard1!D20=\"Staff\",HYPERLINK(\"#'PS_RVW_MAN'!a1\",\"View Line Manager Review\"),IF(Dashboard1!D20=\"Officer\",HYPERLINK(\"#'PS_RVW_MAN'!a1\",\"View Line Manager Review\"),\"\"))","v":"View Line Manager Review"}]
[]
[]
[]
[null,null,null,null,null,null,null,null,null,null,null,null,null,null,{"$f":"IF(Dashboard1!D20=\"Staff\",HYPERLINK(\"#'Instructions'!c4\",\"Line Manager Guidance Notes\"),IF(Dashboard1!D20=\"Officer\",HYPERLINK(\"#'Instructions'!c4\",\"Line Manager Guidance Notes\"),\"\"))","v":"Line Manager Guidance Notes"}]
[]
[]
[]
[]
[]
[null,{"$f":"'Appeal-PS'!B42","v":0},null,null,null,null,null,null,{"$f":"'Appeal-PS'!I42","v":0},null,null,{"$f":"'Appeal-PS'!L42","v":"00:00:00"}]

{"sheet":"Appeal-PO","index":21,"n_rows":45,"n_cols":16,"rows_kept":45,"cut":false,"hidden":false,"merged":[[25,1,38,12],[27,14,29,17],[44,15,57,18],[41,1,41,6],[41,8,41,9],[41,11,41,12],[8,1,8,3],[8,5,8,12],[10,1,10,3],[10,5,14,9],[10,11,10,12],[12,1,12,3],[12,11,12,12],[14,11,14,12],[15,1,15,7],[19,14,21,17],[22,1,24,12],[23,14,25,17],[6,1,6,3],[6,5,6,12],[2,1,2,3],[2,5,2,10],[2,11,2,12],[4,1,4,3],[4,5,4,12]]}
[]
[]
[null,"Name/Force Number:",null,null,null,{"$f":"'Officer current'!U3","v":"Type name here"},null,null,null,null,null,{"$f":"'Officer current'!V3","v":"Type Force No. here"}]
[]
[null,"Role/Title:",null,null,null,{"$f":"Dashboard1!C22","v":0}]
[]
[null,"BCU/Department:",null,null,null,{"$f":"Dashboard1!C23","v":0}]
[]
[null,"Location:",null,null,null,{"$f":"Dashboard1!C24","v":0}]
[]
[null,"Date of Request:",null,null,null,{"$f":"IF(K15>14,\"You have submitted an Appeal more than 14 days after the Date Rejected\",\"\")","v":{"$error":"#VALUE!"}},null,null,null,null,null,{"$f":"Dashboard1!C29","v":"00:00:00"}]
[]
[null,"Date Rejected:",null,null,null,null,null,null,null,null,null,{"$f":"IF('Review-PO'!M51=\"No\",'Review-PO'!L80,\"\")","v":""}]
[]
[null,"Date of Appeal:",null,null,null,null,null,null,null,null,{"$f":"L15-L13","v":{"$error":"#VALUE!"}}]
[null,"(This should be within 10 calendar days from date of rejection)"]
[]
[]
[]
[]
[]
[null,"Grounds of Appeal:"]
[null,"Please provide details of your appeal including any further information or any amendments to your request to reduce the impact on the Force/Unit."]
[]
[]
[]
[]
[]
[]
[]
[]
[]
[]
[]
[]
[]
[]
[]
[]
[]
[null,"Name:",null,null,null,null,null,null,"Force ID:",null,null,"Date:"]
[]
[]
[]
[null,null,null,null,null,null,null,null,null,null,null,null,null,null,null,{"$f":"IF(OR(B42=\"\",I42=\"\",L42=\"\"),\"Ensure you complete your Name, Force Number and Date at the bottom of this form BEFORE submitting your appeal\",\"\")","v":"Ensure you complete your Name, Force Number and Date at the bottom of this form BEFORE submitting your appeal"}]

{"sheet":"Instructions","index":22,"n_rows":0,"n_cols":0,"rows_kept":0,"cut":false,"hidden":false,"merged":[[65,0,65,15],[56,0,56,15],[57,1,57,15],[58,1,58,15],[59,1,59,15],[60,1,60,15],[61,1,61,15],[62,0,62,15],[28,1,30,4],[28,6,30,9],[63,0,63,15],[64,0,64,15],[18,1,18,15],[19,1,19,15],[24,1,26,4],[24,6,26,9],[16,1,16,15],[17,1,17,15],[10,0,10,15],[11,0,11,15],[12,1,12,15],[13,1,13,15],[14,1,14,15],[15,1,15,15]]}

{"sheet":"Outcome","index":23,"n_rows":58,"n_cols":12,"rows_kept":58,"cut":false,"hidden":false,"merged":[[21,14,24,17],[38,1,38,2],[38,3,38,8],[38,10,38,12],[42,1,54,12],[36,1,36,2],[36,3,36,8],[36,10,36,12],[26,14,28,17],[40,1,41,12],[30,14,32,17],[34,14,37,17],[34,10,34,12],[34,1,34,2],[34,3,34,8],[0,2,0,13],[2,1,2,3],[2,5,2,10],[2,11,2,12],[4,1,4,3],[15,1,15,7],[24,11,24,12],[26,11,26,12],[4,5,4,12],[6,1,6,3],[6,5,6,12],[8,1,8,3],[8,5,8,12],[12,1,12,3],[12,4,12,7],[12,11,12,12],[14,11,14,12],[10,1,10,3],[10,11,10,12],[58,1,58,6],[58,8,58,9],[58,11,58,12],[57,8,57,9],[57,11,57,12],[57,1,57,6]]}
[]
[]
[null,"Name/Force Number:",null,null,null,{"$f":"'Staff current'!AB3","v":"Type name here"},null,null,null,null,null,{"$f":"'Staff current'!AC3","v":"Type Force No. here"}]
[]
[null,"Role/Title:",null,null,null,{"$f":"Dashboard1!C22","v":0}]
[]
[null,"BCU/Department:",null,null,null,{"$f":"Dashboard1!C23","v":0}]
[]
[null,"Location:",null,null,null,{"$f":"Dashboard1!C24","v":0}]
[]
[null,"Date of Request:",null,null,null,null,null,null,null,null,null,{"$f":"Dashboard1!C29","v":"00:00:00"}]
[]
[null,"Date Rejected:",null,null,null,null,null,null,null,null,null,{"$f":"IF('Review-PS'!M51=\"No\",'Review-PS'!L80,\"\")","v":""}]
[]
[null,"Date of Appeal:",null,null,null,null,null,null,null,null,null,{"$f":"'Appeal-PS'!L15","v":"00:00:00"}]
[null,"(This should be within 10 calendar days of receiving the rejection)"]
[]
[]
[]
[]
[]
[]
[null,"I confirm that I have discussed the flexible working request and appeal with the individual."]
[]
[null,"I confirm that the appeal is:"]
[]
[null,{"$f":"IF(L25=\"Upheld\",\"Where the appeal is upheld I confirm the start date for the flexible working request is:\",\"\")","v":""},null,null,null,null,null,null,null,{"$f":"Dashboard1!C30","v":"00:00:00"}]
[]
[]
[]
[]
[]
[null,{"$f":"IF(L25=\"Rejected\",\"Where the appeal has been declined I confirm that the reason(s) for my decision is:\",\"\")","v":""}]
[]
[null,{"$f":"IF(L25=\"Rejected\",\"Reject Reason 1\",\"\")","v":""}]
[]
[null,{"$f":"IF(L25=\"Rejected\",\"Reject Reason 2\",\"\")","v":""}]
[]
[null,{"$f":"IF(L25=\"Rejected\",\"Reject Reason 3\",\"\")","v":""}]
[]
[null,{"$f":"IF(L25=\"Rejected\",\"The rationale for my decision to decline the flexible working request is as follows:\",\"\")","v":""}]
[]
[]
[]
[]
[]
[]
[]
[]
[]
[]
[]
[]
[]
[]
[]
[]
[null,"Name of Manager Reviewing Appeal:",null,null,null,null,null,null,"Force ID:",null,null,"Date:"]

{"sheet":"Outcome_ind","index":24,"n_rows":59,"n_cols":13,"rows_kept":59,"cut":false,"hidden":true,"merged":[[40,1,41,12],[42,1,54,12],[36,1,36,2],[36,3,36,8],[36,10,36,12],[38,1,38,2],[38,3,38,8],[38,10,38,12],[14,11,14,12],[15,1,15,7],[26,11,26,12],[34,1,34,2],[34,3,34,8],[34,10,34,12],[24,11,24,12],[12,1,12,3],[12,4,12,7],[12,11,12,12],[0,2,0,13],[2,1,2,3],[2,5,2,10],[2,11,2,12],[4,1,4,3],[4,5,4,12],[6,1,6,3],[6,5,6,12],[8,1,8,3],[8,5,8,12],[10,1,10,3],[10,11,10,12],[57,1,57,6],[57,8,57,9],[57,11,57,12],[58,1,58,6],[58,8,58,9],[58,11,58,12]]}
[]
[]
[null,"Name/Force Number:",null,null,null,{"$f":"Dashboard1!C19","v":"Type name here"},null,null,null,null,null,{"$f":"Dashboard1!C20","v":"Type Force No. here"}]
[]
[null,"Role/Title:",null,null,null,{"$f":"Dashboard1!C22","v":0}]
[]
[null,"BCU/Department:",null,null,null,{"$f":"Dashboard1!C23","v":0}]
[]
[null,"Location:",null,null,null,{"$f":"Dashboard1!C24","v":0}]
[]
[null,"Date of Application:",null,null,null,null,null,null,null,null,null,{"$f":"Dashboard1!C29","v":"00:00:00"}]
[]
[null,"Date Rejected:",null,null,null,null,null,null,null,null,null,{"$f":"Outcome!L13","v":""}]
[]
[null,"Date of Appeal:",null,null,null,null,null,null,null,null,null,{"$f":"Outcome!L15","v":"00:00:00"}]
[null,"(This should be within 14 days of receiving the rejection)"]
[]
[]
[]
[]
[]
[]
[null,"I confirm that I have discussed the flexible working request and appeal with the individual.",null,null,null,null,null,null,null,null,null,null,{"$f":"Outcome!M23","v":0}]
[]
[null,"I confirm that the appeal is:",null,null,null,null,null,null,null,null,null,{"$f":"Outcome!L25","v":0}]
[]
[null,{"$f":"Outcome!B27","v":""},null,null,null,null,null,null,null,null,null,{"$f":"IF(B27>\"\",Outcome!L27,\"\")","v":""}]
[]
[]
[]
[]
[]
[null,{"$f":"Outcome!B33","v":""}]
[]
[null,{"$f":"Outcome!B35","v":""},null,{"$f":"IF(B35>\"\",Outcome!D35,\"\")","v":""}]
[]
[null,{"$f":"Outcome!B37","v":""},null,{"$f":"IF(B37>\"\",Outcome!D37,\"\")","v":""}]
[]
[null,{"$f":"Outcome!B39","v":""},null,{"$f":"IF(B39>\"\",Outcome!D39,\"\")","v":""}]
[]
[null,{"$f":"Outcome!B41","v":""}]
[]
[null,{"$f":"Outcome!B43","v":0}]
[]
[]
[]
[]
[]
[]
[]
[]
[]
[]
[]
[]
[]
[]
[null,{"$f":"Outcome!B58","v":"Name of Manager Reviewing Appeal:"},null,null,null,null,null,null,{"$f":"Outcome!I58","v":"Force ID:"},null,null,{"$f":"Outcome!L58","v":"Date:"}]
[null,{"$f":"Outcome!B59","v":0},null,null,null,null,null,null,{"$f":"Outcome!I59","v":0},null,null,{"$f":"Outcome!L59","v":"00:00:00"}]

{"sheet":"Outcome (2)","index":25,"n_rows":58,"n_cols":12,"rows_kept":58,"cut":false,"hidden":false,"merged":[[58,1,58,6],[58,8,58,9],[58,11,58,12],[38,1,38,2],[38,3,38,8],[38,10,38,12],[40,1,41,12],[42,1,54,12],[57,1,57,6],[57,8,57,9],[57,11,57,12],[26,11,26,12],[26,14,28,17],[30,14,32,17],[34,1,34,2],[34,3,34,8],[34,10,34,12],[34,14,37,17],[36,1,36,2],[36,3,36,8],[36,10,36,12],[21,14,24,17],[24,11,24,12],[6,1,6,3],[6,5,6,12],[8,1,8,3],[8,5,8,12],[10,1,10,3],[10,11,10,12],[12,1,12,3],[12,4,12,7],[12,11,12,12],[14,11,14,12],[15,1,15,7],[0,2,0,13],[2,1,2,3],[2,5,2,10],[2,11,2,12],[4,1,4,3],[4,5,4,12]]}
[]
[]
[null,"Name/Force Number:",null,null,null,{"$f":"Dashboard1!C19","v":"Type name here"},null,null,null,null,null,{"$f":"Dashboard1!C20","v":"Type Force No. here"}]
[]
[null,"Role/Title:",null,null,null,{"$f":"Dashboard1!C22","v":0}]
[]
[null,"BCU/Department:",null,null,null,{"$f":"Dashboard1!C23","v":0}]
[]
[null,"Location:",null,null,null,{"$f":"Dashboard1!C24","v":0}]
[]
[null,"Date of Request:",null,null,null,null,null,null,null,null,null,{"$f":"Dashboard1!C29","v":"00:00:00"}]
[]
[null,"Date Rejected:",null,null,null,null,null,null,null,null,null,{"$f":"'Appeal-PS'!L13","v":""}]
[]
[null,"Date of Appeal:",null,null,null,null,null,null,null,null,null,{"$f":"'Appeal-PS'!L15","v":"00:00:00"}]
[null,"(This should be within 10 calendar days of receiving the rejection)"]
[]
[]
[]
[]
[]
[]
[null,"I confirm that I have discussed the flexible working request and appeal with the individual."]
[]
[null,"I confirm that the appeal is:"]
[]
[null,{"$f":"IF(L25=\"Supported\",\"Where the appeal is supported I confirm the start date for the flexible working request is:\",\"\")","v":""},null,null,null,null,null,null,null,{"$f":"Dashboard1!C30","v":"00:00:00"}]
[]
[]
[]
[]
[]
[null,{"$f":"IF(L25=\"Rejected\",\"Where the appeal has been declined I confirm that the reason(s) for my decision is:\",\"\")","v":""}]
[]
[null,{"$f":"IF(L25=\"Rejected\",\"Reject Reason 1\",\"\")","v":""}]
[]
[null,{"$f":"IF(L25=\"Rejected\",\"Reject Reason 2\",\"\")","v":""}]
[]
[null,{"$f":"IF(L25=\"Rejected\",\"Reject Reason 3\",\"\")","v":""}]
[]
[null,{"$f":"IF(L25=\"Rejected\",\"The rationale for my decision to decline the flexible working request is as follows:\",\"\")","v":""}]
[]
[]
[]
[]
[]
[]
[]
[]
[]
[]
[]
[]
[]
[]
[]
[]
[null,"Name of Manager Reviewing Appeal:",null,null,null,null,null,null,"Force ID:",null,null,"Date:"]

{"sheet":"Guidance for calculator","index":26,"n_rows":0,"n_cols":0,"rows_kept":0,"cut":false,"hidden":false,"merged":[[79,1,79,15],[37,1,37,15],[38,1,38,15],[39,1,39,15],[32,0,32,15],[33,0,33,15],[34,1,34,15],[35,1,35,15],[36,1,36,15]]}

{"sheet":"Guidance - PO","index":27,"n_rows":0,"n_cols":0,"rows_kept":0,"cut":false,"hidden":false,"merged":[[64,0,64,15],[65,0,65,15],[56,0,56,15],[57,1,57,15],[58,1,58,15],[59,1,59,15],[60,1,60,15],[61,1,61,15],[31,13,37,13],[31,14,37,14],[29,0,29,1],[62,0,62,15],[63,0,63,15]]}

{"sheet":"PS-Calcs","index":28,"n_rows":374,"n_cols":17,"rows_kept":374,"cut":false,"hidden":true,"merged":[]}
[null,"Day","Date","Start Time","ST1","End Time","ET1","Daily hours","Hrs until next shift","11:00:00",1,null,"WTD6",null,"24BRK","48BRK",1.5416666666666667]
[{"$f":"IF('Staff proposed'!C3>0,'Staff proposed'!C3,\"\")","v":"Week1"},{"$f":"IF(C2>0,TEXT(C2, \"ddd\"),\"\")","v":""},{"$f":"'Staff proposed'!AB18","v":"00:00:00"},{"$f":"IF(ISTEXT('Staff proposed'!E3),0,'Staff proposed'!E3)","v":"00:00:00"},{"$f":"'Staff proposed'!E3","v":"00:00:00"},{"$f":"IF(ISTEXT('Staff proposed'!F3),0,'Staff proposed'!F3)","v":"00:00:00"},{"$f":"'Staff proposed'!F3","v":"00:00:00"},{"$f":"IF(ISTEXT(D2),0,F2-D2)","v":0},{"$f":"IF(ISTEXT(E2),0,IF(ISTEXT(E3),0,E3+(G2>E2)-G2))","v":0},{"$f":"IF(I2=\"\",\"\",IF(I2>=$J$1,\"Over\",IF(AND(I2>0,I2<=$J$1),\"Under\",\"Rest\")))","v":"Rest"},{"$f":"IF(ISNUMBER(E2),1,\"\")","v":1},{"$f":"IF(K2=\"\",\"Rest Day\",IF(K1=\"\",K2,(L1+K2)))","v":1},{"$f":"IF($D$2=0,\"\",IF(ISTEXT(L2),\"\",IF(L2>6,\"Exceeds\",\"\")))","v":""},{"$f":"IF(L2=\"Rest Day\",0,L2)","v":1},{"$f":"IF(AND(N3>=7,N2>=7),\"NB\",\"B\")","v":"B"},{"$f":"IF(AND(N2>=14,N1>=14),\"NB\",\"B\")","v":"B"}]
[null,{"$f":"IF(C3>0,TEXT(C3, \"ddd\"),\"\")","v":"Sun"},{"$f":"IF($A$2=0,\"\",C2+1)","v":"1900-01-01"},{"$f":"IF(ISTEXT('Staff proposed'!E4),0,'Staff proposed'!E4)","v":"00:00:00"},{"$f":"'Staff proposed'!E4","v":"00:00:00"},{"$f":"IF(ISTEXT('Staff proposed'!F4),0,'Staff proposed'!F4)","v":"00:00:00"},{"$f":"'Staff proposed'!F4","v":"00:00:00"},{"$f":"IF(ISTEXT(D3),0,F3-D3)","v":0},{"$f":"IF(ISTEXT(E3),0,IF(ISTEXT(E4),0,E4+(G3>E3)-G3))","v":0},"Rest",{"$f":"IF(ISNUMBER(E3),1,\"\")","v":1},{"$f":"IF(K3=\"\",\"Rest Day\",IF(K2=\"\",K3,(L2+K3)))","v":2},{"$f":"IF($D$2=0,\"\",IF(ISTEXT(L3),\"\",IF(L3>6,\"Exceeds\",\"\")))","v":""},{"$f":"IF(L3=\"Rest Day\",0,L3)","v":2},{"$f":"IF(AND(N4>=7,N3>=7),\"NB\",\"B\")","v":"B"},{"$f":"IF(AND(N3>=14,N2>=14),\"NB\",\"B\")","v":"B"}]
[null,"Mon",{"$f":"IF($A$2=0,\"\",C3+1)","v":"1900-01-02"},{"$f":"IF(ISTEXT('Staff proposed'!E5),0,'Staff proposed'!E5)","v":"00:00:00"},{"$f":"'Staff proposed'!E5","v":"00:00:00"},{"$f":"IF(ISTEXT('Staff proposed'!F5),0,'Staff proposed'!F5)","v":"00:00:00"},{"$f":"'Staff proposed'!F5","v":"00:00:00"},0,0,"Rest",1,3,"",3,"B","B"]
[null,"Tue","1900-01-03",{"$f":"IF(ISTEXT('Staff proposed'!E6),0,'Staff proposed'!E6)","v":"00:00:00"},{"$f":"'Staff proposed'!E6","v":"00:00:00"},{"$f":"IF(ISTEXT('Staff proposed'!F6),0,'Staff proposed'!F6)","v":"00:00:00"},{"$f":"'Staff proposed'!F6","v":"00:00:00"},0,0,"Rest",1,4,"",4,"B","B"]
[null,"Wed","1900-01-04",{"$f":"IF(ISTEXT('Staff proposed'!E7),0,'Staff proposed'!E7)","v":"00:00:00"},{"$f":"'Staff proposed'!E7","v":"00:00:00"},{"$f":"IF(ISTEXT('Staff proposed'!F7),0,'Staff proposed'!F7)","v":"00:00:00"},{"$f":"'Staff proposed'!F7","v":"00:00:00"},0,0,"Rest",1,5,"",5,"B","B"]
[null,"Thu","1900-01-05",{"$f":"IF(ISTEXT('Staff proposed'!E8),0,'Staff proposed'!E8)","v":"00:00:00"},{"$f":"'Staff proposed'!E8","v":"00:00:00"},{"$f":"IF(ISTEXT('Staff proposed'!F8),0,'Staff proposed'!F8)","v":"00:00:00"},{"$f":"'Staff proposed'!F8","v":"00:00:00"},0,0,"Rest",1,6,"",6,"B","B"]
[null,"Fri","1900-01-06",{"$f":"IF(ISTEXT('Staff proposed'!E9),0,'Staff proposed'!E9)","v":"00:00:00"},{"$f":"'Staff proposed'!E9","v":"00:00:00"},{"$f":"IF(ISTEXT('Staff proposed'!F9),0,'Staff proposed'!F9)","v":"00:00:00"},{"$f":"'Staff proposed'!F9","v":"00:00:00"},0,0,"Rest",1,7,"",7,"NB","B"]
[{"$f":"IF('Staff proposed'!#REF!>0,'Staff proposed'!#REF!,\"\")","v":{"$error":"#REF!"}},{"$f":"IF(C9>0,TEXT(C9, \"ddd\"),\"\")","v":"Sat"},"1900-01-07",{"$f":"IF(ISTEXT('Staff proposed'!E10),0,'Staff proposed'!E10)","v":"00:00:00"},{"$f":"'Staff proposed'!E10","v":"00:00:00"},{"$f":"IF(ISTEXT('Staff proposed'!F10),0,'Staff proposed'!F10)","v":"00:00:00"},{"$f":"'Staff proposed'!F10","v":"00:00:00"},0,0,"Rest",1,8,"",8,"NB","B"]
[null,"Sun","1900-01-08",{"$f":"IF(ISTEXT('Staff proposed'!E11),0,'Staff proposed'!E11)","v":"00:00:00"},{"$f":"'Staff proposed'!E11","v":"00:00:00"},{"$f":"IF(ISTEXT('Staff proposed'!F11),0,'Staff proposed'!F11)","v":"00:00:00"},{"$f":"'Staff proposed'!F11","v":"00:00:00"},0,0,"Rest",1,9,"",9,"NB","B"]
[null,"Mon","1900-01-09",{"$f":"IF(ISTEXT('Staff proposed'!E12),0,'Staff proposed'!E12)","v":"00:00:00"},{"$f":"'Staff proposed'!E12","v":"00:00:00"},{"$f":"IF(ISTEXT('Staff proposed'!F12),0,'Staff proposed'!F12)","v":"00:00:00"},{"$f":"'Staff proposed'!F12","v":"00:00:00"},0,0,"Rest",1,10,"",10,"NB","B"]
[null,"Tue","1900-01-10",{"$f":"IF(ISTEXT('Staff proposed'!E13),0,'Staff proposed'!E13)","v":"00:00:00"},{"$f":"'Staff proposed'!E13","v":"00:00:00"},{"$f":"IF(ISTEXT('Staff proposed'!F13),0,'Staff proposed'!F13)","v":"00:00:00"},{"$f":"'Staff proposed'!F13","v":"00:00:00"},0,0,"Rest",1,11,"",11,"NB","B"]
[null,"Wed","1900-01-11",{"$f":"IF(ISTEXT('Staff proposed'!E14),0,'Staff proposed'!E14)","v":"00:00:00"},{"$f":"'Staff proposed'!E14","v":"00:00:00"},{"$f":"IF(ISTEXT('Staff proposed'!F14),0,'Staff proposed'!F14)","v":"00:00:00"},{"$f":"'Staff proposed'!F14","v":"00:00:00"},0,0,"Rest",1,12,"",12,"NB","B"]
[null,"Thu","1900-01-12",{"$f":"IF(ISTEXT('Staff proposed'!E15),0,'Staff proposed'!E15)","v":"00:00:00"},{"$f":"'Staff proposed'!E15","v":"00:00:00"},{"$f":"IF(ISTEXT('Staff proposed'!F15),0,'Staff proposed'!F15)","v":"00:00:00"},{"$f":"'Staff proposed'!F15","v":"00:00:00"},0,0,"Rest",1,13,"",13,"NB","B"]
[null,"Fri","1900-01-13",{"$f":"IF(ISTEXT('Staff proposed'!E16),0,'Staff proposed'!E16)","v":"00:00:00"},{"$f":"'Staff proposed'!E16","v":"00:00:00"},{"$f":"IF(ISTEXT('Staff proposed'!F16),0,'Staff proposed'!F16)","v":"00:00:00"},{"$f":"'Staff proposed'!F16","v":"00:00:00"},0,0,"Rest",1,14,"",14,"NB","B"]
[{"$f":"IF('Staff proposed'!C17>0,'Staff proposed'!C17,\"\")","v":"Week3"},"Sat","1900-01-14",{"$f":"IF(ISTEXT('Staff proposed'!E17),0,'Staff proposed'!E17)","v":"00:00:00"},{"$f":"'Staff proposed'!E17","v":"00:00:00"},{"$f":"IF(ISTEXT('Staff proposed'!F17),0,'Staff proposed'!F17)","v":"00:00:00"},{"$f":"'Staff proposed'!F17","v":"00:00:00"},0,0,"Rest",1,15,"",15,"NB","NB"]
[null,"Sun","1900-01-15",{"$f":"IF(ISTEXT('Staff proposed'!E18),0,'Staff proposed'!E18)","v":"00:00:00"},{"$f":"'Staff proposed'!E18","v":"00:00:00"},{"$f":"IF(ISTEXT('Staff proposed'!F18),0,'Staff proposed'!F18)","v":"00:00:00"},{"$f":"'Staff proposed'!F18","v":"00:00:00"},0,0,"Rest",1,16,"",16,"NB","NB"]
[null,"Mon","1900-01-16",{"$f":"IF(ISTEXT('Staff proposed'!E19),0,'Staff proposed'!E19)","v":"00:00:00"},{"$f":"'Staff proposed'!E19","v":"00:00:00"},{"$f":"IF(ISTEXT('Staff proposed'!F19),0,'Staff proposed'!F19)","v":"00:00:00"},{"$f":"'Staff proposed'!F19","v":"00:00:00"},0,0,"Rest",1,17,"",17,"NB","NB"]
[null,"Tue","1900-01-17",{"$f":"IF(ISTEXT('Staff proposed'!E20),0,'Staff proposed'!E20)","v":"00:00:00"},{"$f":"'Staff proposed'!E20","v":"00:00:00"},{"$f":"IF(ISTEXT('Staff proposed'!F20),0,'Staff proposed'!F20)","v":"00:00:00"},{"$f":"'Staff proposed'!F20","v":"00:00:00"},0,0,"Rest",1,18,"",18,"NB","NB"]
[null,"Wed","1900-01-18",{"$f":"IF(ISTEXT('Staff proposed'!E21),0,'Staff proposed'!E21)","v":"00:00:00"},{"$f":"'Staff proposed'!E21","v":"00:00:00"},{"$f":"IF(ISTEXT('Staff proposed'!F21),0,'Staff proposed'!F21)","v":"00:00:00"},{"$f":"'Staff proposed'!F21","v":"00:00:00"},0,0,"Rest",1,19,"",19,"NB","NB"]
[null,"Thu","1900-01-19",{"$f":"IF(ISTEXT('Staff proposed'!E22),0,'Staff proposed'!E22)","v":"00:00:00"},{"$f":"'Staff proposed'!E22","v":"00:00:00"},{"$f":"IF(ISTEXT('Staff proposed'!F22),0,'Staff proposed'!F22)","v":"00:00:00"},{"$f":"'Staff proposed'!F22","v":"00:00:00"},0,0,"Rest",1,20,"",20,"NB","NB"]
[null,"Fri","1900-01-20",{"$f":"IF(ISTEXT('Staff proposed'!E23),0,'Staff proposed'!E23)","v":"00:00:00"},{"$f":"'Staff proposed'!E23","v":"00:00:00"},{"$f":"IF(ISTEXT('Staff proposed'!F23),0,'Staff proposed'!F23)","v":"00:00:00"},{"$f":"'Staff proposed'!F23","v":"00:00:00"},0,0,"Rest",1,21,"",21,"NB","NB"]
[{"$f":"IF('Staff proposed'!C24>0,'Staff proposed'!C24,\"\")","v":"Week4"},"Sat","1900-01-21",{"$f":"IF(ISTEXT('Staff proposed'!E24),0,'Staff proposed'!E24)","v":"00:00:00"},{"$f":"'Staff proposed'!E24","v":"00:00:00"},{"$f":"IF(ISTEXT('Staff proposed'!F24),0,'Staff proposed'!F24)","v":"00:00:00"},{"$f":"'Staff proposed'!F24","v":"00:00:00"},0,0,"Rest",1,22,"",22,"NB","NB"]
[null,"Sun","1900-01-22",{"$f":"IF(ISTEXT('Staff proposed'!E25),0,'Staff proposed'!E25)","v":"00:00:00"},{"$f":"'Staff proposed'!E25","v":"00:00:00"},{"$f":"IF(ISTEXT('Staff proposed'!F25),0,'Staff proposed'!F25)","v":"00:00:00"},{"$f":"'Staff proposed'!F25","v":"00:00:00"},0,0,"Rest",1,23,"",23,"NB","NB"]
[null,"Mon","1900-01-23",{"$f":"IF(ISTEXT('Staff proposed'!E26),0,'Staff proposed'!E26)","v":"00:00:00"},{"$f":"'Staff proposed'!E26","v":"00:00:00"},{"$f":"IF(ISTEXT('Staff proposed'!F26),0,'Staff proposed'!F26)","v":"00:00:00"},{"$f":"'Staff proposed'!F26","v":"00:00:00"},0,0,"Rest",1,24,"",24,"NB","NB"]
[null,"Tue","1900-01-24",{"$f":"IF(ISTEXT('Staff proposed'!E27),0,'Staff proposed'!E27)","v":"00:00:00"},{"$f":"'Staff proposed'!E27","v":"00:00:00"},{"$f":"IF(ISTEXT('Staff proposed'!F27),0,'Staff proposed'!F27)","v":"00:00:00"},{"$f":"'Staff proposed'!F27","v":"00:00:00"},0,0,"Rest",1,25,"",25,"NB","NB"]
[null,"Wed","1900-01-25",{"$f":"IF(ISTEXT('Staff proposed'!E28),0,'Staff proposed'!E28)","v":"00:00:00"},{"$f":"'Staff proposed'!E28","v":"00:00:00"},{"$f":"IF(ISTEXT('Staff proposed'!F28),0,'Staff proposed'!F28)","v":"00:00:00"},{"$f":"'Staff proposed'!F28","v":"00:00:00"},0,0,"Rest",1,26,"",26,"NB","NB"]
[null,"Thu","1900-01-26",{"$f":"IF(ISTEXT('Staff proposed'!E29),0,'Staff proposed'!E29)","v":"00:00:00"},{"$f":"'Staff proposed'!E29","v":"00:00:00"},{"$f":"IF(ISTEXT('Staff proposed'!F29),0,'Staff proposed'!F29)","v":"00:00:00"},{"$f":"'Staff proposed'!F29","v":"00:00:00"},0,0,"Rest",1,27,"",27,"NB","NB"]
[null,"Fri","1900-01-27",{"$f":"IF(ISTEXT('Staff proposed'!E30),0,'Staff proposed'!E30)","v":"00:00:00"},{"$f":"'Staff proposed'!E30","v":"00:00:00"},{"$f":"IF(ISTEXT('Staff proposed'!F30),0,'Staff proposed'!F30)","v":"00:00:00"},{"$f":"'Staff proposed'!F30","v":"00:00:00"},0,0,"Rest",1,28,"",28,"NB","NB"]
[{"$f":"IF('Staff proposed'!C31>0,'Staff proposed'!C31,\"\")","v":"Week5"},"Sat","1900-01-28",{"$f":"IF(ISTEXT('Staff proposed'!E31),0,'Staff proposed'!E31)","v":"00:00:00"},{"$f":"'Staff proposed'!E31","v":"00:00:00"},{"$f":"IF(ISTEXT('Staff proposed'!F31),0,'Staff proposed'!F31)","v":"00:00:00"},{"$f":"'Staff proposed'!F31","v":"00:00:00"},0,0,"Rest",1,29,"",29,"NB","NB"]
[null,"Sun","1900-01-29",{"$f":"IF(ISTEXT('Staff proposed'!E32),0,'Staff proposed'!E32)","v":"00:00:00"},{"$f":"'Staff proposed'!E32","v":"00:00:00"},{"$f":"IF(ISTEXT('Staff proposed'!F32),0,'Staff proposed'!F32)","v":"00:00:00"},{"$f":"'Staff proposed'!F32","v":"00:00:00"},0,0,"Rest",1,30,"",30,"NB","NB"]
[null,"Mon","1900-01-30",{"$f":"IF(ISTEXT('Staff proposed'!E33),0,'Staff proposed'!E33)","v":"00:00:00"},{"$f":"'Staff proposed'!E33","v":"00:00:00"},{"$f":"IF(ISTEXT('Staff proposed'!F33),0,'Staff proposed'!F33)","v":"00:00:00"},{"$f":"'Staff proposed'!F33","v":"00:00:00"},0,0,"Rest",1,31,"",31,"NB","NB"]
[null,"Tue","1900-01-31",{"$f":"IF(ISTEXT('Staff proposed'!E34),0,'Staff proposed'!E34)","v":"00:00:00"},{"$f":"'Staff proposed'!E34","v":"00:00:00"},{"$f":"IF(ISTEXT('Staff proposed'!F34),0,'Staff proposed'!F34)","v":"00:00:00"},{"$f":"'Staff proposed'!F34","v":"00:00:00"},0,0,"Rest",1,32,"",32,"NB","NB"]
[null,"Wed","1900-02-01",{"$f":"IF(ISTEXT('Staff proposed'!E35),0,'Staff proposed'!E35)","v":"00:00:00"},{"$f":"'Staff proposed'!E35","v":"00:00:00"},{"$f":"IF(ISTEXT('Staff proposed'!F35),0,'Staff proposed'!F35)","v":"00:00:00"},{"$f":"'Staff proposed'!F35","v":"00:00:00"},0,0,{"$f":"IF(I34=\"\",\"\",IF(I34>=$J$1,\"Over\",IF(AND(I34>0,I34<=$J$1),\"Under\",\"Rest\")))","v":"Rest"},1,33,"",33,"NB","NB"]
[null,"Thu","1900-02-02",{"$f":"IF(ISTEXT('Staff proposed'!E36),0,'Staff proposed'!E36)","v":"00:00:00"},{"$f":"'Staff proposed'!E36","v":"00:00:00"},{"$f":"IF(ISTEXT('Staff proposed'!F36),0,'Staff proposed'!F36)","v":"00:00:00"},{"$f":"'Staff proposed'!F36","v":"00:00:00"},0,0,"Rest",1,34,"",34,"NB","NB"]
[null,"Fri","1900-02-03",{"$f":"IF(ISTEXT('Staff proposed'!E37),0,'Staff proposed'!E37)","v":"00:00:00"},{"$f":"'Staff proposed'!E37","v":"00:00:00"},{"$f":"IF(ISTEXT('Staff proposed'!F37),0,'Staff proposed'!F37)","v":"00:00:00"},{"$f":"'Staff proposed'!F37","v":"00:00:00"},0,0,"Rest",1,35,"",35,"NB","NB"]
[{"$f":"IF('Staff proposed'!C38>0,'Staff proposed'!C38,\"\")","v":"Week6"},"Sat","1900-02-04",{"$f":"IF(ISTEXT('Staff proposed'!E38),0,'Staff proposed'!E38)","v":"00:00:00"},{"$f":"'Staff proposed'!E38","v":"00:00:00"},{"$f":"IF(ISTEXT('Staff proposed'!F38),0,'Staff proposed'!F38)","v":"00:00:00"},{"$f":"'Staff proposed'!F38","v":"00:00:00"},0,0,"Rest",1,36,"",36,"NB","NB"]
[null,"Sun","1900-02-05",{"$f":"IF(ISTEXT('Staff proposed'!E39),0,'Staff proposed'!E39)","v":"00:00:00"},{"$f":"'Staff proposed'!E39","v":"00:00:00"},{"$f":"IF(ISTEXT('Staff proposed'!F39),0,'Staff proposed'!F39)","v":"00:00:00"},{"$f":"'Staff proposed'!F39","v":"00:00:00"},0,0,"Rest",1,37,"",37,"NB","NB"]
[null,"Mon","1900-02-06",{"$f":"IF(ISTEXT('Staff proposed'!E40),0,'Staff proposed'!E40)","v":"00:00:00"},{"$f":"'Staff proposed'!E40","v":"00:00:00"},{"$f":"IF(ISTEXT('Staff proposed'!F40),0,'Staff proposed'!F40)","v":"00:00:00"},{"$f":"'Staff proposed'!F40","v":"00:00:00"},0,0,"Rest",1,38,"",38,"NB","NB"]
[null,"Tue","1900-02-07",{"$f":"IF(ISTEXT('Staff proposed'!E41),0,'Staff proposed'!E41)","v":"00:00:00"},{"$f":"'Staff proposed'!E41","v":"00:00:00"},{"$f":"IF(ISTEXT('Staff proposed'!F41),0,'Staff proposed'!F41)","v":"00:00:00"},{"$f":"'Staff proposed'!F41","v":"00:00:00"},0,0,"Rest",1,39,"",39,"NB","NB"]
[null,"Wed","1900-02-08",{"$f":"IF(ISTEXT('Staff proposed'!E42),0,'Staff proposed'!E42)","v":"00:00:00"},{"$f":"'Staff proposed'!E42","v":"00:00:00"},{"$f":"IF(ISTEXT('Staff proposed'!F42),0,'Staff proposed'!F42)","v":"00:00:00"},{"$f":"'Staff proposed'!F42","v":"00:00:00"},0,0,"Rest",1,40,"",40,"NB","NB"]
[null,"Thu","1900-02-09",{"$f":"IF(ISTEXT('Staff proposed'!E43),0,'Staff proposed'!E43)","v":"00:00:00"},{"$f":"'Staff proposed'!E43","v":"00:00:00"},{"$f":"IF(ISTEXT('Staff proposed'!F43),0,'Staff proposed'!F43)","v":"00:00:00"},{"$f":"'Staff proposed'!F43","v":"00:00:00"},0,0,"Rest",1,41,"",41,"NB","NB"]
[null,"Fri","1900-02-10",{"$f":"IF(ISTEXT('Staff proposed'!E44),0,'Staff proposed'!E44)","v":"00:00:00"},{"$f":"'Staff proposed'!E44","v":"00:00:00"},{"$f":"IF(ISTEXT('Staff proposed'!F44),0,'Staff proposed'!F44)","v":"00:00:00"},{"$f":"'Staff proposed'!F44","v":"00:00:00"},0,0,"Rest",1,42,"",42,"NB","NB"]
[{"$f":"IF('Staff proposed'!C45>0,'Staff proposed'!C45,\"\")","v":"Week7"},"Sat","1900-02-11",{"$f":"IF(ISTEXT('Staff proposed'!E45),0,'Staff proposed'!E45)","v":"00:00:00"},{"$f":"'Staff proposed'!E45","v":"00:00:00"},{"$f":"IF(ISTEXT('Staff proposed'!F45),0,'Staff proposed'!F45)","v":"00:00:00"},{"$f":"'Staff proposed'!F45","v":"00:00:00"},0,0,"Rest",1,43,"",43,"NB","NB"]
[null,"Sun","1900-02-12",{"$f":"IF(ISTEXT('Staff proposed'!E46),0,'Staff proposed'!E46)","v":"00:00:00"},{"$f":"'Staff proposed'!E46","v":"00:00:00"},{"$f":"IF(ISTEXT('Staff proposed'!F46),0,'Staff proposed'!F46)","v":"00:00:00"},{"$f":"'Staff proposed'!F46","v":"00:00:00"},0,0,"Rest",1,44,"",44,"NB","NB"]
[null,"Mon","1900-02-13",{"$f":"IF(ISTEXT('Staff proposed'!E47),0,'Staff proposed'!E47)","v":"00:00:00"},{"$f":"'Staff proposed'!E47","v":"00:00:00"},{"$f":"IF(ISTEXT('Staff proposed'!F47),0,'Staff proposed'!F47)","v":"00:00:00"},{"$f":"'Staff proposed'!F47","v":"00:00:00"},0,0,"Rest",1,45,"",45,"NB","NB"]
[null,"Tue","1900-02-14",{"$f":"IF(ISTEXT('Staff proposed'!E48),0,'Staff proposed'!E48)","v":"00:00:00"},{"$f":"'Staff proposed'!E48","v":"00:00:00"},{"$f":"IF(ISTEXT('Staff proposed'!F48),0,'Staff proposed'!F48)","v":"00:00:00"},{"$f":"'Staff proposed'!F48","v":"00:00:00"},0,0,"Rest",1,46,"",46,"NB","NB"]
[null,"Wed","1900-02-15",{"$f":"IF(ISTEXT('Staff proposed'!E49),0,'Staff proposed'!E49)","v":"00:00:00"},{"$f":"'Staff proposed'!E49","v":"00:00:00"},{"$f":"IF(ISTEXT('Staff proposed'!F49),0,'Staff proposed'!F49)","v":"00:00:00"},{"$f":"'Staff proposed'!F49","v":"00:00:00"},0,0,"Rest",1,47,"",47,"NB","NB"]
[null,"Thu","1900-02-16",{"$f":"IF(ISTEXT('Staff proposed'!E50),0,'Staff proposed'!E50)","v":"00:00:00"},{"$f":"'Staff proposed'!E50","v":"00:00:00"},{"$f":"IF(ISTEXT('Staff proposed'!F50),0,'Staff proposed'!F50)","v":"00:00:00"},{"$f":"'Staff proposed'!F50","v":"00:00:00"},0,0,"Rest",1,48,"",48,"NB","NB"]
[null,"Fri","1900-02-17",{"$f":"IF(ISTEXT('Staff proposed'!E51),0,'Staff proposed'!E51)","v":"00:00:00"},{"$f":"'Staff proposed'!E51","v":"00:00:00"},{"$f":"IF(ISTEXT('Staff proposed'!F51),0,'Staff proposed'!F51)","v":"00:00:00"},{"$f":"'Staff proposed'!F51","v":"00:00:00"},0,0,"Rest",1,49,"",49,"NB","NB"]
[{"$f":"IF('Staff proposed'!C52>0,'Staff proposed'!C52,\"\")","v":"Week8"},"Sat","1900-02-18",{"$f":"IF(ISTEXT('Staff proposed'!E52),0,'Staff proposed'!E52)","v":"00:00:00"},{"$f":"'Staff proposed'!E52","v":"00:00:00"},{"$f":"IF(ISTEXT('Staff proposed'!F52),0,'Staff proposed'!F52)","v":"00:00:00"},{"$f":"'Staff proposed'!F52","v":"00:00:00"},0,0,"Rest",1,50,"",50,"NB","NB"]
[null,"Sun","1900-02-19",{"$f":"IF(ISTEXT('Staff proposed'!E53),0,'Staff proposed'!E53)","v":"00:00:00"},{"$f":"'Staff proposed'!E53","v":"00:00:00"},{"$f":"IF(ISTEXT('Staff proposed'!F53),0,'Staff proposed'!F53)","v":"00:00:00"},{"$f":"'Staff proposed'!F53","v":"00:00:00"},0,0,"Rest",1,51,"",51,"NB","NB"]
[null,"Mon","1900-02-20",{"$f":"IF(ISTEXT('Staff proposed'!E54),0,'Staff proposed'!E54)","v":"00:00:00"},{"$f":"'Staff proposed'!E54","v":"00:00:00"},{"$f":"IF(ISTEXT('Staff proposed'!F54),0,'Staff proposed'!F54)","v":"00:00:00"},{"$f":"'Staff proposed'!F54","v":"00:00:00"},0,0,"Rest",1,52,"",52,"NB","NB"]
[null,"Tue","1900-02-21",{"$f":"IF(ISTEXT('Staff proposed'!E55),0,'Staff proposed'!E55)","v":"00:00:00"},{"$f":"'Staff proposed'!E55","v":"00:00:00"},{"$f":"IF(ISTEXT('Staff proposed'!F55),0,'Staff proposed'!F55)","v":"00:00:00"},{"$f":"'Staff proposed'!F55","v":"00:00:00"},0,0,"Rest",1,53,"",53,"NB","NB"]
[null,"Wed","1900-02-22",{"$f":"IF(ISTEXT('Staff proposed'!E56),0,'Staff proposed'!E56)","v":"00:00:00"},{"$f":"'Staff proposed'!E56","v":"00:00:00"},{"$f":"IF(ISTEXT('Staff proposed'!F56),0,'Staff proposed'!F56)","v":"00:00:00"},{"$f":"'Staff proposed'!F56","v":"00:00:00"},0,0,"Rest",1,54,"",54,"NB","NB"]
[null,"Thu","1900-02-23",{"$f":"IF(ISTEXT('Staff proposed'!E57),0,'Staff proposed'!E57)","v":"00:00:00"},{"$f":"'Staff proposed'!E57","v":"00:00:00"},{"$f":"IF(ISTEXT('Staff proposed'!F57),0,'Staff proposed'!F57)","v":"00:00:00"},{"$f":"'Staff proposed'!F57","v":"00:00:00"},0,0,"Rest",1,55,"",55,"NB","NB"]
[null,"Fri","1900-02-24",{"$f":"IF(ISTEXT('Staff proposed'!E58),0,'Staff proposed'!E58)","v":"00:00:00"},{"$f":"'Staff proposed'!E58","v":"00:00:00"},{"$f":"IF(ISTEXT('Staff proposed'!F58),0,'Staff proposed'!F58)","v":"00:00:00"},{"$f":"'Staff proposed'!F58","v":"00:00:00"},0,0,"Rest",1,56,"",56,"NB","NB"]
[{"$f":"IF('Staff proposed'!C59>0,'Staff proposed'!C59,\"\")","v":"Week9"},"Sat","1900-02-25",{"$f":"IF(ISTEXT('Staff proposed'!E59),0,'Staff proposed'!E59)","v":"00:00:00"},{"$f":"'Staff proposed'!E59","v":"00:00:00"},{"$f":"IF(ISTEXT('Staff proposed'!F59),0,'Staff proposed'!F59)","v":"00:00:00"},{"$f":"'Staff proposed'!F59","v":"00:00:00"},0,0,"Rest",1,57,"",57,"NB","NB"]
[null,"Sun","1900-02-26",{"$f":"IF(ISTEXT('Staff proposed'!E60),0,'Staff proposed'!E60)","v":"00:00:00"},{"$f":"'Staff proposed'!E60","v":"00:00:00"},{"$f":"IF(ISTEXT('Staff proposed'!F60),0,'Staff proposed'!F60)","v":"00:00:00"},{"$f":"'Staff proposed'!F60","v":"00:00:00"},0,0,"Rest",1,58,"",58,"NB","NB"]
[null,"Mon","1900-02-27",{"$f":"IF(ISTEXT('Staff proposed'!E61),0,'Staff proposed'!E61)","v":"00:00:00"},{"$f":"'Staff proposed'!E61","v":"00:00:00"},{"$f":"IF(ISTEXT('Staff proposed'!F61),0,'Staff proposed'!F61)","v":"00:00:00"},{"$f":"'Staff proposed'!F61","v":"00:00:00"},0,0,"Rest",1,59,"",59,"NB","NB"]
[null,"Tue","1900-02-28",{"$f":"IF(ISTEXT('Staff proposed'!E62),0,'Staff proposed'!E62)","v":"00:00:00"},{"$f":"'Staff proposed'!E62","v":"00:00:00"},{"$f":"IF(ISTEXT('Staff proposed'!F62),0,'Staff proposed'!F62)","v":"00:00:00"},{"$f":"'Staff proposed'!F62","v":"00:00:00"},0,0,"Rest",1,60,"",60,"NB","NB"]
[null,"Wed",60,{"$f":"IF(ISTEXT('Staff proposed'!E63),0,'Staff proposed'!E63)","v":"00:00:00"},{"$f":"'Staff proposed'!E63","v":"00:00:00"},{"$f":"IF(ISTEXT('Staff proposed'!F63),0,'Staff proposed'!F63)","v":"00:00:00"},{"$f":"'Staff proposed'!F63","v":"00:00:00"},0,0,"Rest",1,61,"",61,"NB","NB"]
[null,"Thu","1900-03-01",{"$f":"IF(ISTEXT('Staff proposed'!E64),0,'Staff proposed'!E64)","v":"00:00:00"},{"$f":"'Staff proposed'!E64","v":"00:00:00"},{"$f":"IF(ISTEXT('Staff proposed'!F64),0,'Staff proposed'!F64)","v":"00:00:00"},{"$f":"'Staff proposed'!F64","v":"00:00:00"},0,0,"Rest",1,62,"",62,"NB","NB"]
[null,"Fri","1900-03-02",{"$f":"IF(ISTEXT('Staff proposed'!E65),0,'Staff proposed'!E65)","v":"00:00:00"},{"$f":"'Staff proposed'!E65","v":"00:00:00"},{"$f":"IF(ISTEXT('Staff proposed'!F65),0,'Staff proposed'!F65)","v":"00:00:00"},{"$f":"'Staff proposed'!F65","v":"00:00:00"},0,0,"Rest",1,63,"",63,"NB","NB"]
[{"$f":"IF('Staff proposed'!C66>0,'Staff proposed'!C66,\"\")","v":"Week10"},"Sat","1900-03-03",{"$f":"IF(ISTEXT('Staff proposed'!E66),0,'Staff proposed'!E66)","v":"00:00:00"},{"$f":"'Staff proposed'!E66","v":"00:00:00"},{"$f":"IF(ISTEXT('Staff proposed'!F66),0,'Staff proposed'!F66)","v":"00:00:00"},{"$f":"'Staff proposed'!F66","v":"00:00:00"},0,0,"Rest",1,64,"",64,"NB","NB"]
[null,"Sun","1900-03-04",{"$f":"IF(ISTEXT('Staff proposed'!E67),0,'Staff proposed'!E67)","v":"00:00:00"},{"$f":"'Staff proposed'!E67","v":"00:00:00"},{"$f":"IF(ISTEXT('Staff proposed'!F67),0,'Staff proposed'!F67)","v":"00:00:00"},{"$f":"'Staff proposed'!F67","v":"00:00:00"},0,0,{"$f":"IF(I66=\"\",\"\",IF(I66>=$J$1,\"Over\",IF(AND(I66>0,I66<=$J$1),\"Under\",\"Rest\")))","v":"Rest"},1,65,"",65,"NB","NB"]
[null,{"$f":"IF(C67>0,TEXT(C67, \"ddd\"),\"\")","v":"Mon"},"1900-03-05",{"$f":"IF(ISTEXT('Staff proposed'!E68),0,'Staff proposed'!E68)","v":"00:00:00"},{"$f":"'Staff proposed'!E68","v":"00:00:00"},{"$f":"IF(ISTEXT('Staff proposed'!F68),0,'Staff proposed'!F68)","v":"00:00:00"},{"$f":"'Staff proposed'!F68","v":"00:00:00"},{"$f":"IF(ISTEXT(D67),0,F67-D67)","v":0},{"$f":"IF(ISTEXT(E67),0,IF(ISTEXT(E68),0,E68+(G67>E67)-G67))","v":0},{"$f":"IF(I67=\"\",\"\",IF(I67>=$J$1,\"Over\",IF(AND(I67>0,I67<=$J$1),\"Under\",\"Rest\")))","v":"Rest"},{"$f":"IF(ISNUMBER(E67),1,\"\")","v":1},{"$f":"IF(K67=\"\",\"Rest Day\",IF(K66=\"\",K67,(L66+K67)))","v":66},{"$f":"IF($D$2=0,\"\",IF(ISTEXT(L67),\"\",IF(L67>6,\"Exceeds\",\"\")))","v":""},{"$f":"IF(L67=\"Rest Day\",0,L67)","v":66},{"$f":"IF(AND(N68>=7,N67>=7),\"NB\",\"B\")","v":"NB"},{"$f":"IF(AND(N67>=14,N66>=14),\"NB\",\"B\")","v":"NB"}]
[null,"Tue",{"$f":"IF($A$2=0,\"\",C67+1)","v":"1900-03-06"},{"$f":"IF(ISTEXT('Staff proposed'!E69),0,'Staff proposed'!E69)","v":"00:00:00"},{"$f":"'Staff proposed'!E69","v":"00:00:00"},{"$f":"IF(ISTEXT('Staff proposed'!F69),0,'Staff proposed'!F69)","v":"00:00:00"},{"$f":"'Staff proposed'!F69","v":"00:00:00"},0,0,"Rest",1,67,"",67,"NB","NB"]
[null,"Wed","1900-03-07",{"$f":"IF(ISTEXT('Staff proposed'!E70),0,'Staff proposed'!E70)","v":"00:00:00"},{"$f":"'Staff proposed'!E70","v":"00:00:00"},{"$f":"IF(ISTEXT('Staff proposed'!F70),0,'Staff proposed'!F70)","v":"00:00:00"},{"$f":"'Staff proposed'!F70","v":"00:00:00"},0,0,"Rest",1,68,"",68,"NB","NB"]
[null,"Thu","1900-03-08",{"$f":"IF(ISTEXT('Staff proposed'!E71),0,'Staff proposed'!E71)","v":"00:00:00"},{"$f":"'Staff proposed'!E71","v":"00:00:00"},{"$f":"IF(ISTEXT('Staff proposed'!F71),0,'Staff proposed'!F71)","v":"00:00:00"},{"$f":"'Staff proposed'!F71","v":"00:00:00"},0,0,"Rest",1,69,"",69,"NB","NB"]
[null,"Fri","1900-03-09",{"$f":"IF(ISTEXT('Staff proposed'!E72),0,'Staff proposed'!E72)","v":"00:00:00"},{"$f":"'Staff proposed'!E72","v":"00:00:00"},{"$f":"IF(ISTEXT('Staff proposed'!F72),0,'Staff proposed'!F72)","v":"00:00:00"},{"$f":"'Staff proposed'!F72","v":"00:00:00"},0,0,"Rest",1,70,"",70,"NB","NB"]
[{"$f":"IF('Staff proposed'!C73>0,'Staff proposed'!C73,\"\")","v":"Week11"},"Sat","1900-03-10",{"$f":"IF(ISTEXT('Staff proposed'!E73),0,'Staff proposed'!E73)","v":"00:00:00"},{"$f":"'Staff proposed'!E73","v":"00:00:00"},{"$f":"IF(ISTEXT('Staff proposed'!F73),0,'Staff proposed'!F73)","v":"00:00:00"},{"$f":"'Staff proposed'!F73","v":"00:00:00"},0,0,"Rest",1,71,"",71,"NB","NB"]
[null,"Sun","1900-03-11",{"$f":"IF(ISTEXT('Staff proposed'!E74),0,'Staff proposed'!E74)","v":"00:00:00"},{"$f":"'Staff proposed'!E74","v":"00:00:00"},{"$f":"IF(ISTEXT('Staff proposed'!F74),0,'Staff proposed'!F74)","v":"00:00:00"},{"$f":"'Staff proposed'!F74","v":"00:00:00"},0,0,"Rest",1,72,"",72,"NB","NB"]
[null,"Mon","1900-03-12",{"$f":"IF(ISTEXT('Staff proposed'!E75),0,'Staff proposed'!E75)","v":"00:00:00"},{"$f":"'Staff proposed'!E75","v":"00:00:00"},{"$f":"IF(ISTEXT('Staff proposed'!F75),0,'Staff proposed'!F75)","v":"00:00:00"},{"$f":"'Staff proposed'!F75","v":"00:00:00"},0,0,"Rest",1,73,"",73,"NB","NB"]
[null,"Tue","1900-03-13",{"$f":"IF(ISTEXT('Staff proposed'!E76),0,'Staff proposed'!E76)","v":"00:00:00"},{"$f":"'Staff proposed'!E76","v":"00:00:00"},{"$f":"IF(ISTEXT('Staff proposed'!F76),0,'Staff proposed'!F76)","v":"00:00:00"},{"$f":"'Staff proposed'!F76","v":"00:00:00"},0,0,"Rest",1,74,"",74,"NB","NB"]
[null,"Wed","1900-03-14",{"$f":"IF(ISTEXT('Staff proposed'!E77),0,'Staff proposed'!E77)","v":"00:00:00"},{"$f":"'Staff proposed'!E77","v":"00:00:00"},{"$f":"IF(ISTEXT('Staff proposed'!F77),0,'Staff proposed'!F77)","v":"00:00:00"},{"$f":"'Staff proposed'!F77","v":"00:00:00"},0,0,"Rest",1,75,"",75,"NB","NB"]
[null,"Thu","1900-03-15",{"$f":"IF(ISTEXT('Staff proposed'!E78),0,'Staff proposed'!E78)","v":"00:00:00"},{"$f":"'Staff proposed'!E78","v":"00:00:00"},{"$f":"IF(ISTEXT('Staff proposed'!F78),0,'Staff proposed'!F78)","v":"00:00:00"},{"$f":"'Staff proposed'!F78","v":"00:00:00"},0,0,"Rest",1,76,"",76,"NB","NB"]
[null,"Fri","1900-03-16",{"$f":"IF(ISTEXT('Staff proposed'!E79),0,'Staff proposed'!E79)","v":"00:00:00"},{"$f":"'Staff proposed'!E79","v":"00:00:00"},{"$f":"IF(ISTEXT('Staff proposed'!F79),0,'Staff proposed'!F79)","v":"00:00:00"},{"$f":"'Staff proposed'!F79","v":"00:00:00"},0,0,"Rest",1,77,"",77,"NB","NB"]
[{"$f":"IF('Staff proposed'!C80>0,'Staff proposed'!C80,\"\")","v":"Week12"},"Sat","1900-03-17",{"$f":"IF(ISTEXT('Staff proposed'!E80),0,'Staff proposed'!E80)","v":"00:00:00"},{"$f":"'Staff proposed'!E80","v":"00:00:00"},{"$f":"IF(ISTEXT('Staff proposed'!F80),0,'Staff proposed'!F80)","v":"00:00:00"},{"$f":"'Staff proposed'!F80","v":"00:00:00"},0,0,"Rest",1,78,"",78,"NB","NB"]
[null,"Sun","1900-03-18",{"$f":"IF(ISTEXT('Staff proposed'!E81),0,'Staff proposed'!E81)","v":"00:00:00"},{"$f":"'Staff proposed'!E81","v":"00:00:00"},{"$f":"IF(ISTEXT('Staff proposed'!F81),0,'Staff proposed'!F81)","v":"00:00:00"},{"$f":"'Staff proposed'!F81","v":"00:00:00"},0,0,"Rest",1,79,"",79,"NB","NB"]
[null,"Mon","1900-03-19",{"$f":"IF(ISTEXT('Staff proposed'!E82),0,'Staff proposed'!E82)","v":"00:00:00"},{"$f":"'Staff proposed'!E82","v":"00:00:00"},{"$f":"IF(ISTEXT('Staff proposed'!F82),0,'Staff proposed'!F82)","v":"00:00:00"},{"$f":"'Staff proposed'!F82","v":"00:00:00"},0,0,"Rest",1,80,"",80,"NB","NB"]
[null,"Tue","1900-03-20",{"$f":"IF(ISTEXT('Staff proposed'!E83),0,'Staff proposed'!E83)","v":"00:00:00"},{"$f":"'Staff proposed'!E83","v":"00:00:00"},{"$f":"IF(ISTEXT('Staff proposed'!F83),0,'Staff proposed'!F83)","v":"00:00:00"},{"$f":"'Staff proposed'!F83","v":"00:00:00"},0,0,"Rest",1,81,"",81,"NB","NB"]
[null,"Wed","1900-03-21",{"$f":"IF(ISTEXT('Staff proposed'!E84),0,'Staff proposed'!E84)","v":"00:00:00"},{"$f":"'Staff proposed'!E84","v":"00:00:00"},{"$f":"IF(ISTEXT('Staff proposed'!F84),0,'Staff proposed'!F84)","v":"00:00:00"},{"$f":"'Staff proposed'!F84","v":"00:00:00"},0,0,"Rest",1,82,"",82,"NB","NB"]
[null,"Thu","1900-03-22",{"$f":"IF(ISTEXT('Staff proposed'!E85),0,'Staff proposed'!E85)","v":"00:00:00"},{"$f":"'Staff proposed'!E85","v":"00:00:00"},{"$f":"IF(ISTEXT('Staff proposed'!F85),0,'Staff proposed'!F85)","v":"00:00:00"},{"$f":"'Staff proposed'!F85","v":"00:00:00"},0,0,"Rest",1,83,"",83,"NB","NB"]
[null,"Fri","1900-03-23",{"$f":"IF(ISTEXT('Staff proposed'!E86),0,'Staff proposed'!E86)","v":"00:00:00"},{"$f":"'Staff proposed'!E86","v":"00:00:00"},{"$f":"IF(ISTEXT('Staff proposed'!F86),0,'Staff proposed'!F86)","v":"00:00:00"},{"$f":"'Staff proposed'!F86","v":"00:00:00"},0,0,"Rest",1,84,"",84,"NB","NB"]
[{"$f":"IF('Staff proposed'!C87>0,'Staff proposed'!C87,\"\")","v":"Week13"},"Sat","1900-03-24",{"$f":"IF(ISTEXT('Staff proposed'!E87),0,'Staff proposed'!E87)","v":"00:00:00"},{"$f":"'Staff proposed'!E87","v":"00:00:00"},{"$f":"IF(ISTEXT('Staff proposed'!F87),0,'Staff proposed'!F87)","v":"00:00:00"},{"$f":"'Staff proposed'!F87","v":"00:00:00"},0,0,"Rest",1,85,"",85,"NB","NB"]
[null,"Sun","1900-03-25",{"$f":"IF(ISTEXT('Staff proposed'!E88),0,'Staff proposed'!E88)","v":"00:00:00"},{"$f":"'Staff proposed'!E88","v":"00:00:00"},{"$f":"IF(ISTEXT('Staff proposed'!F88),0,'Staff proposed'!F88)","v":"00:00:00"},{"$f":"'Staff proposed'!F88","v":"00:00:00"},0,0,"Rest",1,86,"",86,"NB","NB"]
[null,"Mon","1900-03-26",{"$f":"IF(ISTEXT('Staff proposed'!E89),0,'Staff proposed'!E89)","v":"00:00:00"},{"$f":"'Staff proposed'!E89","v":"00:00:00"},{"$f":"IF(ISTEXT('Staff proposed'!F89),0,'Staff proposed'!F89)","v":"00:00:00"},{"$f":"'Staff proposed'!F89","v":"00:00:00"},0,0,"Rest",1,87,"",87,"NB","NB"]
[null,"Tue","1900-03-27",{"$f":"IF(ISTEXT('Staff proposed'!E90),0,'Staff proposed'!E90)","v":"00:00:00"},{"$f":"'Staff proposed'!E90","v":"00:00:00"},{"$f":"IF(ISTEXT('Staff proposed'!F90),0,'Staff proposed'!F90)","v":"00:00:00"},{"$f":"'Staff proposed'!F90","v":"00:00:00"},0,0,"Rest",1,88,"",88,"NB","NB"]
[null,"Wed","1900-03-28",{"$f":"IF(ISTEXT('Staff proposed'!E91),0,'Staff proposed'!E91)","v":"00:00:00"},{"$f":"'Staff proposed'!E91","v":"00:00:00"},{"$f":"IF(ISTEXT('Staff proposed'!F91),0,'Staff proposed'!F91)","v":"00:00:00"},{"$f":"'Staff proposed'!F91","v":"00:00:00"},0,0,"Rest",1,89,"",89,"NB","NB"]
[null,"Thu","1900-03-29",{"$f":"IF(ISTEXT('Staff proposed'!E92),0,'Staff proposed'!E92)","v":"00:00:00"},{"$f":"'Staff proposed'!E92","v":"00:00:00"},{"$f":"IF(ISTEXT('Staff proposed'!F92),0,'Staff proposed'!F92)","v":"00:00:00"},{"$f":"'Staff proposed'!F92","v":"00:00:00"},0,0,"Rest",1,90,"",90,"NB","NB"]
[null,"Fri","1900-03-30",{"$f":"IF(ISTEXT('Staff proposed'!E93),0,'Staff proposed'!E93)","v":"00:00:00"},{"$f":"'Staff proposed'!E93","v":"00:00:00"},{"$f":"IF(ISTEXT('Staff proposed'!F93),0,'Staff proposed'!F93)","v":"00:00:00"},{"$f":"'Staff proposed'!F93","v":"00:00:00"},0,0,"Rest",1,91,"",91,"NB","NB"]
[{"$f":"IF('Staff proposed'!C94>0,'Staff proposed'!C94,\"\")","v":"Week14"},"Sat","1900-03-31",{"$f":"IF(ISTEXT('Staff proposed'!E94),0,'Staff proposed'!E94)","v":"00:00:00"},{"$f":"'Staff proposed'!E94","v":"00:00:00"},{"$f":"IF(ISTEXT('Staff proposed'!F94),0,'Staff proposed'!F94)","v":"00:00:00"},{"$f":"'Staff proposed'!F94","v":"00:00:00"},0,0,"Rest",1,92,"",92,"NB","NB"]
[null,"Sun","1900-04-01",{"$f":"IF(ISTEXT('Staff proposed'!E95),0,'Staff proposed'!E95)","v":"00:00:00"},{"$f":"'Staff proposed'!E95","v":"00:00:00"},{"$f":"IF(ISTEXT('Staff proposed'!F95),0,'Staff proposed'!F95)","v":"00:00:00"},{"$f":"'Staff proposed'!F95","v":"00:00:00"},0,0,"Rest",1,93,"",93,"NB","NB"]
[null,"Mon","1900-04-02",{"$f":"IF(ISTEXT('Staff proposed'!E96),0,'Staff proposed'!E96)","v":"00:00:00"},{"$f":"'Staff proposed'!E96","v":"00:00:00"},{"$f":"IF(ISTEXT('Staff proposed'!F96),0,'Staff proposed'!F96)","v":"00:00:00"},{"$f":"'Staff proposed'!F96","v":"00:00:00"},0,0,"Rest",1,94,"",94,"NB","NB"]
[null,"Tue","1900-04-03",{"$f":"IF(ISTEXT('Staff proposed'!E97),0,'Staff proposed'!E97)","v":"00:00:00"},{"$f":"'Staff proposed'!E97","v":"00:00:00"},{"$f":"IF(ISTEXT('Staff proposed'!F97),0,'Staff proposed'!F97)","v":"00:00:00"},{"$f":"'Staff proposed'!F97","v":"00:00:00"},0,0,"Rest",1,95,"",95,"NB","NB"]
[null,"Wed","1900-04-04",{"$f":"IF(ISTEXT('Staff proposed'!E98),0,'Staff proposed'!E98)","v":"00:00:00"},{"$f":"'Staff proposed'!E98","v":"00:00:00"},{"$f":"IF(ISTEXT('Staff proposed'!F98),0,'Staff proposed'!F98)","v":"00:00:00"},{"$f":"'Staff proposed'!F98","v":"00:00:00"},0,0,"Rest",1,96,"",96,"NB","NB"]
[null,"Thu","1900-04-05",{"$f":"IF(ISTEXT('Staff proposed'!E99),0,'Staff proposed'!E99)","v":"00:00:00"},{"$f":"'Staff proposed'!E99","v":"00:00:00"},{"$f":"IF(ISTEXT('Staff proposed'!F99),0,'Staff proposed'!F99)","v":"00:00:00"},{"$f":"'Staff proposed'!F99","v":"00:00:00"},0,0,"Rest",1,97,"",97,"NB","NB"]
[null,"Fri","1900-04-06",{"$f":"IF(ISTEXT('Staff proposed'!E100),0,'Staff proposed'!E100)","v":"00:00:00"},{"$f":"'Staff proposed'!E100","v":"00:00:00"},{"$f":"IF(ISTEXT('Staff proposed'!F100),0,'Staff proposed'!F100)","v":"00:00:00"},{"$f":"'Staff proposed'!F100","v":"00:00:00"},0,0,"Rest",1,98,"",98,"NB","NB"]
[{"$f":"IF('Staff proposed'!C101>0,'Staff proposed'!C101,\"\")","v":"Week15"},"Sat","1900-04-07",{"$f":"IF(ISTEXT('Staff proposed'!E101),0,'Staff proposed'!E101)","v":"00:00:00"},{"$f":"'Staff proposed'!E101","v":"00:00:00"},{"$f":"IF(ISTEXT('Staff proposed'!F101),0,'Staff proposed'!F101)","v":"00:00:00"},{"$f":"'Staff proposed'!F101","v":"00:00:00"},0,0,"Rest",1,99,"",99,"NB","NB"]
[null,"Sun","1900-04-08",{"$f":"IF(ISTEXT('Staff proposed'!E102),0,'Staff proposed'!E102)","v":"00:00:00"},{"$f":"'Staff proposed'!E102","v":"00:00:00"},{"$f":"IF(ISTEXT('Staff proposed'!F102),0,'Staff proposed'!F102)","v":"00:00:00"},{"$f":"'Staff proposed'!F102","v":"00:00:00"},0,0,"Rest",1,100,"",100,"NB","NB"]
[null,"Mon","1900-04-09",{"$f":"IF(ISTEXT('Staff proposed'!E103),0,'Staff proposed'!E103)","v":"00:00:00"},{"$f":"'Staff proposed'!E103","v":"00:00:00"},{"$f":"IF(ISTEXT('Staff proposed'!F103),0,'Staff proposed'!F103)","v":"00:00:00"},{"$f":"'Staff proposed'!F103","v":"00:00:00"},0,0,"Rest",1,101,"",101,"NB","NB"]
[null,"Tue","1900-04-10",{"$f":"IF(ISTEXT('Staff proposed'!E104),0,'Staff proposed'!E104)","v":"00:00:00"},{"$f":"'Staff proposed'!E104","v":"00:00:00"},{"$f":"IF(ISTEXT('Staff proposed'!F104),0,'Staff proposed'!F104)","v":"00:00:00"},{"$f":"'Staff proposed'!F104","v":"00:00:00"},0,0,"Rest",1,102,"",102,"NB","NB"]
[null,"Wed","1900-04-11",{"$f":"IF(ISTEXT('Staff proposed'!E105),0,'Staff proposed'!E105)","v":"00:00:00"},{"$f":"'Staff proposed'!E105","v":"00:00:00"},{"$f":"IF(ISTEXT('Staff proposed'!F105),0,'Staff proposed'!F105)","v":"00:00:00"},{"$f":"'Staff proposed'!F105","v":"00:00:00"},0,0,"Rest",1,103,"",103,"NB","NB"]
[null,"Thu","1900-04-12",{"$f":"IF(ISTEXT('Staff proposed'!E106),0,'Staff proposed'!E106)","v":"00:00:00"},{"$f":"'Staff proposed'!E106","v":"00:00:00"},{"$f":"IF(ISTEXT('Staff proposed'!F106),0,'Staff proposed'!F106)","v":"00:00:00"},{"$f":"'Staff proposed'!F106","v":"00:00:00"},0,0,"Rest",1,104,"",104,"NB","NB"]
[null,"Fri","1900-04-13",{"$f":"IF(ISTEXT('Staff proposed'!E107),0,'Staff proposed'!E107)","v":"00:00:00"},{"$f":"'Staff proposed'!E107","v":"00:00:00"},{"$f":"IF(ISTEXT('Staff proposed'!F107),0,'Staff proposed'!F107)","v":"00:00:00"},{"$f":"'Staff proposed'!F107","v":"00:00:00"},0,0,"Rest",1,105,"",105,"NB","NB"]
[{"$f":"IF('Staff proposed'!C108>0,'Staff proposed'!C108,\"\")","v":"Week16"},"Sat","1900-04-14",{"$f":"IF(ISTEXT('Staff proposed'!E108),0,'Staff proposed'!E108)","v":"00:00:00"},{"$f":"'Staff proposed'!E108","v":"00:00:00"},{"$f":"IF(ISTEXT('Staff proposed'!F108),0,'Staff proposed'!F108)","v":"00:00:00"},{"$f":"'Staff proposed'!F108","v":"00:00:00"},0,0,"Rest",1,106,"",106,"NB","NB"]
[null,"Sun","1900-04-15",{"$f":"IF(ISTEXT('Staff proposed'!E109),0,'Staff proposed'!E109)","v":"00:00:00"},{"$f":"'Staff proposed'!E109","v":"00:00:00"},{"$f":"IF(ISTEXT('Staff proposed'!F109),0,'Staff proposed'!F109)","v":"00:00:00"},{"$f":"'Staff proposed'!F109","v":"00:00:00"},0,0,"Rest",1,107,"",107,"NB","NB"]
[null,"Mon","1900-04-16",{"$f":"IF(ISTEXT('Staff proposed'!E110),0,'Staff proposed'!E110)","v":"00:00:00"},{"$f":"'Staff proposed'!E110","v":"00:00:00"},{"$f":"IF(ISTEXT('Staff proposed'!F110),0,'Staff proposed'!F110)","v":"00:00:00"},{"$f":"'Staff proposed'!F110","v":"00:00:00"},0,0,"Rest",1,108,"",108,"NB","NB"]
[null,"Tue","1900-04-17",{"$f":"IF(ISTEXT('Staff proposed'!E111),0,'Staff proposed'!E111)","v":"00:00:00"},{"$f":"'Staff proposed'!E111","v":"00:00:00"},{"$f":"IF(ISTEXT('Staff proposed'!F111),0,'Staff proposed'!F111)","v":"00:00:00"},{"$f":"'Staff proposed'!F111","v":"00:00:00"},0,0,"Rest",1,109,"",109,"NB","NB"]
[null,"Wed","1900-04-18",{"$f":"IF(ISTEXT('Staff proposed'!E112),0,'Staff proposed'!E112)","v":"00:00:00"},{"$f":"'Staff proposed'!E112","v":"00:00:00"},{"$f":"IF(ISTEXT('Staff proposed'!F112),0,'Staff proposed'!F112)","v":"00:00:00"},{"$f":"'Staff proposed'!F112","v":"00:00:00"},0,0,"Rest",1,110,"",110,"NB","NB"]
[null,"Thu","1900-04-19",{"$f":"IF(ISTEXT('Staff proposed'!E113),0,'Staff proposed'!E113)","v":"00:00:00"},{"$f":"'Staff proposed'!E113","v":"00:00:00"},{"$f":"IF(ISTEXT('Staff proposed'!F113),0,'Staff proposed'!F113)","v":"00:00:00"},{"$f":"'Staff proposed'!F113","v":"00:00:00"},0,0,"Rest",1,111,"",111,"NB","NB"]
[null,"Fri","1900-04-20",{"$f":"IF(ISTEXT('Staff proposed'!E114),0,'Staff proposed'!E114)","v":"00:00:00"},{"$f":"'Staff proposed'!E114","v":"00:00:00"},{"$f":"IF(ISTEXT('Staff proposed'!F114),0,'Staff proposed'!F114)","v":"00:00:00"},{"$f":"'Staff proposed'!F114","v":"00:00:00"},0,0,"Rest",1,112,"",112,"NB","NB"]
[{"$f":"IF('Staff proposed'!C115>0,'Staff proposed'!C115,\"\")","v":"Week17"},"Sat","1900-04-21",{"$f":"IF(ISTEXT('Staff proposed'!E115),0,'Staff proposed'!E115)","v":"00:00:00"},{"$f":"'Staff proposed'!E115","v":"00:00:00"},{"$f":"IF(ISTEXT('Staff proposed'!F115),0,'Staff proposed'!F115)","v":"00:00:00"},{"$f":"'Staff proposed'!F115","v":"00:00:00"},0,0,"Rest",1,113,"",113,"NB","NB"]
[null,"Sun","1900-04-22",{"$f":"IF(ISTEXT('Staff proposed'!E116),0,'Staff proposed'!E116)","v":"00:00:00"},{"$f":"'Staff proposed'!E116","v":"00:00:00"},{"$f":"IF(ISTEXT('Staff proposed'!F116),0,'Staff proposed'!F116)","v":"00:00:00"},{"$f":"'Staff proposed'!F116","v":"00:00:00"},0,0,"Rest",1,114,"",114,"NB","NB"]
[null,"Mon","1900-04-23",{"$f":"IF(ISTEXT('Staff proposed'!E117),0,'Staff proposed'!E117)","v":"00:00:00"},{"$f":"'Staff proposed'!E117","v":"00:00:00"},{"$f":"IF(ISTEXT('Staff proposed'!F117),0,'Staff proposed'!F117)","v":"00:00:00"},{"$f":"'Staff proposed'!F117","v":"00:00:00"},0,0,"Rest",1,115,"",115,"NB","NB"]
[null,"Tue","1900-04-24",{"$f":"IF(ISTEXT('Staff proposed'!E118),0,'Staff proposed'!E118)","v":"00:00:00"},{"$f":"'Staff proposed'!E118","v":"00:00:00"},{"$f":"IF(ISTEXT('Staff proposed'!F118),0,'Staff proposed'!F118)","v":"00:00:00"},{"$f":"'Staff proposed'!F118","v":"00:00:00"},0,0,"Rest",1,116,"",116,"NB","NB"]
[null,"Wed","1900-04-25",{"$f":"IF(ISTEXT('Staff proposed'!E119),0,'Staff proposed'!E119)","v":"00:00:00"},{"$f":"'Staff proposed'!E119","v":"00:00:00"},{"$f":"IF(ISTEXT('Staff proposed'!F119),0,'Staff proposed'!F119)","v":"00:00:00"},{"$f":"'Staff proposed'!F119","v":"00:00:00"},0,0,"Rest",1,117,"",117,"NB","NB"]
[null,"Thu","1900-04-26",{"$f":"IF(ISTEXT('Staff proposed'!E120),0,'Staff proposed'!E120)","v":"00:00:00"},{"$f":"'Staff proposed'!E120","v":"00:00:00"},{"$f":"IF(ISTEXT('Staff proposed'!F120),0,'Staff proposed'!F120)","v":"00:00:00"},{"$f":"'Staff proposed'!F120","v":"00:00:00"},0,0,"Rest",1,118,"",118,"NB","NB"]
[null,"Fri","1900-04-27",{"$f":"IF(ISTEXT('Staff proposed'!E121),0,'Staff proposed'!E121)","v":"00:00:00"},{"$f":"'Staff proposed'!E121","v":"00:00:00"},{"$f":"IF(ISTEXT('Staff proposed'!F121),0,'Staff proposed'!F121)","v":"00:00:00"},{"$f":"'Staff proposed'!F121","v":"00:00:00"},0,0,"Rest",1,119,"",119,"NB","NB"]
[{"$f":"IF('Staff proposed'!C122>0,'Staff proposed'!C122,\"\")","v":"Week18"},"Sat","1900-04-28",{"$f":"IF(ISTEXT('Staff proposed'!E122),0,'Staff proposed'!E122)","v":"00:00:00"},{"$f":"'Staff proposed'!E122","v":"00:00:00"},{"$f":"IF(ISTEXT('Staff proposed'!F122),0,'Staff proposed'!F122)","v":"00:00:00"},{"$f":"'Staff proposed'!F122","v":"00:00:00"},0,0,"Rest",1,120,"",120,"NB","NB"]
[null,"Sun","1900-04-29",{"$f":"IF(ISTEXT('Staff proposed'!E123),0,'Staff proposed'!E123)","v":"00:00:00"},{"$f":"'Staff proposed'!E123","v":"00:00:00"},{"$f":"IF(ISTEXT('Staff proposed'!F123),0,'Staff proposed'!F123)","v":"00:00:00"},{"$f":"'Staff proposed'!F123","v":"00:00:00"},0,0,"Rest",1,121,"",121,"NB","NB"]
[null,"Mon","1900-04-30",{"$f":"IF(ISTEXT('Staff proposed'!E124),0,'Staff proposed'!E124)","v":"00:00:00"},{"$f":"'Staff proposed'!E124","v":"00:00:00"},{"$f":"IF(ISTEXT('Staff proposed'!F124),0,'Staff proposed'!F124)","v":"00:00:00"},{"$f":"'Staff proposed'!F124","v":"00:00:00"},0,0,"Rest",1,122,"",122,"NB","NB"]
[null,"Tue","1900-05-01",{"$f":"IF(ISTEXT('Staff proposed'!E125),0,'Staff proposed'!E125)","v":"00:00:00"},{"$f":"'Staff proposed'!E125","v":"00:00:00"},{"$f":"IF(ISTEXT('Staff proposed'!F125),0,'Staff proposed'!F125)","v":"00:00:00"},{"$f":"'Staff proposed'!F125","v":"00:00:00"},0,0,"Rest",1,123,"",123,"NB","NB"]
[null,"Wed","1900-05-02",{"$f":"IF(ISTEXT('Staff proposed'!E126),0,'Staff proposed'!E126)","v":"00:00:00"},{"$f":"'Staff proposed'!E126","v":"00:00:00"},{"$f":"IF(ISTEXT('Staff proposed'!F126),0,'Staff proposed'!F126)","v":"00:00:00"},{"$f":"'Staff proposed'!F126","v":"00:00:00"},0,0,"Rest",1,124,"",124,"NB","NB"]
[null,"Thu","1900-05-03",{"$f":"IF(ISTEXT('Staff proposed'!E127),0,'Staff proposed'!E127)","v":"00:00:00"},{"$f":"'Staff proposed'!E127","v":"00:00:00"},{"$f":"IF(ISTEXT('Staff proposed'!F127),0,'Staff proposed'!F127)","v":"00:00:00"},{"$f":"'Staff proposed'!F127","v":"00:00:00"},0,0,"Rest",1,125,"",125,"NB","NB"]
[null,"Fri","1900-05-04",{"$f":"IF(ISTEXT('Staff proposed'!E128),0,'Staff proposed'!E128)","v":"00:00:00"},{"$f":"'Staff proposed'!E128","v":"00:00:00"},{"$f":"IF(ISTEXT('Staff proposed'!F128),0,'Staff proposed'!F128)","v":"00:00:00"},{"$f":"'Staff proposed'!F128","v":"00:00:00"},0,0,"Rest",1,126,"",126,"NB","NB"]
[{"$f":"IF('Staff proposed'!C129>0,'Staff proposed'!C129,\"\")","v":"Week19"},"Sat","1900-05-05",{"$f":"IF(ISTEXT('Staff proposed'!E129),0,'Staff proposed'!E129)","v":"00:00:00"},{"$f":"'Staff proposed'!E129","v":"00:00:00"},{"$f":"IF(ISTEXT('Staff proposed'!F129),0,'Staff proposed'!F129)","v":"00:00:00"},{"$f":"'Staff proposed'!F129","v":"00:00:00"},0,0,"Rest",1,127,"",127,"NB","NB"]
[null,"Sun","1900-05-06",{"$f":"IF(ISTEXT('Staff proposed'!E130),0,'Staff proposed'!E130)","v":"00:00:00"},{"$f":"'Staff proposed'!E130","v":"00:00:00"},{"$f":"IF(ISTEXT('Staff proposed'!F130),0,'Staff proposed'!F130)","v":"00:00:00"},{"$f":"'Staff proposed'!F130","v":"00:00:00"},0,0,"Rest",1,128,"",128,"NB","NB"]
[null,"Mon","1900-05-07",{"$f":"IF(ISTEXT('Staff proposed'!E131),0,'Staff proposed'!E131)","v":"00:00:00"},{"$f":"'Staff proposed'!E131","v":"00:00:00"},{"$f":"IF(ISTEXT('Staff proposed'!F131),0,'Staff proposed'!F131)","v":"00:00:00"},{"$f":"'Staff proposed'!F131","v":"00:00:00"},0,0,"Rest",1,129,"",129,"NB","NB"]
[null,{"$f":"IF(C131>0,TEXT(C131, \"ddd\"),\"\")","v":"Tue"},"1900-05-08",{"$f":"IF(ISTEXT('Staff proposed'!E132),0,'Staff proposed'!E132)","v":"00:00:00"},{"$f":"'Staff proposed'!E132","v":"00:00:00"},{"$f":"IF(ISTEXT('Staff proposed'!F132),0,'Staff proposed'!F132)","v":"00:00:00"},{"$f":"'Staff proposed'!F132","v":"00:00:00"},{"$f":"IF(ISTEXT(D131),0,F131-D131)","v":0},{"$f":"IF(ISTEXT(E131),0,IF(ISTEXT(E132),0,E132+(G131>E131)-G131))","v":0},{"$f":"IF(I131=\"\",\"\",IF(I131>=$J$1,\"Over\",IF(AND(I131>0,I131<=$J$1),\"Under\",\"Rest\")))","v":"Rest"},{"$f":"IF(ISNUMBER(E131),1,\"\")","v":1},{"$f":"IF(K131=\"\",\"Rest Day\",IF(K130=\"\",K131,(L130+K131)))","v":130},{"$f":"IF($D$2=0,\"\",IF(ISTEXT(L131),\"\",IF(L131>6,\"Exceeds\",\"\")))","v":""},{"$f":"IF(L131=\"Rest Day\",0,L131)","v":130},{"$f":"IF(AND(N132>=7,N131>=7),\"NB\",\"B\")","v":"NB"},{"$f":"IF(AND(N131>=14,N130>=14),\"NB\",\"B\")","v":"NB"}]
[null,"Wed",{"$f":"IF($A$2=0,\"\",C131+1)","v":"1900-05-09"},{"$f":"IF(ISTEXT('Staff proposed'!E133),0,'Staff proposed'!E133)","v":"00:00:00"},{"$f":"'Staff proposed'!E133","v":"00:00:00"},{"$f":"IF(ISTEXT('Staff proposed'!F133),0,'Staff proposed'!F133)","v":"00:00:00"},{"$f":"'Staff proposed'!F133","v":"00:00:00"},0,0,"Rest",1,131,"",131,"NB","NB"]
[null,"Thu","1900-05-10",{"$f":"IF(ISTEXT('Staff proposed'!E134),0,'Staff proposed'!E134)","v":"00:00:00"},{"$f":"'Staff proposed'!E134","v":"00:00:00"},{"$f":"IF(ISTEXT('Staff proposed'!F134),0,'Staff proposed'!F134)","v":"00:00:00"},{"$f":"'Staff proposed'!F134","v":"00:00:00"},0,0,"Rest",1,132,"",132,"NB","NB"]
[null,"Fri","1900-05-11",{"$f":"IF(ISTEXT('Staff proposed'!E135),0,'Staff proposed'!E135)","v":"00:00:00"},{"$f":"'Staff proposed'!E135","v":"00:00:00"},{"$f":"IF(ISTEXT('Staff proposed'!F135),0,'Staff proposed'!F135)","v":"00:00:00"},{"$f":"'Staff proposed'!F135","v":"00:00:00"},0,0,"Rest",1,133,"",133,"NB","NB"]
[{"$f":"IF('Staff proposed'!C136>0,'Staff proposed'!C136,\"\")","v":"Week20"},"Sat","1900-05-12",{"$f":"IF(ISTEXT('Staff proposed'!E136),0,'Staff proposed'!E136)","v":"00:00:00"},{"$f":"'Staff proposed'!E136","v":"00:00:00"},{"$f":"IF(ISTEXT('Staff proposed'!F136),0,'Staff proposed'!F136)","v":"00:00:00"},{"$f":"'Staff proposed'!F136","v":"00:00:00"},0,0,"Rest",1,134,"",134,"NB","NB"]
[null,"Sun","1900-05-13",{"$f":"IF(ISTEXT('Staff proposed'!E137),0,'Staff proposed'!E137)","v":"00:00:00"},{"$f":"'Staff proposed'!E137","v":"00:00:00"},{"$f":"IF(ISTEXT('Staff proposed'!F137),0,'Staff proposed'!F137)","v":"00:00:00"},{"$f":"'Staff proposed'!F137","v":"00:00:00"},0,0,"Rest",1,135,"",135,"NB","NB"]
[null,"Mon","1900-05-14",{"$f":"IF(ISTEXT('Staff proposed'!E138),0,'Staff proposed'!E138)","v":"00:00:00"},{"$f":"'Staff proposed'!E138","v":"00:00:00"},{"$f":"IF(ISTEXT('Staff proposed'!F138),0,'Staff proposed'!F138)","v":"00:00:00"},{"$f":"'Staff proposed'!F138","v":"00:00:00"},0,0,"Rest",1,136,"",136,"NB","NB"]
[null,"Tue","1900-05-15",{"$f":"IF(ISTEXT('Staff proposed'!E139),0,'Staff proposed'!E139)","v":"00:00:00"},{"$f":"'Staff proposed'!E139","v":"00:00:00"},{"$f":"IF(ISTEXT('Staff proposed'!F139),0,'Staff proposed'!F139)","v":"00:00:00"},{"$f":"'Staff proposed'!F139","v":"00:00:00"},0,0,"Rest",1,137,"",137,"NB","NB"]
[null,"Wed","1900-05-16",{"$f":"IF(ISTEXT('Staff proposed'!E140),0,'Staff proposed'!E140)","v":"00:00:00"},{"$f":"'Staff proposed'!E140","v":"00:00:00"},{"$f":"IF(ISTEXT('Staff proposed'!F140),0,'Staff proposed'!F140)","v":"00:00:00"},{"$f":"'Staff proposed'!F140","v":"00:00:00"},0,0,"Rest",1,138,"",138,"NB","NB"]
[null,"Thu","1900-05-17",{"$f":"IF(ISTEXT('Staff proposed'!E141),0,'Staff proposed'!E141)","v":"00:00:00"},{"$f":"'Staff proposed'!E141","v":"00:00:00"},{"$f":"IF(ISTEXT('Staff proposed'!F141),0,'Staff proposed'!F141)","v":"00:00:00"},{"$f":"'Staff proposed'!F141","v":"00:00:00"},0,0,"Rest",1,139,"",139,"NB","NB"]
[null,"Fri","1900-05-18",{"$f":"IF(ISTEXT('Staff proposed'!E142),0,'Staff proposed'!E142)","v":"00:00:00"},{"$f":"'Staff proposed'!E142","v":"00:00:00"},{"$f":"IF(ISTEXT('Staff proposed'!F142),0,'Staff proposed'!F142)","v":"00:00:00"},{"$f":"'Staff proposed'!F142","v":"00:00:00"},0,0,"Rest",1,140,"",140,"NB","NB"]
[{"$f":"IF('Staff proposed'!C143>0,'Staff proposed'!C143,\"\")","v":"Week21"},"Sat","1900-05-19",{"$f":"IF(ISTEXT('Staff proposed'!E143),0,'Staff proposed'!E143)","v":"00:00:00"},{"$f":"'Staff proposed'!E143","v":"00:00:00"},{"$f":"IF(ISTEXT('Staff proposed'!F143),0,'Staff proposed'!F143)","v":"00:00:00"},{"$f":"'Staff proposed'!F143","v":"00:00:00"},0,0,"Rest",1,141,"",141,"NB","NB"]
[null,"Sun","1900-05-20",{"$f":"IF(ISTEXT('Staff proposed'!E144),0,'Staff proposed'!E144)","v":"00:00:00"},{"$f":"'Staff proposed'!E144","v":"00:00:00"},{"$f":"IF(ISTEXT('Staff proposed'!F144),0,'Staff proposed'!F144)","v":"00:00:00"},{"$f":"'Staff proposed'!F144","v":"00:00:00"},0,0,"Rest",1,142,"",142,"NB","NB"]
[null,"Mon","1900-05-21",{"$f":"IF(ISTEXT('Staff proposed'!E145),0,'Staff proposed'!E145)","v":"00:00:00"},{"$f":"'Staff proposed'!E145","v":"00:00:00"},{"$f":"IF(ISTEXT('Staff proposed'!F145),0,'Staff proposed'!F145)","v":"00:00:00"},{"$f":"'Staff proposed'!F145","v":"00:00:00"},0,0,"Rest",1,143,"",143,"NB","NB"]
[null,"Tue","1900-05-22",{"$f":"IF(ISTEXT('Staff proposed'!E146),0,'Staff proposed'!E146)","v":"00:00:00"},{"$f":"'Staff proposed'!E146","v":"00:00:00"},{"$f":"IF(ISTEXT('Staff proposed'!F146),0,'Staff proposed'!F146)","v":"00:00:00"},{"$f":"'Staff proposed'!F146","v":"00:00:00"},0,0,"Rest",1,144,"",144,"NB","NB"]
[null,"Wed","1900-05-23",{"$f":"IF(ISTEXT('Staff proposed'!E147),0,'Staff proposed'!E147)","v":"00:00:00"},{"$f":"'Staff proposed'!E147","v":"00:00:00"},{"$f":"IF(ISTEXT('Staff proposed'!F147),0,'Staff proposed'!F147)","v":"00:00:00"},{"$f":"'Staff proposed'!F147","v":"00:00:00"},0,0,"Rest",1,145,"",145,"NB","NB"]
[null,"Thu","1900-05-24",{"$f":"IF(ISTEXT('Staff proposed'!E148),0,'Staff proposed'!E148)","v":"00:00:00"},{"$f":"'Staff proposed'!E148","v":"00:00:00"},{"$f":"IF(ISTEXT('Staff proposed'!F148),0,'Staff proposed'!F148)","v":"00:00:00"},{"$f":"'Staff proposed'!F148","v":"00:00:00"},0,0,"Rest",1,146,"",146,"NB","NB"]
[null,"Fri","1900-05-25",{"$f":"IF(ISTEXT('Staff proposed'!E149),0,'Staff proposed'!E149)","v":"00:00:00"},{"$f":"'Staff proposed'!E149","v":"00:00:00"},{"$f":"IF(ISTEXT('Staff proposed'!F149),0,'Staff proposed'!F149)","v":"00:00:00"},{"$f":"'Staff proposed'!F149","v":"00:00:00"},0,0,"Rest",1,147,"",147,"NB","NB"]
[{"$f":"IF('Staff proposed'!C150>0,'Staff proposed'!C150,\"\")","v":"Week22"},"Sat","1900-05-26",{"$f":"IF(ISTEXT('Staff proposed'!E150),0,'Staff proposed'!E150)","v":"00:00:00"},{"$f":"'Staff proposed'!E150","v":"00:00:00"},{"$f":"IF(ISTEXT('Staff proposed'!F150),0,'Staff proposed'!F150)","v":"00:00:00"},{"$f":"'Staff proposed'!F150","v":"00:00:00"},0,0,"Rest",1,148,"",148,"NB","NB"]
[null,"Sun","1900-05-27",{"$f":"IF(ISTEXT('Staff proposed'!E151),0,'Staff proposed'!E151)","v":"00:00:00"},{"$f":"'Staff proposed'!E151","v":"00:00:00"},{"$f":"IF(ISTEXT('Staff proposed'!F151),0,'Staff proposed'!F151)","v":"00:00:00"},{"$f":"'Staff proposed'!F151","v":"00:00:00"},0,0,"Rest",1,149,"",149,"NB","NB"]
[null,"Mon","1900-05-28",{"$f":"IF(ISTEXT('Staff proposed'!E152),0,'Staff proposed'!E152)","v":"00:00:00"},{"$f":"'Staff proposed'!E152","v":"00:00:00"},{"$f":"IF(ISTEXT('Staff proposed'!F152),0,'Staff proposed'!F152)","v":"00:00:00"},{"$f":"'Staff proposed'!F152","v":"00:00:00"},0,0,"Rest",1,150,"",150,"NB","NB"]
[null,"Tue","1900-05-29",{"$f":"IF(ISTEXT('Staff proposed'!E153),0,'Staff proposed'!E153)","v":"00:00:00"},{"$f":"'Staff proposed'!E153","v":"00:00:00"},{"$f":"IF(ISTEXT('Staff proposed'!F153),0,'Staff proposed'!F153)","v":"00:00:00"},{"$f":"'Staff proposed'!F153","v":"00:00:00"},0,0,"Rest",1,151,"",151,"NB","NB"]
[null,"Wed","1900-05-30",{"$f":"IF(ISTEXT('Staff proposed'!E154),0,'Staff proposed'!E154)","v":"00:00:00"},{"$f":"'Staff proposed'!E154","v":"00:00:00"},{"$f":"IF(ISTEXT('Staff proposed'!F154),0,'Staff proposed'!F154)","v":"00:00:00"},{"$f":"'Staff proposed'!F154","v":"00:00:00"},0,0,"Rest",1,152,"",152,"NB","NB"]
[null,"Thu","1900-05-31",{"$f":"IF(ISTEXT('Staff proposed'!E155),0,'Staff proposed'!E155)","v":"00:00:00"},{"$f":"'Staff proposed'!E155","v":"00:00:00"},{"$f":"IF(ISTEXT('Staff proposed'!F155),0,'Staff proposed'!F155)","v":"00:00:00"},{"$f":"'Staff proposed'!F155","v":"00:00:00"},0,0,"Rest",1,153,"",153,"NB","NB"]
[null,"Fri","1900-06-01",{"$f":"IF(ISTEXT('Staff proposed'!E156),0,'Staff proposed'!E156)","v":"00:00:00"},{"$f":"'Staff proposed'!E156","v":"00:00:00"},{"$f":"IF(ISTEXT('Staff proposed'!F156),0,'Staff proposed'!F156)","v":"00:00:00"},{"$f":"'Staff proposed'!F156","v":"00:00:00"},0,0,"Rest",1,154,"",154,"NB","NB"]
[{"$f":"IF('Staff proposed'!C157>0,'Staff proposed'!C157,\"\")","v":"Week23"},"Sat","1900-06-02",{"$f":"IF(ISTEXT('Staff proposed'!E157),0,'Staff proposed'!E157)","v":"00:00:00"},{"$f":"'Staff proposed'!E157","v":"00:00:00"},{"$f":"IF(ISTEXT('Staff proposed'!F157),0,'Staff proposed'!F157)","v":"00:00:00"},{"$f":"'Staff proposed'!F157","v":"00:00:00"},0,0,"Rest",1,155,"",155,"NB","NB"]
[null,"Sun","1900-06-03",{"$f":"IF(ISTEXT('Staff proposed'!E158),0,'Staff proposed'!E158)","v":"00:00:00"},{"$f":"'Staff proposed'!E158","v":"00:00:00"},{"$f":"IF(ISTEXT('Staff proposed'!F158),0,'Staff proposed'!F158)","v":"00:00:00"},{"$f":"'Staff proposed'!F158","v":"00:00:00"},0,0,"Rest",1,156,"",156,"NB","NB"]
[null,"Mon","1900-06-04",{"$f":"IF(ISTEXT('Staff proposed'!E159),0,'Staff proposed'!E159)","v":"00:00:00"},{"$f":"'Staff proposed'!E159","v":"00:00:00"},{"$f":"IF(ISTEXT('Staff proposed'!F159),0,'Staff proposed'!F159)","v":"00:00:00"},{"$f":"'Staff proposed'!F159","v":"00:00:00"},0,0,"Rest",1,157,"",157,"NB","NB"]
[null,"Tue","1900-06-05",{"$f":"IF(ISTEXT('Staff proposed'!E160),0,'Staff proposed'!E160)","v":"00:00:00"},{"$f":"'Staff proposed'!E160","v":"00:00:00"},{"$f":"IF(ISTEXT('Staff proposed'!F160),0,'Staff proposed'!F160)","v":"00:00:00"},{"$f":"'Staff proposed'!F160","v":"00:00:00"},0,0,"Rest",1,158,"",158,"NB","NB"]
[null,"Wed","1900-06-06",{"$f":"IF(ISTEXT('Staff proposed'!E161),0,'Staff proposed'!E161)","v":"00:00:00"},{"$f":"'Staff proposed'!E161","v":"00:00:00"},{"$f":"IF(ISTEXT('Staff proposed'!F161),0,'Staff proposed'!F161)","v":"00:00:00"},{"$f":"'Staff proposed'!F161","v":"00:00:00"},0,0,"Rest",1,159,"",159,"NB","NB"]
[null,"Thu","1900-06-07",{"$f":"IF(ISTEXT('Staff proposed'!E162),0,'Staff proposed'!E162)","v":"00:00:00"},{"$f":"'Staff proposed'!E162","v":"00:00:00"},{"$f":"IF(ISTEXT('Staff proposed'!F162),0,'Staff proposed'!F162)","v":"00:00:00"},{"$f":"'Staff proposed'!F162","v":"00:00:00"},0,0,"Rest",1,160,"",160,"NB","NB"]
[null,"Fri","1900-06-08",{"$f":"IF(ISTEXT('Staff proposed'!E163),0,'Staff proposed'!E163)","v":"00:00:00"},{"$f":"'Staff proposed'!E163","v":"00:00:00"},{"$f":"IF(ISTEXT('Staff proposed'!F163),0,'Staff proposed'!F163)","v":"00:00:00"},{"$f":"'Staff proposed'!F163","v":"00:00:00"},0,0,"Rest",1,161,"",161,"NB","NB"]
[{"$f":"IF('Staff proposed'!C164>0,'Staff proposed'!C164,\"\")","v":"Week24"},"Sat","1900-06-09",{"$f":"IF(ISTEXT('Staff proposed'!E164),0,'Staff proposed'!E164)","v":"00:00:00"},{"$f":"'Staff proposed'!E164","v":"00:00:00"},{"$f":"IF(ISTEXT('Staff proposed'!F164),0,'Staff proposed'!F164)","v":"00:00:00"},{"$f":"'Staff proposed'!F164","v":"00:00:00"},0,0,"Rest",1,162,"",162,"NB","NB"]
[null,"Sun","1900-06-10",{"$f":"IF(ISTEXT('Staff proposed'!E165),0,'Staff proposed'!E165)","v":"00:00:00"},{"$f":"'Staff proposed'!E165","v":"00:00:00"},{"$f":"IF(ISTEXT('Staff proposed'!F165),0,'Staff proposed'!F165)","v":"00:00:00"},{"$f":"'Staff proposed'!F165","v":"00:00:00"},0,0,"Rest",1,163,"",163,"NB","NB"]
[null,"Mon","1900-06-11",{"$f":"IF(ISTEXT('Staff proposed'!E166),0,'Staff proposed'!E166)","v":"00:00:00"},{"$f":"'Staff proposed'!E166","v":"00:00:00"},{"$f":"IF(ISTEXT('Staff proposed'!F166),0,'Staff proposed'!F166)","v":"00:00:00"},{"$f":"'Staff proposed'!F166","v":"00:00:00"},0,0,"Rest",1,164,"",164,"NB","NB"]
[null,"Tue","1900-06-12",{"$f":"IF(ISTEXT('Staff proposed'!E167),0,'Staff proposed'!E167)","v":"00:00:00"},{"$f":"'Staff proposed'!E167","v":"00:00:00"},{"$f":"IF(ISTEXT('Staff proposed'!F167),0,'Staff proposed'!F167)","v":"00:00:00"},{"$f":"'Staff proposed'!F167","v":"00:00:00"},0,0,"Rest",1,165,"",165,"NB","NB"]
[null,"Wed","1900-06-13",{"$f":"IF(ISTEXT('Staff proposed'!E168),0,'Staff proposed'!E168)","v":"00:00:00"},{"$f":"'Staff proposed'!E168","v":"00:00:00"},{"$f":"IF(ISTEXT('Staff proposed'!F168),0,'Staff proposed'!F168)","v":"00:00:00"},{"$f":"'Staff proposed'!F168","v":"00:00:00"},0,0,"Rest",1,166,"",166,"NB","NB"]
[null,"Thu","1900-06-14",{"$f":"IF(ISTEXT('Staff proposed'!E169),0,'Staff proposed'!E169)","v":"00:00:00"},{"$f":"'Staff proposed'!E169","v":"00:00:00"},{"$f":"IF(ISTEXT('Staff proposed'!F169),0,'Staff proposed'!F169)","v":"00:00:00"},{"$f":"'Staff proposed'!F169","v":"00:00:00"},0,0,"Rest",1,167,"",167,"NB","NB"]
[null,"Fri","1900-06-15",{"$f":"IF(ISTEXT('Staff proposed'!E170),0,'Staff proposed'!E170)","v":"00:00:00"},{"$f":"'Staff proposed'!E170","v":"00:00:00"},{"$f":"IF(ISTEXT('Staff proposed'!F170),0,'Staff proposed'!F170)","v":"00:00:00"},{"$f":"'Staff proposed'!F170","v":"00:00:00"},0,0,"Rest",1,168,"",168,"NB","NB"]
[{"$f":"IF('Staff proposed'!C171>0,'Staff proposed'!C171,\"\")","v":"Week25"},"Sat","1900-06-16",{"$f":"IF(ISTEXT('Staff proposed'!E171),0,'Staff proposed'!E171)","v":"00:00:00"},{"$f":"'Staff proposed'!E171","v":"00:00:00"},{"$f":"IF(ISTEXT('Staff proposed'!F171),0,'Staff proposed'!F171)","v":"00:00:00"},{"$f":"'Staff proposed'!F171","v":"00:00:00"},0,0,"Rest",1,169,"",169,"NB","NB"]
[null,"Sun","1900-06-17",{"$f":"IF(ISTEXT('Staff proposed'!E172),0,'Staff proposed'!E172)","v":"00:00:00"},{"$f":"'Staff proposed'!E172","v":"00:00:00"},{"$f":"IF(ISTEXT('Staff proposed'!F172),0,'Staff proposed'!F172)","v":"00:00:00"},{"$f":"'Staff proposed'!F172","v":"00:00:00"},0,0,"Rest",1,170,"",170,"NB","NB"]
[null,"Mon","1900-06-18",{"$f":"IF(ISTEXT('Staff proposed'!E173),0,'Staff proposed'!E173)","v":"00:00:00"},{"$f":"'Staff proposed'!E173","v":"00:00:00"},{"$f":"IF(ISTEXT('Staff proposed'!F173),0,'Staff proposed'!F173)","v":"00:00:00"},{"$f":"'Staff proposed'!F173","v":"00:00:00"},0,0,"Rest",1,171,"",171,"NB","NB"]
[null,"Tue","1900-06-19",{"$f":"IF(ISTEXT('Staff proposed'!E174),0,'Staff proposed'!E174)","v":"00:00:00"},{"$f":"'Staff proposed'!E174","v":"00:00:00"},{"$f":"IF(ISTEXT('Staff proposed'!F174),0,'Staff proposed'!F174)","v":"00:00:00"},{"$f":"'Staff proposed'!F174","v":"00:00:00"},0,0,"Rest",1,172,"",172,"NB","NB"]
[null,"Wed","1900-06-20",{"$f":"IF(ISTEXT('Staff proposed'!E175),0,'Staff proposed'!E175)","v":"00:00:00"},{"$f":"'Staff proposed'!E175","v":"00:00:00"},{"$f":"IF(ISTEXT('Staff proposed'!F175),0,'Staff proposed'!F175)","v":"00:00:00"},{"$f":"'Staff proposed'!F175","v":"00:00:00"},0,0,"Rest",1,173,"",173,"NB","NB"]
[null,"Thu","1900-06-21",{"$f":"IF(ISTEXT('Staff proposed'!E176),0,'Staff proposed'!E176)","v":"00:00:00"},{"$f":"'Staff proposed'!E176","v":"00:00:00"},{"$f":"IF(ISTEXT('Staff proposed'!F176),0,'Staff proposed'!F176)","v":"00:00:00"},{"$f":"'Staff proposed'!F176","v":"00:00:00"},0,0,"Rest",1,174,"",174,"NB","NB"]
[null,"Fri","1900-06-22",{"$f":"IF(ISTEXT('Staff proposed'!E177),0,'Staff proposed'!E177)","v":"00:00:00"},{"$f":"'Staff proposed'!E177","v":"00:00:00"},{"$f":"IF(ISTEXT('Staff proposed'!F177),0,'Staff proposed'!F177)","v":"00:00:00"},{"$f":"'Staff proposed'!F177","v":"00:00:00"},0,0,"Rest",1,175,"",175,"NB","NB"]
[{"$f":"IF('Staff proposed'!C178>0,'Staff proposed'!C178,\"\")","v":"Week26"},"Sat","1900-06-23",{"$f":"IF(ISTEXT('Staff proposed'!E178),0,'Staff proposed'!E178)","v":"00:00:00"},{"$f":"'Staff proposed'!E178","v":"00:00:00"},{"$f":"IF(ISTEXT('Staff proposed'!F178),0,'Staff proposed'!F178)","v":"00:00:00"},{"$f":"'Staff proposed'!F178","v":"00:00:00"},0,0,"Rest",1,176,"",176,"NB","NB"]
[null,"Sun","1900-06-24",{"$f":"IF(ISTEXT('Staff proposed'!E179),0,'Staff proposed'!E179)","v":"00:00:00"},{"$f":"'Staff proposed'!E179","v":"00:00:00"},{"$f":"IF(ISTEXT('Staff proposed'!F179),0,'Staff proposed'!F179)","v":"00:00:00"},{"$f":"'Staff proposed'!F179","v":"00:00:00"},0,0,"Rest",1,177,"",177,"NB","NB"]
[null,"Mon","1900-06-25",{"$f":"IF(ISTEXT('Staff proposed'!E180),0,'Staff proposed'!E180)","v":"00:00:00"},{"$f":"'Staff proposed'!E180","v":"00:00:00"},{"$f":"IF(ISTEXT('Staff proposed'!F180),0,'Staff proposed'!F180)","v":"00:00:00"},{"$f":"'Staff proposed'!F180","v":"00:00:00"},0,0,"Rest",1,178,"",178,"NB","NB"]
[null,"Tue","1900-06-26",{"$f":"IF(ISTEXT('Staff proposed'!E181),0,'Staff proposed'!E181)","v":"00:00:00"},{"$f":"'Staff proposed'!E181","v":"00:00:00"},{"$f":"IF(ISTEXT('Staff proposed'!F181),0,'Staff proposed'!F181)","v":"00:00:00"},{"$f":"'Staff proposed'!F181","v":"00:00:00"},0,0,"Rest",1,179,"",179,"NB","NB"]
[null,"Wed","1900-06-27",{"$f":"IF(ISTEXT('Staff proposed'!E182),0,'Staff proposed'!E182)","v":"00:00:00"},{"$f":"'Staff proposed'!E182","v":"00:00:00"},{"$f":"IF(ISTEXT('Staff proposed'!F182),0,'Staff proposed'!F182)","v":"00:00:00"},{"$f":"'Staff proposed'!F182","v":"00:00:00"},0,0,"Rest",1,180,"",180,"NB","NB"]
[null,"Thu","1900-06-28",{"$f":"IF(ISTEXT('Staff proposed'!E183),0,'Staff proposed'!E183)","v":"00:00:00"},{"$f":"'Staff proposed'!E183","v":"00:00:00"},{"$f":"IF(ISTEXT('Staff proposed'!F183),0,'Staff proposed'!F183)","v":"00:00:00"},{"$f":"'Staff proposed'!F183","v":"00:00:00"},0,0,"Rest",1,181,"",181,"NB","NB"]
[null,"Fri","1900-06-29",{"$f":"IF(ISTEXT('Staff proposed'!E184),0,'Staff proposed'!E184)","v":"00:00:00"},{"$f":"'Staff proposed'!E184","v":"00:00:00"},{"$f":"IF(ISTEXT('Staff proposed'!F184),0,'Staff proposed'!F184)","v":"00:00:00"},{"$f":"'Staff proposed'!F184","v":"00:00:00"},0,0,"Rest",1,182,"",182,"NB","NB"]
[{"$f":"IF('Staff proposed'!C185>0,'Staff proposed'!C185,\"\")","v":"Week27"},"Sat","1900-06-30",{"$f":"IF(ISTEXT('Staff proposed'!E185),0,'Staff proposed'!E185)","v":"00:00:00"},{"$f":"'Staff proposed'!E185","v":"00:00:00"},{"$f":"IF(ISTEXT('Staff proposed'!F185),0,'Staff proposed'!F185)","v":"00:00:00"},{"$f":"'Staff proposed'!F185","v":"00:00:00"},0,0,"Rest",1,183,"",183,"NB","NB"]
[null,"Sun","1900-07-01",{"$f":"IF(ISTEXT('Staff proposed'!E186),0,'Staff proposed'!E186)","v":"00:00:00"},{"$f":"'Staff proposed'!E186","v":"00:00:00"},{"$f":"IF(ISTEXT('Staff proposed'!F186),0,'Staff proposed'!F186)","v":"00:00:00"},{"$f":"'Staff proposed'!F186","v":"00:00:00"},0,0,"Rest",1,184,"",184,"NB","NB"]
[null,"Mon","1900-07-02",{"$f":"IF(ISTEXT('Staff proposed'!E187),0,'Staff proposed'!E187)","v":"00:00:00"},{"$f":"'Staff proposed'!E187","v":"00:00:00"},{"$f":"IF(ISTEXT('Staff proposed'!F187),0,'Staff proposed'!F187)","v":"00:00:00"},{"$f":"'Staff proposed'!F187","v":"00:00:00"},0,0,"Rest",1,185,"",185,"NB","NB"]
[null,"Tue","1900-07-03",{"$f":"IF(ISTEXT('Staff proposed'!E188),0,'Staff proposed'!E188)","v":"00:00:00"},{"$f":"'Staff proposed'!E188","v":"00:00:00"},{"$f":"IF(ISTEXT('Staff proposed'!F188),0,'Staff proposed'!F188)","v":"00:00:00"},{"$f":"'Staff proposed'!F188","v":"00:00:00"},0,0,"Rest",1,186,"",186,"NB","NB"]
[null,"Wed","1900-07-04",{"$f":"IF(ISTEXT('Staff proposed'!E189),0,'Staff proposed'!E189)","v":"00:00:00"},{"$f":"'Staff proposed'!E189","v":"00:00:00"},{"$f":"IF(ISTEXT('Staff proposed'!F189),0,'Staff proposed'!F189)","v":"00:00:00"},{"$f":"'Staff proposed'!F189","v":"00:00:00"},0,0,"Rest",1,187,"",187,"NB","NB"]
[null,"Thu","1900-07-05",{"$f":"IF(ISTEXT('Staff proposed'!E190),0,'Staff proposed'!E190)","v":"00:00:00"},{"$f":"'Staff proposed'!E190","v":"00:00:00"},{"$f":"IF(ISTEXT('Staff proposed'!F190),0,'Staff proposed'!F190)","v":"00:00:00"},{"$f":"'Staff proposed'!F190","v":"00:00:00"},0,0,"Rest",1,188,"",188,"NB","NB"]
[null,"Fri","1900-07-06",{"$f":"IF(ISTEXT('Staff proposed'!E191),0,'Staff proposed'!E191)","v":"00:00:00"},{"$f":"'Staff proposed'!E191","v":"00:00:00"},{"$f":"IF(ISTEXT('Staff proposed'!F191),0,'Staff proposed'!F191)","v":"00:00:00"},{"$f":"'Staff proposed'!F191","v":"00:00:00"},0,0,"Rest",1,189,"",189,"NB","NB"]
[{"$f":"IF('Staff proposed'!C192>0,'Staff proposed'!C192,\"\")","v":"Week28"},"Sat","1900-07-07",{"$f":"IF(ISTEXT('Staff proposed'!E192),0,'Staff proposed'!E192)","v":"00:00:00"},{"$f":"'Staff proposed'!E192","v":"00:00:00"},{"$f":"IF(ISTEXT('Staff proposed'!F192),0,'Staff proposed'!F192)","v":"00:00:00"},{"$f":"'Staff proposed'!F192","v":"00:00:00"},0,0,"Rest",1,190,"",190,"NB","NB"]
[null,"Sun","1900-07-08",{"$f":"IF(ISTEXT('Staff proposed'!E193),0,'Staff proposed'!E193)","v":"00:00:00"},{"$f":"'Staff proposed'!E193","v":"00:00:00"},{"$f":"IF(ISTEXT('Staff proposed'!F193),0,'Staff proposed'!F193)","v":"00:00:00"},{"$f":"'Staff proposed'!F193","v":"00:00:00"},0,0,"Rest",1,191,"",191,"NB","NB"]
[null,"Mon","1900-07-09",{"$f":"IF(ISTEXT('Staff proposed'!E194),0,'Staff proposed'!E194)","v":"00:00:00"},{"$f":"'Staff proposed'!E194","v":"00:00:00"},{"$f":"IF(ISTEXT('Staff proposed'!F194),0,'Staff proposed'!F194)","v":"00:00:00"},{"$f":"'Staff proposed'!F194","v":"00:00:00"},0,0,"Rest",1,192,"",192,"NB","NB"]
[null,"Tue","1900-07-10",{"$f":"IF(ISTEXT('Staff proposed'!E195),0,'Staff proposed'!E195)","v":"00:00:00"},{"$f":"'Staff proposed'!E195","v":"00:00:00"},{"$f":"IF(ISTEXT('Staff proposed'!F195),0,'Staff proposed'!F195)","v":"00:00:00"},{"$f":"'Staff proposed'!F195","v":"00:00:00"},0,0,"Rest",1,193,"",193,"NB","NB"]
[null,{"$f":"IF(C195>0,TEXT(C195, \"ddd\"),\"\")","v":"Wed"},"1900-07-11",{"$f":"IF(ISTEXT('Staff proposed'!E196),0,'Staff proposed'!E196)","v":"00:00:00"},{"$f":"'Staff proposed'!E196","v":"00:00:00"},{"$f":"IF(ISTEXT('Staff proposed'!F196),0,'Staff proposed'!F196)","v":"00:00:00"},{"$f":"'Staff proposed'!F196","v":"00:00:00"},{"$f":"IF(ISTEXT(D195),0,F195-D195)","v":0},{"$f":"IF(ISTEXT(E195),0,IF(ISTEXT(E196),0,E196+(G195>E195)-G195))","v":0},{"$f":"IF(I195=\"\",\"\",IF(I195>=$J$1,\"Over\",IF(AND(I195>0,I195<=$J$1),\"Under\",\"Rest\")))","v":"Rest"},{"$f":"IF(ISNUMBER(E195),1,\"\")","v":1},{"$f":"IF(K195=\"\",\"Rest Day\",IF(K194=\"\",K195,(L194+K195)))","v":194},{"$f":"IF($D$2=0,\"\",IF(ISTEXT(L195),\"\",IF(L195>6,\"Exceeds\",\"\")))","v":""},{"$f":"IF(L195=\"Rest Day\",0,L195)","v":194},{"$f":"IF(AND(N196>=7,N195>=7),\"NB\",\"B\")","v":"NB"},{"$f":"IF(AND(N195>=14,N194>=14),\"NB\",\"B\")","v":"NB"}]
[null,"Thu",{"$f":"IF($A$2=0,\"\",C195+1)","v":"1900-07-12"},{"$f":"IF(ISTEXT('Staff proposed'!E197),0,'Staff proposed'!E197)","v":"00:00:00"},{"$f":"'Staff proposed'!E197","v":"00:00:00"},{"$f":"IF(ISTEXT('Staff proposed'!F197),0,'Staff proposed'!F197)","v":"00:00:00"},{"$f":"'Staff proposed'!F197","v":"00:00:00"},0,0,"Rest",1,195,"",195,"NB","NB"]
[null,"Fri","1900-07-13",{"$f":"IF(ISTEXT('Staff proposed'!E198),0,'Staff proposed'!E198)","v":"00:00:00"},{"$f":"'Staff proposed'!E198","v":"00:00:00"},{"$f":"IF(ISTEXT('Staff proposed'!F198),0,'Staff proposed'!F198)","v":"00:00:00"},{"$f":"'Staff proposed'!F198","v":"00:00:00"},0,0,"Rest",1,196,"",196,"NB","NB"]
[{"$f":"IF('Staff proposed'!C199>0,'Staff proposed'!C199,\"\")","v":"Week29"},"Sat","1900-07-14",{"$f":"IF(ISTEXT('Staff proposed'!E199),0,'Staff proposed'!E199)","v":"00:00:00"},{"$f":"'Staff proposed'!E199","v":"00:00:00"},{"$f":"IF(ISTEXT('Staff proposed'!F199),0,'Staff proposed'!F199)","v":"00:00:00"},{"$f":"'Staff proposed'!F199","v":"00:00:00"},0,0,"Rest",1,197,"",197,"NB","NB"]
[null,"Sun","1900-07-15",{"$f":"IF(ISTEXT('Staff proposed'!E200),0,'Staff proposed'!E200)","v":"00:00:00"},{"$f":"'Staff proposed'!E200","v":"00:00:00"},{"$f":"IF(ISTEXT('Staff proposed'!F200),0,'Staff proposed'!F200)","v":"00:00:00"},{"$f":"'Staff proposed'!F200","v":"00:00:00"},0,0,"Rest",1,198,"",198,"NB","NB"]
[null,"Mon","1900-07-16",{"$f":"IF(ISTEXT('Staff proposed'!E201),0,'Staff proposed'!E201)","v":"00:00:00"},{"$f":"'Staff proposed'!E201","v":"00:00:00"},{"$f":"IF(ISTEXT('Staff proposed'!F201),0,'Staff proposed'!F201)","v":"00:00:00"},{"$f":"'Staff proposed'!F201","v":"00:00:00"},0,0,"Rest",1,199,"",199,"NB","NB"]
[null,"Tue","1900-07-17",{"$f":"IF(ISTEXT('Staff proposed'!E202),0,'Staff proposed'!E202)","v":"00:00:00"},{"$f":"'Staff proposed'!E202","v":"00:00:00"},{"$f":"IF(ISTEXT('Staff proposed'!F202),0,'Staff proposed'!F202)","v":"00:00:00"},{"$f":"'Staff proposed'!F202","v":"00:00:00"},0,0,"Rest",1,200,"",200,"NB","NB"]
[null,"Wed","1900-07-18",{"$f":"IF(ISTEXT('Staff proposed'!E203),0,'Staff proposed'!E203)","v":"00:00:00"},{"$f":"'Staff proposed'!E203","v":"00:00:00"},{"$f":"IF(ISTEXT('Staff proposed'!F203),0,'Staff proposed'!F203)","v":"00:00:00"},{"$f":"'Staff proposed'!F203","v":"00:00:00"},0,0,"Rest",1,201,"",201,"NB","NB"]
[null,"Thu","1900-07-19",{"$f":"IF(ISTEXT('Staff proposed'!E204),0,'Staff proposed'!E204)","v":"00:00:00"},{"$f":"'Staff proposed'!E204","v":"00:00:00"},{"$f":"IF(ISTEXT('Staff proposed'!F204),0,'Staff proposed'!F204)","v":"00:00:00"},{"$f":"'Staff proposed'!F204","v":"00:00:00"},0,0,"Rest",1,202,"",202,"NB","NB"]
[null,"Fri","1900-07-20",{"$f":"IF(ISTEXT('Staff proposed'!E205),0,'Staff proposed'!E205)","v":"00:00:00"},{"$f":"'Staff proposed'!E205","v":"00:00:00"},{"$f":"IF(ISTEXT('Staff proposed'!F205),0,'Staff proposed'!F205)","v":"00:00:00"},{"$f":"'Staff proposed'!F205","v":"00:00:00"},0,0,"Rest",1,203,"",203,"NB","NB"]
[{"$f":"IF('Staff proposed'!C206>0,'Staff proposed'!C206,\"\")","v":"Week30"},"Sat","1900-07-21",{"$f":"IF(ISTEXT('Staff proposed'!E206),0,'Staff proposed'!E206)","v":"00:00:00"},{"$f":"'Staff proposed'!E206","v":"00:00:00"},{"$f":"IF(ISTEXT('Staff proposed'!F206),0,'Staff proposed'!F206)","v":"00:00:00"},{"$f":"'Staff proposed'!F206","v":"00:00:00"},0,0,"Rest",1,204,"",204,"NB","NB"]
[null,"Sun","1900-07-22",{"$f":"IF(ISTEXT('Staff proposed'!E207),0,'Staff proposed'!E207)","v":"00:00:00"},{"$f":"'Staff proposed'!E207","v":"00:00:00"},{"$f":"IF(ISTEXT('Staff proposed'!F207),0,'Staff proposed'!F207)","v":"00:00:00"},{"$f":"'Staff proposed'!F207","v":"00:00:00"},0,0,"Rest",1,205,"",205,"NB","NB"]
[null,"Mon","1900-07-23",{"$f":"IF(ISTEXT('Staff proposed'!E208),0,'Staff proposed'!E208)","v":"00:00:00"},{"$f":"'Staff proposed'!E208","v":"00:00:00"},{"$f":"IF(ISTEXT('Staff proposed'!F208),0,'Staff proposed'!F208)","v":"00:00:00"},{"$f":"'Staff proposed'!F208","v":"00:00:00"},0,0,"Rest",1,206,"",206,"NB","NB"]
[null,"Tue","1900-07-24",{"$f":"IF(ISTEXT('Staff proposed'!E209),0,'Staff proposed'!E209)","v":"00:00:00"},{"$f":"'Staff proposed'!E209","v":"00:00:00"},{"$f":"IF(ISTEXT('Staff proposed'!F209),0,'Staff proposed'!F209)","v":"00:00:00"},{"$f":"'Staff proposed'!F209","v":"00:00:00"},0,0,"Rest",1,207,"",207,"NB","NB"]
[null,"Wed","1900-07-25",{"$f":"IF(ISTEXT('Staff proposed'!E210),0,'Staff proposed'!E210)","v":"00:00:00"},{"$f":"'Staff proposed'!E210","v":"00:00:00"},{"$f":"IF(ISTEXT('Staff proposed'!F210),0,'Staff proposed'!F210)","v":"00:00:00"},{"$f":"'Staff proposed'!F210","v":"00:00:00"},0,0,"Rest",1,208,"",208,"NB","NB"]
[null,"Thu","1900-07-26",{"$f":"IF(ISTEXT('Staff proposed'!E211),0,'Staff proposed'!E211)","v":"00:00:00"},{"$f":"'Staff proposed'!E211","v":"00:00:00"},{"$f":"IF(ISTEXT('Staff proposed'!F211),0,'Staff proposed'!F211)","v":"00:00:00"},{"$f":"'Staff proposed'!F211","v":"00:00:00"},0,0,"Rest",1,209,"",209,"NB","NB"]
[null,"Fri","1900-07-27",{"$f":"IF(ISTEXT('Staff proposed'!E212),0,'Staff proposed'!E212)","v":"00:00:00"},{"$f":"'Staff proposed'!E212","v":"00:00:00"},{"$f":"IF(ISTEXT('Staff proposed'!F212),0,'Staff proposed'!F212)","v":"00:00:00"},{"$f":"'Staff proposed'!F212","v":"00:00:00"},0,0,"Rest",1,210,"",210,"NB","NB"]
[{"$f":"IF('Staff proposed'!C213>0,'Staff proposed'!C213,\"\")","v":"Week31"},"Sat","1900-07-28",{"$f":"IF(ISTEXT('Staff proposed'!E213),0,'Staff proposed'!E213)","v":"00:00:00"},{"$f":"'Staff proposed'!E213","v":"00:00:00"},{"$f":"IF(ISTEXT('Staff proposed'!F213),0,'Staff proposed'!F213)","v":"00:00:00"},{"$f":"'Staff proposed'!F213","v":"00:00:00"},0,0,"Rest",1,211,"",211,"NB","NB"]
[null,"Sun","1900-07-29",{"$f":"IF(ISTEXT('Staff proposed'!E214),0,'Staff proposed'!E214)","v":"00:00:00"},{"$f":"'Staff proposed'!E214","v":"00:00:00"},{"$f":"IF(ISTEXT('Staff proposed'!F214),0,'Staff proposed'!F214)","v":"00:00:00"},{"$f":"'Staff proposed'!F214","v":"00:00:00"},0,0,"Rest",1,212,"",212,"NB","NB"]
[null,"Mon","1900-07-30",{"$f":"IF(ISTEXT('Staff proposed'!E215),0,'Staff proposed'!E215)","v":"00:00:00"},{"$f":"'Staff proposed'!E215","v":"00:00:00"},{"$f":"IF(ISTEXT('Staff proposed'!F215),0,'Staff proposed'!F215)","v":"00:00:00"},{"$f":"'Staff proposed'!F215","v":"00:00:00"},0,0,"Rest",1,213,"",213,"NB","NB"]
[null,"Tue","1900-07-31",{"$f":"IF(ISTEXT('Staff proposed'!E216),0,'Staff proposed'!E216)","v":"00:00:00"},{"$f":"'Staff proposed'!E216","v":"00:00:00"},{"$f":"IF(ISTEXT('Staff proposed'!F216),0,'Staff proposed'!F216)","v":"00:00:00"},{"$f":"'Staff proposed'!F216","v":"00:00:00"},0,0,"Rest",1,214,"",214,"NB","NB"]
[null,"Wed","1900-08-01",{"$f":"IF(ISTEXT('Staff proposed'!E217),0,'Staff proposed'!E217)","v":"00:00:00"},{"$f":"'Staff proposed'!E217","v":"00:00:00"},{"$f":"IF(ISTEXT('Staff proposed'!F217),0,'Staff proposed'!F217)","v":"00:00:00"},{"$f":"'Staff proposed'!F217","v":"00:00:00"},0,0,"Rest",1,215,"",215,"NB","NB"]
[null,"Thu","1900-08-02",{"$f":"IF(ISTEXT('Staff proposed'!E218),0,'Staff proposed'!E218)","v":"00:00:00"},{"$f":"'Staff proposed'!E218","v":"00:00:00"},{"$f":"IF(ISTEXT('Staff proposed'!F218),0,'Staff proposed'!F218)","v":"00:00:00"},{"$f":"'Staff proposed'!F218","v":"00:00:00"},0,0,"Rest",1,216,"",216,"NB","NB"]
[null,"Fri","1900-08-03",{"$f":"IF(ISTEXT('Staff proposed'!E219),0,'Staff proposed'!E219)","v":"00:00:00"},{"$f":"'Staff proposed'!E219","v":"00:00:00"},{"$f":"IF(ISTEXT('Staff proposed'!F219),0,'Staff proposed'!F219)","v":"00:00:00"},{"$f":"'Staff proposed'!F219","v":"00:00:00"},0,0,"Rest",1,217,"",217,"NB","NB"]
[{"$f":"IF('Staff proposed'!C220>0,'Staff proposed'!C220,\"\")","v":"Week32"},"Sat","1900-08-04",{"$f":"IF(ISTEXT('Staff proposed'!E220),0,'Staff proposed'!E220)","v":"00:00:00"},{"$f":"'Staff proposed'!E220","v":"00:00:00"},{"$f":"IF(ISTEXT('Staff proposed'!F220),0,'Staff proposed'!F220)","v":"00:00:00"},{"$f":"'Staff proposed'!F220","v":"00:00:00"},0,0,"Rest",1,218,"",218,"NB","NB"]
[null,"Sun","1900-08-05",{"$f":"IF(ISTEXT('Staff proposed'!E221),0,'Staff proposed'!E221)","v":"00:00:00"},{"$f":"'Staff proposed'!E221","v":"00:00:00"},{"$f":"IF(ISTEXT('Staff proposed'!F221),0,'Staff proposed'!F221)","v":"00:00:00"},{"$f":"'Staff proposed'!F221","v":"00:00:00"},0,0,"Rest",1,219,"",219,"NB","NB"]
[null,"Mon","1900-08-06",{"$f":"IF(ISTEXT('Staff proposed'!E222),0,'Staff proposed'!E222)","v":"00:00:00"},{"$f":"'Staff proposed'!E222","v":"00:00:00"},{"$f":"IF(ISTEXT('Staff proposed'!F222),0,'Staff proposed'!F222)","v":"00:00:00"},{"$f":"'Staff proposed'!F222","v":"00:00:00"},0,0,"Rest",1,220,"",220,"NB","NB"]
[null,"Tue","1900-08-07",{"$f":"IF(ISTEXT('Staff proposed'!E223),0,'Staff proposed'!E223)","v":"00:00:00"},{"$f":"'Staff proposed'!E223","v":"00:00:00"},{"$f":"IF(ISTEXT('Staff proposed'!F223),0,'Staff proposed'!F223)","v":"00:00:00"},{"$f":"'Staff proposed'!F223","v":"00:00:00"},0,0,"Rest",1,221,"",221,"NB","NB"]
[null,"Wed","1900-08-08",{"$f":"IF(ISTEXT('Staff proposed'!E224),0,'Staff proposed'!E224)","v":"00:00:00"},{"$f":"'Staff proposed'!E224","v":"00:00:00"},{"$f":"IF(ISTEXT('Staff proposed'!F224),0,'Staff proposed'!F224)","v":"00:00:00"},{"$f":"'Staff proposed'!F224","v":"00:00:00"},0,0,"Rest",1,222,"",222,"NB","NB"]
[null,"Thu","1900-08-09",{"$f":"IF(ISTEXT('Staff proposed'!E225),0,'Staff proposed'!E225)","v":"00:00:00"},{"$f":"'Staff proposed'!E225","v":"00:00:00"},{"$f":"IF(ISTEXT('Staff proposed'!F225),0,'Staff proposed'!F225)","v":"00:00:00"},{"$f":"'Staff proposed'!F225","v":"00:00:00"},0,0,"Rest",1,223,"",223,"NB","NB"]
[null,"Fri","1900-08-10",{"$f":"IF(ISTEXT('Staff proposed'!E226),0,'Staff proposed'!E226)","v":"00:00:00"},{"$f":"'Staff proposed'!E226","v":"00:00:00"},{"$f":"IF(ISTEXT('Staff proposed'!F226),0,'Staff proposed'!F226)","v":"00:00:00"},{"$f":"'Staff proposed'!F226","v":"00:00:00"},0,0,"Rest",1,224,"",224,"NB","NB"]
[{"$f":"IF('Staff proposed'!C227>0,'Staff proposed'!C227,\"\")","v":"Week33"},"Sat","1900-08-11",{"$f":"IF(ISTEXT('Staff proposed'!E227),0,'Staff proposed'!E227)","v":"00:00:00"},{"$f":"'Staff proposed'!E227","v":"00:00:00"},{"$f":"IF(ISTEXT('Staff proposed'!F227),0,'Staff proposed'!F227)","v":"00:00:00"},{"$f":"'Staff proposed'!F227","v":"00:00:00"},0,0,"Rest",1,225,"",225,"NB","NB"]
[null,"Sun","1900-08-12",{"$f":"IF(ISTEXT('Staff proposed'!E228),0,'Staff proposed'!E228)","v":"00:00:00"},{"$f":"'Staff proposed'!E228","v":"00:00:00"},{"$f":"IF(ISTEXT('Staff proposed'!F228),0,'Staff proposed'!F228)","v":"00:00:00"},{"$f":"'Staff proposed'!F228","v":"00:00:00"},0,0,"Rest",1,226,"",226,"NB","NB"]
[null,"Mon","1900-08-13",{"$f":"IF(ISTEXT('Staff proposed'!E229),0,'Staff proposed'!E229)","v":"00:00:00"},{"$f":"'Staff proposed'!E229","v":"00:00:00"},{"$f":"IF(ISTEXT('Staff proposed'!F229),0,'Staff proposed'!F229)","v":"00:00:00"},{"$f":"'Staff proposed'!F229","v":"00:00:00"},0,0,"Rest",1,227,"",227,"NB","NB"]
[null,"Tue","1900-08-14",{"$f":"IF(ISTEXT('Staff proposed'!E230),0,'Staff proposed'!E230)","v":"00:00:00"},{"$f":"'Staff proposed'!E230","v":"00:00:00"},{"$f":"IF(ISTEXT('Staff proposed'!F230),0,'Staff proposed'!F230)","v":"00:00:00"},{"$f":"'Staff proposed'!F230","v":"00:00:00"},0,0,"Rest",1,228,"",228,"NB","NB"]
[null,"Wed","1900-08-15",{"$f":"IF(ISTEXT('Staff proposed'!E231),0,'Staff proposed'!E231)","v":"00:00:00"},{"$f":"'Staff proposed'!E231","v":"00:00:00"},{"$f":"IF(ISTEXT('Staff proposed'!F231),0,'Staff proposed'!F231)","v":"00:00:00"},{"$f":"'Staff proposed'!F231","v":"00:00:00"},0,0,"Rest",1,229,"",229,"NB","NB"]
[null,"Thu","1900-08-16",{"$f":"IF(ISTEXT('Staff proposed'!E232),0,'Staff proposed'!E232)","v":"00:00:00"},{"$f":"'Staff proposed'!E232","v":"00:00:00"},{"$f":"IF(ISTEXT('Staff proposed'!F232),0,'Staff proposed'!F232)","v":"00:00:00"},{"$f":"'Staff proposed'!F232","v":"00:00:00"},0,0,"Rest",1,230,"",230,"NB","NB"]
[null,"Fri","1900-08-17",{"$f":"IF(ISTEXT('Staff proposed'!E233),0,'Staff proposed'!E233)","v":"00:00:00"},{"$f":"'Staff proposed'!E233","v":"00:00:00"},{"$f":"IF(ISTEXT('Staff proposed'!F233),0,'Staff proposed'!F233)","v":"00:00:00"},{"$f":"'Staff proposed'!F233","v":"00:00:00"},0,0,"Rest",1,231,"",231,"NB","NB"]
[{"$f":"IF('Staff proposed'!C234>0,'Staff proposed'!C234,\"\")","v":"Week34"},"Sat","1900-08-18",{"$f":"IF(ISTEXT('Staff proposed'!E234),0,'Staff proposed'!E234)","v":"00:00:00"},{"$f":"'Staff proposed'!E234","v":"00:00:00"},{"$f":"IF(ISTEXT('Staff proposed'!F234),0,'Staff proposed'!F234)","v":"00:00:00"},{"$f":"'Staff proposed'!F234","v":"00:00:00"},0,0,"Rest",1,232,"",232,"NB","NB"]
[null,"Sun","1900-08-19",{"$f":"IF(ISTEXT('Staff proposed'!E235),0,'Staff proposed'!E235)","v":"00:00:00"},{"$f":"'Staff proposed'!E235","v":"00:00:00"},{"$f":"IF(ISTEXT('Staff proposed'!F235),0,'Staff proposed'!F235)","v":"00:00:00"},{"$f":"'Staff proposed'!F235","v":"00:00:00"},0,0,"Rest",1,233,"",233,"NB","NB"]
[null,"Mon","1900-08-20",{"$f":"IF(ISTEXT('Staff proposed'!E236),0,'Staff proposed'!E236)","v":"00:00:00"},{"$f":"'Staff proposed'!E236","v":"00:00:00"},{"$f":"IF(ISTEXT('Staff proposed'!F236),0,'Staff proposed'!F236)","v":"00:00:00"},{"$f":"'Staff proposed'!F236","v":"00:00:00"},0,0,"Rest",1,234,"",234,"NB","NB"]
[null,"Tue","1900-08-21",{"$f":"IF(ISTEXT('Staff proposed'!E237),0,'Staff proposed'!E237)","v":"00:00:00"},{"$f":"'Staff proposed'!E237","v":"00:00:00"},{"$f":"IF(ISTEXT('Staff proposed'!F237),0,'Staff proposed'!F237)","v":"00:00:00"},{"$f":"'Staff proposed'!F237","v":"00:00:00"},0,0,"Rest",1,235,"",235,"NB","NB"]
[null,"Wed","1900-08-22",{"$f":"IF(ISTEXT('Staff proposed'!E238),0,'Staff proposed'!E238)","v":"00:00:00"},{"$f":"'Staff proposed'!E238","v":"00:00:00"},{"$f":"IF(ISTEXT('Staff proposed'!F238),0,'Staff proposed'!F238)","v":"00:00:00"},{"$f":"'Staff proposed'!F238","v":"00:00:00"},0,0,"Rest",1,236,"",236,"NB","NB"]
[null,"Thu","1900-08-23",{"$f":"IF(ISTEXT('Staff proposed'!E239),0,'Staff proposed'!E239)","v":"00:00:00"},{"$f":"'Staff proposed'!E239","v":"00:00:00"},{"$f":"IF(ISTEXT('Staff proposed'!F239),0,'Staff proposed'!F239)","v":"00:00:00"},{"$f":"'Staff proposed'!F239","v":"00:00:00"},0,0,"Rest",1,237,"",237,"NB","NB"]
[null,"Fri","1900-08-24",{"$f":"IF(ISTEXT('Staff proposed'!E240),0,'Staff proposed'!E240)","v":"00:00:00"},{"$f":"'Staff proposed'!E240","v":"00:00:00"},{"$f":"IF(ISTEXT('Staff proposed'!F240),0,'Staff proposed'!F240)","v":"00:00:00"},{"$f":"'Staff proposed'!F240","v":"00:00:00"},0,0,"Rest",1,238,"",238,"NB","NB"]
[{"$f":"IF('Staff proposed'!C241>0,'Staff proposed'!C241,\"\")","v":"Week35"},"Sat","1900-08-25",{"$f":"IF(ISTEXT('Staff proposed'!E241),0,'Staff proposed'!E241)","v":"00:00:00"},{"$f":"'Staff proposed'!E241","v":"00:00:00"},{"$f":"IF(ISTEXT('Staff proposed'!F241),0,'Staff proposed'!F241)","v":"00:00:00"},{"$f":"'Staff proposed'!F241","v":"00:00:00"},0,0,"Rest",1,239,"",239,"NB","NB"]
[null,"Sun","1900-08-26",{"$f":"IF(ISTEXT('Staff proposed'!E242),0,'Staff proposed'!E242)","v":"00:00:00"},{"$f":"'Staff proposed'!E242","v":"00:00:00"},{"$f":"IF(ISTEXT('Staff proposed'!F242),0,'Staff proposed'!F242)","v":"00:00:00"},{"$f":"'Staff proposed'!F242","v":"00:00:00"},0,0,"Rest",1,240,"",240,"NB","NB"]
[null,"Mon","1900-08-27",{"$f":"IF(ISTEXT('Staff proposed'!E243),0,'Staff proposed'!E243)","v":"00:00:00"},{"$f":"'Staff proposed'!E243","v":"00:00:00"},{"$f":"IF(ISTEXT('Staff proposed'!F243),0,'Staff proposed'!F243)","v":"00:00:00"},{"$f":"'Staff proposed'!F243","v":"00:00:00"},0,0,"Rest",1,241,"",241,"NB","NB"]
[null,"Tue","1900-08-28",{"$f":"IF(ISTEXT('Staff proposed'!E244),0,'Staff proposed'!E244)","v":"00:00:00"},{"$f":"'Staff proposed'!E244","v":"00:00:00"},{"$f":"IF(ISTEXT('Staff proposed'!F244),0,'Staff proposed'!F244)","v":"00:00:00"},{"$f":"'Staff proposed'!F244","v":"00:00:00"},0,0,"Rest",1,242,"",242,"NB","NB"]
[null,"Wed","1900-08-29",{"$f":"IF(ISTEXT('Staff proposed'!E245),0,'Staff proposed'!E245)","v":"00:00:00"},{"$f":"'Staff proposed'!E245","v":"00:00:00"},{"$f":"IF(ISTEXT('Staff proposed'!F245),0,'Staff proposed'!F245)","v":"00:00:00"},{"$f":"'Staff proposed'!F245","v":"00:00:00"},0,0,"Rest",1,243,"",243,"NB","NB"]
[null,"Thu","1900-08-30",{"$f":"IF(ISTEXT('Staff proposed'!E246),0,'Staff proposed'!E246)","v":"00:00:00"},{"$f":"'Staff proposed'!E246","v":"00:00:00"},{"$f":"IF(ISTEXT('Staff proposed'!F246),0,'Staff proposed'!F246)","v":"00:00:00"},{"$f":"'Staff proposed'!F246","v":"00:00:00"},0,0,"Rest",1,244,"",244,"NB","NB"]
[null,"Fri","1900-08-31",{"$f":"IF(ISTEXT('Staff proposed'!E247),0,'Staff proposed'!E247)","v":"00:00:00"},{"$f":"'Staff proposed'!E247","v":"00:00:00"},{"$f":"IF(ISTEXT('Staff proposed'!F247),0,'Staff proposed'!F247)","v":"00:00:00"},{"$f":"'Staff proposed'!F247","v":"00:00:00"},0,0,"Rest",1,245,"",245,"NB","NB"]
[{"$f":"IF('Staff proposed'!C248>0,'Staff proposed'!C248,\"\")","v":"Week36"},"Sat","1900-09-01",{"$f":"IF(ISTEXT('Staff proposed'!E248),0,'Staff proposed'!E248)","v":"00:00:00"},{"$f":"'Staff proposed'!E248","v":"00:00:00"},{"$f":"IF(ISTEXT('Staff proposed'!F248),0,'Staff proposed'!F248)","v":"00:00:00"},{"$f":"'Staff proposed'!F248","v":"00:00:00"},0,0,"Rest",1,246,"",246,"NB","NB"]
[null,"Sun","1900-09-02",{"$f":"IF(ISTEXT('Staff proposed'!E249),0,'Staff proposed'!E249)","v":"00:00:00"},{"$f":"'Staff proposed'!E249","v":"00:00:00"},{"$f":"IF(ISTEXT('Staff proposed'!F249),0,'Staff proposed'!F249)","v":"00:00:00"},{"$f":"'Staff proposed'!F249","v":"00:00:00"},0,0,"Rest",1,247,"",247,"NB","NB"]
[null,"Mon","1900-09-03",{"$f":"IF(ISTEXT('Staff proposed'!E250),0,'Staff proposed'!E250)","v":"00:00:00"},{"$f":"'Staff proposed'!E250","v":"00:00:00"},{"$f":"IF(ISTEXT('Staff proposed'!F250),0,'Staff proposed'!F250)","v":"00:00:00"},{"$f":"'Staff proposed'!F250","v":"00:00:00"},0,0,"Rest",1,248,"",248,"NB","NB"]
[null,"Tue","1900-09-04",{"$f":"IF(ISTEXT('Staff proposed'!E251),0,'Staff proposed'!E251)","v":"00:00:00"},{"$f":"'Staff proposed'!E251","v":"00:00:00"},{"$f":"IF(ISTEXT('Staff proposed'!F251),0,'Staff proposed'!F251)","v":"00:00:00"},{"$f":"'Staff proposed'!F251","v":"00:00:00"},0,0,"Rest",1,249,"",249,"NB","NB"]
[null,"Wed","1900-09-05",{"$f":"IF(ISTEXT('Staff proposed'!E252),0,'Staff proposed'!E252)","v":"00:00:00"},{"$f":"'Staff proposed'!E252","v":"00:00:00"},{"$f":"IF(ISTEXT('Staff proposed'!F252),0,'Staff proposed'!F252)","v":"00:00:00"},{"$f":"'Staff proposed'!F252","v":"00:00:00"},0,0,"Rest",1,250,"",250,"NB","NB"]
[null,"Thu","1900-09-06",{"$f":"IF(ISTEXT('Staff proposed'!E253),0,'Staff proposed'!E253)","v":"00:00:00"},{"$f":"'Staff proposed'!E253","v":"00:00:00"},{"$f":"IF(ISTEXT('Staff proposed'!F253),0,'Staff proposed'!F253)","v":"00:00:00"},{"$f":"'Staff proposed'!F253","v":"00:00:00"},0,0,"Rest",1,251,"",251,"NB","NB"]
[null,"Fri","1900-09-07",{"$f":"IF(ISTEXT('Staff proposed'!E254),0,'Staff proposed'!E254)","v":"00:00:00"},{"$f":"'Staff proposed'!E254","v":"00:00:00"},{"$f":"IF(ISTEXT('Staff proposed'!F254),0,'Staff proposed'!F254)","v":"00:00:00"},{"$f":"'Staff proposed'!F254","v":"00:00:00"},0,0,"Rest",1,252,"",252,"NB","NB"]
[{"$f":"IF('Staff proposed'!C255>0,'Staff proposed'!C255,\"\")","v":"Week37"},"Sat","1900-09-08",{"$f":"IF(ISTEXT('Staff proposed'!E255),0,'Staff proposed'!E255)","v":"00:00:00"},{"$f":"'Staff proposed'!E255","v":"00:00:00"},{"$f":"IF(ISTEXT('Staff proposed'!F255),0,'Staff proposed'!F255)","v":"00:00:00"},{"$f":"'Staff proposed'!F255","v":"00:00:00"},0,0,"Rest",1,253,"",253,"NB","NB"]
[null,"Sun","1900-09-09",{"$f":"IF(ISTEXT('Staff proposed'!E256),0,'Staff proposed'!E256)","v":"00:00:00"},{"$f":"'Staff proposed'!E256","v":"00:00:00"},{"$f":"IF(ISTEXT('Staff proposed'!F256),0,'Staff proposed'!F256)","v":"00:00:00"},{"$f":"'Staff proposed'!F256","v":"00:00:00"},0,0,"Rest",1,254,"",254,"NB","NB"]
[null,"Mon","1900-09-10",{"$f":"IF(ISTEXT('Staff proposed'!E257),0,'Staff proposed'!E257)","v":"00:00:00"},{"$f":"'Staff proposed'!E257","v":"00:00:00"},{"$f":"IF(ISTEXT('Staff proposed'!F257),0,'Staff proposed'!F257)","v":"00:00:00"},{"$f":"'Staff proposed'!F257","v":"00:00:00"},0,0,"Rest",1,255,"",255,"NB","NB"]
[null,"Tue","1900-09-11",{"$f":"IF(ISTEXT('Staff proposed'!E258),0,'Staff proposed'!E258)","v":"00:00:00"},{"$f":"'Staff proposed'!E258","v":"00:00:00"},{"$f":"IF(ISTEXT('Staff proposed'!F258),0,'Staff proposed'!F258)","v":"00:00:00"},{"$f":"'Staff proposed'!F258","v":"00:00:00"},0,0,"Rest",1,256,"",256,"NB","NB"]
[null,"Wed","1900-09-12",{"$f":"IF(ISTEXT('Staff proposed'!E259),0,'Staff proposed'!E259)","v":"00:00:00"},{"$f":"'Staff proposed'!E259","v":"00:00:00"},{"$f":"IF(ISTEXT('Staff proposed'!F259),0,'Staff proposed'!F259)","v":"00:00:00"},{"$f":"'Staff proposed'!F259","v":"00:00:00"},0,0,"Rest",1,257,"",257,"NB","NB"]
[null,{"$f":"IF(C259>0,TEXT(C259, \"ddd\"),\"\")","v":"Thu"},"1900-09-13",{"$f":"IF(ISTEXT('Staff proposed'!E260),0,'Staff proposed'!E260)","v":"00:00:00"},{"$f":"'Staff proposed'!E260","v":"00:00:00"},{"$f":"IF(ISTEXT('Staff proposed'!F260),0,'Staff proposed'!F260)","v":"00:00:00"},{"$f":"'Staff proposed'!F260","v":"00:00:00"},{"$f":"IF(ISTEXT(D259),0,F259-D259)","v":0},{"$f":"IF(ISTEXT(E259),0,IF(ISTEXT(E260),0,E260+(G259>E259)-G259))","v":0},{"$f":"IF(I259=\"\",\"\",IF(I259>=$J$1,\"Over\",IF(AND(I259>0,I259<=$J$1),\"Under\",\"Rest\")))","v":"Rest"},{"$f":"IF(ISNUMBER(E259),1,\"\")","v":1},{"$f":"IF(K259=\"\",\"Rest Day\",IF(K258=\"\",K259,(L258+K259)))","v":258},{"$f":"IF($D$2=0,\"\",IF(ISTEXT(L259),\"\",IF(L259>6,\"Exceeds\",\"\")))","v":""},{"$f":"IF(L259=\"Rest Day\",0,L259)","v":258},{"$f":"IF(AND(N260>=7,N259>=7),\"NB\",\"B\")","v":"NB"},{"$f":"IF(AND(N259>=14,N258>=14),\"NB\",\"B\")","v":"NB"}]
[null,"Fri",{"$f":"IF($A$2=0,\"\",C259+1)","v":"1900-09-14"},{"$f":"IF(ISTEXT('Staff proposed'!E261),0,'Staff proposed'!E261)","v":"00:00:00"},{"$f":"'Staff proposed'!E261","v":"00:00:00"},{"$f":"IF(ISTEXT('Staff proposed'!F261),0,'Staff proposed'!F261)","v":"00:00:00"},{"$f":"'Staff proposed'!F261","v":"00:00:00"},0,0,"Rest",1,259,"",259,"NB","NB"]
[{"$f":"IF('Staff proposed'!C262>0,'Staff proposed'!C262,\"\")","v":"Week38"},"Sat","1900-09-15",{"$f":"IF(ISTEXT('Staff proposed'!E262),0,'Staff proposed'!E262)","v":"00:00:00"},{"$f":"'Staff proposed'!E262","v":"00:00:00"},{"$f":"IF(ISTEXT('Staff proposed'!F262),0,'Staff proposed'!F262)","v":"00:00:00"},{"$f":"'Staff proposed'!F262","v":"00:00:00"},0,0,"Rest",1,260,"",260,"NB","NB"]
[null,"Sun","1900-09-16",{"$f":"IF(ISTEXT('Staff proposed'!E263),0,'Staff proposed'!E263)","v":"00:00:00"},{"$f":"'Staff proposed'!E263","v":"00:00:00"},{"$f":"IF(ISTEXT('Staff proposed'!F263),0,'Staff proposed'!F263)","v":"00:00:00"},{"$f":"'Staff proposed'!F263","v":"00:00:00"},0,0,"Rest",1,261,"",261,"NB","NB"]
[null,"Mon","1900-09-17",{"$f":"IF(ISTEXT('Staff proposed'!E264),0,'Staff proposed'!E264)","v":"00:00:00"},{"$f":"'Staff proposed'!E264","v":"00:00:00"},{"$f":"IF(ISTEXT('Staff proposed'!F264),0,'Staff proposed'!F264)","v":"00:00:00"},{"$f":"'Staff proposed'!F264","v":"00:00:00"},0,0,"Rest",1,262,"",262,"NB","NB"]
[null,"Tue","1900-09-18",{"$f":"IF(ISTEXT('Staff proposed'!E265),0,'Staff proposed'!E265)","v":"00:00:00"},{"$f":"'Staff proposed'!E265","v":"00:00:00"},{"$f":"IF(ISTEXT('Staff proposed'!F265),0,'Staff proposed'!F265)","v":"00:00:00"},{"$f":"'Staff proposed'!F265","v":"00:00:00"},0,0,"Rest",1,263,"",263,"NB","NB"]
[null,"Wed","1900-09-19",{"$f":"IF(ISTEXT('Staff proposed'!E266),0,'Staff proposed'!E266)","v":"00:00:00"},{"$f":"'Staff proposed'!E266","v":"00:00:00"},{"$f":"IF(ISTEXT('Staff proposed'!F266),0,'Staff proposed'!F266)","v":"00:00:00"},{"$f":"'Staff proposed'!F266","v":"00:00:00"},0,0,"Rest",1,264,"",264,"NB","NB"]
[null,"Thu","1900-09-20",{"$f":"IF(ISTEXT('Staff proposed'!E267),0,'Staff proposed'!E267)","v":"00:00:00"},{"$f":"'Staff proposed'!E267","v":"00:00:00"},{"$f":"IF(ISTEXT('Staff proposed'!F267),0,'Staff proposed'!F267)","v":"00:00:00"},{"$f":"'Staff proposed'!F267","v":"00:00:00"},0,0,"Rest",1,265,"",265,"NB","NB"]
[null,"Fri","1900-09-21",{"$f":"IF(ISTEXT('Staff proposed'!E268),0,'Staff proposed'!E268)","v":"00:00:00"},{"$f":"'Staff proposed'!E268","v":"00:00:00"},{"$f":"IF(ISTEXT('Staff proposed'!F268),0,'Staff proposed'!F268)","v":"00:00:00"},{"$f":"'Staff proposed'!F268","v":"00:00:00"},0,0,"Rest",1,266,"",266,"NB","NB"]
[{"$f":"IF('Staff proposed'!C269>0,'Staff proposed'!C269,\"\")","v":"Week39"},"Sat","1900-09-22",{"$f":"IF(ISTEXT('Staff proposed'!E269),0,'Staff proposed'!E269)","v":"00:00:00"},{"$f":"'Staff proposed'!E269","v":"00:00:00"},{"$f":"IF(ISTEXT('Staff proposed'!F269),0,'Staff proposed'!F269)","v":"00:00:00"},{"$f":"'Staff proposed'!F269","v":"00:00:00"},0,0,"Rest",1,267,"",267,"NB","NB"]
[null,"Sun","1900-09-23",{"$f":"IF(ISTEXT('Staff proposed'!E270),0,'Staff proposed'!E270)","v":"00:00:00"},{"$f":"'Staff proposed'!E270","v":"00:00:00"},{"$f":"IF(ISTEXT('Staff proposed'!F270),0,'Staff proposed'!F270)","v":"00:00:00"},{"$f":"'Staff proposed'!F270","v":"00:00:00"},0,0,"Rest",1,268,"",268,"NB","NB"]
[null,"Mon","1900-09-24",{"$f":"IF(ISTEXT('Staff proposed'!E271),0,'Staff proposed'!E271)","v":"00:00:00"},{"$f":"'Staff proposed'!E271","v":"00:00:00"},{"$f":"IF(ISTEXT('Staff proposed'!F271),0,'Staff proposed'!F271)","v":"00:00:00"},{"$f":"'Staff proposed'!F271","v":"00:00:00"},0,0,"Rest",1,269,"",269,"NB","NB"]
[null,"Tue","1900-09-25",{"$f":"IF(ISTEXT('Staff proposed'!E272),0,'Staff proposed'!E272)","v":"00:00:00"},{"$f":"'Staff proposed'!E272","v":"00:00:00"},{"$f":"IF(ISTEXT('Staff proposed'!F272),0,'Staff proposed'!F272)","v":"00:00:00"},{"$f":"'Staff proposed'!F272","v":"00:00:00"},0,0,"Rest",1,270,"",270,"NB","NB"]
[null,"Wed","1900-09-26",{"$f":"IF(ISTEXT('Staff proposed'!E273),0,'Staff proposed'!E273)","v":"00:00:00"},{"$f":"'Staff proposed'!E273","v":"00:00:00"},{"$f":"IF(ISTEXT('Staff proposed'!F273),0,'Staff proposed'!F273)","v":"00:00:00"},{"$f":"'Staff proposed'!F273","v":"00:00:00"},0,0,"Rest",1,271,"",271,"NB","NB"]
[null,"Thu","1900-09-27",{"$f":"IF(ISTEXT('Staff proposed'!E274),0,'Staff proposed'!E274)","v":"00:00:00"},{"$f":"'Staff proposed'!E274","v":"00:00:00"},{"$f":"IF(ISTEXT('Staff proposed'!F274),0,'Staff proposed'!F274)","v":"00:00:00"},{"$f":"'Staff proposed'!F274","v":"00:00:00"},0,0,"Rest",1,272,"",272,"NB","NB"]
[null,"Fri","1900-09-28",{"$f":"IF(ISTEXT('Staff proposed'!E275),0,'Staff proposed'!E275)","v":"00:00:00"},{"$f":"'Staff proposed'!E275","v":"00:00:00"},{"$f":"IF(ISTEXT('Staff proposed'!F275),0,'Staff proposed'!F275)","v":"00:00:00"},{"$f":"'Staff proposed'!F275","v":"00:00:00"},0,0,"Rest",1,273,"",273,"NB","NB"]
[{"$f":"IF('Staff proposed'!C276>0,'Staff proposed'!C276,\"\")","v":"Week40"},"Sat","1900-09-29",{"$f":"IF(ISTEXT('Staff proposed'!E276),0,'Staff proposed'!E276)","v":"00:00:00"},{"$f":"'Staff proposed'!E276","v":"00:00:00"},{"$f":"IF(ISTEXT('Staff proposed'!F276),0,'Staff proposed'!F276)","v":"00:00:00"},{"$f":"'Staff proposed'!F276","v":"00:00:00"},0,0,"Rest",1,274,"",274,"NB","NB"]
[null,"Sun","1900-09-30",{"$f":"IF(ISTEXT('Staff proposed'!E277),0,'Staff proposed'!E277)","v":"00:00:00"},{"$f":"'Staff proposed'!E277","v":"00:00:00"},{"$f":"IF(ISTEXT('Staff proposed'!F277),0,'Staff proposed'!F277)","v":"00:00:00"},{"$f":"'Staff proposed'!F277","v":"00:00:00"},0,0,"Rest",1,275,"",275,"NB","NB"]
[null,"Mon","1900-10-01",{"$f":"IF(ISTEXT('Staff proposed'!E278),0,'Staff proposed'!E278)","v":"00:00:00"},{"$f":"'Staff proposed'!E278","v":"00:00:00"},{"$f":"IF(ISTEXT('Staff proposed'!F278),0,'Staff proposed'!F278)","v":"00:00:00"},{"$f":"'Staff proposed'!F278","v":"00:00:00"},0,0,"Rest",1,276,"",276,"NB","NB"]
[null,"Tue","1900-10-02",{"$f":"IF(ISTEXT('Staff proposed'!E279),0,'Staff proposed'!E279)","v":"00:00:00"},{"$f":"'Staff proposed'!E279","v":"00:00:00"},{"$f":"IF(ISTEXT('Staff proposed'!F279),0,'Staff proposed'!F279)","v":"00:00:00"},{"$f":"'Staff proposed'!F279","v":"00:00:00"},0,0,"Rest",1,277,"",277,"NB","NB"]
[null,"Wed","1900-10-03",{"$f":"IF(ISTEXT('Staff proposed'!E280),0,'Staff proposed'!E280)","v":"00:00:00"},{"$f":"'Staff proposed'!E280","v":"00:00:00"},{"$f":"IF(ISTEXT('Staff proposed'!F280),0,'Staff proposed'!F280)","v":"00:00:00"},{"$f":"'Staff proposed'!F280","v":"00:00:00"},0,0,"Rest",1,278,"",278,"NB","NB"]
[null,"Thu","1900-10-04",{"$f":"IF(ISTEXT('Staff proposed'!E281),0,'Staff proposed'!E281)","v":"00:00:00"},{"$f":"'Staff proposed'!E281","v":"00:00:00"},{"$f":"IF(ISTEXT('Staff proposed'!F281),0,'Staff proposed'!F281)","v":"00:00:00"},{"$f":"'Staff proposed'!F281","v":"00:00:00"},0,0,"Rest",1,279,"",279,"NB","NB"]
[null,"Fri","1900-10-05",{"$f":"IF(ISTEXT('Staff proposed'!E282),0,'Staff proposed'!E282)","v":"00:00:00"},{"$f":"'Staff proposed'!E282","v":"00:00:00"},{"$f":"IF(ISTEXT('Staff proposed'!F282),0,'Staff proposed'!F282)","v":"00:00:00"},{"$f":"'Staff proposed'!F282","v":"00:00:00"},0,0,"Rest",1,280,"",280,"NB","NB"]
[{"$f":"IF('Staff proposed'!C283>0,'Staff proposed'!C283,\"\")","v":"Week41"},"Sat","1900-10-06",{"$f":"IF(ISTEXT('Staff proposed'!E283),0,'Staff proposed'!E283)","v":"00:00:00"},{"$f":"'Staff proposed'!E283","v":"00:00:00"},{"$f":"IF(ISTEXT('Staff proposed'!F283),0,'Staff proposed'!F283)","v":"00:00:00"},{"$f":"'Staff proposed'!F283","v":"00:00:00"},0,0,"Rest",1,281,"",281,"NB","NB"]
[null,"Sun","1900-10-07",{"$f":"IF(ISTEXT('Staff proposed'!E284),0,'Staff proposed'!E284)","v":"00:00:00"},{"$f":"'Staff proposed'!E284","v":"00:00:00"},{"$f":"IF(ISTEXT('Staff proposed'!F284),0,'Staff proposed'!F284)","v":"00:00:00"},{"$f":"'Staff proposed'!F284","v":"00:00:00"},0,0,"Rest",1,282,"",282,"NB","NB"]
[null,"Mon","1900-10-08",{"$f":"IF(ISTEXT('Staff proposed'!E285),0,'Staff proposed'!E285)","v":"00:00:00"},{"$f":"'Staff proposed'!E285","v":"00:00:00"},{"$f":"IF(ISTEXT('Staff proposed'!F285),0,'Staff proposed'!F285)","v":"00:00:00"},{"$f":"'Staff proposed'!F285","v":"00:00:00"},0,0,"Rest",1,283,"",283,"NB","NB"]
[null,"Tue","1900-10-09",{"$f":"IF(ISTEXT('Staff proposed'!E286),0,'Staff proposed'!E286)","v":"00:00:00"},{"$f":"'Staff proposed'!E286","v":"00:00:00"},{"$f":"IF(ISTEXT('Staff proposed'!F286),0,'Staff proposed'!F286)","v":"00:00:00"},{"$f":"'Staff proposed'!F286","v":"00:00:00"},0,0,"Rest",1,284,"",284,"NB","NB"]
[null,"Wed","1900-10-10",{"$f":"IF(ISTEXT('Staff proposed'!E287),0,'Staff proposed'!E287)","v":"00:00:00"},{"$f":"'Staff proposed'!E287","v":"00:00:00"},{"$f":"IF(ISTEXT('Staff proposed'!F287),0,'Staff proposed'!F287)","v":"00:00:00"},{"$f":"'Staff proposed'!F287","v":"00:00:00"},0,0,"Rest",1,285,"",285,"NB","NB"]
[null,"Thu","1900-10-11",{"$f":"IF(ISTEXT('Staff proposed'!E288),0,'Staff proposed'!E288)","v":"00:00:00"},{"$f":"'Staff proposed'!E288","v":"00:00:00"},{"$f":"IF(ISTEXT('Staff proposed'!F288),0,'Staff proposed'!F288)","v":"00:00:00"},{"$f":"'Staff proposed'!F288","v":"00:00:00"},0,0,"Rest",1,286,"",286,"NB","NB"]
[null,"Fri","1900-10-12",{"$f":"IF(ISTEXT('Staff proposed'!E289),0,'Staff proposed'!E289)","v":"00:00:00"},{"$f":"'Staff proposed'!E289","v":"00:00:00"},{"$f":"IF(ISTEXT('Staff proposed'!F289),0,'Staff proposed'!F289)","v":"00:00:00"},{"$f":"'Staff proposed'!F289","v":"00:00:00"},0,0,"Rest",1,287,"",287,"NB","NB"]
[{"$f":"IF('Staff proposed'!C290>0,'Staff proposed'!C290,\"\")","v":"Week42"},"Sat","1900-10-13",{"$f":"IF(ISTEXT('Staff proposed'!E290),0,'Staff proposed'!E290)","v":"00:00:00"},{"$f":"'Staff proposed'!E290","v":"00:00:00"},{"$f":"IF(ISTEXT('Staff proposed'!F290),0,'Staff proposed'!F290)","v":"00:00:00"},{"$f":"'Staff proposed'!F290","v":"00:00:00"},0,0,"Rest",1,288,"",288,"NB","NB"]
[null,"Sun","1900-10-14",{"$f":"IF(ISTEXT('Staff proposed'!E291),0,'Staff proposed'!E291)","v":"00:00:00"},{"$f":"'Staff proposed'!E291","v":"00:00:00"},{"$f":"IF(ISTEXT('Staff proposed'!F291),0,'Staff proposed'!F291)","v":"00:00:00"},{"$f":"'Staff proposed'!F291","v":"00:00:00"},0,0,"Rest",1,289,"",289,"NB","NB"]
[null,"Mon","1900-10-15",{"$f":"IF(ISTEXT('Staff proposed'!E292),0,'Staff proposed'!E292)","v":"00:00:00"},{"$f":"'Staff proposed'!E292","v":"00:00:00"},{"$f":"IF(ISTEXT('Staff proposed'!F292),0,'Staff proposed'!F292)","v":"00:00:00"},{"$f":"'Staff proposed'!F292","v":"00:00:00"},0,0,"Rest",1,290,"",290,"NB","NB"]
[null,"Tue","1900-10-16",{"$f":"IF(ISTEXT('Staff proposed'!E293),0,'Staff proposed'!E293)","v":"00:00:00"},{"$f":"'Staff proposed'!E293","v":"00:00:00"},{"$f":"IF(ISTEXT('Staff proposed'!F293),0,'Staff proposed'!F293)","v":"00:00:00"},{"$f":"'Staff proposed'!F293","v":"00:00:00"},0,0,"Rest",1,291,"",291,"NB","NB"]
[null,"Wed","1900-10-17",{"$f":"IF(ISTEXT('Staff proposed'!E294),0,'Staff proposed'!E294)","v":"00:00:00"},{"$f":"'Staff proposed'!E294","v":"00:00:00"},{"$f":"IF(ISTEXT('Staff proposed'!F294),0,'Staff proposed'!F294)","v":"00:00:00"},{"$f":"'Staff proposed'!F294","v":"00:00:00"},0,0,"Rest",1,292,"",292,"NB","NB"]
[null,"Thu","1900-10-18",{"$f":"IF(ISTEXT('Staff proposed'!E295),0,'Staff proposed'!E295)","v":"00:00:00"},{"$f":"'Staff proposed'!E295","v":"00:00:00"},{"$f":"IF(ISTEXT('Staff proposed'!F295),0,'Staff proposed'!F295)","v":"00:00:00"},{"$f":"'Staff proposed'!F295","v":"00:00:00"},0,0,"Rest",1,293,"",293,"NB","NB"]
[null,"Fri","1900-10-19",{"$f":"IF(ISTEXT('Staff proposed'!E296),0,'Staff proposed'!E296)","v":"00:00:00"},{"$f":"'Staff proposed'!E296","v":"00:00:00"},{"$f":"IF(ISTEXT('Staff proposed'!F296),0,'Staff proposed'!F296)","v":"00:00:00"},{"$f":"'Staff proposed'!F296","v":"00:00:00"},0,0,"Rest",1,294,"",294,"NB","NB"]
[{"$f":"IF('Staff proposed'!C297>0,'Staff proposed'!C297,\"\")","v":"Week43"},"Sat","1900-10-20",{"$f":"IF(ISTEXT('Staff proposed'!E297),0,'Staff proposed'!E297)","v":"00:00:00"},{"$f":"'Staff proposed'!E297","v":"00:00:00"},{"$f":"IF(ISTEXT('Staff proposed'!F297),0,'Staff proposed'!F297)","v":"00:00:00"},{"$f":"'Staff proposed'!F297","v":"00:00:00"},0,0,"Rest",1,295,"",295,"NB","NB"]
[null,"Sun","1900-10-21",{"$f":"IF(ISTEXT('Staff proposed'!E298),0,'Staff proposed'!E298)","v":"00:00:00"},{"$f":"'Staff proposed'!E298","v":"00:00:00"},{"$f":"IF(ISTEXT('Staff proposed'!F298),0,'Staff proposed'!F298)","v":"00:00:00"},{"$f":"'Staff proposed'!F298","v":"00:00:00"},0,0,"Rest",1,296,"",296,"NB","NB"]
[null,"Mon","1900-10-22",{"$f":"IF(ISTEXT('Staff proposed'!E299),0,'Staff proposed'!E299)","v":"00:00:00"},{"$f":"'Staff proposed'!E299","v":"00:00:00"},{"$f":"IF(ISTEXT('Staff proposed'!F299),0,'Staff proposed'!F299)","v":"00:00:00"},{"$f":"'Staff proposed'!F299","v":"00:00:00"},0,0,"Rest",1,297,"",297,"NB","NB"]
[null,"Tue","1900-10-23",{"$f":"IF(ISTEXT('Staff proposed'!E300),0,'Staff proposed'!E300)","v":"00:00:00"},{"$f":"'Staff proposed'!E300","v":"00:00:00"},{"$f":"IF(ISTEXT('Staff proposed'!F300),0,'Staff proposed'!F300)","v":"00:00:00"},{"$f":"'Staff proposed'!F300","v":"00:00:00"},0,0,"Rest",1,298,"",298,"NB","NB"]
[null,"Wed","1900-10-24",{"$f":"IF(ISTEXT('Staff proposed'!E301),0,'Staff proposed'!E301)","v":"00:00:00"},{"$f":"'Staff proposed'!E301","v":"00:00:00"},{"$f":"IF(ISTEXT('Staff proposed'!F301),0,'Staff proposed'!F301)","v":"00:00:00"},{"$f":"'Staff proposed'!F301","v":"00:00:00"},0,0,"Rest",1,299,"",299,"NB","NB"]
[null,"Thu","1900-10-25",{"$f":"IF(ISTEXT('Staff proposed'!E302),0,'Staff proposed'!E302)","v":"00:00:00"},{"$f":"'Staff proposed'!E302","v":"00:00:00"},{"$f":"IF(ISTEXT('Staff proposed'!F302),0,'Staff proposed'!F302)","v":"00:00:00"},{"$f":"'Staff proposed'!F302","v":"00:00:00"},0,0,"Rest",1,300,"",300,"NB","NB"]
[null,"Fri","1900-10-26",{"$f":"IF(ISTEXT('Staff proposed'!E303),0,'Staff proposed'!E303)","v":"00:00:00"},{"$f":"'Staff proposed'!E303","v":"00:00:00"},{"$f":"IF(ISTEXT('Staff proposed'!F303),0,'Staff proposed'!F303)","v":"00:00:00"},{"$f":"'Staff proposed'!F303","v":"00:00:00"},0,0,"Rest",1,301,"",301,"NB","NB"]
[{"$f":"IF('Staff proposed'!C304>0,'Staff proposed'!C304,\"\")","v":"Week44"},"Sat","1900-10-27",{"$f":"IF(ISTEXT('Staff proposed'!E304),0,'Staff proposed'!E304)","v":"00:00:00"},{"$f":"'Staff proposed'!E304","v":"00:00:00"},{"$f":"IF(ISTEXT('Staff proposed'!F304),0,'Staff proposed'!F304)","v":"00:00:00"},{"$f":"'Staff proposed'!F304","v":"00:00:00"},0,0,"Rest",1,302,"",302,"NB","NB"]
[null,"Sun","1900-10-28",{"$f":"IF(ISTEXT('Staff proposed'!E305),0,'Staff proposed'!E305)","v":"00:00:00"},{"$f":"'Staff proposed'!E305","v":"00:00:00"},{"$f":"IF(ISTEXT('Staff proposed'!F305),0,'Staff proposed'!F305)","v":"00:00:00"},{"$f":"'Staff proposed'!F305","v":"00:00:00"},0,0,"Rest",1,303,"",303,"NB","NB"]
[null,"Mon","1900-10-29",{"$f":"IF(ISTEXT('Staff proposed'!E306),0,'Staff proposed'!E306)","v":"00:00:00"},{"$f":"'Staff proposed'!E306","v":"00:00:00"},{"$f":"IF(ISTEXT('Staff proposed'!F306),0,'Staff proposed'!F306)","v":"00:00:00"},{"$f":"'Staff proposed'!F306","v":"00:00:00"},0,0,"Rest",1,304,"",304,"NB","NB"]
[null,"Tue","1900-10-30",{"$f":"IF(ISTEXT('Staff proposed'!E307),0,'Staff proposed'!E307)","v":"00:00:00"},{"$f":"'Staff proposed'!E307","v":"00:00:00"},{"$f":"IF(ISTEXT('Staff proposed'!F307),0,'Staff proposed'!F307)","v":"00:00:00"},{"$f":"'Staff proposed'!F307","v":"00:00:00"},0,0,"Rest",1,305,"",305,"NB","NB"]
[null,"Wed","1900-10-31",{"$f":"IF(ISTEXT('Staff proposed'!E308),0,'Staff proposed'!E308)","v":"00:00:00"},{"$f":"'Staff proposed'!E308","v":"00:00:00"},{"$f":"IF(ISTEXT('Staff proposed'!F308),0,'Staff proposed'!F308)","v":"00:00:00"},{"$f":"'Staff proposed'!F308","v":"00:00:00"},0,0,"Rest",1,306,"",306,"NB","NB"]
[null,"Thu","1900-11-01",{"$f":"IF(ISTEXT('Staff proposed'!E309),0,'Staff proposed'!E309)","v":"00:00:00"},{"$f":"'Staff proposed'!E309","v":"00:00:00"},{"$f":"IF(ISTEXT('Staff proposed'!F309),0,'Staff proposed'!F309)","v":"00:00:00"},{"$f":"'Staff proposed'!F309","v":"00:00:00"},0,0,"Rest",1,307,"",307,"NB","NB"]
[null,"Fri","1900-11-02",{"$f":"IF(ISTEXT('Staff proposed'!E310),0,'Staff proposed'!E310)","v":"00:00:00"},{"$f":"'Staff proposed'!E310","v":"00:00:00"},{"$f":"IF(ISTEXT('Staff proposed'!F310),0,'Staff proposed'!F310)","v":"00:00:00"},{"$f":"'Staff proposed'!F310","v":"00:00:00"},0,0,"Rest",1,308,"",308,"NB","NB"]
[{"$f":"IF('Staff proposed'!C311>0,'Staff proposed'!C311,\"\")","v":"Week45"},"Sat","1900-11-03",{"$f":"IF(ISTEXT('Staff proposed'!E311),0,'Staff proposed'!E311)","v":"00:00:00"},{"$f":"'Staff proposed'!E311","v":"00:00:00"},{"$f":"IF(ISTEXT('Staff proposed'!F311),0,'Staff proposed'!F311)","v":"00:00:00"},{"$f":"'Staff proposed'!F311","v":"00:00:00"},0,0,"Rest",1,309,"",309,"NB","NB"]
[null,"Sun","1900-11-04",{"$f":"IF(ISTEXT('Staff proposed'!E312),0,'Staff proposed'!E312)","v":"00:00:00"},{"$f":"'Staff proposed'!E312","v":"00:00:00"},{"$f":"IF(ISTEXT('Staff proposed'!F312),0,'Staff proposed'!F312)","v":"00:00:00"},{"$f":"'Staff proposed'!F312","v":"00:00:00"},0,0,"Rest",1,310,"",310,"NB","NB"]
[null,"Mon","1900-11-05",{"$f":"IF(ISTEXT('Staff proposed'!E313),0,'Staff proposed'!E313)","v":"00:00:00"},{"$f":"'Staff proposed'!E313","v":"00:00:00"},{"$f":"IF(ISTEXT('Staff proposed'!F313),0,'Staff proposed'!F313)","v":"00:00:00"},{"$f":"'Staff proposed'!F313","v":"00:00:00"},0,0,"Rest",1,311,"",311,"NB","NB"]
[null,"Tue","1900-11-06",{"$f":"IF(ISTEXT('Staff proposed'!E314),0,'Staff proposed'!E314)","v":"00:00:00"},{"$f":"'Staff proposed'!E314","v":"00:00:00"},{"$f":"IF(ISTEXT('Staff proposed'!F314),0,'Staff proposed'!F314)","v":"00:00:00"},{"$f":"'Staff proposed'!F314","v":"00:00:00"},0,0,"Rest",1,312,"",312,"NB","NB"]
[null,"Wed","1900-11-07",{"$f":"IF(ISTEXT('Staff proposed'!E315),0,'Staff proposed'!E315)","v":"00:00:00"},{"$f":"'Staff proposed'!E315","v":"00:00:00"},{"$f":"IF(ISTEXT('Staff proposed'!F315),0,'Staff proposed'!F315)","v":"00:00:00"},{"$f":"'Staff proposed'!F315","v":"00:00:00"},0,0,"Rest",1,313,"",313,"NB","NB"]
[null,"Thu","1900-11-08",{"$f":"IF(ISTEXT('Staff proposed'!E316),0,'Staff proposed'!E316)","v":"00:00:00"},{"$f":"'Staff proposed'!E316","v":"00:00:00"},{"$f":"IF(ISTEXT('Staff proposed'!F316),0,'Staff proposed'!F316)","v":"00:00:00"},{"$f":"'Staff proposed'!F316","v":"00:00:00"},0,0,"Rest",1,314,"",314,"NB","NB"]
[null,"Fri","1900-11-09",{"$f":"IF(ISTEXT('Staff proposed'!E317),0,'Staff proposed'!E317)","v":"00:00:00"},{"$f":"'Staff proposed'!E317","v":"00:00:00"},{"$f":"IF(ISTEXT('Staff proposed'!F317),0,'Staff proposed'!F317)","v":"00:00:00"},{"$f":"'Staff proposed'!F317","v":"00:00:00"},0,0,"Rest",1,315,"",315,"NB","NB"]
[{"$f":"IF('Staff proposed'!C318>0,'Staff proposed'!C318,\"\")","v":"Week46"},"Sat","1900-11-10",{"$f":"IF(ISTEXT('Staff proposed'!E318),0,'Staff proposed'!E318)","v":"00:00:00"},{"$f":"'Staff proposed'!E318","v":"00:00:00"},{"$f":"IF(ISTEXT('Staff proposed'!F318),0,'Staff proposed'!F318)","v":"00:00:00"},{"$f":"'Staff proposed'!F318","v":"00:00:00"},0,0,"Rest",1,316,"",316,"NB","NB"]
[null,"Sun","1900-11-11",{"$f":"IF(ISTEXT('Staff proposed'!E319),0,'Staff proposed'!E319)","v":"00:00:00"},{"$f":"'Staff proposed'!E319","v":"00:00:00"},{"$f":"IF(ISTEXT('Staff proposed'!F319),0,'Staff proposed'!F319)","v":"00:00:00"},{"$f":"'Staff proposed'!F319","v":"00:00:00"},0,0,"Rest",1,317,"",317,"NB","NB"]
[null,"Mon","1900-11-12",{"$f":"IF(ISTEXT('Staff proposed'!E320),0,'Staff proposed'!E320)","v":"00:00:00"},{"$f":"'Staff proposed'!E320","v":"00:00:00"},{"$f":"IF(ISTEXT('Staff proposed'!F320),0,'Staff proposed'!F320)","v":"00:00:00"},{"$f":"'Staff proposed'!F320","v":"00:00:00"},0,0,"Rest",1,318,"",318,"NB","NB"]
[null,"Tue","1900-11-13",{"$f":"IF(ISTEXT('Staff proposed'!E321),0,'Staff proposed'!E321)","v":"00:00:00"},{"$f":"'Staff proposed'!E321","v":"00:00:00"},{"$f":"IF(ISTEXT('Staff proposed'!F321),0,'Staff proposed'!F321)","v":"00:00:00"},{"$f":"'Staff proposed'!F321","v":"00:00:00"},0,0,"Rest",1,319,"",319,"NB","NB"]
[null,"Wed","1900-11-14",{"$f":"IF(ISTEXT('Staff proposed'!E322),0,'Staff proposed'!E322)","v":"00:00:00"},{"$f":"'Staff proposed'!E322","v":"00:00:00"},{"$f":"IF(ISTEXT('Staff proposed'!F322),0,'Staff proposed'!F322)","v":"00:00:00"},{"$f":"'Staff proposed'!F322","v":"00:00:00"},0,0,"Rest",1,320,"",320,"NB","NB"]
[null,"Thu","1900-11-15",{"$f":"IF(ISTEXT('Staff proposed'!E323),0,'Staff proposed'!E323)","v":"00:00:00"},{"$f":"'Staff proposed'!E323","v":"00:00:00"},{"$f":"IF(ISTEXT('Staff proposed'!F323),0,'Staff proposed'!F323)","v":"00:00:00"},{"$f":"'Staff proposed'!F323","v":"00:00:00"},0,0,"Rest",1,321,"",321,"NB","NB"]
[null,{"$f":"IF(C323>0,TEXT(C323, \"ddd\"),\"\")","v":"Fri"},"1900-11-16",{"$f":"IF(ISTEXT('Staff proposed'!E324),0,'Staff proposed'!E324)","v":"00:00:00"},{"$f":"'Staff proposed'!E324","v":"00:00:00"},{"$f":"IF(ISTEXT('Staff proposed'!F324),0,'Staff proposed'!F324)","v":"00:00:00"},{"$f":"'Staff proposed'!F324","v":"00:00:00"},{"$f":"IF(ISTEXT(D323),0,F323-D323)","v":0},{"$f":"IF(ISTEXT(E323),0,IF(ISTEXT(E324),0,E324+(G323>E323)-G323))","v":0},{"$f":"IF(I323=\"\",\"\",IF(I323>=$J$1,\"Over\",IF(AND(I323>0,I323<=$J$1),\"Under\",\"Rest\")))","v":"Rest"},{"$f":"IF(ISNUMBER(E323),1,\"\")","v":1},{"$f":"IF(K323=\"\",\"Rest Day\",IF(K322=\"\",K323,(L322+K323)))","v":322},{"$f":"IF($D$2=0,\"\",IF(ISTEXT(L323),\"\",IF(L323>6,\"Exceeds\",\"\")))","v":""},{"$f":"IF(L323=\"Rest Day\",0,L323)","v":322},{"$f":"IF(AND(N324>=7,N323>=7),\"NB\",\"B\")","v":"NB"},{"$f":"IF(AND(N323>=14,N322>=14),\"NB\",\"B\")","v":"NB"}]
[{"$f":"IF('Staff proposed'!C325>0,'Staff proposed'!C325,\"\")","v":"Week47"},"Sat",{"$f":"IF($A$2=0,\"\",C323+1)","v":"1900-11-17"},{"$f":"IF(ISTEXT('Staff proposed'!E325),0,'Staff proposed'!E325)","v":"00:00:00"},{"$f":"'Staff proposed'!E325","v":"00:00:00"},{"$f":"IF(ISTEXT('Staff proposed'!F325),0,'Staff proposed'!F325)","v":"00:00:00"},{"$f":"'Staff proposed'!F325","v":"00:00:00"},0,0,"Rest",1,323,"",323,"NB","NB"]
[null,"Sun","1900-11-18",{"$f":"IF(ISTEXT('Staff proposed'!E326),0,'Staff proposed'!E326)","v":"00:00:00"},{"$f":"'Staff proposed'!E326","v":"00:00:00"},{"$f":"IF(ISTEXT('Staff proposed'!F326),0,'Staff proposed'!F326)","v":"00:00:00"},{"$f":"'Staff proposed'!F326","v":"00:00:00"},0,0,"Rest",1,324,"",324,"NB","NB"]
[null,"Mon","1900-11-19",{"$f":"IF(ISTEXT('Staff proposed'!E327),0,'Staff proposed'!E327)","v":"00:00:00"},{"$f":"'Staff proposed'!E327","v":"00:00:00"},{"$f":"IF(ISTEXT('Staff proposed'!F327),0,'Staff proposed'!F327)","v":"00:00:00"},{"$f":"'Staff proposed'!F327","v":"00:00:00"},0,0,"Rest",1,325,"",325,"NB","NB"]
[null,"Tue","1900-11-20",{"$f":"IF(ISTEXT('Staff proposed'!E328),0,'Staff proposed'!E328)","v":"00:00:00"},{"$f":"'Staff proposed'!E328","v":"00:00:00"},{"$f":"IF(ISTEXT('Staff proposed'!F328),0,'Staff proposed'!F328)","v":"00:00:00"},{"$f":"'Staff proposed'!F328","v":"00:00:00"},0,0,"Rest",1,326,"",326,"NB","NB"]
[null,"Wed","1900-11-21",{"$f":"IF(ISTEXT('Staff proposed'!E329),0,'Staff proposed'!E329)","v":"00:00:00"},{"$f":"'Staff proposed'!E329","v":"00:00:00"},{"$f":"IF(ISTEXT('Staff proposed'!F329),0,'Staff proposed'!F329)","v":"00:00:00"},{"$f":"'Staff proposed'!F329","v":"00:00:00"},0,0,"Rest",1,327,"",327,"NB","NB"]
[null,"Thu","1900-11-22",{"$f":"IF(ISTEXT('Staff proposed'!E330),0,'Staff proposed'!E330)","v":"00:00:00"},{"$f":"'Staff proposed'!E330","v":"00:00:00"},{"$f":"IF(ISTEXT('Staff proposed'!F330),0,'Staff proposed'!F330)","v":"00:00:00"},{"$f":"'Staff proposed'!F330","v":"00:00:00"},0,0,"Rest",1,328,"",328,"NB","NB"]
[null,"Fri","1900-11-23",{"$f":"IF(ISTEXT('Staff proposed'!E331),0,'Staff proposed'!E331)","v":"00:00:00"},{"$f":"'Staff proposed'!E331","v":"00:00:00"},{"$f":"IF(ISTEXT('Staff proposed'!F331),0,'Staff proposed'!F331)","v":"00:00:00"},{"$f":"'Staff proposed'!F331","v":"00:00:00"},0,0,"Rest",1,329,"",329,"NB","NB"]
[{"$f":"IF('Staff proposed'!C332>0,'Staff proposed'!C332,\"\")","v":"Week48"},"Sat","1900-11-24",{"$f":"IF(ISTEXT('Staff proposed'!E332),0,'Staff proposed'!E332)","v":"00:00:00"},{"$f":"'Staff proposed'!E332","v":"00:00:00"},{"$f":"IF(ISTEXT('Staff proposed'!F332),0,'Staff proposed'!F332)","v":"00:00:00"},{"$f":"'Staff proposed'!F332","v":"00:00:00"},0,0,"Rest",1,330,"",330,"NB","NB"]
[null,"Sun","1900-11-25",{"$f":"IF(ISTEXT('Staff proposed'!E333),0,'Staff proposed'!E333)","v":"00:00:00"},{"$f":"'Staff proposed'!E333","v":"00:00:00"},{"$f":"IF(ISTEXT('Staff proposed'!F333),0,'Staff proposed'!F333)","v":"00:00:00"},{"$f":"'Staff proposed'!F333","v":"00:00:00"},0,0,"Rest",1,331,"",331,"NB","NB"]
[null,"Mon","1900-11-26",{"$f":"IF(ISTEXT('Staff proposed'!E334),0,'Staff proposed'!E334)","v":"00:00:00"},{"$f":"'Staff proposed'!E334","v":"00:00:00"},{"$f":"IF(ISTEXT('Staff proposed'!F334),0,'Staff proposed'!F334)","v":"00:00:00"},{"$f":"'Staff proposed'!F334","v":"00:00:00"},0,0,"Rest",1,332,"",332,"NB","NB"]
[null,"Tue","1900-11-27",{"$f":"IF(ISTEXT('Staff proposed'!E335),0,'Staff proposed'!E335)","v":"00:00:00"},{"$f":"'Staff proposed'!E335","v":"00:00:00"},{"$f":"IF(ISTEXT('Staff proposed'!F335),0,'Staff proposed'!F335)","v":"00:00:00"},{"$f":"'Staff proposed'!F335","v":"00:00:00"},0,0,"Rest",1,333,"",333,"NB","NB"]
[null,"Wed","1900-11-28",{"$f":"IF(ISTEXT('Staff proposed'!E336),0,'Staff proposed'!E336)","v":"00:00:00"},{"$f":"'Staff proposed'!E336","v":"00:00:00"},{"$f":"IF(ISTEXT('Staff proposed'!F336),0,'Staff proposed'!F336)","v":"00:00:00"},{"$f":"'Staff proposed'!F336","v":"00:00:00"},0,0,"Rest",1,334,"",334,"NB","NB"]
[null,"Thu","1900-11-29",{"$f":"IF(ISTEXT('Staff proposed'!E337),0,'Staff proposed'!E337)","v":"00:00:00"},{"$f":"'Staff proposed'!E337","v":"00:00:00"},{"$f":"IF(ISTEXT('Staff proposed'!F337),0,'Staff proposed'!F337)","v":"00:00:00"},{"$f":"'Staff proposed'!F337","v":"00:00:00"},0,0,"Rest",1,335,"",335,"NB","NB"]
[null,"Fri","1900-11-30",{"$f":"IF(ISTEXT('Staff proposed'!E338),0,'Staff proposed'!E338)","v":"00:00:00"},{"$f":"'Staff proposed'!E338","v":"00:00:00"},{"$f":"IF(ISTEXT('Staff proposed'!F338),0,'Staff proposed'!F338)","v":"00:00:00"},{"$f":"'Staff proposed'!F338","v":"00:00:00"},0,0,"Rest",1,336,"",336,"NB","NB"]
[{"$f":"IF('Staff proposed'!C339>0,'Staff proposed'!C339,\"\")","v":"Week49"},"Sat","1900-12-01",{"$f":"IF(ISTEXT('Staff proposed'!E339),0,'Staff proposed'!E339)","v":"00:00:00"},{"$f":"'Staff proposed'!E339","v":"00:00:00"},{"$f":"IF(ISTEXT('Staff proposed'!F339),0,'Staff proposed'!F339)","v":"00:00:00"},{"$f":"'Staff proposed'!F339","v":"00:00:00"},0,0,"Rest",1,337,"",337,"NB","NB"]
[null,"Sun","1900-12-02",{"$f":"IF(ISTEXT('Staff proposed'!E340),0,'Staff proposed'!E340)","v":"00:00:00"},{"$f":"'Staff proposed'!E340","v":"00:00:00"},{"$f":"IF(ISTEXT('Staff proposed'!F340),0,'Staff proposed'!F340)","v":"00:00:00"},{"$f":"'Staff proposed'!F340","v":"00:00:00"},0,0,"Rest",1,338,"",338,"NB","NB"]
[null,"Mon","1900-12-03",{"$f":"IF(ISTEXT('Staff proposed'!E341),0,'Staff proposed'!E341)","v":"00:00:00"},{"$f":"'Staff proposed'!E341","v":"00:00:00"},{"$f":"IF(ISTEXT('Staff proposed'!F341),0,'Staff proposed'!F341)","v":"00:00:00"},{"$f":"'Staff proposed'!F341","v":"00:00:00"},0,0,"Rest",1,339,"",339,"NB","NB"]
[null,"Tue","1900-12-04",{"$f":"IF(ISTEXT('Staff proposed'!E342),0,'Staff proposed'!E342)","v":"00:00:00"},{"$f":"'Staff proposed'!E342","v":"00:00:00"},{"$f":"IF(ISTEXT('Staff proposed'!F342),0,'Staff proposed'!F342)","v":"00:00:00"},{"$f":"'Staff proposed'!F342","v":"00:00:00"},0,0,"Rest",1,340,"",340,"NB","NB"]
[null,"Wed","1900-12-05",{"$f":"IF(ISTEXT('Staff proposed'!E343),0,'Staff proposed'!E343)","v":"00:00:00"},{"$f":"'Staff proposed'!E343","v":"00:00:00"},{"$f":"IF(ISTEXT('Staff proposed'!F343),0,'Staff proposed'!F343)","v":"00:00:00"},{"$f":"'Staff proposed'!F343","v":"00:00:00"},0,0,"Rest",1,341,"",341,"NB","NB"]
[null,"Thu","1900-12-06",{"$f":"IF(ISTEXT('Staff proposed'!E344),0,'Staff proposed'!E344)","v":"00:00:00"},{"$f":"'Staff proposed'!E344","v":"00:00:00"},{"$f":"IF(ISTEXT('Staff proposed'!F344),0,'Staff proposed'!F344)","v":"00:00:00"},{"$f":"'Staff proposed'!F344","v":"00:00:00"},0,0,"Rest",1,342,"",342,"NB","NB"]
[null,"Fri","1900-12-07",{"$f":"IF(ISTEXT('Staff proposed'!E345),0,'Staff proposed'!E345)","v":"00:00:00"},{"$f":"'Staff proposed'!E345","v":"00:00:00"},{"$f":"IF(ISTEXT('Staff proposed'!F345),0,'Staff proposed'!F345)","v":"00:00:00"},{"$f":"'Staff proposed'!F345","v":"00:00:00"},0,0,"Rest",1,343,"",343,"NB","NB"]
[{"$f":"IF('Staff proposed'!C346>0,'Staff proposed'!C346,\"\")","v":"Week50"},"Sat","1900-12-08",{"$f":"IF(ISTEXT('Staff proposed'!E346),0,'Staff proposed'!E346)","v":"00:00:00"},{"$f":"'Staff proposed'!E346","v":"00:00:00"},{"$f":"IF(ISTEXT('Staff proposed'!F346),0,'Staff proposed'!F346)","v":"00:00:00"},{"$f":"'Staff proposed'!F346","v":"00:00:00"},0,0,"Rest",1,344,"",344,"NB","NB"]
[null,"Sun","1900-12-09",{"$f":"IF(ISTEXT('Staff proposed'!E347),0,'Staff proposed'!E347)","v":"00:00:00"},{"$f":"'Staff proposed'!E347","v":"00:00:00"},{"$f":"IF(ISTEXT('Staff proposed'!F347),0,'Staff proposed'!F347)","v":"00:00:00"},{"$f":"'Staff proposed'!F347","v":"00:00:00"},0,0,"Rest",1,345,"",345,"NB","NB"]
[null,"Mon","1900-12-10",{"$f":"IF(ISTEXT('Staff proposed'!E348),0,'Staff proposed'!E348)","v":"00:00:00"},{"$f":"'Staff proposed'!E348","v":"00:00:00"},{"$f":"IF(ISTEXT('Staff proposed'!F348),0,'Staff proposed'!F348)","v":"00:00:00"},{"$f":"'Staff proposed'!F348","v":"00:00:00"},0,0,"Rest",1,346,"",346,"NB","NB"]
[null,"Tue","1900-12-11",{"$f":"IF(ISTEXT('Staff proposed'!E349),0,'Staff proposed'!E349)","v":"00:00:00"},{"$f":"'Staff proposed'!E349","v":"00:00:00"},{"$f":"IF(ISTEXT('Staff proposed'!F349),0,'Staff proposed'!F349)","v":"00:00:00"},{"$f":"'Staff proposed'!F349","v":"00:00:00"},0,0,"Rest",1,347,"",347,"NB","NB"]
[null,"Wed","1900-12-12",{"$f":"IF(ISTEXT('Staff proposed'!E350),0,'Staff proposed'!E350)","v":"00:00:00"},{"$f":"'Staff proposed'!E350","v":"00:00:00"},{"$f":"IF(ISTEXT('Staff proposed'!F350),0,'Staff proposed'!F350)","v":"00:00:00"},{"$f":"'Staff proposed'!F350","v":"00:00:00"},0,0,"Rest",1,348,"",348,"NB","NB"]
[null,"Thu","1900-12-13",{"$f":"IF(ISTEXT('Staff proposed'!E351),0,'Staff proposed'!E351)","v":"00:00:00"},{"$f":"'Staff proposed'!E351","v":"00:00:00"},{"$f":"IF(ISTEXT('Staff proposed'!F351),0,'Staff proposed'!F351)","v":"00:00:00"},{"$f":"'Staff proposed'!F351","v":"00:00:00"},0,0,"Rest",1,349,"",349,"NB","NB"]
[null,"Fri","1900-12-14",{"$f":"IF(ISTEXT('Staff proposed'!E352),0,'Staff proposed'!E352)","v":"00:00:00"},{"$f":"'Staff proposed'!E352","v":"00:00:00"},{"$f":"IF(ISTEXT('Staff proposed'!F352),0,'Staff proposed'!F352)","v":"00:00:00"},{"$f":"'Staff proposed'!F352","v":"00:00:00"},0,0,"Rest",1,350,"",350,"NB","NB"]
[{"$f":"IF('Staff proposed'!C353>0,'Staff proposed'!C353,\"\")","v":"Week51"},"Sat","1900-12-15",{"$f":"IF(ISTEXT('Staff proposed'!E353),0,'Staff proposed'!E353)","v":"00:00:00"},{"$f":"'Staff proposed'!E353","v":"00:00:00"},{"$f":"IF(ISTEXT('Staff proposed'!F353),0,'Staff proposed'!F353)","v":"00:00:00"},{"$f":"'Staff proposed'!F353","v":"00:00:00"},0,0,"Rest",1,351,"",351,"NB","NB"]
[null,"Sun","1900-12-16",{"$f":"IF(ISTEXT('Staff proposed'!E354),0,'Staff proposed'!E354)","v":"00:00:00"},{"$f":"'Staff proposed'!E354","v":"00:00:00"},{"$f":"IF(ISTEXT('Staff proposed'!F354),0,'Staff proposed'!F354)","v":"00:00:00"},{"$f":"'Staff proposed'!F354","v":"00:00:00"},0,0,"Rest",1,352,"",352,"NB","NB"]
[null,"Mon","1900-12-17",{"$f":"IF(ISTEXT('Staff proposed'!E355),0,'Staff proposed'!E355)","v":"00:00:00"},{"$f":"'Staff proposed'!E355","v":"00:00:00"},{"$f":"IF(ISTEXT('Staff proposed'!F355),0,'Staff proposed'!F355)","v":"00:00:00"},{"$f":"'Staff proposed'!F355","v":"00:00:00"},0,0,"Rest",1,353,"",353,"NB","NB"]
[null,"Tue","1900-12-18",{"$f":"IF(ISTEXT('Staff proposed'!E356),0,'Staff proposed'!E356)","v":"00:00:00"},{"$f":"'Staff proposed'!E356","v":"00:00:00"},{"$f":"IF(ISTEXT('Staff proposed'!F356),0,'Staff proposed'!F356)","v":"00:00:00"},{"$f":"'Staff proposed'!F356","v":"00:00:00"},0,0,"Rest",1,354,"",354,"NB","NB"]
[null,"Wed","1900-12-19",{"$f":"IF(ISTEXT('Staff proposed'!E357),0,'Staff proposed'!E357)","v":"00:00:00"},{"$f":"'Staff proposed'!E357","v":"00:00:00"},{"$f":"IF(ISTEXT('Staff proposed'!F357),0,'Staff proposed'!F357)","v":"00:00:00"},{"$f":"'Staff proposed'!F357","v":"00:00:00"},0,0,"Rest",1,355,"",355,"NB","NB"]
[null,"Thu","1900-12-20",{"$f":"IF(ISTEXT('Staff proposed'!E358),0,'Staff proposed'!E358)","v":"00:00:00"},{"$f":"'Staff proposed'!E358","v":"00:00:00"},{"$f":"IF(ISTEXT('Staff proposed'!F358),0,'Staff proposed'!F358)","v":"00:00:00"},{"$f":"'Staff proposed'!F358","v":"00:00:00"},0,0,"Rest",1,356,"",356,"NB","NB"]
[null,"Fri","1900-12-21",{"$f":"IF(ISTEXT('Staff proposed'!E359),0,'Staff proposed'!E359)","v":"00:00:00"},{"$f":"'Staff proposed'!E359","v":"00:00:00"},{"$f":"IF(ISTEXT('Staff proposed'!F359),0,'Staff proposed'!F359)","v":"00:00:00"},{"$f":"'Staff proposed'!F359","v":"00:00:00"},0,0,"Rest",1,357,"",357,"NB","NB"]
[{"$f":"IF('Staff proposed'!C360>0,'Staff proposed'!C360,\"\")","v":"Week52"},"Sat","1900-12-22",{"$f":"IF(ISTEXT('Staff proposed'!E360),0,'Staff proposed'!E360)","v":"00:00:00"},{"$f":"'Staff proposed'!E360","v":"00:00:00"},{"$f":"IF(ISTEXT('Staff proposed'!F360),0,'Staff proposed'!F360)","v":"00:00:00"},{"$f":"'Staff proposed'!F360","v":"00:00:00"},0,0,"Rest",1,358,"",358,"NB","NB"]
[null,"Sun","1900-12-23",{"$f":"IF(ISTEXT('Staff proposed'!E361),0,'Staff proposed'!E361)","v":"00:00:00"},{"$f":"'Staff proposed'!E361","v":"00:00:00"},{"$f":"IF(ISTEXT('Staff proposed'!F361),0,'Staff proposed'!F361)","v":"00:00:00"},{"$f":"'Staff proposed'!F361","v":"00:00:00"},0,0,"Rest",1,359,"",359,"NB","NB"]
[null,"Mon","1900-12-24",{"$f":"IF(ISTEXT('Staff proposed'!E362),0,'Staff proposed'!E362)","v":"00:00:00"},{"$f":"'Staff proposed'!E362","v":"00:00:00"},{"$f":"IF(ISTEXT('Staff proposed'!F362),0,'Staff proposed'!F362)","v":"00:00:00"},{"$f":"'Staff proposed'!F362","v":"00:00:00"},0,0,"Rest",1,360,"",360,"NB","NB"]
[null,"Tue","1900-12-25",{"$f":"IF(ISTEXT('Staff proposed'!E363),0,'Staff proposed'!E363)","v":"00:00:00"},{"$f":"'Staff proposed'!E363","v":"00:00:00"},{"$f":"IF(ISTEXT('Staff proposed'!F363),0,'Staff proposed'!F363)","v":"00:00:00"},{"$f":"'Staff proposed'!F363","v":"00:00:00"},0,0,"Rest",1,361,"",361,"NB","NB"]
[null,"Wed","1900-12-26",{"$f":"IF(ISTEXT('Staff proposed'!E364),0,'Staff proposed'!E364)","v":"00:00:00"},{"$f":"'Staff proposed'!E364","v":"00:00:00"},{"$f":"IF(ISTEXT('Staff proposed'!F364),0,'Staff proposed'!F364)","v":"00:00:00"},{"$f":"'Staff proposed'!F364","v":"00:00:00"},0,0,"Rest",1,362,"",362,"NB","NB"]
[null,"Thu","1900-12-27",{"$f":"IF(ISTEXT('Staff proposed'!E365),0,'Staff proposed'!E365)","v":"00:00:00"},{"$f":"'Staff proposed'!E365","v":"00:00:00"},{"$f":"IF(ISTEXT('Staff proposed'!F365),0,'Staff proposed'!F365)","v":"00:00:00"},{"$f":"'Staff proposed'!F365","v":"00:00:00"},0,0,"Rest",1,363,"",363,"NB","NB"]
[null,"Fri","1900-12-28",{"$f":"IF(ISTEXT('Staff proposed'!E366),0,'Staff proposed'!E366)","v":"00:00:00"},{"$f":"'Staff proposed'!E366","v":"00:00:00"},{"$f":"IF(ISTEXT('Staff proposed'!F366),0,'Staff proposed'!F366)","v":"00:00:00"},{"$f":"'Staff proposed'!F366","v":"00:00:00"},0,{"$f":"IF(ISTEXT(E365),0,IF(ISTEXT(E373),0,E373+(G365>E365)-G365))","v":0},"Rest",1,364,"",364,{"$f":"IF(AND(N373>=7,N365>=7),\"NB\",\"B\")","v":"NB"},"NB"]
[{"$f":"IF('Staff proposed'!C367>0,'Staff proposed'!C367,\"\")","v":"Week53"},"Sat","1900-12-29",{"$f":"IF(ISTEXT('Staff proposed'!E367),0,'Staff proposed'!E367)","v":"00:00:00"},{"$f":"'Staff proposed'!E367","v":"00:00:00"},{"$f":"IF(ISTEXT('Staff proposed'!F367),0,'Staff proposed'!F367)","v":"00:00:00"},{"$f":"'Staff proposed'!F367","v":"00:00:00"},0,{"$f":"IF(ISTEXT(E366),0,IF(ISTEXT(E374),0,E374+(G366>E366)-G366))","v":0},"Rest",1,365,"",365,{"$f":"IF(AND(N374>=7,N366>=7),\"NB\",\"B\")","v":"NB"},"NB"]
[null,"Sun","1900-12-30",{"$f":"IF(ISTEXT('Staff proposed'!E368),0,'Staff proposed'!E368)","v":"00:00:00"},{"$f":"'Staff proposed'!E368","v":"00:00:00"},{"$f":"IF(ISTEXT('Staff proposed'!F368),0,'Staff proposed'!F368)","v":"00:00:00"},{"$f":"'Staff proposed'!F368","v":"00:00:00"},0,0,"Rest",1,366,"",366,"B","NB"]
[null,"Mon","1900-12-31",{"$f":"IF(ISTEXT('Staff proposed'!E369),0,'Staff proposed'!E369)","v":"00:00:00"},{"$f":"'Staff proposed'!E369","v":"00:00:00"},{"$f":"IF(ISTEXT('Staff proposed'!F369),0,'Staff proposed'!F369)","v":"00:00:00"},{"$f":"'Staff proposed'!F369","v":"00:00:00"},0,0,"Rest",1,367,"",367,"B","NB"]
[null,"Tue","1901-01-01",{"$f":"IF(ISTEXT('Staff proposed'!E370),0,'Staff proposed'!E370)","v":"00:00:00"},{"$f":"'Staff proposed'!E370","v":"00:00:00"},{"$f":"IF(ISTEXT('Staff proposed'!F370),0,'Staff proposed'!F370)","v":"00:00:00"},{"$f":"'Staff proposed'!F370","v":"00:00:00"},0,0,"Rest",1,368,"",368,"B","NB"]
[null,"Wed","1901-01-02",{"$f":"IF(ISTEXT('Staff proposed'!E371),0,'Staff proposed'!E371)","v":"00:00:00"},{"$f":"'Staff proposed'!E371","v":"00:00:00"},{"$f":"IF(ISTEXT('Staff proposed'!F371),0,'Staff proposed'!F371)","v":"00:00:00"},{"$f":"'Staff proposed'!F371","v":"00:00:00"},0,0,"Rest",1,369,"",369,"B","NB"]
[null,"Thu","1901-01-03",{"$f":"IF(ISTEXT('Staff proposed'!E372),0,'Staff proposed'!E372)","v":"00:00:00"},{"$f":"'Staff proposed'!E372","v":"00:00:00"},{"$f":"IF(ISTEXT('Staff proposed'!F372),0,'Staff proposed'!F372)","v":"00:00:00"},{"$f":"'Staff proposed'!F372","v":"00:00:00"},0,0,"Rest",1,370,"",370,"B","NB"]
[null,"Fri","1901-01-04",{"$f":"IF(ISTEXT('Staff proposed'!E373),0,'Staff proposed'!E373)","v":"00:00:00"},{"$f":"'Staff proposed'!E373","v":"00:00:00"},{"$f":"IF(ISTEXT('Staff proposed'!F373),0,'Staff proposed'!F373)","v":"00:00:00"},{"$f":"'Staff proposed'!F373","v":"00:00:00"},0,0,"Rest",1,371,"",371,"B","NB"]
["Add Day",{"$f":"IF(C373>0,TEXT(C373, \"ddd\"),\"\")","v":"Sat"},{"$f":"IF($A$2=0,\"\",C365+1)","v":"1900-12-29"},{"$f":"IF(ISTEXT('Staff proposed'!E367),0,'Staff proposed'!E367)","v":"00:00:00"},{"$f":"'Staff proposed'!E367","v":"00:00:00"},{"$f":"IF(ISTEXT('Staff proposed'!F367),0,'Staff proposed'!F367)","v":"00:00:00"},{"$f":"'Staff proposed'!F367","v":"00:00:00"},{"$f":"IF(ISTEXT(D373),0,F373-D373)","v":0},{"$f":"IF(ISTEXT(E373),0,IF(ISTEXT(E374),0,E374+(G373>E373)-G373))","v":0},{"$f":"IF(I373=\"\",\"\",IF(I373>=$J$1,\"Over\",IF(AND(I373>0,I373<=$J$1),\"Under\",\"Rest\")))","v":"Rest"},{"$f":"IF(ISNUMBER(E373),1,\"\")","v":1},{"$f":"IF(K373=\"\",\"Rest Day\",IF(K365=\"\",K373,(L365+K373)))","v":365},{"$f":"IF($D$2=0,\"\",IF(ISTEXT(L373),\"\",IF(L373>6,\"Exceeds\",\"\")))","v":""},{"$f":"IF(L373=\"Rest Day\",0,L373)","v":365},{"$f":"IF(AND(N374>=7,N373>=7),\"NB\",\"B\")","v":"NB"},{"$f":"IF(AND(N373>=14,N365>=14),\"NB\",\"B\")","v":"NB"}]
["Leap Year",{"$f":"IF(C374>0,TEXT(C374, \"ddd\"),\"\")","v":"Sun"},{"$f":"IF($A$2=0,\"\",C373+1)","v":"1900-12-30"},{"$f":"IF(ISTEXT('Staff proposed'!E368),0,'Staff proposed'!E368)","v":"00:00:00"},{"$f":"'Staff proposed'!E368","v":"00:00:00"},{"$f":"IF(ISTEXT('Staff proposed'!F368),0,'Staff proposed'!F368)","v":"00:00:00"},{"$f":"'Staff proposed'!F368","v":"00:00:00"},{"$f":"IF(ISTEXT(D374),0,F374-D374)","v":0},{"$f":"IF(ISTEXT(E374),0,IF(ISTEXT(E368),0,E368+(G374>E374)-G374))","v":0},{"$f":"IF(I374=\"\",\"\",IF(I374>=$J$1,\"Over\",IF(AND(I374>0,I374<=$J$1),\"Under\",\"Rest\")))","v":"Rest"},{"$f":"IF(ISNUMBER(E374),1,\"\")","v":1},{"$f":"IF(K374=\"\",\"Rest Day\",IF(K373=\"\",K374,(L373+K374)))","v":366},{"$f":"IF($D$2=0,\"\",IF(ISTEXT(L374),\"\",IF(L374>6,\"Exceeds\",\"\")))","v":""},{"$f":"IF(L374=\"Rest Day\",0,L374)","v":366},{"$f":"IF(AND(N368>=7,N374>=7),\"NB\",\"B\")","v":"NB"},{"$f":"IF(AND(N374>=14,N373>=14),\"NB\",\"B\")","v":"NB"}]

{"sheet":"GRS USE ONLY staff","index":29,"n_rows":373,"n_cols":13,"rows_kept":373,"cut":false,"hidden":false,"merged":[]}
[]
[null,null,"Week counter",{"$f":"(WEEKDAY('Staff proposed'!AB18)-2)","v":5},"Assumed start date",{"$f":"('Staff proposed'!AB18-(('Staff proposed'!AB21-1)*7)-D2)","v":"1900-01-02"},"Monday","Tuesday","Wednesday","Thursday","Friday","Saturday","Sunday"]
[{"$f":"IF('Staff proposed'!C3=\"\",\"\",'Staff proposed'!C3)","v":"Week1"},{"$f":"IF('Staff proposed'!D3=\"\",\"\",'Staff proposed'!D3)","v":"Mon"},{"$f":"IF('Staff proposed'!D3=\"\",\"\",IF('Staff proposed'!E3=\"\",\"Rest Day\",CONCATENATE(TEXT('Staff proposed'!E3,\"hhmm\"),\"-\",(TEXT('Staff proposed'!F3,\"hhmm\")))))","v":"Rest Day"},1,null,"Week 1"]
[{"$f":"IF('Staff proposed'!C4=\"\",\"\",'Staff proposed'!C4)","v":""},{"$f":"IF('Staff proposed'!D4=\"\",\"\",'Staff proposed'!D4)","v":"Tue"},{"$f":"IF('Staff proposed'!D4=\"\",\"\",IF('Staff proposed'!E4=\"\",\"Rest Day\",CONCATENATE(TEXT('Staff proposed'!E4,\"hhmm\"),\"-\",(TEXT('Staff proposed'!F4,\"hhmm\")))))","v":"Rest Day"},2]
[{"$f":"IF('Staff proposed'!C5=\"\",\"\",'Staff proposed'!C5)","v":""},{"$f":"IF('Staff proposed'!D5=\"\",\"\",'Staff proposed'!D5)","v":"Wed"},{"$f":"IF('Staff proposed'!D5=\"\",\"\",IF('Staff proposed'!E5=\"\",\"Rest Day\",CONCATENATE(TEXT('Staff proposed'!E5,\"hhmm\"),\"-\",(TEXT('Staff proposed'!F5,\"hhmm\")))))","v":"Rest Day"},3]
[{"$f":"IF('Staff proposed'!C6=\"\",\"\",'Staff proposed'!C6)","v":""},{"$f":"IF('Staff proposed'!D6=\"\",\"\",'Staff proposed'!D6)","v":"Thu"},{"$f":"IF('Staff proposed'!D6=\"\",\"\",IF('Staff proposed'!E6=\"\",\"Rest Day\",CONCATENATE(TEXT('Staff proposed'!E6,\"hhmm\"),\"-\",(TEXT('Staff proposed'!F6,\"hhmm\")))))","v":"Rest Day"},4]
[{"$f":"IF('Staff proposed'!C7=\"\",\"\",'Staff proposed'!C7)","v":""},{"$f":"IF('Staff proposed'!D7=\"\",\"\",'Staff proposed'!D7)","v":"Fri"},{"$f":"IF('Staff proposed'!D7=\"\",\"\",IF('Staff proposed'!E7=\"\",\"Rest Day\",CONCATENATE(TEXT('Staff proposed'!E7,\"hhmm\"),\"-\",(TEXT('Staff proposed'!F7,\"hhmm\")))))","v":"Rest Day"},5]
[{"$f":"IF('Staff proposed'!C8=\"\",\"\",'Staff proposed'!C8)","v":""},{"$f":"IF('Staff proposed'!D8=\"\",\"\",'Staff proposed'!D8)","v":"Sat"},{"$f":"IF('Staff proposed'!D8=\"\",\"\",IF('Staff proposed'!E8=\"\",\"Rest Day\",CONCATENATE(TEXT('Staff proposed'!E8,\"hhmm\"),\"-\",(TEXT('Staff proposed'!F8,\"hhmm\")))))","v":"Rest Day"},6]
[{"$f":"IF('Staff proposed'!C9=\"\",\"\",'Staff proposed'!C9)","v":""},{"$f":"IF('Staff proposed'!D9=\"\",\"\",'Staff proposed'!D9)","v":"Sun"},{"$f":"IF('Staff proposed'!D9=\"\",\"\",IF('Staff proposed'!E9=\"\",\"Rest Day\",CONCATENATE(TEXT('Staff proposed'!E9,\"hhmm\"),\"-\",(TEXT('Staff proposed'!F9,\"hhmm\")))))","v":"Rest Day"},7]
[{"$f":"IF('Staff proposed'!C10=\"\",\"\",'Staff proposed'!C10)","v":"Week2"},{"$f":"IF('Staff proposed'!D10=\"\",\"\",'Staff proposed'!D10)","v":"Mon"},{"$f":"IF('Staff proposed'!D10=\"\",\"\",IF('Staff proposed'!E10=\"\",\"Rest Day\",CONCATENATE(TEXT('Staff proposed'!E10,\"hhmm\"),\"-\",(TEXT('Staff proposed'!F10,\"hhmm\")))))","v":"Rest Day"},8,null,"Week 2"]
[{"$f":"IF('Staff proposed'!C11=\"\",\"\",'Staff proposed'!C11)","v":""},{"$f":"IF('Staff proposed'!D11=\"\",\"\",'Staff proposed'!D11)","v":"Tue"},{"$f":"IF('Staff proposed'!D11=\"\",\"\",IF('Staff proposed'!E11=\"\",\"Rest Day\",CONCATENATE(TEXT('Staff proposed'!E11,\"hhmm\"),\"-\",(TEXT('Staff proposed'!F11,\"hhmm\")))))","v":"Rest Day"},9]
[{"$f":"IF('Staff proposed'!C12=\"\",\"\",'Staff proposed'!C12)","v":""},{"$f":"IF('Staff proposed'!D12=\"\",\"\",'Staff proposed'!D12)","v":"Wed"},{"$f":"IF('Staff proposed'!D12=\"\",\"\",IF('Staff proposed'!E12=\"\",\"Rest Day\",CONCATENATE(TEXT('Staff proposed'!E12,\"hhmm\"),\"-\",(TEXT('Staff proposed'!F12,\"hhmm\")))))","v":"Rest Day"},10]
[{"$f":"IF('Staff proposed'!C13=\"\",\"\",'Staff proposed'!C13)","v":""},{"$f":"IF('Staff proposed'!D13=\"\",\"\",'Staff proposed'!D13)","v":"Thu"},{"$f":"IF('Staff proposed'!D13=\"\",\"\",IF('Staff proposed'!E13=\"\",\"Rest Day\",CONCATENATE(TEXT('Staff proposed'!E13,\"hhmm\"),\"-\",(TEXT('Staff proposed'!F13,\"hhmm\")))))","v":"Rest Day"},11]
[{"$f":"IF('Staff proposed'!C14=\"\",\"\",'Staff proposed'!C14)","v":""},{"$f":"IF('Staff proposed'!D14=\"\",\"\",'Staff proposed'!D14)","v":"Fri"},{"$f":"IF('Staff proposed'!D14=\"\",\"\",IF('Staff proposed'!E14=\"\",\"Rest Day\",CONCATENATE(TEXT('Staff proposed'!E14,\"hhmm\"),\"-\",(TEXT('Staff proposed'!F14,\"hhmm\")))))","v":"Rest Day"},12]
[{"$f":"IF('Staff proposed'!C15=\"\",\"\",'Staff proposed'!C15)","v":""},{"$f":"IF('Staff proposed'!D15=\"\",\"\",'Staff proposed'!D15)","v":"Sat"},{"$f":"IF('Staff proposed'!D15=\"\",\"\",IF('Staff proposed'!E15=\"\",\"Rest Day\",CONCATENATE(TEXT('Staff proposed'!E15,\"hhmm\"),\"-\",(TEXT('Staff proposed'!F15,\"hhmm\")))))","v":"Rest Day"},13]
[{"$f":"IF('Staff proposed'!C16=\"\",\"\",'Staff proposed'!C16)","v":""},{"$f":"IF('Staff proposed'!D16=\"\",\"\",'Staff proposed'!D16)","v":"Sun"},{"$f":"IF('Staff proposed'!D16=\"\",\"\",IF('Staff proposed'!E16=\"\",\"Rest Day\",CONCATENATE(TEXT('Staff proposed'!E16,\"hhmm\"),\"-\",(TEXT('Staff proposed'!F16,\"hhmm\")))))","v":"Rest Day"},14]
[{"$f":"IF('Staff proposed'!C17=\"\",\"\",'Staff proposed'!C17)","v":"Week3"},{"$f":"IF('Staff proposed'!D17=\"\",\"\",'Staff proposed'!D17)","v":"Mon"},{"$f":"IF('Staff proposed'!D17=\"\",\"\",IF('Staff proposed'!E17=\"\",\"Rest Day\",CONCATENATE(TEXT('Staff proposed'!E17,\"hhmm\"),\"-\",(TEXT('Staff proposed'!F17,\"hhmm\")))))","v":"Rest Day"},15,null,"Week 3"]
[{"$f":"IF('Staff proposed'!C18=\"\",\"\",'Staff proposed'!C18)","v":""},{"$f":"IF('Staff proposed'!D18=\"\",\"\",'Staff proposed'!D18)","v":"Tue"},{"$f":"IF('Staff proposed'!D18=\"\",\"\",IF('Staff proposed'!E18=\"\",\"Rest Day\",CONCATENATE(TEXT('Staff proposed'!E18,\"hhmm\"),\"-\",(TEXT('Staff proposed'!F18,\"hhmm\")))))","v":"Rest Day"},16]
[{"$f":"IF('Staff proposed'!C19=\"\",\"\",'Staff proposed'!C19)","v":""},{"$f":"IF('Staff proposed'!D19=\"\",\"\",'Staff proposed'!D19)","v":"Wed"},{"$f":"IF('Staff proposed'!D19=\"\",\"\",IF('Staff proposed'!E19=\"\",\"Rest Day\",CONCATENATE(TEXT('Staff proposed'!E19,\"hhmm\"),\"-\",(TEXT('Staff proposed'!F19,\"hhmm\")))))","v":"Rest Day"},17]
[{"$f":"IF('Staff proposed'!C20=\"\",\"\",'Staff proposed'!C20)","v":""},{"$f":"IF('Staff proposed'!D20=\"\",\"\",'Staff proposed'!D20)","v":"Thu"},{"$f":"IF('Staff proposed'!D20=\"\",\"\",IF('Staff proposed'!E20=\"\",\"Rest Day\",CONCATENATE(TEXT('Staff proposed'!E20,\"hhmm\"),\"-\",(TEXT('Staff proposed'!F20,\"hhmm\")))))","v":"Rest Day"},18]
[{"$f":"IF('Staff proposed'!C21=\"\",\"\",'Staff proposed'!C21)","v":""},{"$f":"IF('Staff proposed'!D21=\"\",\"\",'Staff proposed'!D21)","v":"Fri"},{"$f":"IF('Staff proposed'!D21=\"\",\"\",IF('Staff proposed'!E21=\"\",\"Rest Day\",CONCATENATE(TEXT('Staff proposed'!E21,\"hhmm\"),\"-\",(TEXT('Staff proposed'!F21,\"hhmm\")))))","v":"Rest Day"},19]
[{"$f":"IF('Staff proposed'!C22=\"\",\"\",'Staff proposed'!C22)","v":""},{"$f":"IF('Staff proposed'!D22=\"\",\"\",'Staff proposed'!D22)","v":"Sat"},{"$f":"IF('Staff proposed'!D22=\"\",\"\",IF('Staff proposed'!E22=\"\",\"Rest Day\",CONCATENATE(TEXT('Staff proposed'!E22,\"hhmm\"),\"-\",(TEXT('Staff proposed'!F22,\"hhmm\")))))","v":"Rest Day"},20]
[{"$f":"IF('Staff proposed'!C23=\"\",\"\",'Staff proposed'!C23)","v":""},{"$f":"IF('Staff proposed'!D23=\"\",\"\",'Staff proposed'!D23)","v":"Sun"},{"$f":"IF('Staff proposed'!D23=\"\",\"\",IF('Staff proposed'!E23=\"\",\"Rest Day\",CONCATENATE(TEXT('Staff proposed'!E23,\"hhmm\"),\"-\",(TEXT('Staff proposed'!F23,\"hhmm\")))))","v":"Rest Day"},21]
[{"$f":"IF('Staff proposed'!C24=\"\",\"\",'Staff proposed'!C24)","v":"Week4"},{"$f":"IF('Staff proposed'!D24=\"\",\"\",'Staff proposed'!D24)","v":"Mon"},{"$f":"IF('Staff proposed'!D24=\"\",\"\",IF('Staff proposed'!E24=\"\",\"Rest Day\",CONCATENATE(TEXT('Staff proposed'!E24,\"hhmm\"),\"-\",(TEXT('Staff proposed'!F24,\"hhmm\")))))","v":"Rest Day"},22,null,"Week 4"]
[{"$f":"IF('Staff proposed'!C25=\"\",\"\",'Staff proposed'!C25)","v":""},{"$f":"IF('Staff proposed'!D25=\"\",\"\",'Staff proposed'!D25)","v":"Tue"},{"$f":"IF('Staff proposed'!D25=\"\",\"\",IF('Staff proposed'!E25=\"\",\"Rest Day\",CONCATENATE(TEXT('Staff proposed'!E25,\"hhmm\"),\"-\",(TEXT('Staff proposed'!F25,\"hhmm\")))))","v":"Rest Day"},23]
[{"$f":"IF('Staff proposed'!C26=\"\",\"\",'Staff proposed'!C26)","v":""},{"$f":"IF('Staff proposed'!D26=\"\",\"\",'Staff proposed'!D26)","v":"Wed"},{"$f":"IF('Staff proposed'!D26=\"\",\"\",IF('Staff proposed'!E26=\"\",\"Rest Day\",CONCATENATE(TEXT('Staff proposed'!E26,\"hhmm\"),\"-\",(TEXT('Staff proposed'!F26,\"hhmm\")))))","v":"Rest Day"},24]
[{"$f":"IF('Staff proposed'!C27=\"\",\"\",'Staff proposed'!C27)","v":""},{"$f":"IF('Staff proposed'!D27=\"\",\"\",'Staff proposed'!D27)","v":"Thu"},{"$f":"IF('Staff proposed'!D27=\"\",\"\",IF('Staff proposed'!E27=\"\",\"Rest Day\",CONCATENATE(TEXT('Staff proposed'!E27,\"hhmm\"),\"-\",(TEXT('Staff proposed'!F27,\"hhmm\")))))","v":"Rest Day"},25]
[{"$f":"IF('Staff proposed'!C28=\"\",\"\",'Staff proposed'!C28)","v":""},{"$f":"IF('Staff proposed'!D28=\"\",\"\",'Staff proposed'!D28)","v":"Fri"},{"$f":"IF('Staff proposed'!D28=\"\",\"\",IF('Staff proposed'!E28=\"\",\"Rest Day\",CONCATENATE(TEXT('Staff proposed'!E28,\"hhmm\"),\"-\",(TEXT('Staff proposed'!F28,\"hhmm\")))))","v":"Rest Day"},26]
[{"$f":"IF('Staff proposed'!C29=\"\",\"\",'Staff proposed'!C29)","v":""},{"$f":"IF('Staff proposed'!D29=\"\",\"\",'Staff proposed'!D29)","v":"Sat"},{"$f":"IF('Staff proposed'!D29=\"\",\"\",IF('Staff proposed'!E29=\"\",\"Rest Day\",CONCATENATE(TEXT('Staff proposed'!E29,\"hhmm\"),\"-\",(TEXT('Staff proposed'!F29,\"hhmm\")))))","v":"Rest Day"},27]
[{"$f":"IF('Staff proposed'!C30=\"\",\"\",'Staff proposed'!C30)","v":""},{"$f":"IF('Staff proposed'!D30=\"\",\"\",'Staff proposed'!D30)","v":"Sun"},{"$f":"IF('Staff proposed'!D30=\"\",\"\",IF('Staff proposed'!E30=\"\",\"Rest Day\",CONCATENATE(TEXT('Staff proposed'!E30,\"hhmm\"),\"-\",(TEXT('Staff proposed'!F30,\"hhmm\")))))","v":"Rest Day"},28]
[{"$f":"IF('Staff proposed'!C31=\"\",\"\",'Staff proposed'!C31)","v":"Week5"},{"$f":"IF('Staff proposed'!D31=\"\",\"\",'Staff proposed'!D31)","v":"Mon"},{"$f":"IF('Staff proposed'!D31=\"\",\"\",IF('Staff proposed'!E31=\"\",\"Rest Day\",CONCATENATE(TEXT('Staff proposed'!E31,\"hhmm\"),\"-\",(TEXT('Staff proposed'!F31,\"hhmm\")))))","v":"Rest Day"},29,null,"Week 5"]
[{"$f":"IF('Staff proposed'!C32=\"\",\"\",'Staff proposed'!C32)","v":""},{"$f":"IF('Staff proposed'!D32=\"\",\"\",'Staff proposed'!D32)","v":"Tue"},{"$f":"IF('Staff proposed'!D32=\"\",\"\",IF('Staff proposed'!E32=\"\",\"Rest Day\",CONCATENATE(TEXT('Staff proposed'!E32,\"hhmm\"),\"-\",(TEXT('Staff proposed'!F32,\"hhmm\")))))","v":"Rest Day"},30]
[{"$f":"IF('Staff proposed'!C33=\"\",\"\",'Staff proposed'!C33)","v":""},{"$f":"IF('Staff proposed'!D33=\"\",\"\",'Staff proposed'!D33)","v":"Wed"},{"$f":"IF('Staff proposed'!D33=\"\",\"\",IF('Staff proposed'!E33=\"\",\"Rest Day\",CONCATENATE(TEXT('Staff proposed'!E33,\"hhmm\"),\"-\",(TEXT('Staff proposed'!F33,\"hhmm\")))))","v":"Rest Day"},31]
[{"$f":"IF('Staff proposed'!C34=\"\",\"\",'Staff proposed'!C34)","v":""},{"$f":"IF('Staff proposed'!D34=\"\",\"\",'Staff proposed'!D34)","v":"Thu"},{"$f":"IF('Staff proposed'!D34=\"\",\"\",IF('Staff proposed'!E34=\"\",\"Rest Day\",CONCATENATE(TEXT('Staff proposed'!E34,\"hhmm\"),\"-\",(TEXT('Staff proposed'!F34,\"hhmm\")))))","v":"Rest Day"},32]
[{"$f":"IF('Staff proposed'!C35=\"\",\"\",'Staff proposed'!C35)","v":""},{"$f":"IF('Staff proposed'!D35=\"\",\"\",'Staff proposed'!D35)","v":"Fri"},{"$f":"IF('Staff proposed'!D35=\"\",\"\",IF('Staff proposed'!E35=\"\",\"Rest Day\",CONCATENATE(TEXT('Staff proposed'!E35,\"hhmm\"),\"-\",(TEXT('Staff proposed'!F35,\"hhmm\")))))","v":"Rest Day"},33]
[{"$f":"IF('Staff proposed'!C36=\"\",\"\",'Staff proposed'!C36)","v":""},{"$f":"IF('Staff proposed'!D36=\"\",\"\",'Staff proposed'!D36)","v":"Sat"},{"$f":"IF('Staff proposed'!D36=\"\",\"\",IF('Staff proposed'!E36=\"\",\"Rest Day\",CONCATENATE(TEXT('Staff proposed'!E36,\"hhmm\"),\"-\",(TEXT('Staff proposed'!F36,\"hhmm\")))))","v":"Rest Day"},34]
[{"$f":"IF('Staff proposed'!C37=\"\",\"\",'Staff proposed'!C37)","v":""},{"$f":"IF('Staff proposed'!D37=\"\",\"\",'Staff proposed'!D37)","v":"Sun"},{"$f":"IF('Staff proposed'!D37=\"\",\"\",IF('Staff proposed'!E37=\"\",\"Rest Day\",CONCATENATE(TEXT('Staff proposed'!E37,\"hhmm\"),\"-\",(TEXT('Staff proposed'!F37,\"hhmm\")))))","v":"Rest Day"},35]
[{"$f":"IF('Staff proposed'!C38=\"\",\"\",'Staff proposed'!C38)","v":"Week6"},{"$f":"IF('Staff proposed'!D38=\"\",\"\",'Staff proposed'!D38)","v":"Mon"},{"$f":"IF('Staff proposed'!D38=\"\",\"\",IF('Staff proposed'!E38=\"\",\"Rest Day\",CONCATENATE(TEXT('Staff proposed'!E38,\"hhmm\"),\"-\",(TEXT('Staff proposed'!F38,\"hhmm\")))))","v":"Rest Day"},36,null,"Week 6"]
[{"$f":"IF('Staff proposed'!C39=\"\",\"\",'Staff proposed'!C39)","v":""},{"$f":"IF('Staff proposed'!D39=\"\",\"\",'Staff proposed'!D39)","v":"Tue"},{"$f":"IF('Staff proposed'!D39=\"\",\"\",IF('Staff proposed'!E39=\"\",\"Rest Day\",CONCATENATE(TEXT('Staff proposed'!E39,\"hhmm\"),\"-\",(TEXT('Staff proposed'!F39,\"hhmm\")))))","v":"Rest Day"},37]
[{"$f":"IF('Staff proposed'!C40=\"\",\"\",'Staff proposed'!C40)","v":""},{"$f":"IF('Staff proposed'!D40=\"\",\"\",'Staff proposed'!D40)","v":"Wed"},{"$f":"IF('Staff proposed'!D40=\"\",\"\",IF('Staff proposed'!E40=\"\",\"Rest Day\",CONCATENATE(TEXT('Staff proposed'!E40,\"hhmm\"),\"-\",(TEXT('Staff proposed'!F40,\"hhmm\")))))","v":"Rest Day"},38]
[{"$f":"IF('Staff proposed'!C41=\"\",\"\",'Staff proposed'!C41)","v":""},{"$f":"IF('Staff proposed'!D41=\"\",\"\",'Staff proposed'!D41)","v":"Thu"},{"$f":"IF('Staff proposed'!D41=\"\",\"\",IF('Staff proposed'!E41=\"\",\"Rest Day\",CONCATENATE(TEXT('Staff proposed'!E41,\"hhmm\"),\"-\",(TEXT('Staff proposed'!F41,\"hhmm\")))))","v":"Rest Day"},39]
[{"$f":"IF('Staff proposed'!C42=\"\",\"\",'Staff proposed'!C42)","v":""},{"$f":"IF('Staff proposed'!D42=\"\",\"\",'Staff proposed'!D42)","v":"Fri"},{"$f":"IF('Staff proposed'!D42=\"\",\"\",IF('Staff proposed'!E42=\"\",\"Rest Day\",CONCATENATE(TEXT('Staff proposed'!E42,\"hhmm\"),\"-\",(TEXT('Staff proposed'!F42,\"hhmm\")))))","v":"Rest Day"},40]
[{"$f":"IF('Staff proposed'!C43=\"\",\"\",'Staff proposed'!C43)","v":""},{"$f":"IF('Staff proposed'!D43=\"\",\"\",'Staff proposed'!D43)","v":"Sat"},{"$f":"IF('Staff proposed'!D43=\"\",\"\",IF('Staff proposed'!E43=\"\",\"Rest Day\",CONCATENATE(TEXT('Staff proposed'!E43,\"hhmm\"),\"-\",(TEXT('Staff proposed'!F43,\"hhmm\")))))","v":"Rest Day"},41]
[{"$f":"IF('Staff proposed'!C44=\"\",\"\",'Staff proposed'!C44)","v":""},{"$f":"IF('Staff proposed'!D44=\"\",\"\",'Staff proposed'!D44)","v":"Sun"},{"$f":"IF('Staff proposed'!D44=\"\",\"\",IF('Staff proposed'!E44=\"\",\"Rest Day\",CONCATENATE(TEXT('Staff proposed'!E44,\"hhmm\"),\"-\",(TEXT('Staff proposed'!F44,\"hhmm\")))))","v":"Rest Day"},42]
[{"$f":"IF('Staff proposed'!C45=\"\",\"\",'Staff proposed'!C45)","v":"Week7"},{"$f":"IF('Staff proposed'!D45=\"\",\"\",'Staff proposed'!D45)","v":"Mon"},{"$f":"IF('Staff proposed'!D45=\"\",\"\",IF('Staff proposed'!E45=\"\",\"Rest Day\",CONCATENATE(TEXT('Staff proposed'!E45,\"hhmm\"),\"-\",(TEXT('Staff proposed'!F45,\"hhmm\")))))","v":"Rest Day"},43,null,"Week 7"]
[{"$f":"IF('Staff proposed'!C46=\"\",\"\",'Staff proposed'!C46)","v":""},{"$f":"IF('Staff proposed'!D46=\"\",\"\",'Staff proposed'!D46)","v":"Tue"},{"$f":"IF('Staff proposed'!D46=\"\",\"\",IF('Staff proposed'!E46=\"\",\"Rest Day\",CONCATENATE(TEXT('Staff proposed'!E46,\"hhmm\"),\"-\",(TEXT('Staff proposed'!F46,\"hhmm\")))))","v":"Rest Day"},44]
[{"$f":"IF('Staff proposed'!C47=\"\",\"\",'Staff proposed'!C47)","v":""},{"$f":"IF('Staff proposed'!D47=\"\",\"\",'Staff proposed'!D47)","v":"Wed"},{"$f":"IF('Staff proposed'!D47=\"\",\"\",IF('Staff proposed'!E47=\"\",\"Rest Day\",CONCATENATE(TEXT('Staff proposed'!E47,\"hhmm\"),\"-\",(TEXT('Staff proposed'!F47,\"hhmm\")))))","v":"Rest Day"},45]
[{"$f":"IF('Staff proposed'!C48=\"\",\"\",'Staff proposed'!C48)","v":""},{"$f":"IF('Staff proposed'!D48=\"\",\"\",'Staff proposed'!D48)","v":"Thu"},{"$f":"IF('Staff proposed'!D48=\"\",\"\",IF('Staff proposed'!E48=\"\",\"Rest Day\",CONCATENATE(TEXT('Staff proposed'!E48,\"hhmm\"),\"-\",(TEXT('Staff proposed'!F48,\"hhmm\")))))","v":"Rest Day"},46]
[{"$f":"IF('Staff proposed'!C49=\"\",\"\",'Staff proposed'!C49)","v":""},{"$f":"IF('Staff proposed'!D49=\"\",\"\",'Staff proposed'!D49)","v":"Fri"},{"$f":"IF('Staff proposed'!D49=\"\",\"\",IF('Staff proposed'!E49=\"\",\"Rest Day\",CONCATENATE(TEXT('Staff proposed'!E49,\"hhmm\"),\"-\",(TEXT('Staff proposed'!F49,\"hhmm\")))))","v":"Rest Day"},47]
[{"$f":"IF('Staff proposed'!C50=\"\",\"\",'Staff proposed'!C50)","v":""},{"$f":"IF('Staff proposed'!D50=\"\",\"\",'Staff proposed'!D50)","v":"Sat"},{"$f":"IF('Staff proposed'!D50=\"\",\"\",IF('Staff proposed'!E50=\"\",\"Rest Day\",CONCATENATE(TEXT('Staff proposed'!E50,\"hhmm\"),\"-\",(TEXT('Staff proposed'!F50,\"hhmm\")))))","v":"Rest Day"},48]
[{"$f":"IF('Staff proposed'!C51=\"\",\"\",'Staff proposed'!C51)","v":""},{"$f":"IF('Staff proposed'!D51=\"\",\"\",'Staff proposed'!D51)","v":"Sun"},{"$f":"IF('Staff proposed'!D51=\"\",\"\",IF('Staff proposed'!E51=\"\",\"Rest Day\",CONCATENATE(TEXT('Staff proposed'!E51,\"hhmm\"),\"-\",(TEXT('Staff proposed'!F51,\"hhmm\")))))","v":"Rest Day"},49]
[{"$f":"IF('Staff proposed'!C52=\"\",\"\",'Staff proposed'!C52)","v":"Week8"},{"$f":"IF('Staff proposed'!D52=\"\",\"\",'Staff proposed'!D52)","v":"Mon"},{"$f":"IF('Staff proposed'!D52=\"\",\"\",IF('Staff proposed'!E52=\"\",\"Rest Day\",CONCATENATE(TEXT('Staff proposed'!E52,\"hhmm\"),\"-\",(TEXT('Staff proposed'!F52,\"hhmm\")))))","v":"Rest Day"},50,null,"Week 8"]
[{"$f":"IF('Staff proposed'!C53=\"\",\"\",'Staff proposed'!C53)","v":""},{"$f":"IF('Staff proposed'!D53=\"\",\"\",'Staff proposed'!D53)","v":"Tue"},{"$f":"IF('Staff proposed'!D53=\"\",\"\",IF('Staff proposed'!E53=\"\",\"Rest Day\",CONCATENATE(TEXT('Staff proposed'!E53,\"hhmm\"),\"-\",(TEXT('Staff proposed'!F53,\"hhmm\")))))","v":"Rest Day"},51]
[{"$f":"IF('Staff proposed'!C54=\"\",\"\",'Staff proposed'!C54)","v":""},{"$f":"IF('Staff proposed'!D54=\"\",\"\",'Staff proposed'!D54)","v":"Wed"},{"$f":"IF('Staff proposed'!D54=\"\",\"\",IF('Staff proposed'!E54=\"\",\"Rest Day\",CONCATENATE(TEXT('Staff proposed'!E54,\"hhmm\"),\"-\",(TEXT('Staff proposed'!F54,\"hhmm\")))))","v":"Rest Day"},52]
[{"$f":"IF('Staff proposed'!C55=\"\",\"\",'Staff proposed'!C55)","v":""},{"$f":"IF('Staff proposed'!D55=\"\",\"\",'Staff proposed'!D55)","v":"Thu"},{"$f":"IF('Staff proposed'!D55=\"\",\"\",IF('Staff proposed'!E55=\"\",\"Rest Day\",CONCATENATE(TEXT('Staff proposed'!E55,\"hhmm\"),\"-\",(TEXT('Staff proposed'!F55,\"hhmm\")))))","v":"Rest Day"},53]
[{"$f":"IF('Staff proposed'!C56=\"\",\"\",'Staff proposed'!C56)","v":""},{"$f":"IF('Staff proposed'!D56=\"\",\"\",'Staff proposed'!D56)","v":"Fri"},{"$f":"IF('Staff proposed'!D56=\"\",\"\",IF('Staff proposed'!E56=\"\",\"Rest Day\",CONCATENATE(TEXT('Staff proposed'!E56,\"hhmm\"),\"-\",(TEXT('Staff proposed'!F56,\"hhmm\")))))","v":"Rest Day"},54]
[{"$f":"IF('Staff proposed'!C57=\"\",\"\",'Staff proposed'!C57)","v":""},{"$f":"IF('Staff proposed'!D57=\"\",\"\",'Staff proposed'!D57)","v":"Sat"},{"$f":"IF('Staff proposed'!D57=\"\",\"\",IF('Staff proposed'!E57=\"\",\"Rest Day\",CONCATENATE(TEXT('Staff proposed'!E57,\"hhmm\"),\"-\",(TEXT('Staff proposed'!F57,\"hhmm\")))))","v":"Rest Day"},55]
[{"$f":"IF('Staff proposed'!C58=\"\",\"\",'Staff proposed'!C58)","v":""},{"$f":"IF('Staff proposed'!D58=\"\",\"\",'Staff proposed'!D58)","v":"Sun"},{"$f":"IF('Staff proposed'!D58=\"\",\"\",IF('Staff proposed'!E58=\"\",\"Rest Day\",CONCATENATE(TEXT('Staff proposed'!E58,\"hhmm\"),\"-\",(TEXT('Staff proposed'!F58,\"hhmm\")))))","v":"Rest Day"},56]
[{"$f":"IF('Staff proposed'!C59=\"\",\"\",'Staff proposed'!C59)","v":"Week9"},{"$f":"IF('Staff proposed'!D59=\"\",\"\",'Staff proposed'!D59)","v":"Mon"},{"$f":"IF('Staff proposed'!D59=\"\",\"\",IF('Staff proposed'!E59=\"\",\"Rest Day\",CONCATENATE(TEXT('Staff proposed'!E59,\"hhmm\"),\"-\",(TEXT('Staff proposed'!F59,\"hhmm\")))))","v":"Rest Day"},57,null,"Week 9"]
[{"$f":"IF('Staff proposed'!C60=\"\",\"\",'Staff proposed'!C60)","v":""},{"$f":"IF('Staff proposed'!D60=\"\",\"\",'Staff proposed'!D60)","v":"Tue"},{"$f":"IF('Staff proposed'!D60=\"\",\"\",IF('Staff proposed'!E60=\"\",\"Rest Day\",CONCATENATE(TEXT('Staff proposed'!E60,\"hhmm\"),\"-\",(TEXT('Staff proposed'!F60,\"hhmm\")))))","v":"Rest Day"},58]
[{"$f":"IF('Staff proposed'!C61=\"\",\"\",'Staff proposed'!C61)","v":""},{"$f":"IF('Staff proposed'!D61=\"\",\"\",'Staff proposed'!D61)","v":"Wed"},{"$f":"IF('Staff proposed'!D61=\"\",\"\",IF('Staff proposed'!E61=\"\",\"Rest Day\",CONCATENATE(TEXT('Staff proposed'!E61,\"hhmm\"),\"-\",(TEXT('Staff proposed'!F61,\"hhmm\")))))","v":"Rest Day"},59]
[{"$f":"IF('Staff proposed'!C62=\"\",\"\",'Staff proposed'!C62)","v":""},{"$f":"IF('Staff proposed'!D62=\"\",\"\",'Staff proposed'!D62)","v":"Thu"},{"$f":"IF('Staff proposed'!D62=\"\",\"\",IF('Staff proposed'!E62=\"\",\"Rest Day\",CONCATENATE(TEXT('Staff proposed'!E62,\"hhmm\"),\"-\",(TEXT('Staff proposed'!F62,\"hhmm\")))))","v":"Rest Day"},60]
[{"$f":"IF('Staff proposed'!C63=\"\",\"\",'Staff proposed'!C63)","v":""},{"$f":"IF('Staff proposed'!D63=\"\",\"\",'Staff proposed'!D63)","v":"Fri"},{"$f":"IF('Staff proposed'!D63=\"\",\"\",IF('Staff proposed'!E63=\"\",\"Rest Day\",CONCATENATE(TEXT('Staff proposed'!E63,\"hhmm\"),\"-\",(TEXT('Staff proposed'!F63,\"hhmm\")))))","v":"Rest Day"},61]
[{"$f":"IF('Staff proposed'!C64=\"\",\"\",'Staff proposed'!C64)","v":""},{"$f":"IF('Staff proposed'!D64=\"\",\"\",'Staff proposed'!D64)","v":"Sat"},{"$f":"IF('Staff proposed'!D64=\"\",\"\",IF('Staff proposed'!E64=\"\",\"Rest Day\",CONCATENATE(TEXT('Staff proposed'!E64,\"hhmm\"),\"-\",(TEXT('Staff proposed'!F64,\"hhmm\")))))","v":"Rest Day"},62]
[{"$f":"IF('Staff proposed'!C65=\"\",\"\",'Staff proposed'!C65)","v":""},{"$f":"IF('Staff proposed'!D65=\"\",\"\",'Staff proposed'!D65)","v":"Sun"},{"$f":"IF('Staff proposed'!D65=\"\",\"\",IF('Staff proposed'!E65=\"\",\"Rest Day\",CONCATENATE(TEXT('Staff proposed'!E65,\"hhmm\"),\"-\",(TEXT('Staff proposed'!F65,\"hhmm\")))))","v":"Rest Day"},63]
[{"$f":"IF('Staff proposed'!C66=\"\",\"\",'Staff proposed'!C66)","v":"Week10"},{"$f":"IF('Staff proposed'!D66=\"\",\"\",'Staff proposed'!D66)","v":"Mon"},{"$f":"IF('Staff proposed'!D66=\"\",\"\",IF('Staff proposed'!E66=\"\",\"Rest Day\",CONCATENATE(TEXT('Staff proposed'!E66,\"hhmm\"),\"-\",(TEXT('Staff proposed'!F66,\"hhmm\")))))","v":"Rest Day"},64,null,"Week 10"]
[{"$f":"IF('Staff proposed'!C67=\"\",\"\",'Staff proposed'!C67)","v":""},{"$f":"IF('Staff proposed'!D67=\"\",\"\",'Staff proposed'!D67)","v":"Tue"},{"$f":"IF('Staff proposed'!D67=\"\",\"\",IF('Staff proposed'!E67=\"\",\"Rest Day\",CONCATENATE(TEXT('Staff proposed'!E67,\"hhmm\"),\"-\",(TEXT('Staff proposed'!F67,\"hhmm\")))))","v":"Rest Day"},65]
[{"$f":"IF('Staff proposed'!C68=\"\",\"\",'Staff proposed'!C68)","v":""},{"$f":"IF('Staff proposed'!D68=\"\",\"\",'Staff proposed'!D68)","v":"Wed"},{"$f":"IF('Staff proposed'!D68=\"\",\"\",IF('Staff proposed'!E68=\"\",\"Rest Day\",CONCATENATE(TEXT('Staff proposed'!E68,\"hhmm\"),\"-\",(TEXT('Staff proposed'!F68,\"hhmm\")))))","v":"Rest Day"},66]
[{"$f":"IF('Staff proposed'!C69=\"\",\"\",'Staff proposed'!C69)","v":""},{"$f":"IF('Staff proposed'!D69=\"\",\"\",'Staff proposed'!D69)","v":"Thu"},{"$f":"IF('Staff proposed'!D69=\"\",\"\",IF('Staff proposed'!E69=\"\",\"Rest Day\",CONCATENATE(TEXT('Staff proposed'!E69,\"hhmm\"),\"-\",(TEXT('Staff proposed'!F69,\"hhmm\")))))","v":"Rest Day"},67]
[{"$f":"IF('Staff proposed'!C70=\"\",\"\",'Staff proposed'!C70)","v":""},{"$f":"IF('Staff proposed'!D70=\"\",\"\",'Staff proposed'!D70)","v":"Fri"},{"$f":"IF('Staff proposed'!D70=\"\",\"\",IF('Staff proposed'!E70=\"\",\"Rest Day\",CONCATENATE(TEXT('Staff proposed'!E70,\"hhmm\"),\"-\",(TEXT('Staff proposed'!F70,\"hhmm\")))))","v":"Rest Day"},68]
[{"$f":"IF('Staff proposed'!C71=\"\",\"\",'Staff proposed'!C71)","v":""},{"$f":"IF('Staff proposed'!D71=\"\",\"\",'Staff proposed'!D71)","v":"Sat"},{"$f":"IF('Staff proposed'!D71=\"\",\"\",IF('Staff proposed'!E71=\"\",\"Rest Day\",CONCATENATE(TEXT('Staff proposed'!E71,\"hhmm\"),\"-\",(TEXT('Staff proposed'!F71,\"hhmm\")))))","v":"Rest Day"},69]
[{"$f":"IF('Staff proposed'!C72=\"\",\"\",'Staff proposed'!C72)","v":""},{"$f":"IF('Staff proposed'!D72=\"\",\"\",'Staff proposed'!D72)","v":"Sun"},{"$f":"IF('Staff proposed'!D72=\"\",\"\",IF('Staff proposed'!E72=\"\",\"Rest Day\",CONCATENATE(TEXT('Staff proposed'!E72,\"hhmm\"),\"-\",(TEXT('Staff proposed'!F72,\"hhmm\")))))","v":"Rest Day"},70]
[{"$f":"IF('Staff proposed'!C73=\"\",\"\",'Staff proposed'!C73)","v":"Week11"},{"$f":"IF('Staff proposed'!D73=\"\",\"\",'Staff proposed'!D73)","v":"Mon"},{"$f":"IF('Staff proposed'!D73=\"\",\"\",IF('Staff proposed'!E73=\"\",\"Rest Day\",CONCATENATE(TEXT('Staff proposed'!E73,\"hhmm\"),\"-\",(TEXT('Staff proposed'!F73,\"hhmm\")))))","v":"Rest Day"},71,null,"Week 11"]
[{"$f":"IF('Staff proposed'!C74=\"\",\"\",'Staff proposed'!C74)","v":""},{"$f":"IF('Staff proposed'!D74=\"\",\"\",'Staff proposed'!D74)","v":"Tue"},{"$f":"IF('Staff proposed'!D74=\"\",\"\",IF('Staff proposed'!E74=\"\",\"Rest Day\",CONCATENATE(TEXT('Staff proposed'!E74,\"hhmm\"),\"-\",(TEXT('Staff proposed'!F74,\"hhmm\")))))","v":"Rest Day"},72]
[{"$f":"IF('Staff proposed'!C75=\"\",\"\",'Staff proposed'!C75)","v":""},{"$f":"IF('Staff proposed'!D75=\"\",\"\",'Staff proposed'!D75)","v":"Wed"},{"$f":"IF('Staff proposed'!D75=\"\",\"\",IF('Staff proposed'!E75=\"\",\"Rest Day\",CONCATENATE(TEXT('Staff proposed'!E75,\"hhmm\"),\"-\",(TEXT('Staff proposed'!F75,\"hhmm\")))))","v":"Rest Day"},73]
[{"$f":"IF('Staff proposed'!C76=\"\",\"\",'Staff proposed'!C76)","v":""},{"$f":"IF('Staff proposed'!D76=\"\",\"\",'Staff proposed'!D76)","v":"Thu"},{"$f":"IF('Staff proposed'!D76=\"\",\"\",IF('Staff proposed'!E76=\"\",\"Rest Day\",CONCATENATE(TEXT('Staff proposed'!E76,\"hhmm\"),\"-\",(TEXT('Staff proposed'!F76,\"hhmm\")))))","v":"Rest Day"},74]
[{"$f":"IF('Staff proposed'!C77=\"\",\"\",'Staff proposed'!C77)","v":""},{"$f":"IF('Staff proposed'!D77=\"\",\"\",'Staff proposed'!D77)","v":"Fri"},{"$f":"IF('Staff proposed'!D77=\"\",\"\",IF('Staff proposed'!E77=\"\",\"Rest Day\",CONCATENATE(TEXT('Staff proposed'!E77,\"hhmm\"),\"-\",(TEXT('Staff proposed'!F77,\"hhmm\")))))","v":"Rest Day"},75]
[{"$f":"IF('Staff proposed'!C78=\"\",\"\",'Staff proposed'!C78)","v":""},{"$f":"IF('Staff proposed'!D78=\"\",\"\",'Staff proposed'!D78)","v":"Sat"},{"$f":"IF('Staff proposed'!D78=\"\",\"\",IF('Staff proposed'!E78=\"\",\"Rest Day\",CONCATENATE(TEXT('Staff proposed'!E78,\"hhmm\"),\"-\",(TEXT('Staff proposed'!F78,\"hhmm\")))))","v":"Rest Day"},76]
[{"$f":"IF('Staff proposed'!C79=\"\",\"\",'Staff proposed'!C79)","v":""},{"$f":"IF('Staff proposed'!D79=\"\",\"\",'Staff proposed'!D79)","v":"Sun"},{"$f":"IF('Staff proposed'!D79=\"\",\"\",IF('Staff proposed'!E79=\"\",\"Rest Day\",CONCATENATE(TEXT('Staff proposed'!E79,\"hhmm\"),\"-\",(TEXT('Staff proposed'!F79,\"hhmm\")))))","v":"Rest Day"},77]
[{"$f":"IF('Staff proposed'!C80=\"\",\"\",'Staff proposed'!C80)","v":"Week12"},{"$f":"IF('Staff proposed'!D80=\"\",\"\",'Staff proposed'!D80)","v":"Mon"},{"$f":"IF('Staff proposed'!D80=\"\",\"\",IF('Staff proposed'!E80=\"\",\"Rest Day\",CONCATENATE(TEXT('Staff proposed'!E80,\"hhmm\"),\"-\",(TEXT('Staff proposed'!F80,\"hhmm\")))))","v":"Rest Day"},78,null,"Week 12"]
[{"$f":"IF('Staff proposed'!C81=\"\",\"\",'Staff proposed'!C81)","v":""},{"$f":"IF('Staff proposed'!D81=\"\",\"\",'Staff proposed'!D81)","v":"Tue"},{"$f":"IF('Staff proposed'!D81=\"\",\"\",IF('Staff proposed'!E81=\"\",\"Rest Day\",CONCATENATE(TEXT('Staff proposed'!E81,\"hhmm\"),\"-\",(TEXT('Staff proposed'!F81,\"hhmm\")))))","v":"Rest Day"},79]
[{"$f":"IF('Staff proposed'!C82=\"\",\"\",'Staff proposed'!C82)","v":""},{"$f":"IF('Staff proposed'!D82=\"\",\"\",'Staff proposed'!D82)","v":"Wed"},{"$f":"IF('Staff proposed'!D82=\"\",\"\",IF('Staff proposed'!E82=\"\",\"Rest Day\",CONCATENATE(TEXT('Staff proposed'!E82,\"hhmm\"),\"-\",(TEXT('Staff proposed'!F82,\"hhmm\")))))","v":"Rest Day"},80]
[{"$f":"IF('Staff proposed'!C83=\"\",\"\",'Staff proposed'!C83)","v":""},{"$f":"IF('Staff proposed'!D83=\"\",\"\",'Staff proposed'!D83)","v":"Thu"},{"$f":"IF('Staff proposed'!D83=\"\",\"\",IF('Staff proposed'!E83=\"\",\"Rest Day\",CONCATENATE(TEXT('Staff proposed'!E83,\"hhmm\"),\"-\",(TEXT('Staff proposed'!F83,\"hhmm\")))))","v":"Rest Day"},81]
[{"$f":"IF('Staff proposed'!C84=\"\",\"\",'Staff proposed'!C84)","v":""},{"$f":"IF('Staff proposed'!D84=\"\",\"\",'Staff proposed'!D84)","v":"Fri"},{"$f":"IF('Staff proposed'!D84=\"\",\"\",IF('Staff proposed'!E84=\"\",\"Rest Day\",CONCATENATE(TEXT('Staff proposed'!E84,\"hhmm\"),\"-\",(TEXT('Staff proposed'!F84,\"hhmm\")))))","v":"Rest Day"},82]
[{"$f":"IF('Staff proposed'!C85=\"\",\"\",'Staff proposed'!C85)","v":""},{"$f":"IF('Staff proposed'!D85=\"\",\"\",'Staff proposed'!D85)","v":"Sat"},{"$f":"IF('Staff proposed'!D85=\"\",\"\",IF('Staff proposed'!E85=\"\",\"Rest Day\",CONCATENATE(TEXT('Staff proposed'!E85,\"hhmm\"),\"-\",(TEXT('Staff proposed'!F85,\"hhmm\")))))","v":"Rest Day"},83]
[{"$f":"IF('Staff proposed'!C86=\"\",\"\",'Staff proposed'!C86)","v":""},{"$f":"IF('Staff proposed'!D86=\"\",\"\",'Staff proposed'!D86)","v":"Sun"},{"$f":"IF('Staff proposed'!D86=\"\",\"\",IF('Staff proposed'!E86=\"\",\"Rest Day\",CONCATENATE(TEXT('Staff proposed'!E86,\"hhmm\"),\"-\",(TEXT('Staff proposed'!F86,\"hhmm\")))))","v":"Rest Day"},84]
[{"$f":"IF('Staff proposed'!C87=\"\",\"\",'Staff proposed'!C87)","v":"Week13"},{"$f":"IF('Staff proposed'!D87=\"\",\"\",'Staff proposed'!D87)","v":"Mon"},{"$f":"IF('Staff proposed'!D87=\"\",\"\",IF('Staff proposed'!E87=\"\",\"Rest Day\",CONCATENATE(TEXT('Staff proposed'!E87,\"hhmm\"),\"-\",(TEXT('Staff proposed'!F87,\"hhmm\")))))","v":"Rest Day"},85,null,"Week 13"]
[{"$f":"IF('Staff proposed'!C88=\"\",\"\",'Staff proposed'!C88)","v":""},{"$f":"IF('Staff proposed'!D88=\"\",\"\",'Staff proposed'!D88)","v":"Tue"},{"$f":"IF('Staff proposed'!D88=\"\",\"\",IF('Staff proposed'!E88=\"\",\"Rest Day\",CONCATENATE(TEXT('Staff proposed'!E88,\"hhmm\"),\"-\",(TEXT('Staff proposed'!F88,\"hhmm\")))))","v":"Rest Day"},86]
[{"$f":"IF('Staff proposed'!C89=\"\",\"\",'Staff proposed'!C89)","v":""},{"$f":"IF('Staff proposed'!D89=\"\",\"\",'Staff proposed'!D89)","v":"Wed"},{"$f":"IF('Staff proposed'!D89=\"\",\"\",IF('Staff proposed'!E89=\"\",\"Rest Day\",CONCATENATE(TEXT('Staff proposed'!E89,\"hhmm\"),\"-\",(TEXT('Staff proposed'!F89,\"hhmm\")))))","v":"Rest Day"},87]
[{"$f":"IF('Staff proposed'!C90=\"\",\"\",'Staff proposed'!C90)","v":""},{"$f":"IF('Staff proposed'!D90=\"\",\"\",'Staff proposed'!D90)","v":"Thu"},{"$f":"IF('Staff proposed'!D90=\"\",\"\",IF('Staff proposed'!E90=\"\",\"Rest Day\",CONCATENATE(TEXT('Staff proposed'!E90,\"hhmm\"),\"-\",(TEXT('Staff proposed'!F90,\"hhmm\")))))","v":"Rest Day"},88]
[{"$f":"IF('Staff proposed'!C91=\"\",\"\",'Staff proposed'!C91)","v":""},{"$f":"IF('Staff proposed'!D91=\"\",\"\",'Staff proposed'!D91)","v":"Fri"},{"$f":"IF('Staff proposed'!D91=\"\",\"\",IF('Staff proposed'!E91=\"\",\"Rest Day\",CONCATENATE(TEXT('Staff proposed'!E91,\"hhmm\"),\"-\",(TEXT('Staff proposed'!F91,\"hhmm\")))))","v":"Rest Day"},89]
[{"$f":"IF('Staff proposed'!C92=\"\",\"\",'Staff proposed'!C92)","v":""},{"$f":"IF('Staff proposed'!D92=\"\",\"\",'Staff proposed'!D92)","v":"Sat"},{"$f":"IF('Staff proposed'!D92=\"\",\"\",IF('Staff proposed'!E92=\"\",\"Rest Day\",CONCATENATE(TEXT('Staff proposed'!E92,\"hhmm\"),\"-\",(TEXT('Staff proposed'!F92,\"hhmm\")))))","v":"Rest Day"},90]
[{"$f":"IF('Staff proposed'!C93=\"\",\"\",'Staff proposed'!C93)","v":""},{"$f":"IF('Staff proposed'!D93=\"\",\"\",'Staff proposed'!D93)","v":"Sun"},{"$f":"IF('Staff proposed'!D93=\"\",\"\",IF('Staff proposed'!E93=\"\",\"Rest Day\",CONCATENATE(TEXT('Staff proposed'!E93,\"hhmm\"),\"-\",(TEXT('Staff proposed'!F93,\"hhmm\")))))","v":"Rest Day"},91]
[{"$f":"IF('Staff proposed'!C94=\"\",\"\",'Staff proposed'!C94)","v":"Week14"},{"$f":"IF('Staff proposed'!D94=\"\",\"\",'Staff proposed'!D94)","v":"Mon"},{"$f":"IF('Staff proposed'!D94=\"\",\"\",IF('Staff proposed'!E94=\"\",\"Rest Day\",CONCATENATE(TEXT('Staff proposed'!E94,\"hhmm\"),\"-\",(TEXT('Staff proposed'!F94,\"hhmm\")))))","v":"Rest Day"},92,null,"Week 14"]
[{"$f":"IF('Staff proposed'!C95=\"\",\"\",'Staff proposed'!C95)","v":""},{"$f":"IF('Staff proposed'!D95=\"\",\"\",'Staff proposed'!D95)","v":"Tue"},{"$f":"IF('Staff proposed'!D95=\"\",\"\",IF('Staff proposed'!E95=\"\",\"Rest Day\",CONCATENATE(TEXT('Staff proposed'!E95,\"hhmm\"),\"-\",(TEXT('Staff proposed'!F95,\"hhmm\")))))","v":"Rest Day"},93]
[{"$f":"IF('Staff proposed'!C96=\"\",\"\",'Staff proposed'!C96)","v":""},{"$f":"IF('Staff proposed'!D96=\"\",\"\",'Staff proposed'!D96)","v":"Wed"},{"$f":"IF('Staff proposed'!D96=\"\",\"\",IF('Staff proposed'!E96=\"\",\"Rest Day\",CONCATENATE(TEXT('Staff proposed'!E96,\"hhmm\"),\"-\",(TEXT('Staff proposed'!F96,\"hhmm\")))))","v":"Rest Day"},94]
[{"$f":"IF('Staff proposed'!C97=\"\",\"\",'Staff proposed'!C97)","v":""},{"$f":"IF('Staff proposed'!D97=\"\",\"\",'Staff proposed'!D97)","v":"Thu"},{"$f":"IF('Staff proposed'!D97=\"\",\"\",IF('Staff proposed'!E97=\"\",\"Rest Day\",CONCATENATE(TEXT('Staff proposed'!E97,\"hhmm\"),\"-\",(TEXT('Staff proposed'!F97,\"hhmm\")))))","v":"Rest Day"},95]
[{"$f":"IF('Staff proposed'!C98=\"\",\"\",'Staff proposed'!C98)","v":""},{"$f":"IF('Staff proposed'!D98=\"\",\"\",'Staff proposed'!D98)","v":"Fri"},{"$f":"IF('Staff proposed'!D98=\"\",\"\",IF('Staff proposed'!E98=\"\",\"Rest Day\",CONCATENATE(TEXT('Staff proposed'!E98,\"hhmm\"),\"-\",(TEXT('Staff proposed'!F98,\"hhmm\")))))","v":"Rest Day"},96]
[{"$f":"IF('Staff proposed'!C99=\"\",\"\",'Staff proposed'!C99)","v":""},{"$f":"IF('Staff proposed'!D99=\"\",\"\",'Staff proposed'!D99)","v":"Sat"},{"$f":"IF('Staff proposed'!D99=\"\",\"\",IF('Staff proposed'!E99=\"\",\"Rest Day\",CONCATENATE(TEXT('Staff proposed'!E99,\"hhmm\"),\"-\",(TEXT('Staff proposed'!F99,\"hhmm\")))))","v":"Rest Day"},97]
[{"$f":"IF('Staff proposed'!C100=\"\",\"\",'Staff proposed'!C100)","v":""},{"$f":"IF('Staff proposed'!D100=\"\",\"\",'Staff proposed'!D100)","v":"Sun"},{"$f":"IF('Staff proposed'!D100=\"\",\"\",IF('Staff proposed'!E100=\"\",\"Rest Day\",CONCATENATE(TEXT('Staff proposed'!E100,\"hhmm\"),\"-\",(TEXT('Staff proposed'!F100,\"hhmm\")))))","v":"Rest Day"},98]
[{"$f":"IF('Staff proposed'!C101=\"\",\"\",'Staff proposed'!C101)","v":"Week15"},{"$f":"IF('Staff proposed'!D101=\"\",\"\",'Staff proposed'!D101)","v":"Mon"},{"$f":"IF('Staff proposed'!D101=\"\",\"\",IF('Staff proposed'!E101=\"\",\"Rest Day\",CONCATENATE(TEXT('Staff proposed'!E101,\"hhmm\"),\"-\",(TEXT('Staff proposed'!F101,\"hhmm\")))))","v":"Rest Day"},99,null,"Week 15"]
[{"$f":"IF('Staff proposed'!C102=\"\",\"\",'Staff proposed'!C102)","v":""},{"$f":"IF('Staff proposed'!D102=\"\",\"\",'Staff proposed'!D102)","v":"Tue"},{"$f":"IF('Staff proposed'!D102=\"\",\"\",IF('Staff proposed'!E102=\"\",\"Rest Day\",CONCATENATE(TEXT('Staff proposed'!E102,\"hhmm\"),\"-\",(TEXT('Staff proposed'!F102,\"hhmm\")))))","v":"Rest Day"},100]
[{"$f":"IF('Staff proposed'!C103=\"\",\"\",'Staff proposed'!C103)","v":""},{"$f":"IF('Staff proposed'!D103=\"\",\"\",'Staff proposed'!D103)","v":"Wed"},{"$f":"IF('Staff proposed'!D103=\"\",\"\",IF('Staff proposed'!E103=\"\",\"Rest Day\",CONCATENATE(TEXT('Staff proposed'!E103,\"hhmm\"),\"-\",(TEXT('Staff proposed'!F103,\"hhmm\")))))","v":"Rest Day"},101]
[{"$f":"IF('Staff proposed'!C104=\"\",\"\",'Staff proposed'!C104)","v":""},{"$f":"IF('Staff proposed'!D104=\"\",\"\",'Staff proposed'!D104)","v":"Thu"},{"$f":"IF('Staff proposed'!D104=\"\",\"\",IF('Staff proposed'!E104=\"\",\"Rest Day\",CONCATENATE(TEXT('Staff proposed'!E104,\"hhmm\"),\"-\",(TEXT('Staff proposed'!F104,\"hhmm\")))))","v":"Rest Day"},102]
[{"$f":"IF('Staff proposed'!C105=\"\",\"\",'Staff proposed'!C105)","v":""},{"$f":"IF('Staff proposed'!D105=\"\",\"\",'Staff proposed'!D105)","v":"Fri"},{"$f":"IF('Staff proposed'!D105=\"\",\"\",IF('Staff proposed'!E105=\"\",\"Rest Day\",CONCATENATE(TEXT('Staff proposed'!E105,\"hhmm\"),\"-\",(TEXT('Staff proposed'!F105,\"hhmm\")))))","v":"Rest Day"},103]
[{"$f":"IF('Staff proposed'!C106=\"\",\"\",'Staff proposed'!C106)","v":""},{"$f":"IF('Staff proposed'!D106=\"\",\"\",'Staff proposed'!D106)","v":"Sat"},{"$f":"IF('Staff proposed'!D106=\"\",\"\",IF('Staff proposed'!E106=\"\",\"Rest Day\",CONCATENATE(TEXT('Staff proposed'!E106,\"hhmm\"),\"-\",(TEXT('Staff proposed'!F106,\"hhmm\")))))","v":"Rest Day"},104]
[{"$f":"IF('Staff proposed'!C107=\"\",\"\",'Staff proposed'!C107)","v":""},{"$f":"IF('Staff proposed'!D107=\"\",\"\",'Staff proposed'!D107)","v":"Sun"},{"$f":"IF('Staff proposed'!D107=\"\",\"\",IF('Staff proposed'!E107=\"\",\"Rest Day\",CONCATENATE(TEXT('Staff proposed'!E107,\"hhmm\"),\"-\",(TEXT('Staff proposed'!F107,\"hhmm\")))))","v":"Rest Day"},105]
[{"$f":"IF('Staff proposed'!C108=\"\",\"\",'Staff proposed'!C108)","v":"Week16"},{"$f":"IF('Staff proposed'!D108=\"\",\"\",'Staff proposed'!D108)","v":"Mon"},{"$f":"IF('Staff proposed'!D108=\"\",\"\",IF('Staff proposed'!E108=\"\",\"Rest Day\",CONCATENATE(TEXT('Staff proposed'!E108,\"hhmm\"),\"-\",(TEXT('Staff proposed'!F108,\"hhmm\")))))","v":"Rest Day"},106,null,"Week 16"]
[{"$f":"IF('Staff proposed'!C109=\"\",\"\",'Staff proposed'!C109)","v":""},{"$f":"IF('Staff proposed'!D109=\"\",\"\",'Staff proposed'!D109)","v":"Tue"},{"$f":"IF('Staff proposed'!D109=\"\",\"\",IF('Staff proposed'!E109=\"\",\"Rest Day\",CONCATENATE(TEXT('Staff proposed'!E109,\"hhmm\"),\"-\",(TEXT('Staff proposed'!F109,\"hhmm\")))))","v":"Rest Day"},107]
[{"$f":"IF('Staff proposed'!C110=\"\",\"\",'Staff proposed'!C110)","v":""},{"$f":"IF('Staff proposed'!D110=\"\",\"\",'Staff proposed'!D110)","v":"Wed"},{"$f":"IF('Staff proposed'!D110=\"\",\"\",IF('Staff proposed'!E110=\"\",\"Rest Day\",CONCATENATE(TEXT('Staff proposed'!E110,\"hhmm\"),\"-\",(TEXT('Staff proposed'!F110,\"hhmm\")))))","v":"Rest Day"},108]
[{"$f":"IF('Staff proposed'!C111=\"\",\"\",'Staff proposed'!C111)","v":""},{"$f":"IF('Staff proposed'!D111=\"\",\"\",'Staff proposed'!D111)","v":"Thu"},{"$f":"IF('Staff proposed'!D111=\"\",\"\",IF('Staff proposed'!E111=\"\",\"Rest Day\",CONCATENATE(TEXT('Staff proposed'!E111,\"hhmm\"),\"-\",(TEXT('Staff proposed'!F111,\"hhmm\")))))","v":"Rest Day"},109]
[{"$f":"IF('Staff proposed'!C112=\"\",\"\",'Staff proposed'!C112)","v":""},{"$f":"IF('Staff proposed'!D112=\"\",\"\",'Staff proposed'!D112)","v":"Fri"},{"$f":"IF('Staff proposed'!D112=\"\",\"\",IF('Staff proposed'!E112=\"\",\"Rest Day\",CONCATENATE(TEXT('Staff proposed'!E112,\"hhmm\"),\"-\",(TEXT('Staff proposed'!F112,\"hhmm\")))))","v":"Rest Day"},110]
[{"$f":"IF('Staff proposed'!C113=\"\",\"\",'Staff proposed'!C113)","v":""},{"$f":"IF('Staff proposed'!D113=\"\",\"\",'Staff proposed'!D113)","v":"Sat"},{"$f":"IF('Staff proposed'!D113=\"\",\"\",IF('Staff proposed'!E113=\"\",\"Rest Day\",CONCATENATE(TEXT('Staff proposed'!E113,\"hhmm\"),\"-\",(TEXT('Staff proposed'!F113,\"hhmm\")))))","v":"Rest Day"},111]
[{"$f":"IF('Staff proposed'!C114=\"\",\"\",'Staff proposed'!C114)","v":""},{"$f":"IF('Staff proposed'!D114=\"\",\"\",'Staff proposed'!D114)","v":"Sun"},{"$f":"IF('Staff proposed'!D114=\"\",\"\",IF('Staff proposed'!E114=\"\",\"Rest Day\",CONCATENATE(TEXT('Staff proposed'!E114,\"hhmm\"),\"-\",(TEXT('Staff proposed'!F114,\"hhmm\")))))","v":"Rest Day"},112]
[{"$f":"IF('Staff proposed'!C115=\"\",\"\",'Staff proposed'!C115)","v":"Week17"},{"$f":"IF('Staff proposed'!D115=\"\",\"\",'Staff proposed'!D115)","v":"Mon"},{"$f":"IF('Staff proposed'!D115=\"\",\"\",IF('Staff proposed'!E115=\"\",\"Rest Day\",CONCATENATE(TEXT('Staff proposed'!E115,\"hhmm\"),\"-\",(TEXT('Staff proposed'!F115,\"hhmm\")))))","v":"Rest Day"},113,null,"Week 17"]
[{"$f":"IF('Staff proposed'!C116=\"\",\"\",'Staff proposed'!C116)","v":""},{"$f":"IF('Staff proposed'!D116=\"\",\"\",'Staff proposed'!D116)","v":"Tue"},{"$f":"IF('Staff proposed'!D116=\"\",\"\",IF('Staff proposed'!E116=\"\",\"Rest Day\",CONCATENATE(TEXT('Staff proposed'!E116,\"hhmm\"),\"-\",(TEXT('Staff proposed'!F116,\"hhmm\")))))","v":"Rest Day"},114]
[{"$f":"IF('Staff proposed'!C117=\"\",\"\",'Staff proposed'!C117)","v":""},{"$f":"IF('Staff proposed'!D117=\"\",\"\",'Staff proposed'!D117)","v":"Wed"},{"$f":"IF('Staff proposed'!D117=\"\",\"\",IF('Staff proposed'!E117=\"\",\"Rest Day\",CONCATENATE(TEXT('Staff proposed'!E117,\"hhmm\"),\"-\",(TEXT('Staff proposed'!F117,\"hhmm\")))))","v":"Rest Day"},115]
[{"$f":"IF('Staff proposed'!C118=\"\",\"\",'Staff proposed'!C118)","v":""},{"$f":"IF('Staff proposed'!D118=\"\",\"\",'Staff proposed'!D118)","v":"Thu"},{"$f":"IF('Staff proposed'!D118=\"\",\"\",IF('Staff proposed'!E118=\"\",\"Rest Day\",CONCATENATE(TEXT('Staff proposed'!E118,\"hhmm\"),\"-\",(TEXT('Staff proposed'!F118,\"hhmm\")))))","v":"Rest Day"},116]
[{"$f":"IF('Staff proposed'!C119=\"\",\"\",'Staff proposed'!C119)","v":""},{"$f":"IF('Staff proposed'!D119=\"\",\"\",'Staff proposed'!D119)","v":"Fri"},{"$f":"IF('Staff proposed'!D119=\"\",\"\",IF('Staff proposed'!E119=\"\",\"Rest Day\",CONCATENATE(TEXT('Staff proposed'!E119,\"hhmm\"),\"-\",(TEXT('Staff proposed'!F119,\"hhmm\")))))","v":"Rest Day"},117]
[{"$f":"IF('Staff proposed'!C120=\"\",\"\",'Staff proposed'!C120)","v":""},{"$f":"IF('Staff proposed'!D120=\"\",\"\",'Staff proposed'!D120)","v":"Sat"},{"$f":"IF('Staff proposed'!D120=\"\",\"\",IF('Staff proposed'!E120=\"\",\"Rest Day\",CONCATENATE(TEXT('Staff proposed'!E120,\"hhmm\"),\"-\",(TEXT('Staff proposed'!F120,\"hhmm\")))))","v":"Rest Day"},118]
[{"$f":"IF('Staff proposed'!C121=\"\",\"\",'Staff proposed'!C121)","v":""},{"$f":"IF('Staff proposed'!D121=\"\",\"\",'Staff proposed'!D121)","v":"Sun"},{"$f":"IF('Staff proposed'!D121=\"\",\"\",IF('Staff proposed'!E121=\"\",\"Rest Day\",CONCATENATE(TEXT('Staff proposed'!E121,\"hhmm\"),\"-\",(TEXT('Staff proposed'!F121,\"hhmm\")))))","v":"Rest Day"},119]
[{"$f":"IF('Staff proposed'!C122=\"\",\"\",'Staff proposed'!C122)","v":"Week18"},{"$f":"IF('Staff proposed'!D122=\"\",\"\",'Staff proposed'!D122)","v":"Mon"},{"$f":"IF('Staff proposed'!D122=\"\",\"\",IF('Staff proposed'!E122=\"\",\"Rest Day\",CONCATENATE(TEXT('Staff proposed'!E122,\"hhmm\"),\"-\",(TEXT('Staff proposed'!F122,\"hhmm\")))))","v":"Rest Day"},120,null,"Week 18"]
[{"$f":"IF('Staff proposed'!C123=\"\",\"\",'Staff proposed'!C123)","v":""},{"$f":"IF('Staff proposed'!D123=\"\",\"\",'Staff proposed'!D123)","v":"Tue"},{"$f":"IF('Staff proposed'!D123=\"\",\"\",IF('Staff proposed'!E123=\"\",\"Rest Day\",CONCATENATE(TEXT('Staff proposed'!E123,\"hhmm\"),\"-\",(TEXT('Staff proposed'!F123,\"hhmm\")))))","v":"Rest Day"},121]
[{"$f":"IF('Staff proposed'!C124=\"\",\"\",'Staff proposed'!C124)","v":""},{"$f":"IF('Staff proposed'!D124=\"\",\"\",'Staff proposed'!D124)","v":"Wed"},{"$f":"IF('Staff proposed'!D124=\"\",\"\",IF('Staff proposed'!E124=\"\",\"Rest Day\",CONCATENATE(TEXT('Staff proposed'!E124,\"hhmm\"),\"-\",(TEXT('Staff proposed'!F124,\"hhmm\")))))","v":"Rest Day"},122]
[{"$f":"IF('Staff proposed'!C125=\"\",\"\",'Staff proposed'!C125)","v":""},{"$f":"IF('Staff proposed'!D125=\"\",\"\",'Staff proposed'!D125)","v":"Thu"},{"$f":"IF('Staff proposed'!D125=\"\",\"\",IF('Staff proposed'!E125=\"\",\"Rest Day\",CONCATENATE(TEXT('Staff proposed'!E125,\"hhmm\"),\"-\",(TEXT('Staff proposed'!F125,\"hhmm\")))))","v":"Rest Day"},123]
[{"$f":"IF('Staff proposed'!C126=\"\",\"\",'Staff proposed'!C126)","v":""},{"$f":"IF('Staff proposed'!D126=\"\",\"\",'Staff proposed'!D126)","v":"Fri"},{"$f":"IF('Staff proposed'!D126=\"\",\"\",IF('Staff proposed'!E126=\"\",\"Rest Day\",CONCATENATE(TEXT('Staff proposed'!E126,\"hhmm\"),\"-\",(TEXT('Staff proposed'!F126,\"hhmm\")))))","v":"Rest Day"},124]
[{"$f":"IF('Staff proposed'!C127=\"\",\"\",'Staff proposed'!C127)","v":""},{"$f":"IF('Staff proposed'!D127=\"\",\"\",'Staff proposed'!D127)","v":"Sat"},{"$f":"IF('Staff proposed'!D127=\"\",\"\",IF('Staff proposed'!E127=\"\",\"Rest Day\",CONCATENATE(TEXT('Staff proposed'!E127,\"hhmm\"),\"-\",(TEXT('Staff proposed'!F127,\"hhmm\")))))","v":"Rest Day"},125]
[{"$f":"IF('Staff proposed'!C128=\"\",\"\",'Staff proposed'!C128)","v":""},{"$f":"IF('Staff proposed'!D128=\"\",\"\",'Staff proposed'!D128)","v":"Sun"},{"$f":"IF('Staff proposed'!D128=\"\",\"\",IF('Staff proposed'!E128=\"\",\"Rest Day\",CONCATENATE(TEXT('Staff proposed'!E128,\"hhmm\"),\"-\",(TEXT('Staff proposed'!F128,\"hhmm\")))))","v":"Rest Day"},126]
[{"$f":"IF('Staff proposed'!C129=\"\",\"\",'Staff proposed'!C129)","v":"Week19"},{"$f":"IF('Staff proposed'!D129=\"\",\"\",'Staff proposed'!D129)","v":"Mon"},{"$f":"IF('Staff proposed'!D129=\"\",\"\",IF('Staff proposed'!E129=\"\",\"Rest Day\",CONCATENATE(TEXT('Staff proposed'!E129,\"hhmm\"),\"-\",(TEXT('Staff proposed'!F129,\"hhmm\")))))","v":"Rest Day"},127,null,"Week 19"]
[{"$f":"IF('Staff proposed'!C130=\"\",\"\",'Staff proposed'!C130)","v":""},{"$f":"IF('Staff proposed'!D130=\"\",\"\",'Staff proposed'!D130)","v":"Tue"},{"$f":"IF('Staff proposed'!D130=\"\",\"\",IF('Staff proposed'!E130=\"\",\"Rest Day\",CONCATENATE(TEXT('Staff proposed'!E130,\"hhmm\"),\"-\",(TEXT('Staff proposed'!F130,\"hhmm\")))))","v":"Rest Day"},128]
[{"$f":"IF('Staff proposed'!C131=\"\",\"\",'Staff proposed'!C131)","v":""},{"$f":"IF('Staff proposed'!D131=\"\",\"\",'Staff proposed'!D131)","v":"Wed"},{"$f":"IF('Staff proposed'!D131=\"\",\"\",IF('Staff proposed'!E131=\"\",\"Rest Day\",CONCATENATE(TEXT('Staff proposed'!E131,\"hhmm\"),\"-\",(TEXT('Staff proposed'!F131,\"hhmm\")))))","v":"Rest Day"},129]
[{"$f":"IF('Staff proposed'!C132=\"\",\"\",'Staff proposed'!C132)","v":""},{"$f":"IF('Staff proposed'!D132=\"\",\"\",'Staff proposed'!D132)","v":"Thu"},{"$f":"IF('Staff proposed'!D132=\"\",\"\",IF('Staff proposed'!E132=\"\",\"Rest Day\",CONCATENATE(TEXT('Staff proposed'!E132,\"hhmm\"),\"-\",(TEXT('Staff proposed'!F132,\"hhmm\")))))","v":"Rest Day"},130]
[{"$f":"IF('Staff proposed'!C133=\"\",\"\",'Staff proposed'!C133)","v":""},{"$f":"IF('Staff proposed'!D133=\"\",\"\",'Staff proposed'!D133)","v":"Fri"},{"$f":"IF('Staff proposed'!D133=\"\",\"\",IF('Staff proposed'!E133=\"\",\"Rest Day\",CONCATENATE(TEXT('Staff proposed'!E133,\"hhmm\"),\"-\",(TEXT('Staff proposed'!F133,\"hhmm\")))))","v":"Rest Day"},131]
[{"$f":"IF('Staff proposed'!C134=\"\",\"\",'Staff proposed'!C134)","v":""},{"$f":"IF('Staff proposed'!D134=\"\",\"\",'Staff proposed'!D134)","v":"Sat"},{"$f":"IF('Staff proposed'!D134=\"\",\"\",IF('Staff proposed'!E134=\"\",\"Rest Day\",CONCATENATE(TEXT('Staff proposed'!E134,\"hhmm\"),\"-\",(TEXT('Staff proposed'!F134,\"hhmm\")))))","v":"Rest Day"},132]
[{"$f":"IF('Staff proposed'!C135=\"\",\"\",'Staff proposed'!C135)","v":""},{"$f":"IF('Staff proposed'!D135=\"\",\"\",'Staff proposed'!D135)","v":"Sun"},{"$f":"IF('Staff proposed'!D135=\"\",\"\",IF('Staff proposed'!E135=\"\",\"Rest Day\",CONCATENATE(TEXT('Staff proposed'!E135,\"hhmm\"),\"-\",(TEXT('Staff proposed'!F135,\"hhmm\")))))","v":"Rest Day"},133]
[{"$f":"IF('Staff proposed'!C136=\"\",\"\",'Staff proposed'!C136)","v":"Week20"},{"$f":"IF('Staff proposed'!D136=\"\",\"\",'Staff proposed'!D136)","v":"Mon"},{"$f":"IF('Staff proposed'!D136=\"\",\"\",IF('Staff proposed'!E136=\"\",\"Rest Day\",CONCATENATE(TEXT('Staff proposed'!E136,\"hhmm\"),\"-\",(TEXT('Staff proposed'!F136,\"hhmm\")))))","v":"Rest Day"},134,null,"Week 20"]
[{"$f":"IF('Staff proposed'!C137=\"\",\"\",'Staff proposed'!C137)","v":""},{"$f":"IF('Staff proposed'!D137=\"\",\"\",'Staff proposed'!D137)","v":"Tue"},{"$f":"IF('Staff proposed'!D137=\"\",\"\",IF('Staff proposed'!E137=\"\",\"Rest Day\",CONCATENATE(TEXT('Staff proposed'!E137,\"hhmm\"),\"-\",(TEXT('Staff proposed'!F137,\"hhmm\")))))","v":"Rest Day"},135]
[{"$f":"IF('Staff proposed'!C138=\"\",\"\",'Staff proposed'!C138)","v":""},{"$f":"IF('Staff proposed'!D138=\"\",\"\",'Staff proposed'!D138)","v":"Wed"},{"$f":"IF('Staff proposed'!D138=\"\",\"\",IF('Staff proposed'!E138=\"\",\"Rest Day\",CONCATENATE(TEXT('Staff proposed'!E138,\"hhmm\"),\"-\",(TEXT('Staff proposed'!F138,\"hhmm\")))))","v":"Rest Day"},136]
[{"$f":"IF('Staff proposed'!C139=\"\",\"\",'Staff proposed'!C139)","v":""},{"$f":"IF('Staff proposed'!D139=\"\",\"\",'Staff proposed'!D139)","v":"Thu"},{"$f":"IF('Staff proposed'!D139=\"\",\"\",IF('Staff proposed'!E139=\"\",\"Rest Day\",CONCATENATE(TEXT('Staff proposed'!E139,\"hhmm\"),\"-\",(TEXT('Staff proposed'!F139,\"hhmm\")))))","v":"Rest Day"},137]
[{"$f":"IF('Staff proposed'!C140=\"\",\"\",'Staff proposed'!C140)","v":""},{"$f":"IF('Staff proposed'!D140=\"\",\"\",'Staff proposed'!D140)","v":"Fri"},{"$f":"IF('Staff proposed'!D140=\"\",\"\",IF('Staff proposed'!E140=\"\",\"Rest Day\",CONCATENATE(TEXT('Staff proposed'!E140,\"hhmm\"),\"-\",(TEXT('Staff proposed'!F140,\"hhmm\")))))","v":"Rest Day"},138]
[{"$f":"IF('Staff proposed'!C141=\"\",\"\",'Staff proposed'!C141)","v":""},{"$f":"IF('Staff proposed'!D141=\"\",\"\",'Staff proposed'!D141)","v":"Sat"},{"$f":"IF('Staff proposed'!D141=\"\",\"\",IF('Staff proposed'!E141=\"\",\"Rest Day\",CONCATENATE(TEXT('Staff proposed'!E141,\"hhmm\"),\"-\",(TEXT('Staff proposed'!F141,\"hhmm\")))))","v":"Rest Day"},139]
[{"$f":"IF('Staff proposed'!C142=\"\",\"\",'Staff proposed'!C142)","v":""},{"$f":"IF('Staff proposed'!D142=\"\",\"\",'Staff proposed'!D142)","v":"Sun"},{"$f":"IF('Staff proposed'!D142=\"\",\"\",IF('Staff proposed'!E142=\"\",\"Rest Day\",CONCATENATE(TEXT('Staff proposed'!E142,\"hhmm\"),\"-\",(TEXT('Staff proposed'!F142,\"hhmm\")))))","v":"Rest Day"},140]
[{"$f":"IF('Staff proposed'!C143=\"\",\"\",'Staff proposed'!C143)","v":"Week21"},{"$f":"IF('Staff proposed'!D143=\"\",\"\",'Staff proposed'!D143)","v":"Mon"},{"$f":"IF('Staff proposed'!D143=\"\",\"\",IF('Staff proposed'!E143=\"\",\"Rest Day\",CONCATENATE(TEXT('Staff proposed'!E143,\"hhmm\"),\"-\",(TEXT('Staff proposed'!F143,\"hhmm\")))))","v":"Rest Day"},141,null,"Week 21"]
[{"$f":"IF('Staff proposed'!C144=\"\",\"\",'Staff proposed'!C144)","v":""},{"$f":"IF('Staff proposed'!D144=\"\",\"\",'Staff proposed'!D144)","v":"Tue"},{"$f":"IF('Staff proposed'!D144=\"\",\"\",IF('Staff proposed'!E144=\"\",\"Rest Day\",CONCATENATE(TEXT('Staff proposed'!E144,\"hhmm\"),\"-\",(TEXT('Staff proposed'!F144,\"hhmm\")))))","v":"Rest Day"},142]
[{"$f":"IF('Staff proposed'!C145=\"\",\"\",'Staff proposed'!C145)","v":""},{"$f":"IF('Staff proposed'!D145=\"\",\"\",'Staff proposed'!D145)","v":"Wed"},{"$f":"IF('Staff proposed'!D145=\"\",\"\",IF('Staff proposed'!E145=\"\",\"Rest Day\",CONCATENATE(TEXT('Staff proposed'!E145,\"hhmm\"),\"-\",(TEXT('Staff proposed'!F145,\"hhmm\")))))","v":"Rest Day"},143]
[{"$f":"IF('Staff proposed'!C146=\"\",\"\",'Staff proposed'!C146)","v":""},{"$f":"IF('Staff proposed'!D146=\"\",\"\",'Staff proposed'!D146)","v":"Thu"},{"$f":"IF('Staff proposed'!D146=\"\",\"\",IF('Staff proposed'!E146=\"\",\"Rest Day\",CONCATENATE(TEXT('Staff proposed'!E146,\"hhmm\"),\"-\",(TEXT('Staff proposed'!F146,\"hhmm\")))))","v":"Rest Day"},144]
[{"$f":"IF('Staff proposed'!C147=\"\",\"\",'Staff proposed'!C147)","v":""},{"$f":"IF('Staff proposed'!D147=\"\",\"\",'Staff proposed'!D147)","v":"Fri"},{"$f":"IF('Staff proposed'!D147=\"\",\"\",IF('Staff proposed'!E147=\"\",\"Rest Day\",CONCATENATE(TEXT('Staff proposed'!E147,\"hhmm\"),\"-\",(TEXT('Staff proposed'!F147,\"hhmm\")))))","v":"Rest Day"},145]
[{"$f":"IF('Staff proposed'!C148=\"\",\"\",'Staff proposed'!C148)","v":""},{"$f":"IF('Staff proposed'!D148=\"\",\"\",'Staff proposed'!D148)","v":"Sat"},{"$f":"IF('Staff proposed'!D148=\"\",\"\",IF('Staff proposed'!E148=\"\",\"Rest Day\",CONCATENATE(TEXT('Staff proposed'!E148,\"hhmm\"),\"-\",(TEXT('Staff proposed'!F148,\"hhmm\")))))","v":"Rest Day"},146]
[{"$f":"IF('Staff proposed'!C149=\"\",\"\",'Staff proposed'!C149)","v":""},{"$f":"IF('Staff proposed'!D149=\"\",\"\",'Staff proposed'!D149)","v":"Sun"},{"$f":"IF('Staff proposed'!D149=\"\",\"\",IF('Staff proposed'!E149=\"\",\"Rest Day\",CONCATENATE(TEXT('Staff proposed'!E149,\"hhmm\"),\"-\",(TEXT('Staff proposed'!F149,\"hhmm\")))))","v":"Rest Day"},147]
[{"$f":"IF('Staff proposed'!C150=\"\",\"\",'Staff proposed'!C150)","v":"Week22"},{"$f":"IF('Staff proposed'!D150=\"\",\"\",'Staff proposed'!D150)","v":"Mon"},{"$f":"IF('Staff proposed'!D150=\"\",\"\",IF('Staff proposed'!E150=\"\",\"Rest Day\",CONCATENATE(TEXT('Staff proposed'!E150,\"hhmm\"),\"-\",(TEXT('Staff proposed'!F150,\"hhmm\")))))","v":"Rest Day"},148,null,"Week 22"]
[{"$f":"IF('Staff proposed'!C151=\"\",\"\",'Staff proposed'!C151)","v":""},{"$f":"IF('Staff proposed'!D151=\"\",\"\",'Staff proposed'!D151)","v":"Tue"},{"$f":"IF('Staff proposed'!D151=\"\",\"\",IF('Staff proposed'!E151=\"\",\"Rest Day\",CONCATENATE(TEXT('Staff proposed'!E151,\"hhmm\"),\"-\",(TEXT('Staff proposed'!F151,\"hhmm\")))))","v":"Rest Day"},149]
[{"$f":"IF('Staff proposed'!C152=\"\",\"\",'Staff proposed'!C152)","v":""},{"$f":"IF('Staff proposed'!D152=\"\",\"\",'Staff proposed'!D152)","v":"Wed"},{"$f":"IF('Staff proposed'!D152=\"\",\"\",IF('Staff proposed'!E152=\"\",\"Rest Day\",CONCATENATE(TEXT('Staff proposed'!E152,\"hhmm\"),\"-\",(TEXT('Staff proposed'!F152,\"hhmm\")))))","v":"Rest Day"},150]
[{"$f":"IF('Staff proposed'!C153=\"\",\"\",'Staff proposed'!C153)","v":""},{"$f":"IF('Staff proposed'!D153=\"\",\"\",'Staff proposed'!D153)","v":"Thu"},{"$f":"IF('Staff proposed'!D153=\"\",\"\",IF('Staff proposed'!E153=\"\",\"Rest Day\",CONCATENATE(TEXT('Staff proposed'!E153,\"hhmm\"),\"-\",(TEXT('Staff proposed'!F153,\"hhmm\")))))","v":"Rest Day"},151]
[{"$f":"IF('Staff proposed'!C154=\"\",\"\",'Staff proposed'!C154)","v":""},{"$f":"IF('Staff proposed'!D154=\"\",\"\",'Staff proposed'!D154)","v":"Fri"},{"$f":"IF('Staff proposed'!D154=\"\",\"\",IF('Staff proposed'!E154=\"\",\"Rest Day\",CONCATENATE(TEXT('Staff proposed'!E154,\"hhmm\"),\"-\",(TEXT('Staff proposed'!F154,\"hhmm\")))))","v":"Rest Day"},152]
[{"$f":"IF('Staff proposed'!C155=\"\",\"\",'Staff proposed'!C155)","v":""},{"$f":"IF('Staff proposed'!D155=\"\",\"\",'Staff proposed'!D155)","v":"Sat"},{"$f":"IF('Staff proposed'!D155=\"\",\"\",IF('Staff proposed'!E155=\"\",\"Rest Day\",CONCATENATE(TEXT('Staff proposed'!E155,\"hhmm\"),\"-\",(TEXT('Staff proposed'!F155,\"hhmm\")))))","v":"Rest Day"},153]
[{"$f":"IF('Staff proposed'!C156=\"\",\"\",'Staff proposed'!C156)","v":""},{"$f":"IF('Staff proposed'!D156=\"\",\"\",'Staff proposed'!D156)","v":"Sun"},{"$f":"IF('Staff proposed'!D156=\"\",\"\",IF('Staff proposed'!E156=\"\",\"Rest Day\",CONCATENATE(TEXT('Staff proposed'!E156,\"hhmm\"),\"-\",(TEXT('Staff proposed'!F156,\"hhmm\")))))","v":"Rest Day"},154]
[{"$f":"IF('Staff proposed'!C157=\"\",\"\",'Staff proposed'!C157)","v":"Week23"},{"$f":"IF('Staff proposed'!D157=\"\",\"\",'Staff proposed'!D157)","v":"Mon"},{"$f":"IF('Staff proposed'!D157=\"\",\"\",IF('Staff proposed'!E157=\"\",\"Rest Day\",CONCATENATE(TEXT('Staff proposed'!E157,\"hhmm\"),\"-\",(TEXT('Staff proposed'!F157,\"hhmm\")))))","v":"Rest Day"},155,null,"Week 23"]
[{"$f":"IF('Staff proposed'!C158=\"\",\"\",'Staff proposed'!C158)","v":""},{"$f":"IF('Staff proposed'!D158=\"\",\"\",'Staff proposed'!D158)","v":"Tue"},{"$f":"IF('Staff proposed'!D158=\"\",\"\",IF('Staff proposed'!E158=\"\",\"Rest Day\",CONCATENATE(TEXT('Staff proposed'!E158,\"hhmm\"),\"-\",(TEXT('Staff proposed'!F158,\"hhmm\")))))","v":"Rest Day"},156]
[{"$f":"IF('Staff proposed'!C159=\"\",\"\",'Staff proposed'!C159)","v":""},{"$f":"IF('Staff proposed'!D159=\"\",\"\",'Staff proposed'!D159)","v":"Wed"},{"$f":"IF('Staff proposed'!D159=\"\",\"\",IF('Staff proposed'!E159=\"\",\"Rest Day\",CONCATENATE(TEXT('Staff proposed'!E159,\"hhmm\"),\"-\",(TEXT('Staff proposed'!F159,\"hhmm\")))))","v":"Rest Day"},157]
[{"$f":"IF('Staff proposed'!C160=\"\",\"\",'Staff proposed'!C160)","v":""},{"$f":"IF('Staff proposed'!D160=\"\",\"\",'Staff proposed'!D160)","v":"Thu"},{"$f":"IF('Staff proposed'!D160=\"\",\"\",IF('Staff proposed'!E160=\"\",\"Rest Day\",CONCATENATE(TEXT('Staff proposed'!E160,\"hhmm\"),\"-\",(TEXT('Staff proposed'!F160,\"hhmm\")))))","v":"Rest Day"},158]
[{"$f":"IF('Staff proposed'!C161=\"\",\"\",'Staff proposed'!C161)","v":""},{"$f":"IF('Staff proposed'!D161=\"\",\"\",'Staff proposed'!D161)","v":"Fri"},{"$f":"IF('Staff proposed'!D161=\"\",\"\",IF('Staff proposed'!E161=\"\",\"Rest Day\",CONCATENATE(TEXT('Staff proposed'!E161,\"hhmm\"),\"-\",(TEXT('Staff proposed'!F161,\"hhmm\")))))","v":"Rest Day"},159]
[{"$f":"IF('Staff proposed'!C162=\"\",\"\",'Staff proposed'!C162)","v":""},{"$f":"IF('Staff proposed'!D162=\"\",\"\",'Staff proposed'!D162)","v":"Sat"},{"$f":"IF('Staff proposed'!D162=\"\",\"\",IF('Staff proposed'!E162=\"\",\"Rest Day\",CONCATENATE(TEXT('Staff proposed'!E162,\"hhmm\"),\"-\",(TEXT('Staff proposed'!F162,\"hhmm\")))))","v":"Rest Day"},160]
[{"$f":"IF('Staff proposed'!C163=\"\",\"\",'Staff proposed'!C163)","v":""},{"$f":"IF('Staff proposed'!D163=\"\",\"\",'Staff proposed'!D163)","v":"Sun"},{"$f":"IF('Staff proposed'!D163=\"\",\"\",IF('Staff proposed'!E163=\"\",\"Rest Day\",CONCATENATE(TEXT('Staff proposed'!E163,\"hhmm\"),\"-\",(TEXT('Staff proposed'!F163,\"hhmm\")))))","v":"Rest Day"},161]
[{"$f":"IF('Staff proposed'!C164=\"\",\"\",'Staff proposed'!C164)","v":"Week24"},{"$f":"IF('Staff proposed'!D164=\"\",\"\",'Staff proposed'!D164)","v":"Mon"},{"$f":"IF('Staff proposed'!D164=\"\",\"\",IF('Staff proposed'!E164=\"\",\"Rest Day\",CONCATENATE(TEXT('Staff proposed'!E164,\"hhmm\"),\"-\",(TEXT('Staff proposed'!F164,\"hhmm\")))))","v":"Rest Day"},162,null,"Week 24"]
[{"$f":"IF('Staff proposed'!C165=\"\",\"\",'Staff proposed'!C165)","v":""},{"$f":"IF('Staff proposed'!D165=\"\",\"\",'Staff proposed'!D165)","v":"Tue"},{"$f":"IF('Staff proposed'!D165=\"\",\"\",IF('Staff proposed'!E165=\"\",\"Rest Day\",CONCATENATE(TEXT('Staff proposed'!E165,\"hhmm\"),\"-\",(TEXT('Staff proposed'!F165,\"hhmm\")))))","v":"Rest Day"},163]
[{"$f":"IF('Staff proposed'!C166=\"\",\"\",'Staff proposed'!C166)","v":""},{"$f":"IF('Staff proposed'!D166=\"\",\"\",'Staff proposed'!D166)","v":"Wed"},{"$f":"IF('Staff proposed'!D166=\"\",\"\",IF('Staff proposed'!E166=\"\",\"Rest Day\",CONCATENATE(TEXT('Staff proposed'!E166,\"hhmm\"),\"-\",(TEXT('Staff proposed'!F166,\"hhmm\")))))","v":"Rest Day"},164]
[{"$f":"IF('Staff proposed'!C167=\"\",\"\",'Staff proposed'!C167)","v":""},{"$f":"IF('Staff proposed'!D167=\"\",\"\",'Staff proposed'!D167)","v":"Thu"},{"$f":"IF('Staff proposed'!D167=\"\",\"\",IF('Staff proposed'!E167=\"\",\"Rest Day\",CONCATENATE(TEXT('Staff proposed'!E167,\"hhmm\"),\"-\",(TEXT('Staff proposed'!F167,\"hhmm\")))))","v":"Rest Day"},165]
[{"$f":"IF('Staff proposed'!C168=\"\",\"\",'Staff proposed'!C168)","v":""},{"$f":"IF('Staff proposed'!D168=\"\",\"\",'Staff proposed'!D168)","v":"Fri"},{"$f":"IF('Staff proposed'!D168=\"\",\"\",IF('Staff proposed'!E168=\"\",\"Rest Day\",CONCATENATE(TEXT('Staff proposed'!E168,\"hhmm\"),\"-\",(TEXT('Staff proposed'!F168,\"hhmm\")))))","v":"Rest Day"},166]
[{"$f":"IF('Staff proposed'!C169=\"\",\"\",'Staff proposed'!C169)","v":""},{"$f":"IF('Staff proposed'!D169=\"\",\"\",'Staff proposed'!D169)","v":"Sat"},{"$f":"IF('Staff proposed'!D169=\"\",\"\",IF('Staff proposed'!E169=\"\",\"Rest Day\",CONCATENATE(TEXT('Staff proposed'!E169,\"hhmm\"),\"-\",(TEXT('Staff proposed'!F169,\"hhmm\")))))","v":"Rest Day"},167]
[{"$f":"IF('Staff proposed'!C170=\"\",\"\",'Staff proposed'!C170)","v":""},{"$f":"IF('Staff proposed'!D170=\"\",\"\",'Staff proposed'!D170)","v":"Sun"},{"$f":"IF('Staff proposed'!D170=\"\",\"\",IF('Staff proposed'!E170=\"\",\"Rest Day\",CONCATENATE(TEXT('Staff proposed'!E170,\"hhmm\"),\"-\",(TEXT('Staff proposed'!F170,\"hhmm\")))))","v":"Rest Day"},168]
[{"$f":"IF('Staff proposed'!C171=\"\",\"\",'Staff proposed'!C171)","v":"Week25"},{"$f":"IF('Staff proposed'!D171=\"\",\"\",'Staff proposed'!D171)","v":"Mon"},{"$f":"IF('Staff proposed'!D171=\"\",\"\",IF('Staff proposed'!E171=\"\",\"Rest Day\",CONCATENATE(TEXT('Staff proposed'!E171,\"hhmm\"),\"-\",(TEXT('Staff proposed'!F171,\"hhmm\")))))","v":"Rest Day"},169,null,"Week 25"]
[{"$f":"IF('Staff proposed'!C172=\"\",\"\",'Staff proposed'!C172)","v":""},{"$f":"IF('Staff proposed'!D172=\"\",\"\",'Staff proposed'!D172)","v":"Tue"},{"$f":"IF('Staff proposed'!D172=\"\",\"\",IF('Staff proposed'!E172=\"\",\"Rest Day\",CONCATENATE(TEXT('Staff proposed'!E172,\"hhmm\"),\"-\",(TEXT('Staff proposed'!F172,\"hhmm\")))))","v":"Rest Day"},170]
[{"$f":"IF('Staff proposed'!C173=\"\",\"\",'Staff proposed'!C173)","v":""},{"$f":"IF('Staff proposed'!D173=\"\",\"\",'Staff proposed'!D173)","v":"Wed"},{"$f":"IF('Staff proposed'!D173=\"\",\"\",IF('Staff proposed'!E173=\"\",\"Rest Day\",CONCATENATE(TEXT('Staff proposed'!E173,\"hhmm\"),\"-\",(TEXT('Staff proposed'!F173,\"hhmm\")))))","v":"Rest Day"},171]
[{"$f":"IF('Staff proposed'!C174=\"\",\"\",'Staff proposed'!C174)","v":""},{"$f":"IF('Staff proposed'!D174=\"\",\"\",'Staff proposed'!D174)","v":"Thu"},{"$f":"IF('Staff proposed'!D174=\"\",\"\",IF('Staff proposed'!E174=\"\",\"Rest Day\",CONCATENATE(TEXT('Staff proposed'!E174,\"hhmm\"),\"-\",(TEXT('Staff proposed'!F174,\"hhmm\")))))","v":"Rest Day"},172]
[{"$f":"IF('Staff proposed'!C175=\"\",\"\",'Staff proposed'!C175)","v":""},{"$f":"IF('Staff proposed'!D175=\"\",\"\",'Staff proposed'!D175)","v":"Fri"},{"$f":"IF('Staff proposed'!D175=\"\",\"\",IF('Staff proposed'!E175=\"\",\"Rest Day\",CONCATENATE(TEXT('Staff proposed'!E175,\"hhmm\"),\"-\",(TEXT('Staff proposed'!F175,\"hhmm\")))))","v":"Rest Day"},173]
[{"$f":"IF('Staff proposed'!C176=\"\",\"\",'Staff proposed'!C176)","v":""},{"$f":"IF('Staff proposed'!D176=\"\",\"\",'Staff proposed'!D176)","v":"Sat"},{"$f":"IF('Staff proposed'!D176=\"\",\"\",IF('Staff proposed'!E176=\"\",\"Rest Day\",CONCATENATE(TEXT('Staff proposed'!E176,\"hhmm\"),\"-\",(TEXT('Staff proposed'!F176,\"hhmm\")))))","v":"Rest Day"},174]
[{"$f":"IF('Staff proposed'!C177=\"\",\"\",'Staff proposed'!C177)","v":""},{"$f":"IF('Staff proposed'!D177=\"\",\"\",'Staff proposed'!D177)","v":"Sun"},{"$f":"IF('Staff proposed'!D177=\"\",\"\",IF('Staff proposed'!E177=\"\",\"Rest Day\",CONCATENATE(TEXT('Staff proposed'!E177,\"hhmm\"),\"-\",(TEXT('Staff proposed'!F177,\"hhmm\")))))","v":"Rest Day"},175]
[{"$f":"IF('Staff proposed'!C178=\"\",\"\",'Staff proposed'!C178)","v":"Week26"},{"$f":"IF('Staff proposed'!D178=\"\",\"\",'Staff proposed'!D178)","v":"Mon"},{"$f":"IF('Staff proposed'!D178=\"\",\"\",IF('Staff proposed'!E178=\"\",\"Rest Day\",CONCATENATE(TEXT('Staff proposed'!E178,\"hhmm\"),\"-\",(TEXT('Staff proposed'!F178,\"hhmm\")))))","v":"Rest Day"},176,null,"Week 26"]
[{"$f":"IF('Staff proposed'!C179=\"\",\"\",'Staff proposed'!C179)","v":""},{"$f":"IF('Staff proposed'!D179=\"\",\"\",'Staff proposed'!D179)","v":"Tue"},{"$f":"IF('Staff proposed'!D179=\"\",\"\",IF('Staff proposed'!E179=\"\",\"Rest Day\",CONCATENATE(TEXT('Staff proposed'!E179,\"hhmm\"),\"-\",(TEXT('Staff proposed'!F179,\"hhmm\")))))","v":"Rest Day"},177]
[{"$f":"IF('Staff proposed'!C180=\"\",\"\",'Staff proposed'!C180)","v":""},{"$f":"IF('Staff proposed'!D180=\"\",\"\",'Staff proposed'!D180)","v":"Wed"},{"$f":"IF('Staff proposed'!D180=\"\",\"\",IF('Staff proposed'!E180=\"\",\"Rest Day\",CONCATENATE(TEXT('Staff proposed'!E180,\"hhmm\"),\"-\",(TEXT('Staff proposed'!F180,\"hhmm\")))))","v":"Rest Day"},178]
[{"$f":"IF('Staff proposed'!C181=\"\",\"\",'Staff proposed'!C181)","v":""},{"$f":"IF('Staff proposed'!D181=\"\",\"\",'Staff proposed'!D181)","v":"Thu"},{"$f":"IF('Staff proposed'!D181=\"\",\"\",IF('Staff proposed'!E181=\"\",\"Rest Day\",CONCATENATE(TEXT('Staff proposed'!E181,\"hhmm\"),\"-\",(TEXT('Staff proposed'!F181,\"hhmm\")))))","v":"Rest Day"},179]
[{"$f":"IF('Staff proposed'!C182=\"\",\"\",'Staff proposed'!C182)","v":""},{"$f":"IF('Staff proposed'!D182=\"\",\"\",'Staff proposed'!D182)","v":"Fri"},{"$f":"IF('Staff proposed'!D182=\"\",\"\",IF('Staff proposed'!E182=\"\",\"Rest Day\",CONCATENATE(TEXT('Staff proposed'!E182,\"hhmm\"),\"-\",(TEXT('Staff proposed'!F182,\"hhmm\")))))","v":"Rest Day"},180]
[{"$f":"IF('Staff proposed'!C183=\"\",\"\",'Staff proposed'!C183)","v":""},{"$f":"IF('Staff proposed'!D183=\"\",\"\",'Staff proposed'!D183)","v":"Sat"},{"$f":"IF('Staff proposed'!D183=\"\",\"\",IF('Staff proposed'!E183=\"\",\"Rest Day\",CONCATENATE(TEXT('Staff proposed'!E183,\"hhmm\"),\"-\",(TEXT('Staff proposed'!F183,\"hhmm\")))))","v":"Rest Day"},181]
[{"$f":"IF('Staff proposed'!C184=\"\",\"\",'Staff proposed'!C184)","v":""},{"$f":"IF('Staff proposed'!D184=\"\",\"\",'Staff proposed'!D184)","v":"Sun"},{"$f":"IF('Staff proposed'!D184=\"\",\"\",IF('Staff proposed'!E184=\"\",\"Rest Day\",CONCATENATE(TEXT('Staff proposed'!E184,\"hhmm\"),\"-\",(TEXT('Staff proposed'!F184,\"hhmm\")))))","v":"Rest Day"},182]
[{"$f":"IF('Staff proposed'!C185=\"\",\"\",'Staff proposed'!C185)","v":"Week27"},{"$f":"IF('Staff proposed'!D185=\"\",\"\",'Staff proposed'!D185)","v":"Mon"},{"$f":"IF('Staff proposed'!D185=\"\",\"\",IF('Staff proposed'!E185=\"\",\"Rest Day\",CONCATENATE(TEXT('Staff proposed'!E185,\"hhmm\"),\"-\",(TEXT('Staff proposed'!F185,\"hhmm\")))))","v":"Rest Day"},183,null,"Week 27"]
[{"$f":"IF('Staff proposed'!C186=\"\",\"\",'Staff proposed'!C186)","v":""},{"$f":"IF('Staff proposed'!D186=\"\",\"\",'Staff proposed'!D186)","v":"Tue"},{"$f":"IF('Staff proposed'!D186=\"\",\"\",IF('Staff proposed'!E186=\"\",\"Rest Day\",CONCATENATE(TEXT('Staff proposed'!E186,\"hhmm\"),\"-\",(TEXT('Staff proposed'!F186,\"hhmm\")))))","v":"Rest Day"},184]
[{"$f":"IF('Staff proposed'!C187=\"\",\"\",'Staff proposed'!C187)","v":""},{"$f":"IF('Staff proposed'!D187=\"\",\"\",'Staff proposed'!D187)","v":"Wed"},{"$f":"IF('Staff proposed'!D187=\"\",\"\",IF('Staff proposed'!E187=\"\",\"Rest Day\",CONCATENATE(TEXT('Staff proposed'!E187,\"hhmm\"),\"-\",(TEXT('Staff proposed'!F187,\"hhmm\")))))","v":"Rest Day"},185]
[{"$f":"IF('Staff proposed'!C188=\"\",\"\",'Staff proposed'!C188)","v":""},{"$f":"IF('Staff proposed'!D188=\"\",\"\",'Staff proposed'!D188)","v":"Thu"},{"$f":"IF('Staff proposed'!D188=\"\",\"\",IF('Staff proposed'!E188=\"\",\"Rest Day\",CONCATENATE(TEXT('Staff proposed'!E188,\"hhmm\"),\"-\",(TEXT('Staff proposed'!F188,\"hhmm\")))))","v":"Rest Day"},186]
[{"$f":"IF('Staff proposed'!C189=\"\",\"\",'Staff proposed'!C189)","v":""},{"$f":"IF('Staff proposed'!D189=\"\",\"\",'Staff proposed'!D189)","v":"Fri"},{"$f":"IF('Staff proposed'!D189=\"\",\"\",IF('Staff proposed'!E189=\"\",\"Rest Day\",CONCATENATE(TEXT('Staff proposed'!E189,\"hhmm\"),\"-\",(TEXT('Staff proposed'!F189,\"hhmm\")))))","v":"Rest Day"},187]
[{"$f":"IF('Staff proposed'!C190=\"\",\"\",'Staff proposed'!C190)","v":""},{"$f":"IF('Staff proposed'!D190=\"\",\"\",'Staff proposed'!D190)","v":"Sat"},{"$f":"IF('Staff proposed'!D190=\"\",\"\",IF('Staff proposed'!E190=\"\",\"Rest Day\",CONCATENATE(TEXT('Staff proposed'!E190,\"hhmm\"),\"-\",(TEXT('Staff proposed'!F190,\"hhmm\")))))","v":"Rest Day"},188]
[{"$f":"IF('Staff proposed'!C191=\"\",\"\",'Staff proposed'!C191)","v":""},{"$f":"IF('Staff proposed'!D191=\"\",\"\",'Staff proposed'!D191)","v":"Sun"},{"$f":"IF('Staff proposed'!D191=\"\",\"\",IF('Staff proposed'!E191=\"\",\"Rest Day\",CONCATENATE(TEXT('Staff proposed'!E191,\"hhmm\"),\"-\",(TEXT('Staff proposed'!F191,\"hhmm\")))))","v":"Rest Day"},189]
[{"$f":"IF('Staff proposed'!C192=\"\",\"\",'Staff proposed'!C192)","v":"Week28"},{"$f":"IF('Staff proposed'!D192=\"\",\"\",'Staff proposed'!D192)","v":"Mon"},{"$f":"IF('Staff proposed'!D192=\"\",\"\",IF('Staff proposed'!E192=\"\",\"Rest Day\",CONCATENATE(TEXT('Staff proposed'!E192,\"hhmm\"),\"-\",(TEXT('Staff proposed'!F192,\"hhmm\")))))","v":"Rest Day"},190,null,"Week 28"]
[{"$f":"IF('Staff proposed'!C193=\"\",\"\",'Staff proposed'!C193)","v":""},{"$f":"IF('Staff proposed'!D193=\"\",\"\",'Staff proposed'!D193)","v":"Tue"},{"$f":"IF('Staff proposed'!D193=\"\",\"\",IF('Staff proposed'!E193=\"\",\"Rest Day\",CONCATENATE(TEXT('Staff proposed'!E193,\"hhmm\"),\"-\",(TEXT('Staff proposed'!F193,\"hhmm\")))))","v":"Rest Day"},191]
[{"$f":"IF('Staff proposed'!C194=\"\",\"\",'Staff proposed'!C194)","v":""},{"$f":"IF('Staff proposed'!D194=\"\",\"\",'Staff proposed'!D194)","v":"Wed"},{"$f":"IF('Staff proposed'!D194=\"\",\"\",IF('Staff proposed'!E194=\"\",\"Rest Day\",CONCATENATE(TEXT('Staff proposed'!E194,\"hhmm\"),\"-\",(TEXT('Staff proposed'!F194,\"hhmm\")))))","v":"Rest Day"},192]
[{"$f":"IF('Staff proposed'!C195=\"\",\"\",'Staff proposed'!C195)","v":""},{"$f":"IF('Staff proposed'!D195=\"\",\"\",'Staff proposed'!D195)","v":"Thu"},{"$f":"IF('Staff proposed'!D195=\"\",\"\",IF('Staff proposed'!E195=\"\",\"Rest Day\",CONCATENATE(TEXT('Staff proposed'!E195,\"hhmm\"),\"-\",(TEXT('Staff proposed'!F195,\"hhmm\")))))","v":"Rest Day"},193]
[{"$f":"IF('Staff proposed'!C196=\"\",\"\",'Staff proposed'!C196)","v":""},{"$f":"IF('Staff proposed'!D196=\"\",\"\",'Staff proposed'!D196)","v":"Fri"},{"$f":"IF('Staff proposed'!D196=\"\",\"\",IF('Staff proposed'!E196=\"\",\"Rest Day\",CONCATENATE(TEXT('Staff proposed'!E196,\"hhmm\"),\"-\",(TEXT('Staff proposed'!F196,\"hhmm\")))))","v":"Rest Day"},194]
[{"$f":"IF('Staff proposed'!C197=\"\",\"\",'Staff proposed'!C197)","v":""},{"$f":"IF('Staff proposed'!D197=\"\",\"\",'Staff proposed'!D197)","v":"Sat"},{"$f":"IF('Staff proposed'!D197=\"\",\"\",IF('Staff proposed'!E197=\"\",\"Rest Day\",CONCATENATE(TEXT('Staff proposed'!E197,\"hhmm\"),\"-\",(TEXT('Staff proposed'!F197,\"hhmm\")))))","v":"Rest Day"},195]
[{"$f":"IF('Staff proposed'!C198=\"\",\"\",'Staff proposed'!C198)","v":""},{"$f":"IF('Staff proposed'!D198=\"\",\"\",'Staff proposed'!D198)","v":"Sun"},{"$f":"IF('Staff proposed'!D198=\"\",\"\",IF('Staff proposed'!E198=\"\",\"Rest Day\",CONCATENATE(TEXT('Staff proposed'!E198,\"hhmm\"),\"-\",(TEXT('Staff proposed'!F198,\"hhmm\")))))","v":"Rest Day"},196]
[{"$f":"IF('Staff proposed'!C199=\"\",\"\",'Staff proposed'!C199)","v":"Week29"},{"$f":"IF('Staff proposed'!D199=\"\",\"\",'Staff proposed'!D199)","v":"Mon"},{"$f":"IF('Staff proposed'!D199=\"\",\"\",IF('Staff proposed'!E199=\"\",\"Rest Day\",CONCATENATE(TEXT('Staff proposed'!E199,\"hhmm\"),\"-\",(TEXT('Staff proposed'!F199,\"hhmm\")))))","v":"Rest Day"},197,null,"Week 29"]
[{"$f":"IF('Staff proposed'!C200=\"\",\"\",'Staff proposed'!C200)","v":""},{"$f":"IF('Staff proposed'!D200=\"\",\"\",'Staff proposed'!D200)","v":"Tue"},{"$f":"IF('Staff proposed'!D200=\"\",\"\",IF('Staff proposed'!E200=\"\",\"Rest Day\",CONCATENATE(TEXT('Staff proposed'!E200,\"hhmm\"),\"-\",(TEXT('Staff proposed'!F200,\"hhmm\")))))","v":"Rest Day"},198]
[{"$f":"IF('Staff proposed'!C201=\"\",\"\",'Staff proposed'!C201)","v":""},{"$f":"IF('Staff proposed'!D201=\"\",\"\",'Staff proposed'!D201)","v":"Wed"},{"$f":"IF('Staff proposed'!D201=\"\",\"\",IF('Staff proposed'!E201=\"\",\"Rest Day\",CONCATENATE(TEXT('Staff proposed'!E201,\"hhmm\"),\"-\",(TEXT('Staff proposed'!F201,\"hhmm\")))))","v":"Rest Day"},199]
[{"$f":"IF('Staff proposed'!C202=\"\",\"\",'Staff proposed'!C202)","v":""},{"$f":"IF('Staff proposed'!D202=\"\",\"\",'Staff proposed'!D202)","v":"Thu"},{"$f":"IF('Staff proposed'!D202=\"\",\"\",IF('Staff proposed'!E202=\"\",\"Rest Day\",CONCATENATE(TEXT('Staff proposed'!E202,\"hhmm\"),\"-\",(TEXT('Staff proposed'!F202,\"hhmm\")))))","v":"Rest Day"},200]
[{"$f":"IF('Staff proposed'!C203=\"\",\"\",'Staff proposed'!C203)","v":""},{"$f":"IF('Staff proposed'!D203=\"\",\"\",'Staff proposed'!D203)","v":"Fri"},{"$f":"IF('Staff proposed'!D203=\"\",\"\",IF('Staff proposed'!E203=\"\",\"Rest Day\",CONCATENATE(TEXT('Staff proposed'!E203,\"hhmm\"),\"-\",(TEXT('Staff proposed'!F203,\"hhmm\")))))","v":"Rest Day"},201]
[{"$f":"IF('Staff proposed'!C204=\"\",\"\",'Staff proposed'!C204)","v":""},{"$f":"IF('Staff proposed'!D204=\"\",\"\",'Staff proposed'!D204)","v":"Sat"},{"$f":"IF('Staff proposed'!D204=\"\",\"\",IF('Staff proposed'!E204=\"\",\"Rest Day\",CONCATENATE(TEXT('Staff proposed'!E204,\"hhmm\"),\"-\",(TEXT('Staff proposed'!F204,\"hhmm\")))))","v":"Rest Day"},202]
[{"$f":"IF('Staff proposed'!C205=\"\",\"\",'Staff proposed'!C205)","v":""},{"$f":"IF('Staff proposed'!D205=\"\",\"\",'Staff proposed'!D205)","v":"Sun"},{"$f":"IF('Staff proposed'!D205=\"\",\"\",IF('Staff proposed'!E205=\"\",\"Rest Day\",CONCATENATE(TEXT('Staff proposed'!E205,\"hhmm\"),\"-\",(TEXT('Staff proposed'!F205,\"hhmm\")))))","v":"Rest Day"},203]
[{"$f":"IF('Staff proposed'!C206=\"\",\"\",'Staff proposed'!C206)","v":"Week30"},{"$f":"IF('Staff proposed'!D206=\"\",\"\",'Staff proposed'!D206)","v":"Mon"},{"$f":"IF('Staff proposed'!D206=\"\",\"\",IF('Staff proposed'!E206=\"\",\"Rest Day\",CONCATENATE(TEXT('Staff proposed'!E206,\"hhmm\"),\"-\",(TEXT('Staff proposed'!F206,\"hhmm\")))))","v":"Rest Day"},204,null,"Week 30"]
[{"$f":"IF('Staff proposed'!C207=\"\",\"\",'Staff proposed'!C207)","v":""},{"$f":"IF('Staff proposed'!D207=\"\",\"\",'Staff proposed'!D207)","v":"Tue"},{"$f":"IF('Staff proposed'!D207=\"\",\"\",IF('Staff proposed'!E207=\"\",\"Rest Day\",CONCATENATE(TEXT('Staff proposed'!E207,\"hhmm\"),\"-\",(TEXT('Staff proposed'!F207,\"hhmm\")))))","v":"Rest Day"},205]
[{"$f":"IF('Staff proposed'!C208=\"\",\"\",'Staff proposed'!C208)","v":""},{"$f":"IF('Staff proposed'!D208=\"\",\"\",'Staff proposed'!D208)","v":"Wed"},{"$f":"IF('Staff proposed'!D208=\"\",\"\",IF('Staff proposed'!E208=\"\",\"Rest Day\",CONCATENATE(TEXT('Staff proposed'!E208,\"hhmm\"),\"-\",(TEXT('Staff proposed'!F208,\"hhmm\")))))","v":"Rest Day"},206]
[{"$f":"IF('Staff proposed'!C209=\"\",\"\",'Staff proposed'!C209)","v":""},{"$f":"IF('Staff proposed'!D209=\"\",\"\",'Staff proposed'!D209)","v":"Thu"},{"$f":"IF('Staff proposed'!D209=\"\",\"\",IF('Staff proposed'!E209=\"\",\"Rest Day\",CONCATENATE(TEXT('Staff proposed'!E209,\"hhmm\"),\"-\",(TEXT('Staff proposed'!F209,\"hhmm\")))))","v":"Rest Day"},207]
[{"$f":"IF('Staff proposed'!C210=\"\",\"\",'Staff proposed'!C210)","v":""},{"$f":"IF('Staff proposed'!D210=\"\",\"\",'Staff proposed'!D210)","v":"Fri"},{"$f":"IF('Staff proposed'!D210=\"\",\"\",IF('Staff proposed'!E210=\"\",\"Rest Day\",CONCATENATE(TEXT('Staff proposed'!E210,\"hhmm\"),\"-\",(TEXT('Staff proposed'!F210,\"hhmm\")))))","v":"Rest Day"},208]
[{"$f":"IF('Staff proposed'!C211=\"\",\"\",'Staff proposed'!C211)","v":""},{"$f":"IF('Staff proposed'!D211=\"\",\"\",'Staff proposed'!D211)","v":"Sat"},{"$f":"IF('Staff proposed'!D211=\"\",\"\",IF('Staff proposed'!E211=\"\",\"Rest Day\",CONCATENATE(TEXT('Staff proposed'!E211,\"hhmm\"),\"-\",(TEXT('Staff proposed'!F211,\"hhmm\")))))","v":"Rest Day"},209]
[{"$f":"IF('Staff proposed'!C212=\"\",\"\",'Staff proposed'!C212)","v":""},{"$f":"IF('Staff proposed'!D212=\"\",\"\",'Staff proposed'!D212)","v":"Sun"},{"$f":"IF('Staff proposed'!D212=\"\",\"\",IF('Staff proposed'!E212=\"\",\"Rest Day\",CONCATENATE(TEXT('Staff proposed'!E212,\"hhmm\"),\"-\",(TEXT('Staff proposed'!F212,\"hhmm\")))))","v":"Rest Day"},210]
[{"$f":"IF('Staff proposed'!C213=\"\",\"\",'Staff proposed'!C213)","v":"Week31"},{"$f":"IF('Staff proposed'!D213=\"\",\"\",'Staff proposed'!D213)","v":"Mon"},{"$f":"IF('Staff proposed'!D213=\"\",\"\",IF('Staff proposed'!E213=\"\",\"Rest Day\",CONCATENATE(TEXT('Staff proposed'!E213,\"hhmm\"),\"-\",(TEXT('Staff proposed'!F213,\"hhmm\")))))","v":"Rest Day"},211,null,"Week 31"]
[{"$f":"IF('Staff proposed'!C214=\"\",\"\",'Staff proposed'!C214)","v":""},{"$f":"IF('Staff proposed'!D214=\"\",\"\",'Staff proposed'!D214)","v":"Tue"},{"$f":"IF('Staff proposed'!D214=\"\",\"\",IF('Staff proposed'!E214=\"\",\"Rest Day\",CONCATENATE(TEXT('Staff proposed'!E214,\"hhmm\"),\"-\",(TEXT('Staff proposed'!F214,\"hhmm\")))))","v":"Rest Day"},212]
[{"$f":"IF('Staff proposed'!C215=\"\",\"\",'Staff proposed'!C215)","v":""},{"$f":"IF('Staff proposed'!D215=\"\",\"\",'Staff proposed'!D215)","v":"Wed"},{"$f":"IF('Staff proposed'!D215=\"\",\"\",IF('Staff proposed'!E215=\"\",\"Rest Day\",CONCATENATE(TEXT('Staff proposed'!E215,\"hhmm\"),\"-\",(TEXT('Staff proposed'!F215,\"hhmm\")))))","v":"Rest Day"},213]
[{"$f":"IF('Staff proposed'!C216=\"\",\"\",'Staff proposed'!C216)","v":""},{"$f":"IF('Staff proposed'!D216=\"\",\"\",'Staff proposed'!D216)","v":"Thu"},{"$f":"IF('Staff proposed'!D216=\"\",\"\",IF('Staff proposed'!E216=\"\",\"Rest Day\",CONCATENATE(TEXT('Staff proposed'!E216,\"hhmm\"),\"-\",(TEXT('Staff proposed'!F216,\"hhmm\")))))","v":"Rest Day"},214]
[{"$f":"IF('Staff proposed'!C217=\"\",\"\",'Staff proposed'!C217)","v":""},{"$f":"IF('Staff proposed'!D217=\"\",\"\",'Staff proposed'!D217)","v":"Fri"},{"$f":"IF('Staff proposed'!D217=\"\",\"\",IF('Staff proposed'!E217=\"\",\"Rest Day\",CONCATENATE(TEXT('Staff proposed'!E217,\"hhmm\"),\"-\",(TEXT('Staff proposed'!F217,\"hhmm\")))))","v":"Rest Day"},215]
[{"$f":"IF('Staff proposed'!C218=\"\",\"\",'Staff proposed'!C218)","v":""},{"$f":"IF('Staff proposed'!D218=\"\",\"\",'Staff proposed'!D218)","v":"Sat"},{"$f":"IF('Staff proposed'!D218=\"\",\"\",IF('Staff proposed'!E218=\"\",\"Rest Day\",CONCATENATE(TEXT('Staff proposed'!E218,\"hhmm\"),\"-\",(TEXT('Staff proposed'!F218,\"hhmm\")))))","v":"Rest Day"},216]
[{"$f":"IF('Staff proposed'!C219=\"\",\"\",'Staff proposed'!C219)","v":""},{"$f":"IF('Staff proposed'!D219=\"\",\"\",'Staff proposed'!D219)","v":"Sun"},{"$f":"IF('Staff proposed'!D219=\"\",\"\",IF('Staff proposed'!E219=\"\",\"Rest Day\",CONCATENATE(TEXT('Staff proposed'!E219,\"hhmm\"),\"-\",(TEXT('Staff proposed'!F219,\"hhmm\")))))","v":"Rest Day"},217]
[{"$f":"IF('Staff proposed'!C220=\"\",\"\",'Staff proposed'!C220)","v":"Week32"},{"$f":"IF('Staff proposed'!D220=\"\",\"\",'Staff proposed'!D220)","v":"Mon"},{"$f":"IF('Staff proposed'!D220=\"\",\"\",IF('Staff proposed'!E220=\"\",\"Rest Day\",CONCATENATE(TEXT('Staff proposed'!E220,\"hhmm\"),\"-\",(TEXT('Staff proposed'!F220,\"hhmm\")))))","v":"Rest Day"},218,null,"Week 32"]
[{"$f":"IF('Staff proposed'!C221=\"\",\"\",'Staff proposed'!C221)","v":""},{"$f":"IF('Staff proposed'!D221=\"\",\"\",'Staff proposed'!D221)","v":"Tue"},{"$f":"IF('Staff proposed'!D221=\"\",\"\",IF('Staff proposed'!E221=\"\",\"Rest Day\",CONCATENATE(TEXT('Staff proposed'!E221,\"hhmm\"),\"-\",(TEXT('Staff proposed'!F221,\"hhmm\")))))","v":"Rest Day"},219]
[{"$f":"IF('Staff proposed'!C222=\"\",\"\",'Staff proposed'!C222)","v":""},{"$f":"IF('Staff proposed'!D222=\"\",\"\",'Staff proposed'!D222)","v":"Wed"},{"$f":"IF('Staff proposed'!D222=\"\",\"\",IF('Staff proposed'!E222=\"\",\"Rest Day\",CONCATENATE(TEXT('Staff proposed'!E222,\"hhmm\"),\"-\",(TEXT('Staff proposed'!F222,\"hhmm\")))))","v":"Rest Day"},220]
[{"$f":"IF('Staff proposed'!C223=\"\",\"\",'Staff proposed'!C223)","v":""},{"$f":"IF('Staff proposed'!D223=\"\",\"\",'Staff proposed'!D223)","v":"Thu"},{"$f":"IF('Staff proposed'!D223=\"\",\"\",IF('Staff proposed'!E223=\"\",\"Rest Day\",CONCATENATE(TEXT('Staff proposed'!E223,\"hhmm\"),\"-\",(TEXT('Staff proposed'!F223,\"hhmm\")))))","v":"Rest Day"},221]
[{"$f":"IF('Staff proposed'!C224=\"\",\"\",'Staff proposed'!C224)","v":""},{"$f":"IF('Staff proposed'!D224=\"\",\"\",'Staff proposed'!D224)","v":"Fri"},{"$f":"IF('Staff proposed'!D224=\"\",\"\",IF('Staff proposed'!E224=\"\",\"Rest Day\",CONCATENATE(TEXT('Staff proposed'!E224,\"hhmm\"),\"-\",(TEXT('Staff proposed'!F224,\"hhmm\")))))","v":"Rest Day"},222]
[{"$f":"IF('Staff proposed'!C225=\"\",\"\",'Staff proposed'!C225)","v":""},{"$f":"IF('Staff proposed'!D225=\"\",\"\",'Staff proposed'!D225)","v":"Sat"},{"$f":"IF('Staff proposed'!D225=\"\",\"\",IF('Staff proposed'!E225=\"\",\"Rest Day\",CONCATENATE(TEXT('Staff proposed'!E225,\"hhmm\"),\"-\",(TEXT('Staff proposed'!F225,\"hhmm\")))))","v":"Rest Day"},223]
[{"$f":"IF('Staff proposed'!C226=\"\",\"\",'Staff proposed'!C226)","v":""},{"$f":"IF('Staff proposed'!D226=\"\",\"\",'Staff proposed'!D226)","v":"Sun"},{"$f":"IF('Staff proposed'!D226=\"\",\"\",IF('Staff proposed'!E226=\"\",\"Rest Day\",CONCATENATE(TEXT('Staff proposed'!E226,\"hhmm\"),\"-\",(TEXT('Staff proposed'!F226,\"hhmm\")))))","v":"Rest Day"},224]
[{"$f":"IF('Staff proposed'!C227=\"\",\"\",'Staff proposed'!C227)","v":"Week33"},{"$f":"IF('Staff proposed'!D227=\"\",\"\",'Staff proposed'!D227)","v":"Mon"},{"$f":"IF('Staff proposed'!D227=\"\",\"\",IF('Staff proposed'!E227=\"\",\"Rest Day\",CONCATENATE(TEXT('Staff proposed'!E227,\"hhmm\"),\"-\",(TEXT('Staff proposed'!F227,\"hhmm\")))))","v":"Rest Day"},225,null,"Week 33"]
[{"$f":"IF('Staff proposed'!C228=\"\",\"\",'Staff proposed'!C228)","v":""},{"$f":"IF('Staff proposed'!D228=\"\",\"\",'Staff proposed'!D228)","v":"Tue"},{"$f":"IF('Staff proposed'!D228=\"\",\"\",IF('Staff proposed'!E228=\"\",\"Rest Day\",CONCATENATE(TEXT('Staff proposed'!E228,\"hhmm\"),\"-\",(TEXT('Staff proposed'!F228,\"hhmm\")))))","v":"Rest Day"},226]
[{"$f":"IF('Staff proposed'!C229=\"\",\"\",'Staff proposed'!C229)","v":""},{"$f":"IF('Staff proposed'!D229=\"\",\"\",'Staff proposed'!D229)","v":"Wed"},{"$f":"IF('Staff proposed'!D229=\"\",\"\",IF('Staff proposed'!E229=\"\",\"Rest Day\",CONCATENATE(TEXT('Staff proposed'!E229,\"hhmm\"),\"-\",(TEXT('Staff proposed'!F229,\"hhmm\")))))","v":"Rest Day"},227]
[{"$f":"IF('Staff proposed'!C230=\"\",\"\",'Staff proposed'!C230)","v":""},{"$f":"IF('Staff proposed'!D230=\"\",\"\",'Staff proposed'!D230)","v":"Thu"},{"$f":"IF('Staff proposed'!D230=\"\",\"\",IF('Staff proposed'!E230=\"\",\"Rest Day\",CONCATENATE(TEXT('Staff proposed'!E230,\"hhmm\"),\"-\",(TEXT('Staff proposed'!F230,\"hhmm\")))))","v":"Rest Day"},228]
[{"$f":"IF('Staff proposed'!C231=\"\",\"\",'Staff proposed'!C231)","v":""},{"$f":"IF('Staff proposed'!D231=\"\",\"\",'Staff proposed'!D231)","v":"Fri"},{"$f":"IF('Staff proposed'!D231=\"\",\"\",IF('Staff proposed'!E231=\"\",\"Rest Day\",CONCATENATE(TEXT('Staff proposed'!E231,\"hhmm\"),\"-\",(TEXT('Staff proposed'!F231,\"hhmm\")))))","v":"Rest Day"},229]
[{"$f":"IF('Staff proposed'!C232=\"\",\"\",'Staff proposed'!C232)","v":""},{"$f":"IF('Staff proposed'!D232=\"\",\"\",'Staff proposed'!D232)","v":"Sat"},{"$f":"IF('Staff proposed'!D232=\"\",\"\",IF('Staff proposed'!E232=\"\",\"Rest Day\",CONCATENATE(TEXT('Staff proposed'!E232,\"hhmm\"),\"-\",(TEXT('Staff proposed'!F232,\"hhmm\")))))","v":"Rest Day"},230]
[{"$f":"IF('Staff proposed'!C233=\"\",\"\",'Staff proposed'!C233)","v":""},{"$f":"IF('Staff proposed'!D233=\"\",\"\",'Staff proposed'!D233)","v":"Sun"},{"$f":"IF('Staff proposed'!D233=\"\",\"\",IF('Staff proposed'!E233=\"\",\"Rest Day\",CONCATENATE(TEXT('Staff proposed'!E233,\"hhmm\"),\"-\",(TEXT('Staff proposed'!F233,\"hhmm\")))))","v":"Rest Day"},231]
[{"$f":"IF('Staff proposed'!C234=\"\",\"\",'Staff proposed'!C234)","v":"Week34"},{"$f":"IF('Staff proposed'!D234=\"\",\"\",'Staff proposed'!D234)","v":"Mon"},{"$f":"IF('Staff proposed'!D234=\"\",\"\",IF('Staff proposed'!E234=\"\",\"Rest Day\",CONCATENATE(TEXT('Staff proposed'!E234,\"hhmm\"),\"-\",(TEXT('Staff proposed'!F234,\"hhmm\")))))","v":"Rest Day"},232,null,"Week 34"]
[{"$f":"IF('Staff proposed'!C235=\"\",\"\",'Staff proposed'!C235)","v":""},{"$f":"IF('Staff proposed'!D235=\"\",\"\",'Staff proposed'!D235)","v":"Tue"},{"$f":"IF('Staff proposed'!D235=\"\",\"\",IF('Staff proposed'!E235=\"\",\"Rest Day\",CONCATENATE(TEXT('Staff proposed'!E235,\"hhmm\"),\"-\",(TEXT('Staff proposed'!F235,\"hhmm\")))))","v":"Rest Day"},233]
[{"$f":"IF('Staff proposed'!C236=\"\",\"\",'Staff proposed'!C236)","v":""},{"$f":"IF('Staff proposed'!D236=\"\",\"\",'Staff proposed'!D236)","v":"Wed"},{"$f":"IF('Staff proposed'!D236=\"\",\"\",IF('Staff proposed'!E236=\"\",\"Rest Day\",CONCATENATE(TEXT('Staff proposed'!E236,\"hhmm\"),\"-\",(TEXT('Staff proposed'!F236,\"hhmm\")))))","v":"Rest Day"},234]
[{"$f":"IF('Staff proposed'!C237=\"\",\"\",'Staff proposed'!C237)","v":""},{"$f":"IF('Staff proposed'!D237=\"\",\"\",'Staff proposed'!D237)","v":"Thu"},{"$f":"IF('Staff proposed'!D237=\"\",\"\",IF('Staff proposed'!E237=\"\",\"Rest Day\",CONCATENATE(TEXT('Staff proposed'!E237,\"hhmm\"),\"-\",(TEXT('Staff proposed'!F237,\"hhmm\")))))","v":"Rest Day"},235]
[{"$f":"IF('Staff proposed'!C238=\"\",\"\",'Staff proposed'!C238)","v":""},{"$f":"IF('Staff proposed'!D238=\"\",\"\",'Staff proposed'!D238)","v":"Fri"},{"$f":"IF('Staff proposed'!D238=\"\",\"\",IF('Staff proposed'!E238=\"\",\"Rest Day\",CONCATENATE(TEXT('Staff proposed'!E238,\"hhmm\"),\"-\",(TEXT('Staff proposed'!F238,\"hhmm\")))))","v":"Rest Day"},236]
[{"$f":"IF('Staff proposed'!C239=\"\",\"\",'Staff proposed'!C239)","v":""},{"$f":"IF('Staff proposed'!D239=\"\",\"\",'Staff proposed'!D239)","v":"Sat"},{"$f":"IF('Staff proposed'!D239=\"\",\"\",IF('Staff proposed'!E239=\"\",\"Rest Day\",CONCATENATE(TEXT('Staff proposed'!E239,\"hhmm\"),\"-\",(TEXT('Staff proposed'!F239,\"hhmm\")))))","v":"Rest Day"},237]
[{"$f":"IF('Staff proposed'!C240=\"\",\"\",'Staff proposed'!C240)","v":""},{"$f":"IF('Staff proposed'!D240=\"\",\"\",'Staff proposed'!D240)","v":"Sun"},{"$f":"IF('Staff proposed'!D240=\"\",\"\",IF('Staff proposed'!E240=\"\",\"Rest Day\",CONCATENATE(TEXT('Staff proposed'!E240,\"hhmm\"),\"-\",(TEXT('Staff proposed'!F240,\"hhmm\")))))","v":"Rest Day"},238]
[{"$f":"IF('Staff proposed'!C241=\"\",\"\",'Staff proposed'!C241)","v":"Week35"},{"$f":"IF('Staff proposed'!D241=\"\",\"\",'Staff proposed'!D241)","v":"Mon"},{"$f":"IF('Staff proposed'!D241=\"\",\"\",IF('Staff proposed'!E241=\"\",\"Rest Day\",CONCATENATE(TEXT('Staff proposed'!E241,\"hhmm\"),\"-\",(TEXT('Staff proposed'!F241,\"hhmm\")))))","v":"Rest Day"},239,null,"Week 35"]
[{"$f":"IF('Staff proposed'!C242=\"\",\"\",'Staff proposed'!C242)","v":""},{"$f":"IF('Staff proposed'!D242=\"\",\"\",'Staff proposed'!D242)","v":"Tue"},{"$f":"IF('Staff proposed'!D242=\"\",\"\",IF('Staff proposed'!E242=\"\",\"Rest Day\",CONCATENATE(TEXT('Staff proposed'!E242,\"hhmm\"),\"-\",(TEXT('Staff proposed'!F242,\"hhmm\")))))","v":"Rest Day"},240]
[{"$f":"IF('Staff proposed'!C243=\"\",\"\",'Staff proposed'!C243)","v":""},{"$f":"IF('Staff proposed'!D243=\"\",\"\",'Staff proposed'!D243)","v":"Wed"},{"$f":"IF('Staff proposed'!D243=\"\",\"\",IF('Staff proposed'!E243=\"\",\"Rest Day\",CONCATENATE(TEXT('Staff proposed'!E243,\"hhmm\"),\"-\",(TEXT('Staff proposed'!F243,\"hhmm\")))))","v":"Rest Day"},241]
[{"$f":"IF('Staff proposed'!C244=\"\",\"\",'Staff proposed'!C244)","v":""},{"$f":"IF('Staff proposed'!D244=\"\",\"\",'Staff proposed'!D244)","v":"Thu"},{"$f":"IF('Staff proposed'!D244=\"\",\"\",IF('Staff proposed'!E244=\"\",\"Rest Day\",CONCATENATE(TEXT('Staff proposed'!E244,\"hhmm\"),\"-\",(TEXT('Staff proposed'!F244,\"hhmm\")))))","v":"Rest Day"},242]
[{"$f":"IF('Staff proposed'!C245=\"\",\"\",'Staff proposed'!C245)","v":""},{"$f":"IF('Staff proposed'!D245=\"\",\"\",'Staff proposed'!D245)","v":"Fri"},{"$f":"IF('Staff proposed'!D245=\"\",\"\",IF('Staff proposed'!E245=\"\",\"Rest Day\",CONCATENATE(TEXT('Staff proposed'!E245,\"hhmm\"),\"-\",(TEXT('Staff proposed'!F245,\"hhmm\")))))","v":"Rest Day"},243]
[{"$f":"IF('Staff proposed'!C246=\"\",\"\",'Staff proposed'!C246)","v":""},{"$f":"IF('Staff proposed'!D246=\"\",\"\",'Staff proposed'!D246)","v":"Sat"},{"$f":"IF('Staff proposed'!D246=\"\",\"\",IF('Staff proposed'!E246=\"\",\"Rest Day\",CONCATENATE(TEXT('Staff proposed'!E246,\"hhmm\"),\"-\",(TEXT('Staff proposed'!F246,\"hhmm\")))))","v":"Rest Day"},244]
[{"$f":"IF('Staff proposed'!C247=\"\",\"\",'Staff proposed'!C247)","v":""},{"$f":"IF('Staff proposed'!D247=\"\",\"\",'Staff proposed'!D247)","v":"Sun"},{"$f":"IF('Staff proposed'!D247=\"\",\"\",IF('Staff proposed'!E247=\"\",\"Rest Day\",CONCATENATE(TEXT('Staff proposed'!E247,\"hhmm\"),\"-\",(TEXT('Staff proposed'!F247,\"hhmm\")))))","v":"Rest Day"},245]
[{"$f":"IF('Staff proposed'!C248=\"\",\"\",'Staff proposed'!C248)","v":"Week36"},{"$f":"IF('Staff proposed'!D248=\"\",\"\",'Staff proposed'!D248)","v":"Mon"},{"$f":"IF('Staff proposed'!D248=\"\",\"\",IF('Staff proposed'!E248=\"\",\"Rest Day\",CONCATENATE(TEXT('Staff proposed'!E248,\"hhmm\"),\"-\",(TEXT('Staff proposed'!F248,\"hhmm\")))))","v":"Rest Day"},246,null,"Week 36"]
[{"$f":"IF('Staff proposed'!C249=\"\",\"\",'Staff proposed'!C249)","v":""},{"$f":"IF('Staff proposed'!D249=\"\",\"\",'Staff proposed'!D249)","v":"Tue"},{"$f":"IF('Staff proposed'!D249=\"\",\"\",IF('Staff proposed'!E249=\"\",\"Rest Day\",CONCATENATE(TEXT('Staff proposed'!E249,\"hhmm\"),\"-\",(TEXT('Staff proposed'!F249,\"hhmm\")))))","v":"Rest Day"},247]
[{"$f":"IF('Staff proposed'!C250=\"\",\"\",'Staff proposed'!C250)","v":""},{"$f":"IF('Staff proposed'!D250=\"\",\"\",'Staff proposed'!D250)","v":"Wed"},{"$f":"IF('Staff proposed'!D250=\"\",\"\",IF('Staff proposed'!E250=\"\",\"Rest Day\",CONCATENATE(TEXT('Staff proposed'!E250,\"hhmm\"),\"-\",(TEXT('Staff proposed'!F250,\"hhmm\")))))","v":"Rest Day"},248]
[{"$f":"IF('Staff proposed'!C251=\"\",\"\",'Staff proposed'!C251)","v":""},{"$f":"IF('Staff proposed'!D251=\"\",\"\",'Staff proposed'!D251)","v":"Thu"},{"$f":"IF('Staff proposed'!D251=\"\",\"\",IF('Staff proposed'!E251=\"\",\"Rest Day\",CONCATENATE(TEXT('Staff proposed'!E251,\"hhmm\"),\"-\",(TEXT('Staff proposed'!F251,\"hhmm\")))))","v":"Rest Day"},249]
[{"$f":"IF('Staff proposed'!C252=\"\",\"\",'Staff proposed'!C252)","v":""},{"$f":"IF('Staff proposed'!D252=\"\",\"\",'Staff proposed'!D252)","v":"Fri"},{"$f":"IF('Staff proposed'!D252=\"\",\"\",IF('Staff proposed'!E252=\"\",\"Rest Day\",CONCATENATE(TEXT('Staff proposed'!E252,\"hhmm\"),\"-\",(TEXT('Staff proposed'!F252,\"hhmm\")))))","v":"Rest Day"},250]
[{"$f":"IF('Staff proposed'!C253=\"\",\"\",'Staff proposed'!C253)","v":""},{"$f":"IF('Staff proposed'!D253=\"\",\"\",'Staff proposed'!D253)","v":"Sat"},{"$f":"IF('Staff proposed'!D253=\"\",\"\",IF('Staff proposed'!E253=\"\",\"Rest Day\",CONCATENATE(TEXT('Staff proposed'!E253,\"hhmm\"),\"-\",(TEXT('Staff proposed'!F253,\"hhmm\")))))","v":"Rest Day"},251]
[{"$f":"IF('Staff proposed'!C254=\"\",\"\",'Staff proposed'!C254)","v":""},{"$f":"IF('Staff proposed'!D254=\"\",\"\",'Staff proposed'!D254)","v":"Sun"},{"$f":"IF('Staff proposed'!D254=\"\",\"\",IF('Staff proposed'!E254=\"\",\"Rest Day\",CONCATENATE(TEXT('Staff proposed'!E254,\"hhmm\"),\"-\",(TEXT('Staff proposed'!F254,\"hhmm\")))))","v":"Rest Day"},252]
[{"$f":"IF('Staff proposed'!C255=\"\",\"\",'Staff proposed'!C255)","v":"Week37"},{"$f":"IF('Staff proposed'!D255=\"\",\"\",'Staff proposed'!D255)","v":"Mon"},{"$f":"IF('Staff proposed'!D255=\"\",\"\",IF('Staff proposed'!E255=\"\",\"Rest Day\",CONCATENATE(TEXT('Staff proposed'!E255,\"hhmm\"),\"-\",(TEXT('Staff proposed'!F255,\"hhmm\")))))","v":"Rest Day"},253,null,"Week 37"]
[{"$f":"IF('Staff proposed'!C256=\"\",\"\",'Staff proposed'!C256)","v":""},{"$f":"IF('Staff proposed'!D256=\"\",\"\",'Staff proposed'!D256)","v":"Tue"},{"$f":"IF('Staff proposed'!D256=\"\",\"\",IF('Staff proposed'!E256=\"\",\"Rest Day\",CONCATENATE(TEXT('Staff proposed'!E256,\"hhmm\"),\"-\",(TEXT('Staff proposed'!F256,\"hhmm\")))))","v":"Rest Day"},254]
[{"$f":"IF('Staff proposed'!C257=\"\",\"\",'Staff proposed'!C257)","v":""},{"$f":"IF('Staff proposed'!D257=\"\",\"\",'Staff proposed'!D257)","v":"Wed"},{"$f":"IF('Staff proposed'!D257=\"\",\"\",IF('Staff proposed'!E257=\"\",\"Rest Day\",CONCATENATE(TEXT('Staff proposed'!E257,\"hhmm\"),\"-\",(TEXT('Staff proposed'!F257,\"hhmm\")))))","v":"Rest Day"},255]
[{"$f":"IF('Staff proposed'!C258=\"\",\"\",'Staff proposed'!C258)","v":""},{"$f":"IF('Staff proposed'!D258=\"\",\"\",'Staff proposed'!D258)","v":"Thu"},{"$f":"IF('Staff proposed'!D258=\"\",\"\",IF('Staff proposed'!E258=\"\",\"Rest Day\",CONCATENATE(TEXT('Staff proposed'!E258,\"hhmm\"),\"-\",(TEXT('Staff proposed'!F258,\"hhmm\")))))","v":"Rest Day"},256]
[{"$f":"IF('Staff proposed'!C259=\"\",\"\",'Staff proposed'!C259)","v":""},{"$f":"IF('Staff proposed'!D259=\"\",\"\",'Staff proposed'!D259)","v":"Fri"},{"$f":"IF('Staff proposed'!D259=\"\",\"\",IF('Staff proposed'!E259=\"\",\"Rest Day\",CONCATENATE(TEXT('Staff proposed'!E259,\"hhmm\"),\"-\",(TEXT('Staff proposed'!F259,\"hhmm\")))))","v":"Rest Day"},257]
[{"$f":"IF('Staff proposed'!C260=\"\",\"\",'Staff proposed'!C260)","v":""},{"$f":"IF('Staff proposed'!D260=\"\",\"\",'Staff proposed'!D260)","v":"Sat"},{"$f":"IF('Staff proposed'!D260=\"\",\"\",IF('Staff proposed'!E260=\"\",\"Rest Day\",CONCATENATE(TEXT('Staff proposed'!E260,\"hhmm\"),\"-\",(TEXT('Staff proposed'!F260,\"hhmm\")))))","v":"Rest Day"},258]
[{"$f":"IF('Staff proposed'!C261=\"\",\"\",'Staff proposed'!C261)","v":""},{"$f":"IF('Staff proposed'!D261=\"\",\"\",'Staff proposed'!D261)","v":"Sun"},{"$f":"IF('Staff proposed'!D261=\"\",\"\",IF('Staff proposed'!E261=\"\",\"Rest Day\",CONCATENATE(TEXT('Staff proposed'!E261,\"hhmm\"),\"-\",(TEXT('Staff proposed'!F261,\"hhmm\")))))","v":"Rest Day"},259]
[{"$f":"IF('Staff proposed'!C262=\"\",\"\",'Staff proposed'!C262)","v":"Week38"},{"$f":"IF('Staff proposed'!D262=\"\",\"\",'Staff proposed'!D262)","v":"Mon"},{"$f":"IF('Staff proposed'!D262=\"\",\"\",IF('Staff proposed'!E262=\"\",\"Rest Day\",CONCATENATE(TEXT('Staff proposed'!E262,\"hhmm\"),\"-\",(TEXT('Staff proposed'!F262,\"hhmm\")))))","v":"Rest Day"},260,null,"Week 38"]
[{"$f":"IF('Staff proposed'!C263=\"\",\"\",'Staff proposed'!C263)","v":""},{"$f":"IF('Staff proposed'!D263=\"\",\"\",'Staff proposed'!D263)","v":"Tue"},{"$f":"IF('Staff proposed'!D263=\"\",\"\",IF('Staff proposed'!E263=\"\",\"Rest Day\",CONCATENATE(TEXT('Staff proposed'!E263,\"hhmm\"),\"-\",(TEXT('Staff proposed'!F263,\"hhmm\")))))","v":"Rest Day"},261]
[{"$f":"IF('Staff proposed'!C264=\"\",\"\",'Staff proposed'!C264)","v":""},{"$f":"IF('Staff proposed'!D264=\"\",\"\",'Staff proposed'!D264)","v":"Wed"},{"$f":"IF('Staff proposed'!D264=\"\",\"\",IF('Staff proposed'!E264=\"\",\"Rest Day\",CONCATENATE(TEXT('Staff proposed'!E264,\"hhmm\"),\"-\",(TEXT('Staff proposed'!F264,\"hhmm\")))))","v":"Rest Day"},262]
[{"$f":"IF('Staff proposed'!C265=\"\",\"\",'Staff proposed'!C265)","v":""},{"$f":"IF('Staff proposed'!D265=\"\",\"\",'Staff proposed'!D265)","v":"Thu"},{"$f":"IF('Staff proposed'!D265=\"\",\"\",IF('Staff proposed'!E265=\"\",\"Rest Day\",CONCATENATE(TEXT('Staff proposed'!E265,\"hhmm\"),\"-\",(TEXT('Staff proposed'!F265,\"hhmm\")))))","v":"Rest Day"},263]
[{"$f":"IF('Staff proposed'!C266=\"\",\"\",'Staff proposed'!C266)","v":""},{"$f":"IF('Staff proposed'!D266=\"\",\"\",'Staff proposed'!D266)","v":"Fri"},{"$f":"IF('Staff proposed'!D266=\"\",\"\",IF('Staff proposed'!E266=\"\",\"Rest Day\",CONCATENATE(TEXT('Staff proposed'!E266,\"hhmm\"),\"-\",(TEXT('Staff proposed'!F266,\"hhmm\")))))","v":"Rest Day"},264]
[{"$f":"IF('Staff proposed'!C267=\"\",\"\",'Staff proposed'!C267)","v":""},{"$f":"IF('Staff proposed'!D267=\"\",\"\",'Staff proposed'!D267)","v":"Sat"},{"$f":"IF('Staff proposed'!D267=\"\",\"\",IF('Staff proposed'!E267=\"\",\"Rest Day\",CONCATENATE(TEXT('Staff proposed'!E267,\"hhmm\"),\"-\",(TEXT('Staff proposed'!F267,\"hhmm\")))))","v":"Rest Day"},265]
[{"$f":"IF('Staff proposed'!C268=\"\",\"\",'Staff proposed'!C268)","v":""},{"$f":"IF('Staff proposed'!D268=\"\",\"\",'Staff proposed'!D268)","v":"Sun"},{"$f":"IF('Staff proposed'!D268=\"\",\"\",IF('Staff proposed'!E268=\"\",\"Rest Day\",CONCATENATE(TEXT('Staff proposed'!E268,\"hhmm\"),\"-\",(TEXT('Staff proposed'!F268,\"hhmm\")))))","v":"Rest Day"},266]
[{"$f":"IF('Staff proposed'!C269=\"\",\"\",'Staff proposed'!C269)","v":"Week39"},{"$f":"IF('Staff proposed'!D269=\"\",\"\",'Staff proposed'!D269)","v":"Mon"},{"$f":"IF('Staff proposed'!D269=\"\",\"\",IF('Staff proposed'!E269=\"\",\"Rest Day\",CONCATENATE(TEXT('Staff proposed'!E269,\"hhmm\"),\"-\",(TEXT('Staff proposed'!F269,\"hhmm\")))))","v":"Rest Day"},267,null,"Week 39"]
[{"$f":"IF('Staff proposed'!C270=\"\",\"\",'Staff proposed'!C270)","v":""},{"$f":"IF('Staff proposed'!D270=\"\",\"\",'Staff proposed'!D270)","v":"Tue"},{"$f":"IF('Staff proposed'!D270=\"\",\"\",IF('Staff proposed'!E270=\"\",\"Rest Day\",CONCATENATE(TEXT('Staff proposed'!E270,\"hhmm\"),\"-\",(TEXT('Staff proposed'!F270,\"hhmm\")))))","v":"Rest Day"},268]
[{"$f":"IF('Staff proposed'!C271=\"\",\"\",'Staff proposed'!C271)","v":""},{"$f":"IF('Staff proposed'!D271=\"\",\"\",'Staff proposed'!D271)","v":"Wed"},{"$f":"IF('Staff proposed'!D271=\"\",\"\",IF('Staff proposed'!E271=\"\",\"Rest Day\",CONCATENATE(TEXT('Staff proposed'!E271,\"hhmm\"),\"-\",(TEXT('Staff proposed'!F271,\"hhmm\")))))","v":"Rest Day"},269]
[{"$f":"IF('Staff proposed'!C272=\"\",\"\",'Staff proposed'!C272)","v":""},{"$f":"IF('Staff proposed'!D272=\"\",\"\",'Staff proposed'!D272)","v":"Thu"},{"$f":"IF('Staff proposed'!D272=\"\",\"\",IF('Staff proposed'!E272=\"\",\"Rest Day\",CONCATENATE(TEXT('Staff proposed'!E272,\"hhmm\"),\"-\",(TEXT('Staff proposed'!F272,\"hhmm\")))))","v":"Rest Day"},270]
[{"$f":"IF('Staff proposed'!C273=\"\",\"\",'Staff proposed'!C273)","v":""},{"$f":"IF('Staff proposed'!D273=\"\",\"\",'Staff proposed'!D273)","v":"Fri"},{"$f":"IF('Staff proposed'!D273=\"\",\"\",IF('Staff proposed'!E273=\"\",\"Rest Day\",CONCATENATE(TEXT('Staff proposed'!E273,\"hhmm\"),\"-\",(TEXT('Staff proposed'!F273,\"hhmm\")))))","v":"Rest Day"},271]
[{"$f":"IF('Staff proposed'!C274=\"\",\"\",'Staff proposed'!C274)","v":""},{"$f":"IF('Staff proposed'!D274=\"\",\"\",'Staff proposed'!D274)","v":"Sat"},{"$f":"IF('Staff proposed'!D274=\"\",\"\",IF('Staff proposed'!E274=\"\",\"Rest Day\",CONCATENATE(TEXT('Staff proposed'!E274,\"hhmm\"),\"-\",(TEXT('Staff proposed'!F274,\"hhmm\")))))","v":"Rest Day"},272]
[{"$f":"IF('Staff proposed'!C275=\"\",\"\",'Staff proposed'!C275)","v":""},{"$f":"IF('Staff proposed'!D275=\"\",\"\",'Staff proposed'!D275)","v":"Sun"},{"$f":"IF('Staff proposed'!D275=\"\",\"\",IF('Staff proposed'!E275=\"\",\"Rest Day\",CONCATENATE(TEXT('Staff proposed'!E275,\"hhmm\"),\"-\",(TEXT('Staff proposed'!F275,\"hhmm\")))))","v":"Rest Day"},273]
[{"$f":"IF('Staff proposed'!C276=\"\",\"\",'Staff proposed'!C276)","v":"Week40"},{"$f":"IF('Staff proposed'!D276=\"\",\"\",'Staff proposed'!D276)","v":"Mon"},{"$f":"IF('Staff proposed'!D276=\"\",\"\",IF('Staff proposed'!E276=\"\",\"Rest Day\",CONCATENATE(TEXT('Staff proposed'!E276,\"hhmm\"),\"-\",(TEXT('Staff proposed'!F276,\"hhmm\")))))","v":"Rest Day"},274,null,"Week 40"]
[{"$f":"IF('Staff proposed'!C277=\"\",\"\",'Staff proposed'!C277)","v":""},{"$f":"IF('Staff proposed'!D277=\"\",\"\",'Staff proposed'!D277)","v":"Tue"},{"$f":"IF('Staff proposed'!D277=\"\",\"\",IF('Staff proposed'!E277=\"\",\"Rest Day\",CONCATENATE(TEXT('Staff proposed'!E277,\"hhmm\"),\"-\",(TEXT('Staff proposed'!F277,\"hhmm\")))))","v":"Rest Day"},275]
[{"$f":"IF('Staff proposed'!C278=\"\",\"\",'Staff proposed'!C278)","v":""},{"$f":"IF('Staff proposed'!D278=\"\",\"\",'Staff proposed'!D278)","v":"Wed"},{"$f":"IF('Staff proposed'!D278=\"\",\"\",IF('Staff proposed'!E278=\"\",\"Rest Day\",CONCATENATE(TEXT('Staff proposed'!E278,\"hhmm\"),\"-\",(TEXT('Staff proposed'!F278,\"hhmm\")))))","v":"Rest Day"},276]
[{"$f":"IF('Staff proposed'!C279=\"\",\"\",'Staff proposed'!C279)","v":""},{"$f":"IF('Staff proposed'!D279=\"\",\"\",'Staff proposed'!D279)","v":"Thu"},{"$f":"IF('Staff proposed'!D279=\"\",\"\",IF('Staff proposed'!E279=\"\",\"Rest Day\",CONCATENATE(TEXT('Staff proposed'!E279,\"hhmm\"),\"-\",(TEXT('Staff proposed'!F279,\"hhmm\")))))","v":"Rest Day"},277]
[{"$f":"IF('Staff proposed'!C280=\"\",\"\",'Staff proposed'!C280)","v":""},{"$f":"IF('Staff proposed'!D280=\"\",\"\",'Staff proposed'!D280)","v":"Fri"},{"$f":"IF('Staff proposed'!D280=\"\",\"\",IF('Staff proposed'!E280=\"\",\"Rest Day\",CONCATENATE(TEXT('Staff proposed'!E280,\"hhmm\"),\"-\",(TEXT('Staff proposed'!F280,\"hhmm\")))))","v":"Rest Day"},278]
[{"$f":"IF('Staff proposed'!C281=\"\",\"\",'Staff proposed'!C281)","v":""},{"$f":"IF('Staff proposed'!D281=\"\",\"\",'Staff proposed'!D281)","v":"Sat"},{"$f":"IF('Staff proposed'!D281=\"\",\"\",IF('Staff proposed'!E281=\"\",\"Rest Day\",CONCATENATE(TEXT('Staff proposed'!E281,\"hhmm\"),\"-\",(TEXT('Staff proposed'!F281,\"hhmm\")))))","v":"Rest Day"},279]
[{"$f":"IF('Staff proposed'!C282=\"\",\"\",'Staff proposed'!C282)","v":""},{"$f":"IF('Staff proposed'!D282=\"\",\"\",'Staff proposed'!D282)","v":"Sun"},{"$f":"IF('Staff proposed'!D282=\"\",\"\",IF('Staff proposed'!E282=\"\",\"Rest Day\",CONCATENATE(TEXT('Staff proposed'!E282,\"hhmm\"),\"-\",(TEXT('Staff proposed'!F282,\"hhmm\")))))","v":"Rest Day"},280]
[{"$f":"IF('Staff proposed'!C283=\"\",\"\",'Staff proposed'!C283)","v":"Week41"},{"$f":"IF('Staff proposed'!D283=\"\",\"\",'Staff proposed'!D283)","v":"Mon"},{"$f":"IF('Staff proposed'!D283=\"\",\"\",IF('Staff proposed'!E283=\"\",\"Rest Day\",CONCATENATE(TEXT('Staff proposed'!E283,\"hhmm\"),\"-\",(TEXT('Staff proposed'!F283,\"hhmm\")))))","v":"Rest Day"},281,null,"Week 41"]
[{"$f":"IF('Staff proposed'!C284=\"\",\"\",'Staff proposed'!C284)","v":""},{"$f":"IF('Staff proposed'!D284=\"\",\"\",'Staff proposed'!D284)","v":"Tue"},{"$f":"IF('Staff proposed'!D284=\"\",\"\",IF('Staff proposed'!E284=\"\",\"Rest Day\",CONCATENATE(TEXT('Staff proposed'!E284,\"hhmm\"),\"-\",(TEXT('Staff proposed'!F284,\"hhmm\")))))","v":"Rest Day"},282]
[{"$f":"IF('Staff proposed'!C285=\"\",\"\",'Staff proposed'!C285)","v":""},{"$f":"IF('Staff proposed'!D285=\"\",\"\",'Staff proposed'!D285)","v":"Wed"},{"$f":"IF('Staff proposed'!D285=\"\",\"\",IF('Staff proposed'!E285=\"\",\"Rest Day\",CONCATENATE(TEXT('Staff proposed'!E285,\"hhmm\"),\"-\",(TEXT('Staff proposed'!F285,\"hhmm\")))))","v":"Rest Day"},283]
[{"$f":"IF('Staff proposed'!C286=\"\",\"\",'Staff proposed'!C286)","v":""},{"$f":"IF('Staff proposed'!D286=\"\",\"\",'Staff proposed'!D286)","v":"Thu"},{"$f":"IF('Staff proposed'!D286=\"\",\"\",IF('Staff proposed'!E286=\"\",\"Rest Day\",CONCATENATE(TEXT('Staff proposed'!E286,\"hhmm\"),\"-\",(TEXT('Staff proposed'!F286,\"hhmm\")))))","v":"Rest Day"},284]
[{"$f":"IF('Staff proposed'!C287=\"\",\"\",'Staff proposed'!C287)","v":""},{"$f":"IF('Staff proposed'!D287=\"\",\"\",'Staff proposed'!D287)","v":"Fri"},{"$f":"IF('Staff proposed'!D287=\"\",\"\",IF('Staff proposed'!E287=\"\",\"Rest Day\",CONCATENATE(TEXT('Staff proposed'!E287,\"hhmm\"),\"-\",(TEXT('Staff proposed'!F287,\"hhmm\")))))","v":"Rest Day"},285]
[{"$f":"IF('Staff proposed'!C288=\"\",\"\",'Staff proposed'!C288)","v":""},{"$f":"IF('Staff proposed'!D288=\"\",\"\",'Staff proposed'!D288)","v":"Sat"},{"$f":"IF('Staff proposed'!D288=\"\",\"\",IF('Staff proposed'!E288=\"\",\"Rest Day\",CONCATENATE(TEXT('Staff proposed'!E288,\"hhmm\"),\"-\",(TEXT('Staff proposed'!F288,\"hhmm\")))))","v":"Rest Day"},286]
[{"$f":"IF('Staff proposed'!C289=\"\",\"\",'Staff proposed'!C289)","v":""},{"$f":"IF('Staff proposed'!D289=\"\",\"\",'Staff proposed'!D289)","v":"Sun"},{"$f":"IF('Staff proposed'!D289=\"\",\"\",IF('Staff proposed'!E289=\"\",\"Rest Day\",CONCATENATE(TEXT('Staff proposed'!E289,\"hhmm\"),\"-\",(TEXT('Staff proposed'!F289,\"hhmm\")))))","v":"Rest Day"},287]
[{"$f":"IF('Staff proposed'!C290=\"\",\"\",'Staff proposed'!C290)","v":"Week42"},{"$f":"IF('Staff proposed'!D290=\"\",\"\",'Staff proposed'!D290)","v":"Mon"},{"$f":"IF('Staff proposed'!D290=\"\",\"\",IF('Staff proposed'!E290=\"\",\"Rest Day\",CONCATENATE(TEXT('Staff proposed'!E290,\"hhmm\"),\"-\",(TEXT('Staff proposed'!F290,\"hhmm\")))))","v":"Rest Day"},288,null,"Week 42"]
[{"$f":"IF('Staff proposed'!C291=\"\",\"\",'Staff proposed'!C291)","v":""},{"$f":"IF('Staff proposed'!D291=\"\",\"\",'Staff proposed'!D291)","v":"Tue"},{"$f":"IF('Staff proposed'!D291=\"\",\"\",IF('Staff proposed'!E291=\"\",\"Rest Day\",CONCATENATE(TEXT('Staff proposed'!E291,\"hhmm\"),\"-\",(TEXT('Staff proposed'!F291,\"hhmm\")))))","v":"Rest Day"},289]
[{"$f":"IF('Staff proposed'!C292=\"\",\"\",'Staff proposed'!C292)","v":""},{"$f":"IF('Staff proposed'!D292=\"\",\"\",'Staff proposed'!D292)","v":"Wed"},{"$f":"IF('Staff proposed'!D292=\"\",\"\",IF('Staff proposed'!E292=\"\",\"Rest Day\",CONCATENATE(TEXT('Staff proposed'!E292,\"hhmm\"),\"-\",(TEXT('Staff proposed'!F292,\"hhmm\")))))","v":"Rest Day"},290]
[{"$f":"IF('Staff proposed'!C293=\"\",\"\",'Staff proposed'!C293)","v":""},{"$f":"IF('Staff proposed'!D293=\"\",\"\",'Staff proposed'!D293)","v":"Thu"},{"$f":"IF('Staff proposed'!D293=\"\",\"\",IF('Staff proposed'!E293=\"\",\"Rest Day\",CONCATENATE(TEXT('Staff proposed'!E293,\"hhmm\"),\"-\",(TEXT('Staff proposed'!F293,\"hhmm\")))))","v":"Rest Day"},291]
[{"$f":"IF('Staff proposed'!C294=\"\",\"\",'Staff proposed'!C294)","v":""},{"$f":"IF('Staff proposed'!D294=\"\",\"\",'Staff proposed'!D294)","v":"Fri"},{"$f":"IF('Staff proposed'!D294=\"\",\"\",IF('Staff proposed'!E294=\"\",\"Rest Day\",CONCATENATE(TEXT('Staff proposed'!E294,\"hhmm\"),\"-\",(TEXT('Staff proposed'!F294,\"hhmm\")))))","v":"Rest Day"},292]
[{"$f":"IF('Staff proposed'!C295=\"\",\"\",'Staff proposed'!C295)","v":""},{"$f":"IF('Staff proposed'!D295=\"\",\"\",'Staff proposed'!D295)","v":"Sat"},{"$f":"IF('Staff proposed'!D295=\"\",\"\",IF('Staff proposed'!E295=\"\",\"Rest Day\",CONCATENATE(TEXT('Staff proposed'!E295,\"hhmm\"),\"-\",(TEXT('Staff proposed'!F295,\"hhmm\")))))","v":"Rest Day"},293]
[{"$f":"IF('Staff proposed'!C296=\"\",\"\",'Staff proposed'!C296)","v":""},{"$f":"IF('Staff proposed'!D296=\"\",\"\",'Staff proposed'!D296)","v":"Sun"},{"$f":"IF('Staff proposed'!D296=\"\",\"\",IF('Staff proposed'!E296=\"\",\"Rest Day\",CONCATENATE(TEXT('Staff proposed'!E296,\"hhmm\"),\"-\",(TEXT('Staff proposed'!F296,\"hhmm\")))))","v":"Rest Day"},294]
[{"$f":"IF('Staff proposed'!C297=\"\",\"\",'Staff proposed'!C297)","v":"Week43"},{"$f":"IF('Staff proposed'!D297=\"\",\"\",'Staff proposed'!D297)","v":"Mon"},{"$f":"IF('Staff proposed'!D297=\"\",\"\",IF('Staff proposed'!E297=\"\",\"Rest Day\",CONCATENATE(TEXT('Staff proposed'!E297,\"hhmm\"),\"-\",(TEXT('Staff proposed'!F297,\"hhmm\")))))","v":"Rest Day"},295,null,"Week 43"]
[{"$f":"IF('Staff proposed'!C298=\"\",\"\",'Staff proposed'!C298)","v":""},{"$f":"IF('Staff proposed'!D298=\"\",\"\",'Staff proposed'!D298)","v":"Tue"},{"$f":"IF('Staff proposed'!D298=\"\",\"\",IF('Staff proposed'!E298=\"\",\"Rest Day\",CONCATENATE(TEXT('Staff proposed'!E298,\"hhmm\"),\"-\",(TEXT('Staff proposed'!F298,\"hhmm\")))))","v":"Rest Day"},296]
[{"$f":"IF('Staff proposed'!C299=\"\",\"\",'Staff proposed'!C299)","v":""},{"$f":"IF('Staff proposed'!D299=\"\",\"\",'Staff proposed'!D299)","v":"Wed"},{"$f":"IF('Staff proposed'!D299=\"\",\"\",IF('Staff proposed'!E299=\"\",\"Rest Day\",CONCATENATE(TEXT('Staff proposed'!E299,\"hhmm\"),\"-\",(TEXT('Staff proposed'!F299,\"hhmm\")))))","v":"Rest Day"},297]
[{"$f":"IF('Staff proposed'!C300=\"\",\"\",'Staff proposed'!C300)","v":""},{"$f":"IF('Staff proposed'!D300=\"\",\"\",'Staff proposed'!D300)","v":"Thu"},{"$f":"IF('Staff proposed'!D300=\"\",\"\",IF('Staff proposed'!E300=\"\",\"Rest Day\",CONCATENATE(TEXT('Staff proposed'!E300,\"hhmm\"),\"-\",(TEXT('Staff proposed'!F300,\"hhmm\")))))","v":"Rest Day"},298]
[{"$f":"IF('Staff proposed'!C301=\"\",\"\",'Staff proposed'!C301)","v":""},{"$f":"IF('Staff proposed'!D301=\"\",\"\",'Staff proposed'!D301)","v":"Fri"},{"$f":"IF('Staff proposed'!D301=\"\",\"\",IF('Staff proposed'!E301=\"\",\"Rest Day\",CONCATENATE(TEXT('Staff proposed'!E301,\"hhmm\"),\"-\",(TEXT('Staff proposed'!F301,\"hhmm\")))))","v":"Rest Day"},299]
[{"$f":"IF('Staff proposed'!C302=\"\",\"\",'Staff proposed'!C302)","v":""},{"$f":"IF('Staff proposed'!D302=\"\",\"\",'Staff proposed'!D302)","v":"Sat"},{"$f":"IF('Staff proposed'!D302=\"\",\"\",IF('Staff proposed'!E302=\"\",\"Rest Day\",CONCATENATE(TEXT('Staff proposed'!E302,\"hhmm\"),\"-\",(TEXT('Staff proposed'!F302,\"hhmm\")))))","v":"Rest Day"},300]
[{"$f":"IF('Staff proposed'!C303=\"\",\"\",'Staff proposed'!C303)","v":""},{"$f":"IF('Staff proposed'!D303=\"\",\"\",'Staff proposed'!D303)","v":"Sun"},{"$f":"IF('Staff proposed'!D303=\"\",\"\",IF('Staff proposed'!E303=\"\",\"Rest Day\",CONCATENATE(TEXT('Staff proposed'!E303,\"hhmm\"),\"-\",(TEXT('Staff proposed'!F303,\"hhmm\")))))","v":"Rest Day"},301]
[{"$f":"IF('Staff proposed'!C304=\"\",\"\",'Staff proposed'!C304)","v":"Week44"},{"$f":"IF('Staff proposed'!D304=\"\",\"\",'Staff proposed'!D304)","v":"Mon"},{"$f":"IF('Staff proposed'!D304=\"\",\"\",IF('Staff proposed'!E304=\"\",\"Rest Day\",CONCATENATE(TEXT('Staff proposed'!E304,\"hhmm\"),\"-\",(TEXT('Staff proposed'!F304,\"hhmm\")))))","v":"Rest Day"},302,null,"Week 44"]
[{"$f":"IF('Staff proposed'!C305=\"\",\"\",'Staff proposed'!C305)","v":""},{"$f":"IF('Staff proposed'!D305=\"\",\"\",'Staff proposed'!D305)","v":"Tue"},{"$f":"IF('Staff proposed'!D305=\"\",\"\",IF('Staff proposed'!E305=\"\",\"Rest Day\",CONCATENATE(TEXT('Staff proposed'!E305,\"hhmm\"),\"-\",(TEXT('Staff proposed'!F305,\"hhmm\")))))","v":"Rest Day"},303]
[{"$f":"IF('Staff proposed'!C306=\"\",\"\",'Staff proposed'!C306)","v":""},{"$f":"IF('Staff proposed'!D306=\"\",\"\",'Staff proposed'!D306)","v":"Wed"},{"$f":"IF('Staff proposed'!D306=\"\",\"\",IF('Staff proposed'!E306=\"\",\"Rest Day\",CONCATENATE(TEXT('Staff proposed'!E306,\"hhmm\"),\"-\",(TEXT('Staff proposed'!F306,\"hhmm\")))))","v":"Rest Day"},304]
[{"$f":"IF('Staff proposed'!C307=\"\",\"\",'Staff proposed'!C307)","v":""},{"$f":"IF('Staff proposed'!D307=\"\",\"\",'Staff proposed'!D307)","v":"Thu"},{"$f":"IF('Staff proposed'!D307=\"\",\"\",IF('Staff proposed'!E307=\"\",\"Rest Day\",CONCATENATE(TEXT('Staff proposed'!E307,\"hhmm\"),\"-\",(TEXT('Staff proposed'!F307,\"hhmm\")))))","v":"Rest Day"},305]
[{"$f":"IF('Staff proposed'!C308=\"\",\"\",'Staff proposed'!C308)","v":""},{"$f":"IF('Staff proposed'!D308=\"\",\"\",'Staff proposed'!D308)","v":"Fri"},{"$f":"IF('Staff proposed'!D308=\"\",\"\",IF('Staff proposed'!E308=\"\",\"Rest Day\",CONCATENATE(TEXT('Staff proposed'!E308,\"hhmm\"),\"-\",(TEXT('Staff proposed'!F308,\"hhmm\")))))","v":"Rest Day"},306]
[{"$f":"IF('Staff proposed'!C309=\"\",\"\",'Staff proposed'!C309)","v":""},{"$f":"IF('Staff proposed'!D309=\"\",\"\",'Staff proposed'!D309)","v":"Sat"},{"$f":"IF('Staff proposed'!D309=\"\",\"\",IF('Staff proposed'!E309=\"\",\"Rest Day\",CONCATENATE(TEXT('Staff proposed'!E309,\"hhmm\"),\"-\",(TEXT('Staff proposed'!F309,\"hhmm\")))))","v":"Rest Day"},307]
[{"$f":"IF('Staff proposed'!C310=\"\",\"\",'Staff proposed'!C310)","v":""},{"$f":"IF('Staff proposed'!D310=\"\",\"\",'Staff proposed'!D310)","v":"Sun"},{"$f":"IF('Staff proposed'!D310=\"\",\"\",IF('Staff proposed'!E310=\"\",\"Rest Day\",CONCATENATE(TEXT('Staff proposed'!E310,\"hhmm\"),\"-\",(TEXT('Staff proposed'!F310,\"hhmm\")))))","v":"Rest Day"},308]
[{"$f":"IF('Staff proposed'!C311=\"\",\"\",'Staff proposed'!C311)","v":"Week45"},{"$f":"IF('Staff proposed'!D311=\"\",\"\",'Staff proposed'!D311)","v":"Mon"},{"$f":"IF('Staff proposed'!D311=\"\",\"\",IF('Staff proposed'!E311=\"\",\"Rest Day\",CONCATENATE(TEXT('Staff proposed'!E311,\"hhmm\"),\"-\",(TEXT('Staff proposed'!F311,\"hhmm\")))))","v":"Rest Day"},309,null,"Week 45"]
[{"$f":"IF('Staff proposed'!C312=\"\",\"\",'Staff proposed'!C312)","v":""},{"$f":"IF('Staff proposed'!D312=\"\",\"\",'Staff proposed'!D312)","v":"Tue"},{"$f":"IF('Staff proposed'!D312=\"\",\"\",IF('Staff proposed'!E312=\"\",\"Rest Day\",CONCATENATE(TEXT('Staff proposed'!E312,\"hhmm\"),\"-\",(TEXT('Staff proposed'!F312,\"hhmm\")))))","v":"Rest Day"},310]
[{"$f":"IF('Staff proposed'!C313=\"\",\"\",'Staff proposed'!C313)","v":""},{"$f":"IF('Staff proposed'!D313=\"\",\"\",'Staff proposed'!D313)","v":"Wed"},{"$f":"IF('Staff proposed'!D313=\"\",\"\",IF('Staff proposed'!E313=\"\",\"Rest Day\",CONCATENATE(TEXT('Staff proposed'!E313,\"hhmm\"),\"-\",(TEXT('Staff proposed'!F313,\"hhmm\")))))","v":"Rest Day"},311]
[{"$f":"IF('Staff proposed'!C314=\"\",\"\",'Staff proposed'!C314)","v":""},{"$f":"IF('Staff proposed'!D314=\"\",\"\",'Staff proposed'!D314)","v":"Thu"},{"$f":"IF('Staff proposed'!D314=\"\",\"\",IF('Staff proposed'!E314=\"\",\"Rest Day\",CONCATENATE(TEXT('Staff proposed'!E314,\"hhmm\"),\"-\",(TEXT('Staff proposed'!F314,\"hhmm\")))))","v":"Rest Day"},312]
[{"$f":"IF('Staff proposed'!C315=\"\",\"\",'Staff proposed'!C315)","v":""},{"$f":"IF('Staff proposed'!D315=\"\",\"\",'Staff proposed'!D315)","v":"Fri"},{"$f":"IF('Staff proposed'!D315=\"\",\"\",IF('Staff proposed'!E315=\"\",\"Rest Day\",CONCATENATE(TEXT('Staff proposed'!E315,\"hhmm\"),\"-\",(TEXT('Staff proposed'!F315,\"hhmm\")))))","v":"Rest Day"},313]
[{"$f":"IF('Staff proposed'!C316=\"\",\"\",'Staff proposed'!C316)","v":""},{"$f":"IF('Staff proposed'!D316=\"\",\"\",'Staff proposed'!D316)","v":"Sat"},{"$f":"IF('Staff proposed'!D316=\"\",\"\",IF('Staff proposed'!E316=\"\",\"Rest Day\",CONCATENATE(TEXT('Staff proposed'!E316,\"hhmm\"),\"-\",(TEXT('Staff proposed'!F316,\"hhmm\")))))","v":"Rest Day"},314]
[{"$f":"IF('Staff proposed'!C317=\"\",\"\",'Staff proposed'!C317)","v":""},{"$f":"IF('Staff proposed'!D317=\"\",\"\",'Staff proposed'!D317)","v":"Sun"},{"$f":"IF('Staff proposed'!D317=\"\",\"\",IF('Staff proposed'!E317=\"\",\"Rest Day\",CONCATENATE(TEXT('Staff proposed'!E317,\"hhmm\"),\"-\",(TEXT('Staff proposed'!F317,\"hhmm\")))))","v":"Rest Day"},315]
[{"$f":"IF('Staff proposed'!C318=\"\",\"\",'Staff proposed'!C318)","v":"Week46"},{"$f":"IF('Staff proposed'!D318=\"\",\"\",'Staff proposed'!D318)","v":"Mon"},{"$f":"IF('Staff proposed'!D318=\"\",\"\",IF('Staff proposed'!E318=\"\",\"Rest Day\",CONCATENATE(TEXT('Staff proposed'!E318,\"hhmm\"),\"-\",(TEXT('Staff proposed'!F318,\"hhmm\")))))","v":"Rest Day"},316,null,"Week 46"]
[{"$f":"IF('Staff proposed'!C319=\"\",\"\",'Staff proposed'!C319)","v":""},{"$f":"IF('Staff proposed'!D319=\"\",\"\",'Staff proposed'!D319)","v":"Tue"},{"$f":"IF('Staff proposed'!D319=\"\",\"\",IF('Staff proposed'!E319=\"\",\"Rest Day\",CONCATENATE(TEXT('Staff proposed'!E319,\"hhmm\"),\"-\",(TEXT('Staff proposed'!F319,\"hhmm\")))))","v":"Rest Day"},317]
[{"$f":"IF('Staff proposed'!C320=\"\",\"\",'Staff proposed'!C320)","v":""},{"$f":"IF('Staff proposed'!D320=\"\",\"\",'Staff proposed'!D320)","v":"Wed"},{"$f":"IF('Staff proposed'!D320=\"\",\"\",IF('Staff proposed'!E320=\"\",\"Rest Day\",CONCATENATE(TEXT('Staff proposed'!E320,\"hhmm\"),\"-\",(TEXT('Staff proposed'!F320,\"hhmm\")))))","v":"Rest Day"},318]
[{"$f":"IF('Staff proposed'!C321=\"\",\"\",'Staff proposed'!C321)","v":""},{"$f":"IF('Staff proposed'!D321=\"\",\"\",'Staff proposed'!D321)","v":"Thu"},{"$f":"IF('Staff proposed'!D321=\"\",\"\",IF('Staff proposed'!E321=\"\",\"Rest Day\",CONCATENATE(TEXT('Staff proposed'!E321,\"hhmm\"),\"-\",(TEXT('Staff proposed'!F321,\"hhmm\")))))","v":"Rest Day"},319]
[{"$f":"IF('Staff proposed'!C322=\"\",\"\",'Staff proposed'!C322)","v":""},{"$f":"IF('Staff proposed'!D322=\"\",\"\",'Staff proposed'!D322)","v":"Fri"},{"$f":"IF('Staff proposed'!D322=\"\",\"\",IF('Staff proposed'!E322=\"\",\"Rest Day\",CONCATENATE(TEXT('Staff proposed'!E322,\"hhmm\"),\"-\",(TEXT('Staff proposed'!F322,\"hhmm\")))))","v":"Rest Day"},320]
[{"$f":"IF('Staff proposed'!C323=\"\",\"\",'Staff proposed'!C323)","v":""},{"$f":"IF('Staff proposed'!D323=\"\",\"\",'Staff proposed'!D323)","v":"Sat"},{"$f":"IF('Staff proposed'!D323=\"\",\"\",IF('Staff proposed'!E323=\"\",\"Rest Day\",CONCATENATE(TEXT('Staff proposed'!E323,\"hhmm\"),\"-\",(TEXT('Staff proposed'!F323,\"hhmm\")))))","v":"Rest Day"},321]
[{"$f":"IF('Staff proposed'!C324=\"\",\"\",'Staff proposed'!C324)","v":""},{"$f":"IF('Staff proposed'!D324=\"\",\"\",'Staff proposed'!D324)","v":"Sun"},{"$f":"IF('Staff proposed'!D324=\"\",\"\",IF('Staff proposed'!E324=\"\",\"Rest Day\",CONCATENATE(TEXT('Staff proposed'!E324,\"hhmm\"),\"-\",(TEXT('Staff proposed'!F324,\"hhmm\")))))","v":"Rest Day"},322]
[{"$f":"IF('Staff proposed'!C325=\"\",\"\",'Staff proposed'!C325)","v":"Week47"},{"$f":"IF('Staff proposed'!D325=\"\",\"\",'Staff proposed'!D325)","v":"Mon"},{"$f":"IF('Staff proposed'!D325=\"\",\"\",IF('Staff proposed'!E325=\"\",\"Rest Day\",CONCATENATE(TEXT('Staff proposed'!E325,\"hhmm\"),\"-\",(TEXT('Staff proposed'!F325,\"hhmm\")))))","v":"Rest Day"},323,null,"Week 47"]
[{"$f":"IF('Staff proposed'!C326=\"\",\"\",'Staff proposed'!C326)","v":""},{"$f":"IF('Staff proposed'!D326=\"\",\"\",'Staff proposed'!D326)","v":"Tue"},{"$f":"IF('Staff proposed'!D326=\"\",\"\",IF('Staff proposed'!E326=\"\",\"Rest Day\",CONCATENATE(TEXT('Staff proposed'!E326,\"hhmm\"),\"-\",(TEXT('Staff proposed'!F326,\"hhmm\")))))","v":"Rest Day"},324]
[{"$f":"IF('Staff proposed'!C327=\"\",\"\",'Staff proposed'!C327)","v":""},{"$f":"IF('Staff proposed'!D327=\"\",\"\",'Staff proposed'!D327)","v":"Wed"},{"$f":"IF('Staff proposed'!D327=\"\",\"\",IF('Staff proposed'!E327=\"\",\"Rest Day\",CONCATENATE(TEXT('Staff proposed'!E327,\"hhmm\"),\"-\",(TEXT('Staff proposed'!F327,\"hhmm\")))))","v":"Rest Day"},325]
[{"$f":"IF('Staff proposed'!C328=\"\",\"\",'Staff proposed'!C328)","v":""},{"$f":"IF('Staff proposed'!D328=\"\",\"\",'Staff proposed'!D328)","v":"Thu"},{"$f":"IF('Staff proposed'!D328=\"\",\"\",IF('Staff proposed'!E328=\"\",\"Rest Day\",CONCATENATE(TEXT('Staff proposed'!E328,\"hhmm\"),\"-\",(TEXT('Staff proposed'!F328,\"hhmm\")))))","v":"Rest Day"},326]
[{"$f":"IF('Staff proposed'!C329=\"\",\"\",'Staff proposed'!C329)","v":""},{"$f":"IF('Staff proposed'!D329=\"\",\"\",'Staff proposed'!D329)","v":"Fri"},{"$f":"IF('Staff proposed'!D329=\"\",\"\",IF('Staff proposed'!E329=\"\",\"Rest Day\",CONCATENATE(TEXT('Staff proposed'!E329,\"hhmm\"),\"-\",(TEXT('Staff proposed'!F329,\"hhmm\")))))","v":"Rest Day"},327]
[{"$f":"IF('Staff proposed'!C330=\"\",\"\",'Staff proposed'!C330)","v":""},{"$f":"IF('Staff proposed'!D330=\"\",\"\",'Staff proposed'!D330)","v":"Sat"},{"$f":"IF('Staff proposed'!D330=\"\",\"\",IF('Staff proposed'!E330=\"\",\"Rest Day\",CONCATENATE(TEXT('Staff proposed'!E330,\"hhmm\"),\"-\",(TEXT('Staff proposed'!F330,\"hhmm\")))))","v":"Rest Day"},328]
[{"$f":"IF('Staff proposed'!C331=\"\",\"\",'Staff proposed'!C331)","v":""},{"$f":"IF('Staff proposed'!D331=\"\",\"\",'Staff proposed'!D331)","v":"Sun"},{"$f":"IF('Staff proposed'!D331=\"\",\"\",IF('Staff proposed'!E331=\"\",\"Rest Day\",CONCATENATE(TEXT('Staff proposed'!E331,\"hhmm\"),\"-\",(TEXT('Staff proposed'!F331,\"hhmm\")))))","v":"Rest Day"},329]
[{"$f":"IF('Staff proposed'!C332=\"\",\"\",'Staff proposed'!C332)","v":"Week48"},{"$f":"IF('Staff proposed'!D332=\"\",\"\",'Staff proposed'!D332)","v":"Mon"},{"$f":"IF('Staff proposed'!D332=\"\",\"\",IF('Staff proposed'!E332=\"\",\"Rest Day\",CONCATENATE(TEXT('Staff proposed'!E332,\"hhmm\"),\"-\",(TEXT('Staff proposed'!F332,\"hhmm\")))))","v":"Rest Day"},330,null,"Week 48"]
[{"$f":"IF('Staff proposed'!C333=\"\",\"\",'Staff proposed'!C333)","v":""},{"$f":"IF('Staff proposed'!D333=\"\",\"\",'Staff proposed'!D333)","v":"Tue"},{"$f":"IF('Staff proposed'!D333=\"\",\"\",IF('Staff proposed'!E333=\"\",\"Rest Day\",CONCATENATE(TEXT('Staff proposed'!E333,\"hhmm\"),\"-\",(TEXT('Staff proposed'!F333,\"hhmm\")))))","v":"Rest Day"},331]
[{"$f":"IF('Staff proposed'!C334=\"\",\"\",'Staff proposed'!C334)","v":""},{"$f":"IF('Staff proposed'!D334=\"\",\"\",'Staff proposed'!D334)","v":"Wed"},{"$f":"IF('Staff proposed'!D334=\"\",\"\",IF('Staff proposed'!E334=\"\",\"Rest Day\",CONCATENATE(TEXT('Staff proposed'!E334,\"hhmm\"),\"-\",(TEXT('Staff proposed'!F334,\"hhmm\")))))","v":"Rest Day"},332]
[{"$f":"IF('Staff proposed'!C335=\"\",\"\",'Staff proposed'!C335)","v":""},{"$f":"IF('Staff proposed'!D335=\"\",\"\",'Staff proposed'!D335)","v":"Thu"},{"$f":"IF('Staff proposed'!D335=\"\",\"\",IF('Staff proposed'!E335=\"\",\"Rest Day\",CONCATENATE(TEXT('Staff proposed'!E335,\"hhmm\"),\"-\",(TEXT('Staff proposed'!F335,\"hhmm\")))))","v":"Rest Day"},333]
[{"$f":"IF('Staff proposed'!C336=\"\",\"\",'Staff proposed'!C336)","v":""},{"$f":"IF('Staff proposed'!D336=\"\",\"\",'Staff proposed'!D336)","v":"Fri"},{"$f":"IF('Staff proposed'!D336=\"\",\"\",IF('Staff proposed'!E336=\"\",\"Rest Day\",CONCATENATE(TEXT('Staff proposed'!E336,\"hhmm\"),\"-\",(TEXT('Staff proposed'!F336,\"hhmm\")))))","v":"Rest Day"},334]
[{"$f":"IF('Staff proposed'!C337=\"\",\"\",'Staff proposed'!C337)","v":""},{"$f":"IF('Staff proposed'!D337=\"\",\"\",'Staff proposed'!D337)","v":"Sat"},{"$f":"IF('Staff proposed'!D337=\"\",\"\",IF('Staff proposed'!E337=\"\",\"Rest Day\",CONCATENATE(TEXT('Staff proposed'!E337,\"hhmm\"),\"-\",(TEXT('Staff proposed'!F337,\"hhmm\")))))","v":"Rest Day"},335]
[{"$f":"IF('Staff proposed'!C338=\"\",\"\",'Staff proposed'!C338)","v":""},{"$f":"IF('Staff proposed'!D338=\"\",\"\",'Staff proposed'!D338)","v":"Sun"},{"$f":"IF('Staff proposed'!D338=\"\",\"\",IF('Staff proposed'!E338=\"\",\"Rest Day\",CONCATENATE(TEXT('Staff proposed'!E338,\"hhmm\"),\"-\",(TEXT('Staff proposed'!F338,\"hhmm\")))))","v":"Rest Day"},336]
[{"$f":"IF('Staff proposed'!C339=\"\",\"\",'Staff proposed'!C339)","v":"Week49"},{"$f":"IF('Staff proposed'!D339=\"\",\"\",'Staff proposed'!D339)","v":"Mon"},{"$f":"IF('Staff proposed'!D339=\"\",\"\",IF('Staff proposed'!E339=\"\",\"Rest Day\",CONCATENATE(TEXT('Staff proposed'!E339,\"hhmm\"),\"-\",(TEXT('Staff proposed'!F339,\"hhmm\")))))","v":"Rest Day"},337,null,"Week 49"]
[{"$f":"IF('Staff proposed'!C340=\"\",\"\",'Staff proposed'!C340)","v":""},{"$f":"IF('Staff proposed'!D340=\"\",\"\",'Staff proposed'!D340)","v":"Tue"},{"$f":"IF('Staff proposed'!D340=\"\",\"\",IF('Staff proposed'!E340=\"\",\"Rest Day\",CONCATENATE(TEXT('Staff proposed'!E340,\"hhmm\"),\"-\",(TEXT('Staff proposed'!F340,\"hhmm\")))))","v":"Rest Day"},338]
[{"$f":"IF('Staff proposed'!C341=\"\",\"\",'Staff proposed'!C341)","v":""},{"$f":"IF('Staff proposed'!D341=\"\",\"\",'Staff proposed'!D341)","v":"Wed"},{"$f":"IF('Staff proposed'!D341=\"\",\"\",IF('Staff proposed'!E341=\"\",\"Rest Day\",CONCATENATE(TEXT('Staff proposed'!E341,\"hhmm\"),\"-\",(TEXT('Staff proposed'!F341,\"hhmm\")))))","v":"Rest Day"},339]
[{"$f":"IF('Staff proposed'!C342=\"\",\"\",'Staff proposed'!C342)","v":""},{"$f":"IF('Staff proposed'!D342=\"\",\"\",'Staff proposed'!D342)","v":"Thu"},{"$f":"IF('Staff proposed'!D342=\"\",\"\",IF('Staff proposed'!E342=\"\",\"Rest Day\",CONCATENATE(TEXT('Staff proposed'!E342,\"hhmm\"),\"-\",(TEXT('Staff proposed'!F342,\"hhmm\")))))","v":"Rest Day"},340]
[{"$f":"IF('Staff proposed'!C343=\"\",\"\",'Staff proposed'!C343)","v":""},{"$f":"IF('Staff proposed'!D343=\"\",\"\",'Staff proposed'!D343)","v":"Fri"},{"$f":"IF('Staff proposed'!D343=\"\",\"\",IF('Staff proposed'!E343=\"\",\"Rest Day\",CONCATENATE(TEXT('Staff proposed'!E343,\"hhmm\"),\"-\",(TEXT('Staff proposed'!F343,\"hhmm\")))))","v":"Rest Day"},341]
[{"$f":"IF('Staff proposed'!C344=\"\",\"\",'Staff proposed'!C344)","v":""},{"$f":"IF('Staff proposed'!D344=\"\",\"\",'Staff proposed'!D344)","v":"Sat"},{"$f":"IF('Staff proposed'!D344=\"\",\"\",IF('Staff proposed'!E344=\"\",\"Rest Day\",CONCATENATE(TEXT('Staff proposed'!E344,\"hhmm\"),\"-\",(TEXT('Staff proposed'!F344,\"hhmm\")))))","v":"Rest Day"},342]
[{"$f":"IF('Staff proposed'!C345=\"\",\"\",'Staff proposed'!C345)","v":""},{"$f":"IF('Staff proposed'!D345=\"\",\"\",'Staff proposed'!D345)","v":"Sun"},{"$f":"IF('Staff proposed'!D345=\"\",\"\",IF('Staff proposed'!E345=\"\",\"Rest Day\",CONCATENATE(TEXT('Staff proposed'!E345,\"hhmm\"),\"-\",(TEXT('Staff proposed'!F345,\"hhmm\")))))","v":"Rest Day"},343]
[{"$f":"IF('Staff proposed'!C346=\"\",\"\",'Staff proposed'!C346)","v":"Week50"},{"$f":"IF('Staff proposed'!D346=\"\",\"\",'Staff proposed'!D346)","v":"Mon"},{"$f":"IF('Staff proposed'!D346=\"\",\"\",IF('Staff proposed'!E346=\"\",\"Rest Day\",CONCATENATE(TEXT('Staff proposed'!E346,\"hhmm\"),\"-\",(TEXT('Staff proposed'!F346,\"hhmm\")))))","v":"Rest Day"},344,null,"Week 50"]
[{"$f":"IF('Staff proposed'!C347=\"\",\"\",'Staff proposed'!C347)","v":""},{"$f":"IF('Staff proposed'!D347=\"\",\"\",'Staff proposed'!D347)","v":"Tue"},{"$f":"IF('Staff proposed'!D347=\"\",\"\",IF('Staff proposed'!E347=\"\",\"Rest Day\",CONCATENATE(TEXT('Staff proposed'!E347,\"hhmm\"),\"-\",(TEXT('Staff proposed'!F347,\"hhmm\")))))","v":"Rest Day"},345]
[{"$f":"IF('Staff proposed'!C348=\"\",\"\",'Staff proposed'!C348)","v":""},{"$f":"IF('Staff proposed'!D348=\"\",\"\",'Staff proposed'!D348)","v":"Wed"},{"$f":"IF('Staff proposed'!D348=\"\",\"\",IF('Staff proposed'!E348=\"\",\"Rest Day\",CONCATENATE(TEXT('Staff proposed'!E348,\"hhmm\"),\"-\",(TEXT('Staff proposed'!F348,\"hhmm\")))))","v":"Rest Day"},346]
[{"$f":"IF('Staff proposed'!C349=\"\",\"\",'Staff proposed'!C349)","v":""},{"$f":"IF('Staff proposed'!D349=\"\",\"\",'Staff proposed'!D349)","v":"Thu"},{"$f":"IF('Staff proposed'!D349=\"\",\"\",IF('Staff proposed'!E349=\"\",\"Rest Day\",CONCATENATE(TEXT('Staff proposed'!E349,\"hhmm\"),\"-\",(TEXT('Staff proposed'!F349,\"hhmm\")))))","v":"Rest Day"},347]
[{"$f":"IF('Staff proposed'!C350=\"\",\"\",'Staff proposed'!C350)","v":""},{"$f":"IF('Staff proposed'!D350=\"\",\"\",'Staff proposed'!D350)","v":"Fri"},{"$f":"IF('Staff proposed'!D350=\"\",\"\",IF('Staff proposed'!E350=\"\",\"Rest Day\",CONCATENATE(TEXT('Staff proposed'!E350,\"hhmm\"),\"-\",(TEXT('Staff proposed'!F350,\"hhmm\")))))","v":"Rest Day"},348]
[{"$f":"IF('Staff proposed'!C351=\"\",\"\",'Staff proposed'!C351)","v":""},{"$f":"IF('Staff proposed'!D351=\"\",\"\",'Staff proposed'!D351)","v":"Sat"},{"$f":"IF('Staff proposed'!D351=\"\",\"\",IF('Staff proposed'!E351=\"\",\"Rest Day\",CONCATENATE(TEXT('Staff proposed'!E351,\"hhmm\"),\"-\",(TEXT('Staff proposed'!F351,\"hhmm\")))))","v":"Rest Day"},349]
[{"$f":"IF('Staff proposed'!C352=\"\",\"\",'Staff proposed'!C352)","v":""},{"$f":"IF('Staff proposed'!D352=\"\",\"\",'Staff proposed'!D352)","v":"Sun"},{"$f":"IF('Staff proposed'!D352=\"\",\"\",IF('Staff proposed'!E352=\"\",\"Rest Day\",CONCATENATE(TEXT('Staff proposed'!E352,\"hhmm\"),\"-\",(TEXT('Staff proposed'!F352,\"hhmm\")))))","v":"Rest Day"},350]
[{"$f":"IF('Staff proposed'!C353=\"\",\"\",'Staff proposed'!C353)","v":"Week51"},{"$f":"IF('Staff proposed'!D353=\"\",\"\",'Staff proposed'!D353)","v":"Mon"},{"$f":"IF('Staff proposed'!D353=\"\",\"\",IF('Staff proposed'!E353=\"\",\"Rest Day\",CONCATENATE(TEXT('Staff proposed'!E353,\"hhmm\"),\"-\",(TEXT('Staff proposed'!F353,\"hhmm\")))))","v":"Rest Day"},351,null,"Week 51"]
[{"$f":"IF('Staff proposed'!C354=\"\",\"\",'Staff proposed'!C354)","v":""},{"$f":"IF('Staff proposed'!D354=\"\",\"\",'Staff proposed'!D354)","v":"Tue"},{"$f":"IF('Staff proposed'!D354=\"\",\"\",IF('Staff proposed'!E354=\"\",\"Rest Day\",CONCATENATE(TEXT('Staff proposed'!E354,\"hhmm\"),\"-\",(TEXT('Staff proposed'!F354,\"hhmm\")))))","v":"Rest Day"},352]
[{"$f":"IF('Staff proposed'!C355=\"\",\"\",'Staff proposed'!C355)","v":""},{"$f":"IF('Staff proposed'!D355=\"\",\"\",'Staff proposed'!D355)","v":"Wed"},{"$f":"IF('Staff proposed'!D355=\"\",\"\",IF('Staff proposed'!E355=\"\",\"Rest Day\",CONCATENATE(TEXT('Staff proposed'!E355,\"hhmm\"),\"-\",(TEXT('Staff proposed'!F355,\"hhmm\")))))","v":"Rest Day"},353]
[{"$f":"IF('Staff proposed'!C356=\"\",\"\",'Staff proposed'!C356)","v":""},{"$f":"IF('Staff proposed'!D356=\"\",\"\",'Staff proposed'!D356)","v":"Thu"},{"$f":"IF('Staff proposed'!D356=\"\",\"\",IF('Staff proposed'!E356=\"\",\"Rest Day\",CONCATENATE(TEXT('Staff proposed'!E356,\"hhmm\"),\"-\",(TEXT('Staff proposed'!F356,\"hhmm\")))))","v":"Rest Day"},354]
[{"$f":"IF('Staff proposed'!C357=\"\",\"\",'Staff proposed'!C357)","v":""},{"$f":"IF('Staff proposed'!D357=\"\",\"\",'Staff proposed'!D357)","v":"Fri"},{"$f":"IF('Staff proposed'!D357=\"\",\"\",IF('Staff proposed'!E357=\"\",\"Rest Day\",CONCATENATE(TEXT('Staff proposed'!E357,\"hhmm\"),\"-\",(TEXT('Staff proposed'!F357,\"hhmm\")))))","v":"Rest Day"},355]
[{"$f":"IF('Staff proposed'!C358=\"\",\"\",'Staff proposed'!C358)","v":""},{"$f":"IF('Staff proposed'!D358=\"\",\"\",'Staff proposed'!D358)","v":"Sat"},{"$f":"IF('Staff proposed'!D358=\"\",\"\",IF('Staff proposed'!E358=\"\",\"Rest Day\",CONCATENATE(TEXT('Staff proposed'!E358,\"hhmm\"),\"-\",(TEXT('Staff proposed'!F358,\"hhmm\")))))","v":"Rest Day"},356]
[{"$f":"IF('Staff proposed'!C359=\"\",\"\",'Staff proposed'!C359)","v":""},{"$f":"IF('Staff proposed'!D359=\"\",\"\",'Staff proposed'!D359)","v":"Sun"},{"$f":"IF('Staff proposed'!D359=\"\",\"\",IF('Staff proposed'!E359=\"\",\"Rest Day\",CONCATENATE(TEXT('Staff proposed'!E359,\"hhmm\"),\"-\",(TEXT('Staff proposed'!F359,\"hhmm\")))))","v":"Rest Day"},357]
[{"$f":"IF('Staff proposed'!C360=\"\",\"\",'Staff proposed'!C360)","v":"Week52"},{"$f":"IF('Staff proposed'!D360=\"\",\"\",'Staff proposed'!D360)","v":"Mon"},{"$f":"IF('Staff proposed'!D360=\"\",\"\",IF('Staff proposed'!E360=\"\",\"Rest Day\",CONCATENATE(TEXT('Staff proposed'!E360,\"hhmm\"),\"-\",(TEXT('Staff proposed'!F360,\"hhmm\")))))","v":"Rest Day"},358,null,"Week 52"]
[{"$f":"IF('Staff proposed'!C361=\"\",\"\",'Staff proposed'!C361)","v":""},{"$f":"IF('Staff proposed'!D361=\"\",\"\",'Staff proposed'!D361)","v":"Tue"},{"$f":"IF('Staff proposed'!D361=\"\",\"\",IF('Staff proposed'!E361=\"\",\"Rest Day\",CONCATENATE(TEXT('Staff proposed'!E361,\"hhmm\"),\"-\",(TEXT('Staff proposed'!F361,\"hhmm\")))))","v":"Rest Day"},359]
[{"$f":"IF('Staff proposed'!C362=\"\",\"\",'Staff proposed'!C362)","v":""},{"$f":"IF('Staff proposed'!D362=\"\",\"\",'Staff proposed'!D362)","v":"Wed"},{"$f":"IF('Staff proposed'!D362=\"\",\"\",IF('Staff proposed'!E362=\"\",\"Rest Day\",CONCATENATE(TEXT('Staff proposed'!E362,\"hhmm\"),\"-\",(TEXT('Staff proposed'!F362,\"hhmm\")))))","v":"Rest Day"},360]
[{"$f":"IF('Staff proposed'!C363=\"\",\"\",'Staff proposed'!C363)","v":""},{"$f":"IF('Staff proposed'!D363=\"\",\"\",'Staff proposed'!D363)","v":"Thu"},{"$f":"IF('Staff proposed'!D363=\"\",\"\",IF('Staff proposed'!E363=\"\",\"Rest Day\",CONCATENATE(TEXT('Staff proposed'!E363,\"hhmm\"),\"-\",(TEXT('Staff proposed'!F363,\"hhmm\")))))","v":"Rest Day"},361]
[{"$f":"IF('Staff proposed'!C364=\"\",\"\",'Staff proposed'!C364)","v":""},{"$f":"IF('Staff proposed'!D364=\"\",\"\",'Staff proposed'!D364)","v":"Fri"},{"$f":"IF('Staff proposed'!D364=\"\",\"\",IF('Staff proposed'!E364=\"\",\"Rest Day\",CONCATENATE(TEXT('Staff proposed'!E364,\"hhmm\"),\"-\",(TEXT('Staff proposed'!F364,\"hhmm\")))))","v":"Rest Day"},362]
[{"$f":"IF('Staff proposed'!C365=\"\",\"\",'Staff proposed'!C365)","v":""},{"$f":"IF('Staff proposed'!D365=\"\",\"\",'Staff proposed'!D365)","v":"Sat"},{"$f":"IF('Staff proposed'!D365=\"\",\"\",IF('Staff proposed'!E365=\"\",\"Rest Day\",CONCATENATE(TEXT('Staff proposed'!E365,\"hhmm\"),\"-\",(TEXT('Staff proposed'!F365,\"hhmm\")))))","v":"Rest Day"},363]
[{"$f":"IF('Staff proposed'!C366=\"\",\"\",'Staff proposed'!C366)","v":""},{"$f":"IF('Staff proposed'!D366=\"\",\"\",'Staff proposed'!D366)","v":"Sun"},{"$f":"IF('Staff proposed'!D366=\"\",\"\",IF('Staff proposed'!E366=\"\",\"Rest Day\",CONCATENATE(TEXT('Staff proposed'!E366,\"hhmm\"),\"-\",(TEXT('Staff proposed'!F366,\"hhmm\")))))","v":"Rest Day"},364]
[{"$f":"IF('Staff proposed'!C367=\"\",\"\",'Staff proposed'!C367)","v":"Week53"},{"$f":"IF('Staff proposed'!D367=\"\",\"\",'Staff proposed'!D367)","v":"Mon"},{"$f":"IF('Staff proposed'!D367=\"\",\"\",IF('Staff proposed'!E367=\"\",\"Rest Day\",CONCATENATE(TEXT('Staff proposed'!E367,\"hhmm\"),\"-\",(TEXT('Staff proposed'!F367,\"hhmm\")))))","v":"Rest Day"},365,null,"Week 53"]
[{"$f":"IF('Staff proposed'!C368=\"\",\"\",'Staff proposed'!C368)","v":""},{"$f":"IF('Staff proposed'!D368=\"\",\"\",'Staff proposed'!D368)","v":"Tue"},{"$f":"IF('Staff proposed'!D368=\"\",\"\",IF('Staff proposed'!E368=\"\",\"Rest Day\",CONCATENATE(TEXT('Staff proposed'!E368,\"hhmm\"),\"-\",(TEXT('Staff proposed'!F368,\"hhmm\")))))","v":"Rest Day"},366]
[{"$f":"IF('Staff proposed'!C369=\"\",\"\",'Staff proposed'!C369)","v":""},{"$f":"IF('Staff proposed'!D369=\"\",\"\",'Staff proposed'!D369)","v":"Wed"},{"$f":"IF('Staff proposed'!D369=\"\",\"\",IF('Staff proposed'!E369=\"\",\"Rest Day\",CONCATENATE(TEXT('Staff proposed'!E369,\"hhmm\"),\"-\",(TEXT('Staff proposed'!F369,\"hhmm\")))))","v":"Rest Day"},367]
[{"$f":"IF('Staff proposed'!C370=\"\",\"\",'Staff proposed'!C370)","v":""},{"$f":"IF('Staff proposed'!D370=\"\",\"\",'Staff proposed'!D370)","v":"Thu"},{"$f":"IF('Staff proposed'!D370=\"\",\"\",IF('Staff proposed'!E370=\"\",\"Rest Day\",CONCATENATE(TEXT('Staff proposed'!E370,\"hhmm\"),\"-\",(TEXT('Staff proposed'!F370,\"hhmm\")))))","v":"Rest Day"},368]
[{"$f":"IF('Staff proposed'!C371=\"\",\"\",'Staff proposed'!C371)","v":""},{"$f":"IF('Staff proposed'!D371=\"\",\"\",'Staff proposed'!D371)","v":"Fri"},{"$f":"IF('Staff proposed'!D371=\"\",\"\",IF('Staff proposed'!E371=\"\",\"Rest Day\",CONCATENATE(TEXT('Staff proposed'!E371,\"hhmm\"),\"-\",(TEXT('Staff proposed'!F371,\"hhmm\")))))","v":"Rest Day"},369]
[{"$f":"IF('Staff proposed'!C372=\"\",\"\",'Staff proposed'!C372)","v":""},{"$f":"IF('Staff proposed'!D372=\"\",\"\",'Staff proposed'!D372)","v":"Sat"},{"$f":"IF('Staff proposed'!D372=\"\",\"\",IF('Staff proposed'!E372=\"\",\"Rest Day\",CONCATENATE(TEXT('Staff proposed'!E372,\"hhmm\"),\"-\",(TEXT('Staff proposed'!F372,\"hhmm\")))))","v":"Rest Day"},370]
[{"$f":"IF('Staff proposed'!C373=\"\",\"\",'Staff proposed'!C373)","v":""},{"$f":"IF('Staff proposed'!D373=\"\",\"\",'Staff proposed'!D373)","v":"Sun"},{"$f":"IF('Staff proposed'!D373=\"\",\"\",IF('Staff proposed'!E373=\"\",\"Rest Day\",CONCATENATE(TEXT('Staff proposed'!E373,\"hhmm\"),\"-\",(TEXT('Staff proposed'!F373,\"hhmm\")))))","v":"Rest Day"},371]

{"sheet":"GRS USE ONLY police","index":30,"n_rows":373,"n_cols":13,"rows_kept":373,"cut":false,"hidden":false,"merged":[]}
["Press Ctrl & y"]
[null,null,"Week counter",{"$f":"(WEEKDAY('Officer proposed'!X12)-2)","v":5},"Assumed start date",{"$f":"('Officer proposed'!X12-(('Officer proposed'!X15-1)*7)-D2)","v":"1900-01-02"},"Monday","Tuesday","Wednesday","Thursday","Friday","Saturday","Sunday"]
[{"$f":"IF('Officer proposed'!C3=\"\",\"\",'Officer proposed'!C3)","v":"Week1"},{"$f":"IF('Officer proposed'!D3=\"\",\"\",'Officer proposed'!D3)","v":"Mon"},{"$f":"IF('Officer proposed'!D3=\"\",\"\",IF('Officer proposed'!E3=\"F\",\"Free Day\",IF('Officer proposed'!E3=\"R\",\"Rest Day\",CONCATENATE(TEXT('Officer proposed'!E3,\"hhmm\"),\"-\",(TEXT('Officer proposed'!F3,\"hhmm\"))))))","v":"0000-0000"},1,null,"Week 1"]
[{"$f":"IF('Officer proposed'!C4=\"\",\"\",'Officer proposed'!C4)","v":""},{"$f":"IF('Officer proposed'!D4=\"\",\"\",'Officer proposed'!D4)","v":"Tue"},{"$f":"IF('Officer proposed'!D4=\"\",\"\",IF('Officer proposed'!E4=\"F\",\"Free Day\",IF('Officer proposed'!E4=\"R\",\"Rest Day\",CONCATENATE(TEXT('Officer proposed'!E4,\"hhmm\"),\"-\",(TEXT('Officer proposed'!F4,\"hhmm\"))))))","v":"0000-0000"},2]
[{"$f":"IF('Officer proposed'!C5=\"\",\"\",'Officer proposed'!C5)","v":""},{"$f":"IF('Officer proposed'!D5=\"\",\"\",'Officer proposed'!D5)","v":"Wed"},{"$f":"IF('Officer proposed'!D5=\"\",\"\",IF('Officer proposed'!E5=\"F\",\"Free Day\",IF('Officer proposed'!E5=\"R\",\"Rest Day\",CONCATENATE(TEXT('Officer proposed'!E5,\"hhmm\"),\"-\",(TEXT('Officer proposed'!F5,\"hhmm\"))))))","v":"0000-0000"},3]
[{"$f":"IF('Officer proposed'!C6=\"\",\"\",'Officer proposed'!C6)","v":""},{"$f":"IF('Officer proposed'!D6=\"\",\"\",'Officer proposed'!D6)","v":"Thu"},{"$f":"IF('Officer proposed'!D6=\"\",\"\",IF('Officer proposed'!E6=\"F\",\"Free Day\",IF('Officer proposed'!E6=\"R\",\"Rest Day\",CONCATENATE(TEXT('Officer proposed'!E6,\"hhmm\"),\"-\",(TEXT('Officer proposed'!F6,\"hhmm\"))))))","v":"0000-0000"},4]
[{"$f":"IF('Officer proposed'!C7=\"\",\"\",'Officer proposed'!C7)","v":""},{"$f":"IF('Officer proposed'!D7=\"\",\"\",'Officer proposed'!D7)","v":"Fri"},{"$f":"IF('Officer proposed'!D7=\"\",\"\",IF('Officer proposed'!E7=\"F\",\"Free Day\",IF('Officer proposed'!E7=\"R\",\"Rest Day\",CONCATENATE(TEXT('Officer proposed'!E7,\"hhmm\"),\"-\",(TEXT('Officer proposed'!F7,\"hhmm\"))))))","v":"0000-0000"},5]
[{"$f":"IF('Officer proposed'!C8=\"\",\"\",'Officer proposed'!C8)","v":""},{"$f":"IF('Officer proposed'!D8=\"\",\"\",'Officer proposed'!D8)","v":"Sat"},{"$f":"IF('Officer proposed'!D8=\"\",\"\",IF('Officer proposed'!E8=\"F\",\"Free Day\",IF('Officer proposed'!E8=\"R\",\"Rest Day\",CONCATENATE(TEXT('Officer proposed'!E8,\"hhmm\"),\"-\",(TEXT('Officer proposed'!F8,\"hhmm\"))))))","v":"0000-0000"},6]
[{"$f":"IF('Officer proposed'!C9=\"\",\"\",'Officer proposed'!C9)","v":""},{"$f":"IF('Officer proposed'!D9=\"\",\"\",'Officer proposed'!D9)","v":"Sun"},{"$f":"IF('Officer proposed'!D9=\"\",\"\",IF('Officer proposed'!E9=\"F\",\"Free Day\",IF('Officer proposed'!E9=\"R\",\"Rest Day\",CONCATENATE(TEXT('Officer proposed'!E9,\"hhmm\"),\"-\",(TEXT('Officer proposed'!F9,\"hhmm\"))))))","v":"0000-0000"},7]
[{"$f":"IF('Officer proposed'!C10=\"\",\"\",'Officer proposed'!C10)","v":"Week2"},{"$f":"IF('Officer proposed'!D10=\"\",\"\",'Officer proposed'!D10)","v":"Mon"},{"$f":"IF('Officer proposed'!D10=\"\",\"\",IF('Officer proposed'!E10=\"F\",\"Free Day\",IF('Officer proposed'!E10=\"R\",\"Rest Day\",CONCATENATE(TEXT('Officer proposed'!E10,\"hhmm\"),\"-\",(TEXT('Officer proposed'!F10,\"hhmm\"))))))","v":"0000-0000"},8,null,"Week 2"]
[{"$f":"IF('Officer proposed'!C11=\"\",\"\",'Officer proposed'!C11)","v":""},{"$f":"IF('Officer proposed'!D11=\"\",\"\",'Officer proposed'!D11)","v":"Tue"},{"$f":"IF('Officer proposed'!D11=\"\",\"\",IF('Officer proposed'!E11=\"F\",\"Free Day\",IF('Officer proposed'!E11=\"R\",\"Rest Day\",CONCATENATE(TEXT('Officer proposed'!E11,\"hhmm\"),\"-\",(TEXT('Officer proposed'!F11,\"hhmm\"))))))","v":"0000-0000"},9]
[{"$f":"IF('Officer proposed'!C12=\"\",\"\",'Officer proposed'!C12)","v":""},{"$f":"IF('Officer proposed'!D12=\"\",\"\",'Officer proposed'!D12)","v":"Wed"},{"$f":"IF('Officer proposed'!D12=\"\",\"\",IF('Officer proposed'!E12=\"F\",\"Free Day\",IF('Officer proposed'!E12=\"R\",\"Rest Day\",CONCATENATE(TEXT('Officer proposed'!E12,\"hhmm\"),\"-\",(TEXT('Officer proposed'!F12,\"hhmm\"))))))","v":"0000-0000"},10]
[{"$f":"IF('Officer proposed'!C13=\"\",\"\",'Officer proposed'!C13)","v":""},{"$f":"IF('Officer proposed'!D13=\"\",\"\",'Officer proposed'!D13)","v":"Thu"},{"$f":"IF('Officer proposed'!D13=\"\",\"\",IF('Officer proposed'!E13=\"F\",\"Free Day\",IF('Officer proposed'!E13=\"R\",\"Rest Day\",CONCATENATE(TEXT('Officer proposed'!E13,\"hhmm\"),\"-\",(TEXT('Officer proposed'!F13,\"hhmm\"))))))","v":"0000-0000"},11]
[{"$f":"IF('Officer proposed'!C14=\"\",\"\",'Officer proposed'!C14)","v":""},{"$f":"IF('Officer proposed'!D14=\"\",\"\",'Officer proposed'!D14)","v":"Fri"},{"$f":"IF('Officer proposed'!D14=\"\",\"\",IF('Officer proposed'!E14=\"F\",\"Free Day\",IF('Officer proposed'!E14=\"R\",\"Rest Day\",CONCATENATE(TEXT('Officer proposed'!E14,\"hhmm\"),\"-\",(TEXT('Officer proposed'!F14,\"hhmm\"))))))","v":"0000-0000"},12]
[{"$f":"IF('Officer proposed'!C15=\"\",\"\",'Officer proposed'!C15)","v":""},{"$f":"IF('Officer proposed'!D15=\"\",\"\",'Officer proposed'!D15)","v":"Sat"},{"$f":"IF('Officer proposed'!D15=\"\",\"\",IF('Officer proposed'!E15=\"F\",\"Free Day\",IF('Officer proposed'!E15=\"R\",\"Rest Day\",CONCATENATE(TEXT('Officer proposed'!E15,\"hhmm\"),\"-\",(TEXT('Officer proposed'!F15,\"hhmm\"))))))","v":"0000-0000"},13]
[{"$f":"IF('Officer proposed'!C16=\"\",\"\",'Officer proposed'!C16)","v":""},{"$f":"IF('Officer proposed'!D16=\"\",\"\",'Officer proposed'!D16)","v":"Sun"},{"$f":"IF('Officer proposed'!D16=\"\",\"\",IF('Officer proposed'!E16=\"F\",\"Free Day\",IF('Officer proposed'!E16=\"R\",\"Rest Day\",CONCATENATE(TEXT('Officer proposed'!E16,\"hhmm\"),\"-\",(TEXT('Officer proposed'!F16,\"hhmm\"))))))","v":"0000-0000"},14]
[{"$f":"IF('Officer proposed'!C17=\"\",\"\",'Officer proposed'!C17)","v":"Week3"},{"$f":"IF('Officer proposed'!D17=\"\",\"\",'Officer proposed'!D17)","v":"Mon"},{"$f":"IF('Officer proposed'!D17=\"\",\"\",IF('Officer proposed'!E17=\"F\",\"Free Day\",IF('Officer proposed'!E17=\"R\",\"Rest Day\",CONCATENATE(TEXT('Officer proposed'!E17,\"hhmm\"),\"-\",(TEXT('Officer proposed'!F17,\"hhmm\"))))))","v":"0000-0000"},15,null,"Week 3"]
[{"$f":"IF('Officer proposed'!C18=\"\",\"\",'Officer proposed'!C18)","v":""},{"$f":"IF('Officer proposed'!D18=\"\",\"\",'Officer proposed'!D18)","v":"Tue"},{"$f":"IF('Officer proposed'!D18=\"\",\"\",IF('Officer proposed'!E18=\"F\",\"Free Day\",IF('Officer proposed'!E18=\"R\",\"Rest Day\",CONCATENATE(TEXT('Officer proposed'!E18,\"hhmm\"),\"-\",(TEXT('Officer proposed'!F18,\"hhmm\"))))))","v":"0000-0000"},16]
[{"$f":"IF('Officer proposed'!C19=\"\",\"\",'Officer proposed'!C19)","v":""},{"$f":"IF('Officer proposed'!D19=\"\",\"\",'Officer proposed'!D19)","v":"Wed"},{"$f":"IF('Officer proposed'!D19=\"\",\"\",IF('Officer proposed'!E19=\"F\",\"Free Day\",IF('Officer proposed'!E19=\"R\",\"Rest Day\",CONCATENATE(TEXT('Officer proposed'!E19,\"hhmm\"),\"-\",(TEXT('Officer proposed'!F19,\"hhmm\"))))))","v":"0000-0000"},17]
[{"$f":"IF('Officer proposed'!C20=\"\",\"\",'Officer proposed'!C20)","v":""},{"$f":"IF('Officer proposed'!D20=\"\",\"\",'Officer proposed'!D20)","v":"Thu"},{"$f":"IF('Officer proposed'!D20=\"\",\"\",IF('Officer proposed'!E20=\"F\",\"Free Day\",IF('Officer proposed'!E20=\"R\",\"Rest Day\",CONCATENATE(TEXT('Officer proposed'!E20,\"hhmm\"),\"-\",(TEXT('Officer proposed'!F20,\"hhmm\"))))))","v":"0000-0000"},18]
[{"$f":"IF('Officer proposed'!C21=\"\",\"\",'Officer proposed'!C21)","v":""},{"$f":"IF('Officer proposed'!D21=\"\",\"\",'Officer proposed'!D21)","v":"Fri"},{"$f":"IF('Officer proposed'!D21=\"\",\"\",IF('Officer proposed'!E21=\"F\",\"Free Day\",IF('Officer proposed'!E21=\"R\",\"Rest Day\",CONCATENATE(TEXT('Officer proposed'!E21,\"hhmm\"),\"-\",(TEXT('Officer proposed'!F21,\"hhmm\"))))))","v":"0000-0000"},19]
[{"$f":"IF('Officer proposed'!C22=\"\",\"\",'Officer proposed'!C22)","v":""},{"$f":"IF('Officer proposed'!D22=\"\",\"\",'Officer proposed'!D22)","v":"Sat"},{"$f":"IF('Officer proposed'!D22=\"\",\"\",IF('Officer proposed'!E22=\"F\",\"Free Day\",IF('Officer proposed'!E22=\"R\",\"Rest Day\",CONCATENATE(TEXT('Officer proposed'!E22,\"hhmm\"),\"-\",(TEXT('Officer proposed'!F22,\"hhmm\"))))))","v":"0000-0000"},20]
[{"$f":"IF('Officer proposed'!C23=\"\",\"\",'Officer proposed'!C23)","v":""},{"$f":"IF('Officer proposed'!D23=\"\",\"\",'Officer proposed'!D23)","v":"Sun"},{"$f":"IF('Officer proposed'!D23=\"\",\"\",IF('Officer proposed'!E23=\"F\",\"Free Day\",IF('Officer proposed'!E23=\"R\",\"Rest Day\",CONCATENATE(TEXT('Officer proposed'!E23,\"hhmm\"),\"-\",(TEXT('Officer proposed'!F23,\"hhmm\"))))))","v":"0000-0000"},21]
[{"$f":"IF('Officer proposed'!C24=\"\",\"\",'Officer proposed'!C24)","v":"Week4"},{"$f":"IF('Officer proposed'!D24=\"\",\"\",'Officer proposed'!D24)","v":"Mon"},{"$f":"IF('Officer proposed'!D24=\"\",\"\",IF('Officer proposed'!E24=\"F\",\"Free Day\",IF('Officer proposed'!E24=\"R\",\"Rest Day\",CONCATENATE(TEXT('Officer proposed'!E24,\"hhmm\"),\"-\",(TEXT('Officer proposed'!F24,\"hhmm\"))))))","v":"0000-0000"},22,null,"Week 4"]
[{"$f":"IF('Officer proposed'!C25=\"\",\"\",'Officer proposed'!C25)","v":""},{"$f":"IF('Officer proposed'!D25=\"\",\"\",'Officer proposed'!D25)","v":"Tue"},{"$f":"IF('Officer proposed'!D25=\"\",\"\",IF('Officer proposed'!E25=\"F\",\"Free Day\",IF('Officer proposed'!E25=\"R\",\"Rest Day\",CONCATENATE(TEXT('Officer proposed'!E25,\"hhmm\"),\"-\",(TEXT('Officer proposed'!F25,\"hhmm\"))))))","v":"0000-0000"},23]
[{"$f":"IF('Officer proposed'!C26=\"\",\"\",'Officer proposed'!C26)","v":""},{"$f":"IF('Officer proposed'!D26=\"\",\"\",'Officer proposed'!D26)","v":"Wed"},{"$f":"IF('Officer proposed'!D26=\"\",\"\",IF('Officer proposed'!E26=\"F\",\"Free Day\",IF('Officer proposed'!E26=\"R\",\"Rest Day\",CONCATENATE(TEXT('Officer proposed'!E26,\"hhmm\"),\"-\",(TEXT('Officer proposed'!F26,\"hhmm\"))))))","v":"0000-0000"},24]
[{"$f":"IF('Officer proposed'!C27=\"\",\"\",'Officer proposed'!C27)","v":""},{"$f":"IF('Officer proposed'!D27=\"\",\"\",'Officer proposed'!D27)","v":"Thu"},{"$f":"IF('Officer proposed'!D27=\"\",\"\",IF('Officer proposed'!E27=\"F\",\"Free Day\",IF('Officer proposed'!E27=\"R\",\"Rest Day\",CONCATENATE(TEXT('Officer proposed'!E27,\"hhmm\"),\"-\",(TEXT('Officer proposed'!F27,\"hhmm\"))))))","v":"0000-0000"},25]
[{"$f":"IF('Officer proposed'!C28=\"\",\"\",'Officer proposed'!C28)","v":""},{"$f":"IF('Officer proposed'!D28=\"\",\"\",'Officer proposed'!D28)","v":"Fri"},{"$f":"IF('Officer proposed'!D28=\"\",\"\",IF('Officer proposed'!E28=\"F\",\"Free Day\",IF('Officer proposed'!E28=\"R\",\"Rest Day\",CONCATENATE(TEXT('Officer proposed'!E28,\"hhmm\"),\"-\",(TEXT('Officer proposed'!F28,\"hhmm\"))))))","v":"0000-0000"},26]
[{"$f":"IF('Officer proposed'!C29=\"\",\"\",'Officer proposed'!C29)","v":""},{"$f":"IF('Officer proposed'!D29=\"\",\"\",'Officer proposed'!D29)","v":"Sat"},{"$f":"IF('Officer proposed'!D29=\"\",\"\",IF('Officer proposed'!E29=\"F\",\"Free Day\",IF('Officer proposed'!E29=\"R\",\"Rest Day\",CONCATENATE(TEXT('Officer proposed'!E29,\"hhmm\"),\"-\",(TEXT('Officer proposed'!F29,\"hhmm\"))))))","v":"0000-0000"},27]
[{"$f":"IF('Officer proposed'!C30=\"\",\"\",'Officer proposed'!C30)","v":""},{"$f":"IF('Officer proposed'!D30=\"\",\"\",'Officer proposed'!D30)","v":"Sun"},{"$f":"IF('Officer proposed'!D30=\"\",\"\",IF('Officer proposed'!E30=\"F\",\"Free Day\",IF('Officer proposed'!E30=\"R\",\"Rest Day\",CONCATENATE(TEXT('Officer proposed'!E30,\"hhmm\"),\"-\",(TEXT('Officer proposed'!F30,\"hhmm\"))))))","v":"0000-0000"},28]
[{"$f":"IF('Officer proposed'!C31=\"\",\"\",'Officer proposed'!C31)","v":"Week5"},{"$f":"IF('Officer proposed'!D31=\"\",\"\",'Officer proposed'!D31)","v":"Mon"},{"$f":"IF('Officer proposed'!D31=\"\",\"\",IF('Officer proposed'!E31=\"F\",\"Free Day\",IF('Officer proposed'!E31=\"R\",\"Rest Day\",CONCATENATE(TEXT('Officer proposed'!E31,\"hhmm\"),\"-\",(TEXT('Officer proposed'!F31,\"hhmm\"))))))","v":"0000-0000"},29,null,"Week 5"]
[{"$f":"IF('Officer proposed'!C32=\"\",\"\",'Officer proposed'!C32)","v":""},{"$f":"IF('Officer proposed'!D32=\"\",\"\",'Officer proposed'!D32)","v":"Tue"},{"$f":"IF('Officer proposed'!D32=\"\",\"\",IF('Officer proposed'!E32=\"F\",\"Free Day\",IF('Officer proposed'!E32=\"R\",\"Rest Day\",CONCATENATE(TEXT('Officer proposed'!E32,\"hhmm\"),\"-\",(TEXT('Officer proposed'!F32,\"hhmm\"))))))","v":"0000-0000"},30]
[{"$f":"IF('Officer proposed'!C33=\"\",\"\",'Officer proposed'!C33)","v":""},{"$f":"IF('Officer proposed'!D33=\"\",\"\",'Officer proposed'!D33)","v":"Wed"},{"$f":"IF('Officer proposed'!D33=\"\",\"\",IF('Officer proposed'!E33=\"F\",\"Free Day\",IF('Officer proposed'!E33=\"R\",\"Rest Day\",CONCATENATE(TEXT('Officer proposed'!E33,\"hhmm\"),\"-\",(TEXT('Officer proposed'!F33,\"hhmm\"))))))","v":"0000-0000"},31]
[{"$f":"IF('Officer proposed'!C34=\"\",\"\",'Officer proposed'!C34)","v":""},{"$f":"IF('Officer proposed'!D34=\"\",\"\",'Officer proposed'!D34)","v":"Thu"},{"$f":"IF('Officer proposed'!D34=\"\",\"\",IF('Officer proposed'!E34=\"F\",\"Free Day\",IF('Officer proposed'!E34=\"R\",\"Rest Day\",CONCATENATE(TEXT('Officer proposed'!E34,\"hhmm\"),\"-\",(TEXT('Officer proposed'!F34,\"hhmm\"))))))","v":"0000-0000"},32]
[{"$f":"IF('Officer proposed'!C35=\"\",\"\",'Officer proposed'!C35)","v":""},{"$f":"IF('Officer proposed'!D35=\"\",\"\",'Officer proposed'!D35)","v":"Fri"},{"$f":"IF('Officer proposed'!D35=\"\",\"\",IF('Officer proposed'!E35=\"F\",\"Free Day\",IF('Officer proposed'!E35=\"R\",\"Rest Day\",CONCATENATE(TEXT('Officer proposed'!E35,\"hhmm\"),\"-\",(TEXT('Officer proposed'!F35,\"hhmm\"))))))","v":"0000-0000"},33]
[{"$f":"IF('Officer proposed'!C36=\"\",\"\",'Officer proposed'!C36)","v":""},{"$f":"IF('Officer proposed'!D36=\"\",\"\",'Officer proposed'!D36)","v":"Sat"},{"$f":"IF('Officer proposed'!D36=\"\",\"\",IF('Officer proposed'!E36=\"F\",\"Free Day\",IF('Officer proposed'!E36=\"R\",\"Rest Day\",CONCATENATE(TEXT('Officer proposed'!E36,\"hhmm\"),\"-\",(TEXT('Officer proposed'!F36,\"hhmm\"))))))","v":"0000-0000"},34]
[{"$f":"IF('Officer proposed'!C37=\"\",\"\",'Officer proposed'!C37)","v":""},{"$f":"IF('Officer proposed'!D37=\"\",\"\",'Officer proposed'!D37)","v":"Sun"},{"$f":"IF('Officer proposed'!D37=\"\",\"\",IF('Officer proposed'!E37=\"F\",\"Free Day\",IF('Officer proposed'!E37=\"R\",\"Rest Day\",CONCATENATE(TEXT('Officer proposed'!E37,\"hhmm\"),\"-\",(TEXT('Officer proposed'!F37,\"hhmm\"))))))","v":"0000-0000"},35]
[{"$f":"IF('Officer proposed'!C38=\"\",\"\",'Officer proposed'!C38)","v":"Week6"},{"$f":"IF('Officer proposed'!D38=\"\",\"\",'Officer proposed'!D38)","v":"Mon"},{"$f":"IF('Officer proposed'!D38=\"\",\"\",IF('Officer proposed'!E38=\"F\",\"Free Day\",IF('Officer proposed'!E38=\"R\",\"Rest Day\",CONCATENATE(TEXT('Officer proposed'!E38,\"hhmm\"),\"-\",(TEXT('Officer proposed'!F38,\"hhmm\"))))))","v":"0000-0000"},36,null,"Week 6"]
[{"$f":"IF('Officer proposed'!C39=\"\",\"\",'Officer proposed'!C39)","v":""},{"$f":"IF('Officer proposed'!D39=\"\",\"\",'Officer proposed'!D39)","v":"Tue"},{"$f":"IF('Officer proposed'!D39=\"\",\"\",IF('Officer proposed'!E39=\"F\",\"Free Day\",IF('Officer proposed'!E39=\"R\",\"Rest Day\",CONCATENATE(TEXT('Officer proposed'!E39,\"hhmm\"),\"-\",(TEXT('Officer proposed'!F39,\"hhmm\"))))))","v":"0000-0000"},37]
[{"$f":"IF('Officer proposed'!C40=\"\",\"\",'Officer proposed'!C40)","v":""},{"$f":"IF('Officer proposed'!D40=\"\",\"\",'Officer proposed'!D40)","v":"Wed"},{"$f":"IF('Officer proposed'!D40=\"\",\"\",IF('Officer proposed'!E40=\"F\",\"Free Day\",IF('Officer proposed'!E40=\"R\",\"Rest Day\",CONCATENATE(TEXT('Officer proposed'!E40,\"hhmm\"),\"-\",(TEXT('Officer proposed'!F40,\"hhmm\"))))))","v":"0000-0000"},38]
[{"$f":"IF('Officer proposed'!C41=\"\",\"\",'Officer proposed'!C41)","v":""},{"$f":"IF('Officer proposed'!D41=\"\",\"\",'Officer proposed'!D41)","v":"Thu"},{"$f":"IF('Officer proposed'!D41=\"\",\"\",IF('Officer proposed'!E41=\"F\",\"Free Day\",IF('Officer proposed'!E41=\"R\",\"Rest Day\",CONCATENATE(TEXT('Officer proposed'!E41,\"hhmm\"),\"-\",(TEXT('Officer proposed'!F41,\"hhmm\"))))))","v":"0000-0000"},39]
[{"$f":"IF('Officer proposed'!C42=\"\",\"\",'Officer proposed'!C42)","v":""},{"$f":"IF('Officer proposed'!D42=\"\",\"\",'Officer proposed'!D42)","v":"Fri"},{"$f":"IF('Officer proposed'!D42=\"\",\"\",IF('Officer proposed'!E42=\"F\",\"Free Day\",IF('Officer proposed'!E42=\"R\",\"Rest Day\",CONCATENATE(TEXT('Officer proposed'!E42,\"hhmm\"),\"-\",(TEXT('Officer proposed'!F42,\"hhmm\"))))))","v":"0000-0000"},40]
[{"$f":"IF('Officer proposed'!C43=\"\",\"\",'Officer proposed'!C43)","v":""},{"$f":"IF('Officer proposed'!D43=\"\",\"\",'Officer proposed'!D43)","v":"Sat"},{"$f":"IF('Officer proposed'!D43=\"\",\"\",IF('Officer proposed'!E43=\"F\",\"Free Day\",IF('Officer proposed'!E43=\"R\",\"Rest Day\",CONCATENATE(TEXT('Officer proposed'!E43,\"hhmm\"),\"-\",(TEXT('Officer proposed'!F43,\"hhmm\"))))))","v":"0000-0000"},41]
[{"$f":"IF('Officer proposed'!C44=\"\",\"\",'Officer proposed'!C44)","v":""},{"$f":"IF('Officer proposed'!D44=\"\",\"\",'Officer proposed'!D44)","v":"Sun"},{"$f":"IF('Officer proposed'!D44=\"\",\"\",IF('Officer proposed'!E44=\"F\",\"Free Day\",IF('Officer proposed'!E44=\"R\",\"Rest Day\",CONCATENATE(TEXT('Officer proposed'!E44,\"hhmm\"),\"-\",(TEXT('Officer proposed'!F44,\"hhmm\"))))))","v":"0000-0000"},42]
[{"$f":"IF('Officer proposed'!C45=\"\",\"\",'Officer proposed'!C45)","v":"Week7"},{"$f":"IF('Officer proposed'!D45=\"\",\"\",'Officer proposed'!D45)","v":"Mon"},{"$f":"IF('Officer proposed'!D45=\"\",\"\",IF('Officer proposed'!E45=\"F\",\"Free Day\",IF('Officer proposed'!E45=\"R\",\"Rest Day\",CONCATENATE(TEXT('Officer proposed'!E45,\"hhmm\"),\"-\",(TEXT('Officer proposed'!F45,\"hhmm\"))))))","v":"0000-0000"},43,null,"Week 7"]
[{"$f":"IF('Officer proposed'!C46=\"\",\"\",'Officer proposed'!C46)","v":""},{"$f":"IF('Officer proposed'!D46=\"\",\"\",'Officer proposed'!D46)","v":"Tue"},{"$f":"IF('Officer proposed'!D46=\"\",\"\",IF('Officer proposed'!E46=\"F\",\"Free Day\",IF('Officer proposed'!E46=\"R\",\"Rest Day\",CONCATENATE(TEXT('Officer proposed'!E46,\"hhmm\"),\"-\",(TEXT('Officer proposed'!F46,\"hhmm\"))))))","v":"0000-0000"},44]
[{"$f":"IF('Officer proposed'!C47=\"\",\"\",'Officer proposed'!C47)","v":""},{"$f":"IF('Officer proposed'!D47=\"\",\"\",'Officer proposed'!D47)","v":"Wed"},{"$f":"IF('Officer proposed'!D47=\"\",\"\",IF('Officer proposed'!E47=\"F\",\"Free Day\",IF('Officer proposed'!E47=\"R\",\"Rest Day\",CONCATENATE(TEXT('Officer proposed'!E47,\"hhmm\"),\"-\",(TEXT('Officer proposed'!F47,\"hhmm\"))))))","v":"0000-0000"},45]
[{"$f":"IF('Officer proposed'!C48=\"\",\"\",'Officer proposed'!C48)","v":""},{"$f":"IF('Officer proposed'!D48=\"\",\"\",'Officer proposed'!D48)","v":"Thu"},{"$f":"IF('Officer proposed'!D48=\"\",\"\",IF('Officer proposed'!E48=\"F\",\"Free Day\",IF('Officer proposed'!E48=\"R\",\"Rest Day\",CONCATENATE(TEXT('Officer proposed'!E48,\"hhmm\"),\"-\",(TEXT('Officer proposed'!F48,\"hhmm\"))))))","v":"0000-0000"},46]
[{"$f":"IF('Officer proposed'!C49=\"\",\"\",'Officer proposed'!C49)","v":""},{"$f":"IF('Officer proposed'!D49=\"\",\"\",'Officer proposed'!D49)","v":"Fri"},{"$f":"IF('Officer proposed'!D49=\"\",\"\",IF('Officer proposed'!E49=\"F\",\"Free Day\",IF('Officer proposed'!E49=\"R\",\"Rest Day\",CONCATENATE(TEXT('Officer proposed'!E49,\"hhmm\"),\"-\",(TEXT('Officer proposed'!F49,\"hhmm\"))))))","v":"0000-0000"},47]
[{"$f":"IF('Officer proposed'!C50=\"\",\"\",'Officer proposed'!C50)","v":""},{"$f":"IF('Officer proposed'!D50=\"\",\"\",'Officer proposed'!D50)","v":"Sat"},{"$f":"IF('Officer proposed'!D50=\"\",\"\",IF('Officer proposed'!E50=\"F\",\"Free Day\",IF('Officer proposed'!E50=\"R\",\"Rest Day\",CONCATENATE(TEXT('Officer proposed'!E50,\"hhmm\"),\"-\",(TEXT('Officer proposed'!F50,\"hhmm\"))))))","v":"0000-0000"},48]
[{"$f":"IF('Officer proposed'!C51=\"\",\"\",'Officer proposed'!C51)","v":""},{"$f":"IF('Officer proposed'!D51=\"\",\"\",'Officer proposed'!D51)","v":"Sun"},{"$f":"IF('Officer proposed'!D51=\"\",\"\",IF('Officer proposed'!E51=\"F\",\"Free Day\",IF('Officer proposed'!E51=\"R\",\"Rest Day\",CONCATENATE(TEXT('Officer proposed'!E51,\"hhmm\"),\"-\",(TEXT('Officer proposed'!F51,\"hhmm\"))))))","v":"0000-0000"},49]
[{"$f":"IF('Officer proposed'!C52=\"\",\"\",'Officer proposed'!C52)","v":"Week8"},{"$f":"IF('Officer proposed'!D52=\"\",\"\",'Officer proposed'!D52)","v":"Mon"},{"$f":"IF('Officer proposed'!D52=\"\",\"\",IF('Officer proposed'!E52=\"F\",\"Free Day\",IF('Officer proposed'!E52=\"R\",\"Rest Day\",CONCATENATE(TEXT('Officer proposed'!E52,\"hhmm\"),\"-\",(TEXT('Officer proposed'!F52,\"hhmm\"))))))","v":"0000-0000"},50,null,"Week 8"]
[{"$f":"IF('Officer proposed'!C53=\"\",\"\",'Officer proposed'!C53)","v":""},{"$f":"IF('Officer proposed'!D53=\"\",\"\",'Officer proposed'!D53)","v":"Tue"},{"$f":"IF('Officer proposed'!D53=\"\",\"\",IF('Officer proposed'!E53=\"F\",\"Free Day\",IF('Officer proposed'!E53=\"R\",\"Rest Day\",CONCATENATE(TEXT('Officer proposed'!E53,\"hhmm\"),\"-\",(TEXT('Officer proposed'!F53,\"hhmm\"))))))","v":"0000-0000"},51]
[{"$f":"IF('Officer proposed'!C54=\"\",\"\",'Officer proposed'!C54)","v":""},{"$f":"IF('Officer proposed'!D54=\"\",\"\",'Officer proposed'!D54)","v":"Wed"},{"$f":"IF('Officer proposed'!D54=\"\",\"\",IF('Officer proposed'!E54=\"F\",\"Free Day\",IF('Officer proposed'!E54=\"R\",\"Rest Day\",CONCATENATE(TEXT('Officer proposed'!E54,\"hhmm\"),\"-\",(TEXT('Officer proposed'!F54,\"hhmm\"))))))","v":"0000-0000"},52]
[{"$f":"IF('Officer proposed'!C55=\"\",\"\",'Officer proposed'!C55)","v":""},{"$f":"IF('Officer proposed'!D55=\"\",\"\",'Officer proposed'!D55)","v":"Thu"},{"$f":"IF('Officer proposed'!D55=\"\",\"\",IF('Officer proposed'!E55=\"F\",\"Free Day\",IF('Officer proposed'!E55=\"R\",\"Rest Day\",CONCATENATE(TEXT('Officer proposed'!E55,\"hhmm\"),\"-\",(TEXT('Officer proposed'!F55,\"hhmm\"))))))","v":"0000-0000"},53]
[{"$f":"IF('Officer proposed'!C56=\"\",\"\",'Officer proposed'!C56)","v":""},{"$f":"IF('Officer proposed'!D56=\"\",\"\",'Officer proposed'!D56)","v":"Fri"},{"$f":"IF('Officer proposed'!D56=\"\",\"\",IF('Officer proposed'!E56=\"F\",\"Free Day\",IF('Officer proposed'!E56=\"R\",\"Rest Day\",CONCATENATE(TEXT('Officer proposed'!E56,\"hhmm\"),\"-\",(TEXT('Officer proposed'!F56,\"hhmm\"))))))","v":"0000-0000"},54]
[{"$f":"IF('Officer proposed'!C57=\"\",\"\",'Officer proposed'!C57)","v":""},{"$f":"IF('Officer proposed'!D57=\"\",\"\",'Officer proposed'!D57)","v":"Sat"},{"$f":"IF('Officer proposed'!D57=\"\",\"\",IF('Officer proposed'!E57=\"F\",\"Free Day\",IF('Officer proposed'!E57=\"R\",\"Rest Day\",CONCATENATE(TEXT('Officer proposed'!E57,\"hhmm\"),\"-\",(TEXT('Officer proposed'!F57,\"hhmm\"))))))","v":"0000-0000"},55]
[{"$f":"IF('Officer proposed'!C58=\"\",\"\",'Officer proposed'!C58)","v":""},{"$f":"IF('Officer proposed'!D58=\"\",\"\",'Officer proposed'!D58)","v":"Sun"},{"$f":"IF('Officer proposed'!D58=\"\",\"\",IF('Officer proposed'!E58=\"F\",\"Free Day\",IF('Officer proposed'!E58=\"R\",\"Rest Day\",CONCATENATE(TEXT('Officer proposed'!E58,\"hhmm\"),\"-\",(TEXT('Officer proposed'!F58,\"hhmm\"))))))","v":"0000-0000"},56]
[{"$f":"IF('Officer proposed'!C59=\"\",\"\",'Officer proposed'!C59)","v":"Week9"},{"$f":"IF('Officer proposed'!D59=\"\",\"\",'Officer proposed'!D59)","v":"Mon"},{"$f":"IF('Officer proposed'!D59=\"\",\"\",IF('Officer proposed'!E59=\"F\",\"Free Day\",IF('Officer proposed'!E59=\"R\",\"Rest Day\",CONCATENATE(TEXT('Officer proposed'!E59,\"hhmm\"),\"-\",(TEXT('Officer proposed'!F59,\"hhmm\"))))))","v":"0000-0000"},57,null,"Week 9"]
[{"$f":"IF('Officer proposed'!C60=\"\",\"\",'Officer proposed'!C60)","v":""},{"$f":"IF('Officer proposed'!D60=\"\",\"\",'Officer proposed'!D60)","v":"Tue"},{"$f":"IF('Officer proposed'!D60=\"\",\"\",IF('Officer proposed'!E60=\"F\",\"Free Day\",IF('Officer proposed'!E60=\"R\",\"Rest Day\",CONCATENATE(TEXT('Officer proposed'!E60,\"hhmm\"),\"-\",(TEXT('Officer proposed'!F60,\"hhmm\"))))))","v":"0000-0000"},58]
[{"$f":"IF('Officer proposed'!C61=\"\",\"\",'Officer proposed'!C61)","v":""},{"$f":"IF('Officer proposed'!D61=\"\",\"\",'Officer proposed'!D61)","v":"Wed"},{"$f":"IF('Officer proposed'!D61=\"\",\"\",IF('Officer proposed'!E61=\"F\",\"Free Day\",IF('Officer proposed'!E61=\"R\",\"Rest Day\",CONCATENATE(TEXT('Officer proposed'!E61,\"hhmm\"),\"-\",(TEXT('Officer proposed'!F61,\"hhmm\"))))))","v":"0000-0000"},59]
[{"$f":"IF('Officer proposed'!C62=\"\",\"\",'Officer proposed'!C62)","v":""},{"$f":"IF('Officer proposed'!D62=\"\",\"\",'Officer proposed'!D62)","v":"Thu"},{"$f":"IF('Officer proposed'!D62=\"\",\"\",IF('Officer proposed'!E62=\"F\",\"Free Day\",IF('Officer proposed'!E62=\"R\",\"Rest Day\",CONCATENATE(TEXT('Officer proposed'!E62,\"hhmm\"),\"-\",(TEXT('Officer proposed'!F62,\"hhmm\"))))))","v":"0000-0000"},60]
[{"$f":"IF('Officer proposed'!C63=\"\",\"\",'Officer proposed'!C63)","v":""},{"$f":"IF('Officer proposed'!D63=\"\",\"\",'Officer proposed'!D63)","v":"Fri"},{"$f":"IF('Officer proposed'!D63=\"\",\"\",IF('Officer proposed'!E63=\"F\",\"Free Day\",IF('Officer proposed'!E63=\"R\",\"Rest Day\",CONCATENATE(TEXT('Officer proposed'!E63,\"hhmm\"),\"-\",(TEXT('Officer proposed'!F63,\"hhmm\"))))))","v":"0000-0000"},61]
[{"$f":"IF('Officer proposed'!C64=\"\",\"\",'Officer proposed'!C64)","v":""},{"$f":"IF('Officer proposed'!D64=\"\",\"\",'Officer proposed'!D64)","v":"Sat"},{"$f":"IF('Officer proposed'!D64=\"\",\"\",IF('Officer proposed'!E64=\"F\",\"Free Day\",IF('Officer proposed'!E64=\"R\",\"Rest Day\",CONCATENATE(TEXT('Officer proposed'!E64,\"hhmm\"),\"-\",(TEXT('Officer proposed'!F64,\"hhmm\"))))))","v":"0000-0000"},62]
[{"$f":"IF('Officer proposed'!C65=\"\",\"\",'Officer proposed'!C65)","v":""},{"$f":"IF('Officer proposed'!D65=\"\",\"\",'Officer proposed'!D65)","v":"Sun"},{"$f":"IF('Officer proposed'!D65=\"\",\"\",IF('Officer proposed'!E65=\"F\",\"Free Day\",IF('Officer proposed'!E65=\"R\",\"Rest Day\",CONCATENATE(TEXT('Officer proposed'!E65,\"hhmm\"),\"-\",(TEXT('Officer proposed'!F65,\"hhmm\"))))))","v":"0000-0000"},63]
[{"$f":"IF('Officer proposed'!C66=\"\",\"\",'Officer proposed'!C66)","v":"Week10"},{"$f":"IF('Officer proposed'!D66=\"\",\"\",'Officer proposed'!D66)","v":"Mon"},{"$f":"IF('Officer proposed'!D66=\"\",\"\",IF('Officer proposed'!E66=\"F\",\"Free Day\",IF('Officer proposed'!E66=\"R\",\"Rest Day\",CONCATENATE(TEXT('Officer proposed'!E66,\"hhmm\"),\"-\",(TEXT('Officer proposed'!F66,\"hhmm\"))))))","v":"0000-0000"},64,null,"Week 10"]
[{"$f":"IF('Officer proposed'!C67=\"\",\"\",'Officer proposed'!C67)","v":""},{"$f":"IF('Officer proposed'!D67=\"\",\"\",'Officer proposed'!D67)","v":"Tue"},{"$f":"IF('Officer proposed'!D67=\"\",\"\",IF('Officer proposed'!E67=\"F\",\"Free Day\",IF('Officer proposed'!E67=\"R\",\"Rest Day\",CONCATENATE(TEXT('Officer proposed'!E67,\"hhmm\"),\"-\",(TEXT('Officer proposed'!F67,\"hhmm\"))))))","v":"0000-0000"},65]
[{"$f":"IF('Officer proposed'!C68=\"\",\"\",'Officer proposed'!C68)","v":""},{"$f":"IF('Officer proposed'!D68=\"\",\"\",'Officer proposed'!D68)","v":"Wed"},{"$f":"IF('Officer proposed'!D68=\"\",\"\",IF('Officer proposed'!E68=\"F\",\"Free Day\",IF('Officer proposed'!E68=\"R\",\"Rest Day\",CONCATENATE(TEXT('Officer proposed'!E68,\"hhmm\"),\"-\",(TEXT('Officer proposed'!F68,\"hhmm\"))))))","v":"0000-0000"},66]
[{"$f":"IF('Officer proposed'!C69=\"\",\"\",'Officer proposed'!C69)","v":""},{"$f":"IF('Officer proposed'!D69=\"\",\"\",'Officer proposed'!D69)","v":"Thu"},{"$f":"IF('Officer proposed'!D69=\"\",\"\",IF('Officer proposed'!E69=\"F\",\"Free Day\",IF('Officer proposed'!E69=\"R\",\"Rest Day\",CONCATENATE(TEXT('Officer proposed'!E69,\"hhmm\"),\"-\",(TEXT('Officer proposed'!F69,\"hhmm\"))))))","v":"0000-0000"},67]
[{"$f":"IF('Officer proposed'!C70=\"\",\"\",'Officer proposed'!C70)","v":""},{"$f":"IF('Officer proposed'!D70=\"\",\"\",'Officer proposed'!D70)","v":"Fri"},{"$f":"IF('Officer proposed'!D70=\"\",\"\",IF('Officer proposed'!E70=\"F\",\"Free Day\",IF('Officer proposed'!E70=\"R\",\"Rest Day\",CONCATENATE(TEXT('Officer proposed'!E70,\"hhmm\"),\"-\",(TEXT('Officer proposed'!F70,\"hhmm\"))))))","v":"0000-0000"},68]
[{"$f":"IF('Officer proposed'!C71=\"\",\"\",'Officer proposed'!C71)","v":""},{"$f":"IF('Officer proposed'!D71=\"\",\"\",'Officer proposed'!D71)","v":"Sat"},{"$f":"IF('Officer proposed'!D71=\"\",\"\",IF('Officer proposed'!E71=\"F\",\"Free Day\",IF('Officer proposed'!E71=\"R\",\"Rest Day\",CONCATENATE(TEXT('Officer proposed'!E71,\"hhmm\"),\"-\",(TEXT('Officer proposed'!F71,\"hhmm\"))))))","v":"0000-0000"},69]
[{"$f":"IF('Officer proposed'!C72=\"\",\"\",'Officer proposed'!C72)","v":""},{"$f":"IF('Officer proposed'!D72=\"\",\"\",'Officer proposed'!D72)","v":"Sun"},{"$f":"IF('Officer proposed'!D72=\"\",\"\",IF('Officer proposed'!E72=\"F\",\"Free Day\",IF('Officer proposed'!E72=\"R\",\"Rest Day\",CONCATENATE(TEXT('Officer proposed'!E72,\"hhmm\"),\"-\",(TEXT('Officer proposed'!F72,\"hhmm\"))))))","v":"0000-0000"},70]
[{"$f":"IF('Officer proposed'!C73=\"\",\"\",'Officer proposed'!C73)","v":"Week11"},{"$f":"IF('Officer proposed'!D73=\"\",\"\",'Officer proposed'!D73)","v":"Mon"},{"$f":"IF('Officer proposed'!D73=\"\",\"\",IF('Officer proposed'!E73=\"F\",\"Free Day\",IF('Officer proposed'!E73=\"R\",\"Rest Day\",CONCATENATE(TEXT('Officer proposed'!E73,\"hhmm\"),\"-\",(TEXT('Officer proposed'!F73,\"hhmm\"))))))","v":"0000-0000"},71,null,"Week 11"]
[{"$f":"IF('Officer proposed'!C74=\"\",\"\",'Officer proposed'!C74)","v":""},{"$f":"IF('Officer proposed'!D74=\"\",\"\",'Officer proposed'!D74)","v":"Tue"},{"$f":"IF('Officer proposed'!D74=\"\",\"\",IF('Officer proposed'!E74=\"F\",\"Free Day\",IF('Officer proposed'!E74=\"R\",\"Rest Day\",CONCATENATE(TEXT('Officer proposed'!E74,\"hhmm\"),\"-\",(TEXT('Officer proposed'!F74,\"hhmm\"))))))","v":"0000-0000"},72]
[{"$f":"IF('Officer proposed'!C75=\"\",\"\",'Officer proposed'!C75)","v":""},{"$f":"IF('Officer proposed'!D75=\"\",\"\",'Officer proposed'!D75)","v":"Wed"},{"$f":"IF('Officer proposed'!D75=\"\",\"\",IF('Officer proposed'!E75=\"F\",\"Free Day\",IF('Officer proposed'!E75=\"R\",\"Rest Day\",CONCATENATE(TEXT('Officer proposed'!E75,\"hhmm\"),\"-\",(TEXT('Officer proposed'!F75,\"hhmm\"))))))","v":"0000-0000"},73]
[{"$f":"IF('Officer proposed'!C76=\"\",\"\",'Officer proposed'!C76)","v":""},{"$f":"IF('Officer proposed'!D76=\"\",\"\",'Officer proposed'!D76)","v":"Thu"},{"$f":"IF('Officer proposed'!D76=\"\",\"\",IF('Officer proposed'!E76=\"F\",\"Free Day\",IF('Officer proposed'!E76=\"R\",\"Rest Day\",CONCATENATE(TEXT('Officer proposed'!E76,\"hhmm\"),\"-\",(TEXT('Officer proposed'!F76,\"hhmm\"))))))","v":"0000-0000"},74]
[{"$f":"IF('Officer proposed'!C77=\"\",\"\",'Officer proposed'!C77)","v":""},{"$f":"IF('Officer proposed'!D77=\"\",\"\",'Officer proposed'!D77)","v":"Fri"},{"$f":"IF('Officer proposed'!D77=\"\",\"\",IF('Officer proposed'!E77=\"F\",\"Free Day\",IF('Officer proposed'!E77=\"R\",\"Rest Day\",CONCATENATE(TEXT('Officer proposed'!E77,\"hhmm\"),\"-\",(TEXT('Officer proposed'!F77,\"hhmm\"))))))","v":"0000-0000"},75]
[{"$f":"IF('Officer proposed'!C78=\"\",\"\",'Officer proposed'!C78)","v":""},{"$f":"IF('Officer proposed'!D78=\"\",\"\",'Officer proposed'!D78)","v":"Sat"},{"$f":"IF('Officer proposed'!D78=\"\",\"\",IF('Officer proposed'!E78=\"F\",\"Free Day\",IF('Officer proposed'!E78=\"R\",\"Rest Day\",CONCATENATE(TEXT('Officer proposed'!E78,\"hhmm\"),\"-\",(TEXT('Officer proposed'!F78,\"hhmm\"))))))","v":"0000-0000"},76]
[{"$f":"IF('Officer proposed'!C79=\"\",\"\",'Officer proposed'!C79)","v":""},{"$f":"IF('Officer proposed'!D79=\"\",\"\",'Officer proposed'!D79)","v":"Sun"},{"$f":"IF('Officer proposed'!D79=\"\",\"\",IF('Officer proposed'!E79=\"F\",\"Free Day\",IF('Officer proposed'!E79=\"R\",\"Rest Day\",CONCATENATE(TEXT('Officer proposed'!E79,\"hhmm\"),\"-\",(TEXT('Officer proposed'!F79,\"hhmm\"))))))","v":"0000-0000"},77]
[{"$f":"IF('Officer proposed'!C80=\"\",\"\",'Officer proposed'!C80)","v":"Week12"},{"$f":"IF('Officer proposed'!D80=\"\",\"\",'Officer proposed'!D80)","v":"Mon"},{"$f":"IF('Officer proposed'!D80=\"\",\"\",IF('Officer proposed'!E80=\"F\",\"Free Day\",IF('Officer proposed'!E80=\"R\",\"Rest Day\",CONCATENATE(TEXT('Officer proposed'!E80,\"hhmm\"),\"-\",(TEXT('Officer proposed'!F80,\"hhmm\"))))))","v":"0000-0000"},78,null,"Week 12"]
[{"$f":"IF('Officer proposed'!C81=\"\",\"\",'Officer proposed'!C81)","v":""},{"$f":"IF('Officer proposed'!D81=\"\",\"\",'Officer proposed'!D81)","v":"Tue"},{"$f":"IF('Officer proposed'!D81=\"\",\"\",IF('Officer proposed'!E81=\"F\",\"Free Day\",IF('Officer proposed'!E81=\"R\",\"Rest Day\",CONCATENATE(TEXT('Officer proposed'!E81,\"hhmm\"),\"-\",(TEXT('Officer proposed'!F81,\"hhmm\"))))))","v":"0000-0000"},79]
[{"$f":"IF('Officer proposed'!C82=\"\",\"\",'Officer proposed'!C82)","v":""},{"$f":"IF('Officer proposed'!D82=\"\",\"\",'Officer proposed'!D82)","v":"Wed"},{"$f":"IF('Officer proposed'!D82=\"\",\"\",IF('Officer proposed'!E82=\"F\",\"Free Day\",IF('Officer proposed'!E82=\"R\",\"Rest Day\",CONCATENATE(TEXT('Officer proposed'!E82,\"hhmm\"),\"-\",(TEXT('Officer proposed'!F82,\"hhmm\"))))))","v":"0000-0000"},80]
[{"$f":"IF('Officer proposed'!C83=\"\",\"\",'Officer proposed'!C83)","v":""},{"$f":"IF('Officer proposed'!D83=\"\",\"\",'Officer proposed'!D83)","v":"Thu"},{"$f":"IF('Officer proposed'!D83=\"\",\"\",IF('Officer proposed'!E83=\"F\",\"Free Day\",IF('Officer proposed'!E83=\"R\",\"Rest Day\",CONCATENATE(TEXT('Officer proposed'!E83,\"hhmm\"),\"-\",(TEXT('Officer proposed'!F83,\"hhmm\"))))))","v":"0000-0000"},81]
[{"$f":"IF('Officer proposed'!C84=\"\",\"\",'Officer proposed'!C84)","v":""},{"$f":"IF('Officer proposed'!D84=\"\",\"\",'Officer proposed'!D84)","v":"Fri"},{"$f":"IF('Officer proposed'!D84=\"\",\"\",IF('Officer proposed'!E84=\"F\",\"Free Day\",IF('Officer proposed'!E84=\"R\",\"Rest Day\",CONCATENATE(TEXT('Officer proposed'!E84,\"hhmm\"),\"-\",(TEXT('Officer proposed'!F84,\"hhmm\"))))))","v":"0000-0000"},82]
[{"$f":"IF('Officer proposed'!C85=\"\",\"\",'Officer proposed'!C85)","v":""},{"$f":"IF('Officer proposed'!D85=\"\",\"\",'Officer proposed'!D85)","v":"Sat"},{"$f":"IF('Officer proposed'!D85=\"\",\"\",IF('Officer proposed'!E85=\"F\",\"Free Day\",IF('Officer proposed'!E85=\"R\",\"Rest Day\",CONCATENATE(TEXT('Officer proposed'!E85,\"hhmm\"),\"-\",(TEXT('Officer proposed'!F85,\"hhmm\"))))))","v":"0000-0000"},83]
[{"$f":"IF('Officer proposed'!C86=\"\",\"\",'Officer proposed'!C86)","v":""},{"$f":"IF('Officer proposed'!D86=\"\",\"\",'Officer proposed'!D86)","v":"Sun"},{"$f":"IF('Officer proposed'!D86=\"\",\"\",IF('Officer proposed'!E86=\"F\",\"Free Day\",IF('Officer proposed'!E86=\"R\",\"Rest Day\",CONCATENATE(TEXT('Officer proposed'!E86,\"hhmm\"),\"-\",(TEXT('Officer proposed'!F86,\"hhmm\"))))))","v":"0000-0000"},84]
[{"$f":"IF('Officer proposed'!C87=\"\",\"\",'Officer proposed'!C87)","v":"Week13"},{"$f":"IF('Officer proposed'!D87=\"\",\"\",'Officer proposed'!D87)","v":"Mon"},{"$f":"IF('Officer proposed'!D87=\"\",\"\",IF('Officer proposed'!E87=\"F\",\"Free Day\",IF('Officer proposed'!E87=\"R\",\"Rest Day\",CONCATENATE(TEXT('Officer proposed'!E87,\"hhmm\"),\"-\",(TEXT('Officer proposed'!F87,\"hhmm\"))))))","v":"0000-0000"},85,null,"Week 13"]
[{"$f":"IF('Officer proposed'!C88=\"\",\"\",'Officer proposed'!C88)","v":""},{"$f":"IF('Officer proposed'!D88=\"\",\"\",'Officer proposed'!D88)","v":"Tue"},{"$f":"IF('Officer proposed'!D88=\"\",\"\",IF('Officer proposed'!E88=\"F\",\"Free Day\",IF('Officer proposed'!E88=\"R\",\"Rest Day\",CONCATENATE(TEXT('Officer proposed'!E88,\"hhmm\"),\"-\",(TEXT('Officer proposed'!F88,\"hhmm\"))))))","v":"0000-0000"},86]
[{"$f":"IF('Officer proposed'!C89=\"\",\"\",'Officer proposed'!C89)","v":""},{"$f":"IF('Officer proposed'!D89=\"\",\"\",'Officer proposed'!D89)","v":"Wed"},{"$f":"IF('Officer proposed'!D89=\"\",\"\",IF('Officer proposed'!E89=\"F\",\"Free Day\",IF('Officer proposed'!E89=\"R\",\"Rest Day\",CONCATENATE(TEXT('Officer proposed'!E89,\"hhmm\"),\"-\",(TEXT('Officer proposed'!F89,\"hhmm\"))))))","v":"0000-0000"},87]
[{"$f":"IF('Officer proposed'!C90=\"\",\"\",'Officer proposed'!C90)","v":""},{"$f":"IF('Officer proposed'!D90=\"\",\"\",'Officer proposed'!D90)","v":"Thu"},{"$f":"IF('Officer proposed'!D90=\"\",\"\",IF('Officer proposed'!E90=\"F\",\"Free Day\",IF('Officer proposed'!E90=\"R\",\"Rest Day\",CONCATENATE(TEXT('Officer proposed'!E90,\"hhmm\"),\"-\",(TEXT('Officer proposed'!F90,\"hhmm\"))))))","v":"0000-0000"},88]
[{"$f":"IF('Officer proposed'!C91=\"\",\"\",'Officer proposed'!C91)","v":""},{"$f":"IF('Officer proposed'!D91=\"\",\"\",'Officer proposed'!D91)","v":"Fri"},{"$f":"IF('Officer proposed'!D91=\"\",\"\",IF('Officer proposed'!E91=\"F\",\"Free Day\",IF('Officer proposed'!E91=\"R\",\"Rest Day\",CONCATENATE(TEXT('Officer proposed'!E91,\"hhmm\"),\"-\",(TEXT('Officer proposed'!F91,\"hhmm\"))))))","v":"0000-0000"},89]
[{"$f":"IF('Officer proposed'!C92=\"\",\"\",'Officer proposed'!C92)","v":""},{"$f":"IF('Officer proposed'!D92=\"\",\"\",'Officer proposed'!D92)","v":"Sat"},{"$f":"IF('Officer proposed'!D92=\"\",\"\",IF('Officer proposed'!E92=\"F\",\"Free Day\",IF('Officer proposed'!E92=\"R\",\"Rest Day\",CONCATENATE(TEXT('Officer proposed'!E92,\"hhmm\"),\"-\",(TEXT('Officer proposed'!F92,\"hhmm\"))))))","v":"0000-0000"},90]
[{"$f":"IF('Officer proposed'!C93=\"\",\"\",'Officer proposed'!C93)","v":""},{"$f":"IF('Officer proposed'!D93=\"\",\"\",'Officer proposed'!D93)","v":"Sun"},{"$f":"IF('Officer proposed'!D93=\"\",\"\",IF('Officer proposed'!E93=\"F\",\"Free Day\",IF('Officer proposed'!E93=\"R\",\"Rest Day\",CONCATENATE(TEXT('Officer proposed'!E93,\"hhmm\"),\"-\",(TEXT('Officer proposed'!F93,\"hhmm\"))))))","v":"0000-0000"},91]
[{"$f":"IF('Officer proposed'!C94=\"\",\"\",'Officer proposed'!C94)","v":"Week14"},{"$f":"IF('Officer proposed'!D94=\"\",\"\",'Officer proposed'!D94)","v":"Mon"},{"$f":"IF('Officer proposed'!D94=\"\",\"\",IF('Officer proposed'!E94=\"F\",\"Free Day\",IF('Officer proposed'!E94=\"R\",\"Rest Day\",CONCATENATE(TEXT('Officer proposed'!E94,\"hhmm\"),\"-\",(TEXT('Officer proposed'!F94,\"hhmm\"))))))","v":"0000-0000"},92,null,"Week 14"]
[{"$f":"IF('Officer proposed'!C95=\"\",\"\",'Officer proposed'!C95)","v":""},{"$f":"IF('Officer proposed'!D95=\"\",\"\",'Officer proposed'!D95)","v":"Tue"},{"$f":"IF('Officer proposed'!D95=\"\",\"\",IF('Officer proposed'!E95=\"F\",\"Free Day\",IF('Officer proposed'!E95=\"R\",\"Rest Day\",CONCATENATE(TEXT('Officer proposed'!E95,\"hhmm\"),\"-\",(TEXT('Officer proposed'!F95,\"hhmm\"))))))","v":"0000-0000"},93]
[{"$f":"IF('Officer proposed'!C96=\"\",\"\",'Officer proposed'!C96)","v":""},{"$f":"IF('Officer proposed'!D96=\"\",\"\",'Officer proposed'!D96)","v":"Wed"},{"$f":"IF('Officer proposed'!D96=\"\",\"\",IF('Officer proposed'!E96=\"F\",\"Free Day\",IF('Officer proposed'!E96=\"R\",\"Rest Day\",CONCATENATE(TEXT('Officer proposed'!E96,\"hhmm\"),\"-\",(TEXT('Officer proposed'!F96,\"hhmm\"))))))","v":"0000-0000"},94]
[{"$f":"IF('Officer proposed'!C97=\"\",\"\",'Officer proposed'!C97)","v":""},{"$f":"IF('Officer proposed'!D97=\"\",\"\",'Officer proposed'!D97)","v":"Thu"},{"$f":"IF('Officer proposed'!D97=\"\",\"\",IF('Officer proposed'!E97=\"F\",\"Free Day\",IF('Officer proposed'!E97=\"R\",\"Rest Day\",CONCATENATE(TEXT('Officer proposed'!E97,\"hhmm\"),\"-\",(TEXT('Officer proposed'!F97,\"hhmm\"))))))","v":"0000-0000"},95]
[{"$f":"IF('Officer proposed'!C98=\"\",\"\",'Officer proposed'!C98)","v":""},{"$f":"IF('Officer proposed'!D98=\"\",\"\",'Officer proposed'!D98)","v":"Fri"},{"$f":"IF('Officer proposed'!D98=\"\",\"\",IF('Officer proposed'!E98=\"F\",\"Free Day\",IF('Officer proposed'!E98=\"R\",\"Rest Day\",CONCATENATE(TEXT('Officer proposed'!E98,\"hhmm\"),\"-\",(TEXT('Officer proposed'!F98,\"hhmm\"))))))","v":"0000-0000"},96]
[{"$f":"IF('Officer proposed'!C99=\"\",\"\",'Officer proposed'!C99)","v":""},{"$f":"IF('Officer proposed'!D99=\"\",\"\",'Officer proposed'!D99)","v":"Sat"},{"$f":"IF('Officer proposed'!D99=\"\",\"\",IF('Officer proposed'!E99=\"F\",\"Free Day\",IF('Officer proposed'!E99=\"R\",\"Rest Day\",CONCATENATE(TEXT('Officer proposed'!E99,\"hhmm\"),\"-\",(TEXT('Officer proposed'!F99,\"hhmm\"))))))","v":"0000-0000"},97]
[{"$f":"IF('Officer proposed'!C100=\"\",\"\",'Officer proposed'!C100)","v":""},{"$f":"IF('Officer proposed'!D100=\"\",\"\",'Officer proposed'!D100)","v":"Sun"},{"$f":"IF('Officer proposed'!D100=\"\",\"\",IF('Officer proposed'!E100=\"F\",\"Free Day\",IF('Officer proposed'!E100=\"R\",\"Rest Day\",CONCATENATE(TEXT('Officer proposed'!E100,\"hhmm\"),\"-\",(TEXT('Officer proposed'!F100,\"hhmm\"))))))","v":"0000-0000"},98]
[{"$f":"IF('Officer proposed'!C101=\"\",\"\",'Officer proposed'!C101)","v":"Week15"},{"$f":"IF('Officer proposed'!D101=\"\",\"\",'Officer proposed'!D101)","v":"Mon"},{"$f":"IF('Officer proposed'!D101=\"\",\"\",IF('Officer proposed'!E101=\"F\",\"Free Day\",IF('Officer proposed'!E101=\"R\",\"Rest Day\",CONCATENATE(TEXT('Officer proposed'!E101,\"hhmm\"),\"-\",(TEXT('Officer proposed'!F101,\"hhmm\"))))))","v":"0000-0000"},99,null,"Week 15"]
[{"$f":"IF('Officer proposed'!C102=\"\",\"\",'Officer proposed'!C102)","v":""},{"$f":"IF('Officer proposed'!D102=\"\",\"\",'Officer proposed'!D102)","v":"Tue"},{"$f":"IF('Officer proposed'!D102=\"\",\"\",IF('Officer proposed'!E102=\"F\",\"Free Day\",IF('Officer proposed'!E102=\"R\",\"Rest Day\",CONCATENATE(TEXT('Officer proposed'!E102,\"hhmm\"),\"-\",(TEXT('Officer proposed'!F102,\"hhmm\"))))))","v":"0000-0000"},100]
[{"$f":"IF('Officer proposed'!C103=\"\",\"\",'Officer proposed'!C103)","v":""},{"$f":"IF('Officer proposed'!D103=\"\",\"\",'Officer proposed'!D103)","v":"Wed"},{"$f":"IF('Officer proposed'!D103=\"\",\"\",IF('Officer proposed'!E103=\"F\",\"Free Day\",IF('Officer proposed'!E103=\"R\",\"Rest Day\",CONCATENATE(TEXT('Officer proposed'!E103,\"hhmm\"),\"-\",(TEXT('Officer proposed'!F103,\"hhmm\"))))))","v":"0000-0000"},101]
[{"$f":"IF('Officer proposed'!C104=\"\",\"\",'Officer proposed'!C104)","v":""},{"$f":"IF('Officer proposed'!D104=\"\",\"\",'Officer proposed'!D104)","v":"Thu"},{"$f":"IF('Officer proposed'!D104=\"\",\"\",IF('Officer proposed'!E104=\"F\",\"Free Day\",IF('Officer proposed'!E104=\"R\",\"Rest Day\",CONCATENATE(TEXT('Officer proposed'!E104,\"hhmm\"),\"-\",(TEXT('Officer proposed'!F104,\"hhmm\"))))))","v":"0000-0000"},102]
[{"$f":"IF('Officer proposed'!C105=\"\",\"\",'Officer proposed'!C105)","v":""},{"$f":"IF('Officer proposed'!D105=\"\",\"\",'Officer proposed'!D105)","v":"Fri"},{"$f":"IF('Officer proposed'!D105=\"\",\"\",IF('Officer proposed'!E105=\"F\",\"Free Day\",IF('Officer proposed'!E105=\"R\",\"Rest Day\",CONCATENATE(TEXT('Officer proposed'!E105,\"hhmm\"),\"-\",(TEXT('Officer proposed'!F105,\"hhmm\"))))))","v":"0000-0000"},103]
[{"$f":"IF('Officer proposed'!C106=\"\",\"\",'Officer proposed'!C106)","v":""},{"$f":"IF('Officer proposed'!D106=\"\",\"\",'Officer proposed'!D106)","v":"Sat"},{"$f":"IF('Officer proposed'!D106=\"\",\"\",IF('Officer proposed'!E106=\"F\",\"Free Day\",IF('Officer proposed'!E106=\"R\",\"Rest Day\",CONCATENATE(TEXT('Officer proposed'!E106,\"hhmm\"),\"-\",(TEXT('Officer proposed'!F106,\"hhmm\"))))))","v":"0000-0000"},104]
[{"$f":"IF('Officer proposed'!C107=\"\",\"\",'Officer proposed'!C107)","v":""},{"$f":"IF('Officer proposed'!D107=\"\",\"\",'Officer proposed'!D107)","v":"Sun"},{"$f":"IF('Officer proposed'!D107=\"\",\"\",IF('Officer proposed'!E107=\"F\",\"Free Day\",IF('Officer proposed'!E107=\"R\",\"Rest Day\",CONCATENATE(TEXT('Officer proposed'!E107,\"hhmm\"),\"-\",(TEXT('Officer proposed'!F107,\"hhmm\"))))))","v":"0000-0000"},105]
[{"$f":"IF('Officer proposed'!C108=\"\",\"\",'Officer proposed'!C108)","v":"Week16"},{"$f":"IF('Officer proposed'!D108=\"\",\"\",'Officer proposed'!D108)","v":"Mon"},{"$f":"IF('Officer proposed'!D108=\"\",\"\",IF('Officer proposed'!E108=\"F\",\"Free Day\",IF('Officer proposed'!E108=\"R\",\"Rest Day\",CONCATENATE(TEXT('Officer proposed'!E108,\"hhmm\"),\"-\",(TEXT('Officer proposed'!F108,\"hhmm\"))))))","v":"0000-0000"},106,null,"Week 16"]
[{"$f":"IF('Officer proposed'!C109=\"\",\"\",'Officer proposed'!C109)","v":""},{"$f":"IF('Officer proposed'!D109=\"\",\"\",'Officer proposed'!D109)","v":"Tue"},{"$f":"IF('Officer proposed'!D109=\"\",\"\",IF('Officer proposed'!E109=\"F\",\"Free Day\",IF('Officer proposed'!E109=\"R\",\"Rest Day\",CONCATENATE(TEXT('Officer proposed'!E109,\"hhmm\"),\"-\",(TEXT('Officer proposed'!F109,\"hhmm\"))))))","v":"0000-0000"},107]
[{"$f":"IF('Officer proposed'!C110=\"\",\"\",'Officer proposed'!C110)","v":""},{"$f":"IF('Officer proposed'!D110=\"\",\"\",'Officer proposed'!D110)","v":"Wed"},{"$f":"IF('Officer proposed'!D110=\"\",\"\",IF('Officer proposed'!E110=\"F\",\"Free Day\",IF('Officer proposed'!E110=\"R\",\"Rest Day\",CONCATENATE(TEXT('Officer proposed'!E110,\"hhmm\"),\"-\",(TEXT('Officer proposed'!F110,\"hhmm\"))))))","v":"0000-0000"},108]
[{"$f":"IF('Officer proposed'!C111=\"\",\"\",'Officer proposed'!C111)","v":""},{"$f":"IF('Officer proposed'!D111=\"\",\"\",'Officer proposed'!D111)","v":"Thu"},{"$f":"IF('Officer proposed'!D111=\"\",\"\",IF('Officer proposed'!E111=\"F\",\"Free Day\",IF('Officer proposed'!E111=\"R\",\"Rest Day\",CONCATENATE(TEXT('Officer proposed'!E111,\"hhmm\"),\"-\",(TEXT('Officer proposed'!F111,\"hhmm\"))))))","v":"0000-0000"},109]
[{"$f":"IF('Officer proposed'!C112=\"\",\"\",'Officer proposed'!C112)","v":""},{"$f":"IF('Officer proposed'!D112=\"\",\"\",'Officer proposed'!D112)","v":"Fri"},{"$f":"IF('Officer proposed'!D112=\"\",\"\",IF('Officer proposed'!E112=\"F\",\"Free Day\",IF('Officer proposed'!E112=\"R\",\"Rest Day\",CONCATENATE(TEXT('Officer proposed'!E112,\"hhmm\"),\"-\",(TEXT('Officer proposed'!F112,\"hhmm\"))))))","v":"0000-0000"},110]
[{"$f":"IF('Officer proposed'!C113=\"\",\"\",'Officer proposed'!C113)","v":""},{"$f":"IF('Officer proposed'!D113=\"\",\"\",'Officer proposed'!D113)","v":"Sat"},{"$f":"IF('Officer proposed'!D113=\"\",\"\",IF('Officer proposed'!E113=\"F\",\"Free Day\",IF('Officer proposed'!E113=\"R\",\"Rest Day\",CONCATENATE(TEXT('Officer proposed'!E113,\"hhmm\"),\"-\",(TEXT('Officer proposed'!F113,\"hhmm\"))))))","v":"0000-0000"},111]
[{"$f":"IF('Officer proposed'!C114=\"\",\"\",'Officer proposed'!C114)","v":""},{"$f":"IF('Officer proposed'!D114=\"\",\"\",'Officer proposed'!D114)","v":"Sun"},{"$f":"IF('Officer proposed'!D114=\"\",\"\",IF('Officer proposed'!E114=\"F\",\"Free Day\",IF('Officer proposed'!E114=\"R\",\"Rest Day\",CONCATENATE(TEXT('Officer proposed'!E114,\"hhmm\"),\"-\",(TEXT('Officer proposed'!F114,\"hhmm\"))))))","v":"0000-0000"},112]
[{"$f":"IF('Officer proposed'!C115=\"\",\"\",'Officer proposed'!C115)","v":"Week17"},{"$f":"IF('Officer proposed'!D115=\"\",\"\",'Officer proposed'!D115)","v":"Mon"},{"$f":"IF('Officer proposed'!D115=\"\",\"\",IF('Officer proposed'!E115=\"F\",\"Free Day\",IF('Officer proposed'!E115=\"R\",\"Rest Day\",CONCATENATE(TEXT('Officer proposed'!E115,\"hhmm\"),\"-\",(TEXT('Officer proposed'!F115,\"hhmm\"))))))","v":"0000-0000"},113,null,"Week 17"]
[{"$f":"IF('Officer proposed'!C116=\"\",\"\",'Officer proposed'!C116)","v":""},{"$f":"IF('Officer proposed'!D116=\"\",\"\",'Officer proposed'!D116)","v":"Tue"},{"$f":"IF('Officer proposed'!D116=\"\",\"\",IF('Officer proposed'!E116=\"F\",\"Free Day\",IF('Officer proposed'!E116=\"R\",\"Rest Day\",CONCATENATE(TEXT('Officer proposed'!E116,\"hhmm\"),\"-\",(TEXT('Officer proposed'!F116,\"hhmm\"))))))","v":"0000-0000"},114]
[{"$f":"IF('Officer proposed'!C117=\"\",\"\",'Officer proposed'!C117)","v":""},{"$f":"IF('Officer proposed'!D117=\"\",\"\",'Officer proposed'!D117)","v":"Wed"},{"$f":"IF('Officer proposed'!D117=\"\",\"\",IF('Officer proposed'!E117=\"F\",\"Free Day\",IF('Officer proposed'!E117=\"R\",\"Rest Day\",CONCATENATE(TEXT('Officer proposed'!E117,\"hhmm\"),\"-\",(TEXT('Officer proposed'!F117,\"hhmm\"))))))","v":"0000-0000"},115]
[{"$f":"IF('Officer proposed'!C118=\"\",\"\",'Officer proposed'!C118)","v":""},{"$f":"IF('Officer proposed'!D118=\"\",\"\",'Officer proposed'!D118)","v":"Thu"},{"$f":"IF('Officer proposed'!D118=\"\",\"\",IF('Officer proposed'!E118=\"F\",\"Free Day\",IF('Officer proposed'!E118=\"R\",\"Rest Day\",CONCATENATE(TEXT('Officer proposed'!E118,\"hhmm\"),\"-\",(TEXT('Officer proposed'!F118,\"hhmm\"))))))","v":"0000-0000"},116]
[{"$f":"IF('Officer proposed'!C119=\"\",\"\",'Officer proposed'!C119)","v":""},{"$f":"IF('Officer proposed'!D119=\"\",\"\",'Officer proposed'!D119)","v":"Fri"},{"$f":"IF('Officer proposed'!D119=\"\",\"\",IF('Officer proposed'!E119=\"F\",\"Free Day\",IF('Officer proposed'!E119=\"R\",\"Rest Day\",CONCATENATE(TEXT('Officer proposed'!E119,\"hhmm\"),\"-\",(TEXT('Officer proposed'!F119,\"hhmm\"))))))","v":"0000-0000"},117]
[{"$f":"IF('Officer proposed'!C120=\"\",\"\",'Officer proposed'!C120)","v":""},{"$f":"IF('Officer proposed'!D120=\"\",\"\",'Officer proposed'!D120)","v":"Sat"},{"$f":"IF('Officer proposed'!D120=\"\",\"\",IF('Officer proposed'!E120=\"F\",\"Free Day\",IF('Officer proposed'!E120=\"R\",\"Rest Day\",CONCATENATE(TEXT('Officer proposed'!E120,\"hhmm\"),\"-\",(TEXT('Officer proposed'!F120,\"hhmm\"))))))","v":"0000-0000"},118]
[{"$f":"IF('Officer proposed'!C121=\"\",\"\",'Officer proposed'!C121)","v":""},{"$f":"IF('Officer proposed'!D121=\"\",\"\",'Officer proposed'!D121)","v":"Sun"},{"$f":"IF('Officer proposed'!D121=\"\",\"\",IF('Officer proposed'!E121=\"F\",\"Free Day\",IF('Officer proposed'!E121=\"R\",\"Rest Day\",CONCATENATE(TEXT('Officer proposed'!E121,\"hhmm\"),\"-\",(TEXT('Officer proposed'!F121,\"hhmm\"))))))","v":"0000-0000"},119]
[{"$f":"IF('Officer proposed'!C122=\"\",\"\",'Officer proposed'!C122)","v":"Week18"},{"$f":"IF('Officer proposed'!D122=\"\",\"\",'Officer proposed'!D122)","v":"Mon"},{"$f":"IF('Officer proposed'!D122=\"\",\"\",IF('Officer proposed'!E122=\"F\",\"Free Day\",IF('Officer proposed'!E122=\"R\",\"Rest Day\",CONCATENATE(TEXT('Officer proposed'!E122,\"hhmm\"),\"-\",(TEXT('Officer proposed'!F122,\"hhmm\"))))))","v":"0000-0000"},120,null,"Week 18"]
[{"$f":"IF('Officer proposed'!C123=\"\",\"\",'Officer proposed'!C123)","v":""},{"$f":"IF('Officer proposed'!D123=\"\",\"\",'Officer proposed'!D123)","v":"Tue"},{"$f":"IF('Officer proposed'!D123=\"\",\"\",IF('Officer proposed'!E123=\"F\",\"Free Day\",IF('Officer proposed'!E123=\"R\",\"Rest Day\",CONCATENATE(TEXT('Officer proposed'!E123,\"hhmm\"),\"-\",(TEXT('Officer proposed'!F123,\"hhmm\"))))))","v":"0000-0000"},121]
[{"$f":"IF('Officer proposed'!C124=\"\",\"\",'Officer proposed'!C124)","v":""},{"$f":"IF('Officer proposed'!D124=\"\",\"\",'Officer proposed'!D124)","v":"Wed"},{"$f":"IF('Officer proposed'!D124=\"\",\"\",IF('Officer proposed'!E124=\"F\",\"Free Day\",IF('Officer proposed'!E124=\"R\",\"Rest Day\",CONCATENATE(TEXT('Officer proposed'!E124,\"hhmm\"),\"-\",(TEXT('Officer proposed'!F124,\"hhmm\"))))))","v":"0000-0000"},122]
[{"$f":"IF('Officer proposed'!C125=\"\",\"\",'Officer proposed'!C125)","v":""},{"$f":"IF('Officer proposed'!D125=\"\",\"\",'Officer proposed'!D125)","v":"Thu"},{"$f":"IF('Officer proposed'!D125=\"\",\"\",IF('Officer proposed'!E125=\"F\",\"Free Day\",IF('Officer proposed'!E125=\"R\",\"Rest Day\",CONCATENATE(TEXT('Officer proposed'!E125,\"hhmm\"),\"-\",(TEXT('Officer proposed'!F125,\"hhmm\"))))))","v":"0000-0000"},123]
[{"$f":"IF('Officer proposed'!C126=\"\",\"\",'Officer proposed'!C126)","v":""},{"$f":"IF('Officer proposed'!D126=\"\",\"\",'Officer proposed'!D126)","v":"Fri"},{"$f":"IF('Officer proposed'!D126=\"\",\"\",IF('Officer proposed'!E126=\"F\",\"Free Day\",IF('Officer proposed'!E126=\"R\",\"Rest Day\",CONCATENATE(TEXT('Officer proposed'!E126,\"hhmm\"),\"-\",(TEXT('Officer proposed'!F126,\"hhmm\"))))))","v":"0000-0000"},124]
[{"$f":"IF('Officer proposed'!C127=\"\",\"\",'Officer proposed'!C127)","v":""},{"$f":"IF('Officer proposed'!D127=\"\",\"\",'Officer proposed'!D127)","v":"Sat"},{"$f":"IF('Officer proposed'!D127=\"\",\"\",IF('Officer proposed'!E127=\"F\",\"Free Day\",IF('Officer proposed'!E127=\"R\",\"Rest Day\",CONCATENATE(TEXT('Officer proposed'!E127,\"hhmm\"),\"-\",(TEXT('Officer proposed'!F127,\"hhmm\"))))))","v":"0000-0000"},125]
[{"$f":"IF('Officer proposed'!C128=\"\",\"\",'Officer proposed'!C128)","v":""},{"$f":"IF('Officer proposed'!D128=\"\",\"\",'Officer proposed'!D128)","v":"Sun"},{"$f":"IF('Officer proposed'!D128=\"\",\"\",IF('Officer proposed'!E128=\"F\",\"Free Day\",IF('Officer proposed'!E128=\"R\",\"Rest Day\",CONCATENATE(TEXT('Officer proposed'!E128,\"hhmm\"),\"-\",(TEXT('Officer proposed'!F128,\"hhmm\"))))))","v":"0000-0000"},126]
[{"$f":"IF('Officer proposed'!C129=\"\",\"\",'Officer proposed'!C129)","v":"Week19"},{"$f":"IF('Officer proposed'!D129=\"\",\"\",'Officer proposed'!D129)","v":"Mon"},{"$f":"IF('Officer proposed'!D129=\"\",\"\",IF('Officer proposed'!E129=\"F\",\"Free Day\",IF('Officer proposed'!E129=\"R\",\"Rest Day\",CONCATENATE(TEXT('Officer proposed'!E129,\"hhmm\"),\"-\",(TEXT('Officer proposed'!F129,\"hhmm\"))))))","v":"0000-0000"},127,null,"Week 19"]
[{"$f":"IF('Officer proposed'!C130=\"\",\"\",'Officer proposed'!C130)","v":""},{"$f":"IF('Officer proposed'!D130=\"\",\"\",'Officer proposed'!D130)","v":"Tue"},{"$f":"IF('Officer proposed'!D130=\"\",\"\",IF('Officer proposed'!E130=\"F\",\"Free Day\",IF('Officer proposed'!E130=\"R\",\"Rest Day\",CONCATENATE(TEXT('Officer proposed'!E130,\"hhmm\"),\"-\",(TEXT('Officer proposed'!F130,\"hhmm\"))))))","v":"0000-0000"},128]
[{"$f":"IF('Officer proposed'!C131=\"\",\"\",'Officer proposed'!C131)","v":""},{"$f":"IF('Officer proposed'!D131=\"\",\"\",'Officer proposed'!D131)","v":"Wed"},{"$f":"IF('Officer proposed'!D131=\"\",\"\",IF('Officer proposed'!E131=\"F\",\"Free Day\",IF('Officer proposed'!E131=\"R\",\"Rest Day\",CONCATENATE(TEXT('Officer proposed'!E131,\"hhmm\"),\"-\",(TEXT('Officer proposed'!F131,\"hhmm\"))))))","v":"0000-0000"},129]
[{"$f":"IF('Officer proposed'!C132=\"\",\"\",'Officer proposed'!C132)","v":""},{"$f":"IF('Officer proposed'!D132=\"\",\"\",'Officer proposed'!D132)","v":"Thu"},{"$f":"IF('Officer proposed'!D132=\"\",\"\",IF('Officer proposed'!E132=\"F\",\"Free Day\",IF('Officer proposed'!E132=\"R\",\"Rest Day\",CONCATENATE(TEXT('Officer proposed'!E132,\"hhmm\"),\"-\",(TEXT('Officer proposed'!F132,\"hhmm\"))))))","v":"0000-0000"},130]
[{"$f":"IF('Officer proposed'!C133=\"\",\"\",'Officer proposed'!C133)","v":""},{"$f":"IF('Officer proposed'!D133=\"\",\"\",'Officer proposed'!D133)","v":"Fri"},{"$f":"IF('Officer proposed'!D133=\"\",\"\",IF('Officer proposed'!E133=\"F\",\"Free Day\",IF('Officer proposed'!E133=\"R\",\"Rest Day\",CONCATENATE(TEXT('Officer proposed'!E133,\"hhmm\"),\"-\",(TEXT('Officer proposed'!F133,\"hhmm\"))))))","v":"0000-0000"},131]
[{"$f":"IF('Officer proposed'!C134=\"\",\"\",'Officer proposed'!C134)","v":""},{"$f":"IF('Officer proposed'!D134=\"\",\"\",'Officer proposed'!D134)","v":"Sat"},{"$f":"IF('Officer proposed'!D134=\"\",\"\",IF('Officer proposed'!E134=\"F\",\"Free Day\",IF('Officer proposed'!E134=\"R\",\"Rest Day\",CONCATENATE(TEXT('Officer proposed'!E134,\"hhmm\"),\"-\",(TEXT('Officer proposed'!F134,\"hhmm\"))))))","v":"0000-0000"},132]
[{"$f":"IF('Officer proposed'!C135=\"\",\"\",'Officer proposed'!C135)","v":""},{"$f":"IF('Officer proposed'!D135=\"\",\"\",'Officer proposed'!D135)","v":"Sun"},{"$f":"IF('Officer proposed'!D135=\"\",\"\",IF('Officer proposed'!E135=\"F\",\"Free Day\",IF('Officer proposed'!E135=\"R\",\"Rest Day\",CONCATENATE(TEXT('Officer proposed'!E135,\"hhmm\"),\"-\",(TEXT('Officer proposed'!F135,\"hhmm\"))))))","v":"0000-0000"},133]
[{"$f":"IF('Officer proposed'!C136=\"\",\"\",'Officer proposed'!C136)","v":"Week20"},{"$f":"IF('Officer proposed'!D136=\"\",\"\",'Officer proposed'!D136)","v":"Mon"},{"$f":"IF('Officer proposed'!D136=\"\",\"\",IF('Officer proposed'!E136=\"F\",\"Free Day\",IF('Officer proposed'!E136=\"R\",\"Rest Day\",CONCATENATE(TEXT('Officer proposed'!E136,\"hhmm\"),\"-\",(TEXT('Officer proposed'!F136,\"hhmm\"))))))","v":"0000-0000"},134,null,"Week 20"]
[{"$f":"IF('Officer proposed'!C137=\"\",\"\",'Officer proposed'!C137)","v":""},{"$f":"IF('Officer proposed'!D137=\"\",\"\",'Officer proposed'!D137)","v":"Tue"},{"$f":"IF('Officer proposed'!D137=\"\",\"\",IF('Officer proposed'!E137=\"F\",\"Free Day\",IF('Officer proposed'!E137=\"R\",\"Rest Day\",CONCATENATE(TEXT('Officer proposed'!E137,\"hhmm\"),\"-\",(TEXT('Officer proposed'!F137,\"hhmm\"))))))","v":"0000-0000"},135]
[{"$f":"IF('Officer proposed'!C138=\"\",\"\",'Officer proposed'!C138)","v":""},{"$f":"IF('Officer proposed'!D138=\"\",\"\",'Officer proposed'!D138)","v":"Wed"},{"$f":"IF('Officer proposed'!D138=\"\",\"\",IF('Officer proposed'!E138=\"F\",\"Free Day\",IF('Officer proposed'!E138=\"R\",\"Rest Day\",CONCATENATE(TEXT('Officer proposed'!E138,\"hhmm\"),\"-\",(TEXT('Officer proposed'!F138,\"hhmm\"))))))","v":"0000-0000"},136]
[{"$f":"IF('Officer proposed'!C139=\"\",\"\",'Officer proposed'!C139)","v":""},{"$f":"IF('Officer proposed'!D139=\"\",\"\",'Officer proposed'!D139)","v":"Thu"},{"$f":"IF('Officer proposed'!D139=\"\",\"\",IF('Officer proposed'!E139=\"F\",\"Free Day\",IF('Officer proposed'!E139=\"R\",\"Rest Day\",CONCATENATE(TEXT('Officer proposed'!E139,\"hhmm\"),\"-\",(TEXT('Officer proposed'!F139,\"hhmm\"))))))","v":"0000-0000"},137]
[{"$f":"IF('Officer proposed'!C140=\"\",\"\",'Officer proposed'!C140)","v":""},{"$f":"IF('Officer proposed'!D140=\"\",\"\",'Officer proposed'!D140)","v":"Fri"},{"$f":"IF('Officer proposed'!D140=\"\",\"\",IF('Officer proposed'!E140=\"F\",\"Free Day\",IF('Officer proposed'!E140=\"R\",\"Rest Day\",CONCATENATE(TEXT('Officer proposed'!E140,\"hhmm\"),\"-\",(TEXT('Officer proposed'!F140,\"hhmm\"))))))","v":"0000-0000"},138]
[{"$f":"IF('Officer proposed'!C141=\"\",\"\",'Officer proposed'!C141)","v":""},{"$f":"IF('Officer proposed'!D141=\"\",\"\",'Officer proposed'!D141)","v":"Sat"},{"$f":"IF('Officer proposed'!D141=\"\",\"\",IF('Officer proposed'!E141=\"F\",\"Free Day\",IF('Officer proposed'!E141=\"R\",\"Rest Day\",CONCATENATE(TEXT('Officer proposed'!E141,\"hhmm\"),\"-\",(TEXT('Officer proposed'!F141,\"hhmm\"))))))","v":"0000-0000"},139]
[{"$f":"IF('Officer proposed'!C142=\"\",\"\",'Officer proposed'!C142)","v":""},{"$f":"IF('Officer proposed'!D142=\"\",\"\",'Officer proposed'!D142)","v":"Sun"},{"$f":"IF('Officer proposed'!D142=\"\",\"\",IF('Officer proposed'!E142=\"F\",\"Free Day\",IF('Officer proposed'!E142=\"R\",\"Rest Day\",CONCATENATE(TEXT('Officer proposed'!E142,\"hhmm\"),\"-\",(TEXT('Officer proposed'!F142,\"hhmm\"))))))","v":"0000-0000"},140]
[{"$f":"IF('Officer proposed'!C143=\"\",\"\",'Officer proposed'!C143)","v":"Week21"},{"$f":"IF('Officer proposed'!D143=\"\",\"\",'Officer proposed'!D143)","v":"Mon"},{"$f":"IF('Officer proposed'!D143=\"\",\"\",IF('Officer proposed'!E143=\"F\",\"Free Day\",IF('Officer proposed'!E143=\"R\",\"Rest Day\",CONCATENATE(TEXT('Officer proposed'!E143,\"hhmm\"),\"-\",(TEXT('Officer proposed'!F143,\"hhmm\"))))))","v":"0000-0000"},141,null,"Week 21"]
[{"$f":"IF('Officer proposed'!C144=\"\",\"\",'Officer proposed'!C144)","v":""},{"$f":"IF('Officer proposed'!D144=\"\",\"\",'Officer proposed'!D144)","v":"Tue"},{"$f":"IF('Officer proposed'!D144=\"\",\"\",IF('Officer proposed'!E144=\"F\",\"Free Day\",IF('Officer proposed'!E144=\"R\",\"Rest Day\",CONCATENATE(TEXT('Officer proposed'!E144,\"hhmm\"),\"-\",(TEXT('Officer proposed'!F144,\"hhmm\"))))))","v":"0000-0000"},142]
[{"$f":"IF('Officer proposed'!C145=\"\",\"\",'Officer proposed'!C145)","v":""},{"$f":"IF('Officer proposed'!D145=\"\",\"\",'Officer proposed'!D145)","v":"Wed"},{"$f":"IF('Officer proposed'!D145=\"\",\"\",IF('Officer proposed'!E145=\"F\",\"Free Day\",IF('Officer proposed'!E145=\"R\",\"Rest Day\",CONCATENATE(TEXT('Officer proposed'!E145,\"hhmm\"),\"-\",(TEXT('Officer proposed'!F145,\"hhmm\"))))))","v":"0000-0000"},143]
[{"$f":"IF('Officer proposed'!C146=\"\",\"\",'Officer proposed'!C146)","v":""},{"$f":"IF('Officer proposed'!D146=\"\",\"\",'Officer proposed'!D146)","v":"Thu"},{"$f":"IF('Officer proposed'!D146=\"\",\"\",IF('Officer proposed'!E146=\"F\",\"Free Day\",IF('Officer proposed'!E146=\"R\",\"Rest Day\",CONCATENATE(TEXT('Officer proposed'!E146,\"hhmm\"),\"-\",(TEXT('Officer proposed'!F146,\"hhmm\"))))))","v":"0000-0000"},144]
[{"$f":"IF('Officer proposed'!C147=\"\",\"\",'Officer proposed'!C147)","v":""},{"$f":"IF('Officer proposed'!D147=\"\",\"\",'Officer proposed'!D147)","v":"Fri"},{"$f":"IF('Officer proposed'!D147=\"\",\"\",IF('Officer proposed'!E147=\"F\",\"Free Day\",IF('Officer proposed'!E147=\"R\",\"Rest Day\",CONCATENATE(TEXT('Officer proposed'!E147,\"hhmm\"),\"-\",(TEXT('Officer proposed'!F147,\"hhmm\"))))))","v":"0000-0000"},145]
[{"$f":"IF('Officer proposed'!C148=\"\",\"\",'Officer proposed'!C148)","v":""},{"$f":"IF('Officer proposed'!D148=\"\",\"\",'Officer proposed'!D148)","v":"Sat"},{"$f":"IF('Officer proposed'!D148=\"\",\"\",IF('Officer proposed'!E148=\"F\",\"Free Day\",IF('Officer proposed'!E148=\"R\",\"Rest Day\",CONCATENATE(TEXT('Officer proposed'!E148,\"hhmm\"),\"-\",(TEXT('Officer proposed'!F148,\"hhmm\"))))))","v":"0000-0000"},146]
[{"$f":"IF('Officer proposed'!C149=\"\",\"\",'Officer proposed'!C149)","v":""},{"$f":"IF('Officer proposed'!D149=\"\",\"\",'Officer proposed'!D149)","v":"Sun"},{"$f":"IF('Officer proposed'!D149=\"\",\"\",IF('Officer proposed'!E149=\"F\",\"Free Day\",IF('Officer proposed'!E149=\"R\",\"Rest Day\",CONCATENATE(TEXT('Officer proposed'!E149,\"hhmm\"),\"-\",(TEXT('Officer proposed'!F149,\"hhmm\"))))))","v":"0000-0000"},147]
[{"$f":"IF('Officer proposed'!C150=\"\",\"\",'Officer proposed'!C150)","v":"Week22"},{"$f":"IF('Officer proposed'!D150=\"\",\"\",'Officer proposed'!D150)","v":"Mon"},{"$f":"IF('Officer proposed'!D150=\"\",\"\",IF('Officer proposed'!E150=\"F\",\"Free Day\",IF('Officer proposed'!E150=\"R\",\"Rest Day\",CONCATENATE(TEXT('Officer proposed'!E150,\"hhmm\"),\"-\",(TEXT('Officer proposed'!F150,\"hhmm\"))))))","v":"0000-0000"},148,null,"Week 22"]
[{"$f":"IF('Officer proposed'!C151=\"\",\"\",'Officer proposed'!C151)","v":""},{"$f":"IF('Officer proposed'!D151=\"\",\"\",'Officer proposed'!D151)","v":"Tue"},{"$f":"IF('Officer proposed'!D151=\"\",\"\",IF('Officer proposed'!E151=\"F\",\"Free Day\",IF('Officer proposed'!E151=\"R\",\"Rest Day\",CONCATENATE(TEXT('Officer proposed'!E151,\"hhmm\"),\"-\",(TEXT('Officer proposed'!F151,\"hhmm\"))))))","v":"0000-0000"},149]
[{"$f":"IF('Officer proposed'!C152=\"\",\"\",'Officer proposed'!C152)","v":""},{"$f":"IF('Officer proposed'!D152=\"\",\"\",'Officer proposed'!D152)","v":"Wed"},{"$f":"IF('Officer proposed'!D152=\"\",\"\",IF('Officer proposed'!E152=\"F\",\"Free Day\",IF('Officer proposed'!E152=\"R\",\"Rest Day\",CONCATENATE(TEXT('Officer proposed'!E152,\"hhmm\"),\"-\",(TEXT('Officer proposed'!F152,\"hhmm\"))))))","v":"0000-0000"},150]
[{"$f":"IF('Officer proposed'!C153=\"\",\"\",'Officer proposed'!C153)","v":""},{"$f":"IF('Officer proposed'!D153=\"\",\"\",'Officer proposed'!D153)","v":"Thu"},{"$f":"IF('Officer proposed'!D153=\"\",\"\",IF('Officer proposed'!E153=\"F\",\"Free Day\",IF('Officer proposed'!E153=\"R\",\"Rest Day\",CONCATENATE(TEXT('Officer proposed'!E153,\"hhmm\"),\"-\",(TEXT('Officer proposed'!F153,\"hhmm\"))))))","v":"0000-0000"},151]
[{"$f":"IF('Officer proposed'!C154=\"\",\"\",'Officer proposed'!C154)","v":""},{"$f":"IF('Officer proposed'!D154=\"\",\"\",'Officer proposed'!D154)","v":"Fri"},{"$f":"IF('Officer proposed'!D154=\"\",\"\",IF('Officer proposed'!E154=\"F\",\"Free Day\",IF('Officer proposed'!E154=\"R\",\"Rest Day\",CONCATENATE(TEXT('Officer proposed'!E154,\"hhmm\"),\"-\",(TEXT('Officer proposed'!F154,\"hhmm\"))))))","v":"0000-0000"},152]
[{"$f":"IF('Officer proposed'!C155=\"\",\"\",'Officer proposed'!C155)","v":""},{"$f":"IF('Officer proposed'!D155=\"\",\"\",'Officer proposed'!D155)","v":"Sat"},{"$f":"IF('Officer proposed'!D155=\"\",\"\",IF('Officer proposed'!E155=\"F\",\"Free Day\",IF('Officer proposed'!E155=\"R\",\"Rest Day\",CONCATENATE(TEXT('Officer proposed'!E155,\"hhmm\"),\"-\",(TEXT('Officer proposed'!F155,\"hhmm\"))))))","v":"0000-0000"},153]
[{"$f":"IF('Officer proposed'!C156=\"\",\"\",'Officer proposed'!C156)","v":""},{"$f":"IF('Officer proposed'!D156=\"\",\"\",'Officer proposed'!D156)","v":"Sun"},{"$f":"IF('Officer proposed'!D156=\"\",\"\",IF('Officer proposed'!E156=\"F\",\"Free Day\",IF('Officer proposed'!E156=\"R\",\"Rest Day\",CONCATENATE(TEXT('Officer proposed'!E156,\"hhmm\"),\"-\",(TEXT('Officer proposed'!F156,\"hhmm\"))))))","v":"0000-0000"},154]
[{"$f":"IF('Officer proposed'!C157=\"\",\"\",'Officer proposed'!C157)","v":"Week23"},{"$f":"IF('Officer proposed'!D157=\"\",\"\",'Officer proposed'!D157)","v":"Mon"},{"$f":"IF('Officer proposed'!D157=\"\",\"\",IF('Officer proposed'!E157=\"F\",\"Free Day\",IF('Officer proposed'!E157=\"R\",\"Rest Day\",CONCATENATE(TEXT('Officer proposed'!E157,\"hhmm\"),\"-\",(TEXT('Officer proposed'!F157,\"hhmm\"))))))","v":"0000-0000"},155,null,"Week 23"]
[{"$f":"IF('Officer proposed'!C158=\"\",\"\",'Officer proposed'!C158)","v":""},{"$f":"IF('Officer proposed'!D158=\"\",\"\",'Officer proposed'!D158)","v":"Tue"},{"$f":"IF('Officer proposed'!D158=\"\",\"\",IF('Officer proposed'!E158=\"F\",\"Free Day\",IF('Officer proposed'!E158=\"R\",\"Rest Day\",CONCATENATE(TEXT('Officer proposed'!E158,\"hhmm\"),\"-\",(TEXT('Officer proposed'!F158,\"hhmm\"))))))","v":"0000-0000"},156]
[{"$f":"IF('Officer proposed'!C159=\"\",\"\",'Officer proposed'!C159)","v":""},{"$f":"IF('Officer proposed'!D159=\"\",\"\",'Officer proposed'!D159)","v":"Wed"},{"$f":"IF('Officer proposed'!D159=\"\",\"\",IF('Officer proposed'!E159=\"F\",\"Free Day\",IF('Officer proposed'!E159=\"R\",\"Rest Day\",CONCATENATE(TEXT('Officer proposed'!E159,\"hhmm\"),\"-\",(TEXT('Officer proposed'!F159,\"hhmm\"))))))","v":"0000-0000"},157]
[{"$f":"IF('Officer proposed'!C160=\"\",\"\",'Officer proposed'!C160)","v":""},{"$f":"IF('Officer proposed'!D160=\"\",\"\",'Officer proposed'!D160)","v":"Thu"},{"$f":"IF('Officer proposed'!D160=\"\",\"\",IF('Officer proposed'!E160=\"F\",\"Free Day\",IF('Officer proposed'!E160=\"R\",\"Rest Day\",CONCATENATE(TEXT('Officer proposed'!E160,\"hhmm\"),\"-\",(TEXT('Officer proposed'!F160,\"hhmm\"))))))","v":"0000-0000"},158]
[{"$f":"IF('Officer proposed'!C161=\"\",\"\",'Officer proposed'!C161)","v":""},{"$f":"IF('Officer proposed'!D161=\"\",\"\",'Officer proposed'!D161)","v":"Fri"},{"$f":"IF('Officer proposed'!D161=\"\",\"\",IF('Officer proposed'!E161=\"F\",\"Free Day\",IF('Officer proposed'!E161=\"R\",\"Rest Day\",CONCATENATE(TEXT('Officer proposed'!E161,\"hhmm\"),\"-\",(TEXT('Officer proposed'!F161,\"hhmm\"))))))","v":"0000-0000"},159]
[{"$f":"IF('Officer proposed'!C162=\"\",\"\",'Officer proposed'!C162)","v":""},{"$f":"IF('Officer proposed'!D162=\"\",\"\",'Officer proposed'!D162)","v":"Sat"},{"$f":"IF('Officer proposed'!D162=\"\",\"\",IF('Officer proposed'!E162=\"F\",\"Free Day\",IF('Officer proposed'!E162=\"R\",\"Rest Day\",CONCATENATE(TEXT('Officer proposed'!E162,\"hhmm\"),\"-\",(TEXT('Officer proposed'!F162,\"hhmm\"))))))","v":"0000-0000"},160]
[{"$f":"IF('Officer proposed'!C163=\"\",\"\",'Officer proposed'!C163)","v":""},{"$f":"IF('Officer proposed'!D163=\"\",\"\",'Officer proposed'!D163)","v":"Sun"},{"$f":"IF('Officer proposed'!D163=\"\",\"\",IF('Officer proposed'!E163=\"F\",\"Free Day\",IF('Officer proposed'!E163=\"R\",\"Rest Day\",CONCATENATE(TEXT('Officer proposed'!E163,\"hhmm\"),\"-\",(TEXT('Officer proposed'!F163,\"hhmm\"))))))","v":"0000-0000"},161]
[{"$f":"IF('Officer proposed'!C164=\"\",\"\",'Officer proposed'!C164)","v":"Week24"},{"$f":"IF('Officer proposed'!D164=\"\",\"\",'Officer proposed'!D164)","v":"Mon"},{"$f":"IF('Officer proposed'!D164=\"\",\"\",IF('Officer proposed'!E164=\"F\",\"Free Day\",IF('Officer proposed'!E164=\"R\",\"Rest Day\",CONCATENATE(TEXT('Officer proposed'!E164,\"hhmm\"),\"-\",(TEXT('Officer proposed'!F164,\"hhmm\"))))))","v":"0000-0000"},162,null,"Week 24"]
[{"$f":"IF('Officer proposed'!C165=\"\",\"\",'Officer proposed'!C165)","v":""},{"$f":"IF('Officer proposed'!D165=\"\",\"\",'Officer proposed'!D165)","v":"Tue"},{"$f":"IF('Officer proposed'!D165=\"\",\"\",IF('Officer proposed'!E165=\"F\",\"Free Day\",IF('Officer proposed'!E165=\"R\",\"Rest Day\",CONCATENATE(TEXT('Officer proposed'!E165,\"hhmm\"),\"-\",(TEXT('Officer proposed'!F165,\"hhmm\"))))))","v":"0000-0000"},163]
[{"$f":"IF('Officer proposed'!C166=\"\",\"\",'Officer proposed'!C166)","v":""},{"$f":"IF('Officer proposed'!D166=\"\",\"\",'Officer proposed'!D166)","v":"Wed"},{"$f":"IF('Officer proposed'!D166=\"\",\"\",IF('Officer proposed'!E166=\"F\",\"Free Day\",IF('Officer proposed'!E166=\"R\",\"Rest Day\",CONCATENATE(TEXT('Officer proposed'!E166,\"hhmm\"),\"-\",(TEXT('Officer proposed'!F166,\"hhmm\"))))))","v":"0000-0000"},164]
[{"$f":"IF('Officer proposed'!C167=\"\",\"\",'Officer proposed'!C167)","v":""},{"$f":"IF('Officer proposed'!D167=\"\",\"\",'Officer proposed'!D167)","v":"Thu"},{"$f":"IF('Officer proposed'!D167=\"\",\"\",IF('Officer proposed'!E167=\"F\",\"Free Day\",IF('Officer proposed'!E167=\"R\",\"Rest Day\",CONCATENATE(TEXT('Officer proposed'!E167,\"hhmm\"),\"-\",(TEXT('Officer proposed'!F167,\"hhmm\"))))))","v":"0000-0000"},165]
[{"$f":"IF('Officer proposed'!C168=\"\",\"\",'Officer proposed'!C168)","v":""},{"$f":"IF('Officer proposed'!D168=\"\",\"\",'Officer proposed'!D168)","v":"Fri"},{"$f":"IF('Officer proposed'!D168=\"\",\"\",IF('Officer proposed'!E168=\"F\",\"Free Day\",IF('Officer proposed'!E168=\"R\",\"Rest Day\",CONCATENATE(TEXT('Officer proposed'!E168,\"hhmm\"),\"-\",(TEXT('Officer proposed'!F168,\"hhmm\"))))))","v":"0000-0000"},166]
[{"$f":"IF('Officer proposed'!C169=\"\",\"\",'Officer proposed'!C169)","v":""},{"$f":"IF('Officer proposed'!D169=\"\",\"\",'Officer proposed'!D169)","v":"Sat"},{"$f":"IF('Officer proposed'!D169=\"\",\"\",IF('Officer proposed'!E169=\"F\",\"Free Day\",IF('Officer proposed'!E169=\"R\",\"Rest Day\",CONCATENATE(TEXT('Officer proposed'!E169,\"hhmm\"),\"-\",(TEXT('Officer proposed'!F169,\"hhmm\"))))))","v":"0000-0000"},167]
[{"$f":"IF('Officer proposed'!C170=\"\",\"\",'Officer proposed'!C170)","v":""},{"$f":"IF('Officer proposed'!D170=\"\",\"\",'Officer proposed'!D170)","v":"Sun"},{"$f":"IF('Officer proposed'!D170=\"\",\"\",IF('Officer proposed'!E170=\"F\",\"Free Day\",IF('Officer proposed'!E170=\"R\",\"Rest Day\",CONCATENATE(TEXT('Officer proposed'!E170,\"hhmm\"),\"-\",(TEXT('Officer proposed'!F170,\"hhmm\"))))))","v":"0000-0000"},168]
[{"$f":"IF('Officer proposed'!C171=\"\",\"\",'Officer proposed'!C171)","v":"Week25"},{"$f":"IF('Officer proposed'!D171=\"\",\"\",'Officer proposed'!D171)","v":"Mon"},{"$f":"IF('Officer proposed'!D171=\"\",\"\",IF('Officer proposed'!E171=\"F\",\"Free Day\",IF('Officer proposed'!E171=\"R\",\"Rest Day\",CONCATENATE(TEXT('Officer proposed'!E171,\"hhmm\"),\"-\",(TEXT('Officer proposed'!F171,\"hhmm\"))))))","v":"0000-0000"},169,null,"Week 25"]
[{"$f":"IF('Officer proposed'!C172=\"\",\"\",'Officer proposed'!C172)","v":""},{"$f":"IF('Officer proposed'!D172=\"\",\"\",'Officer proposed'!D172)","v":"Tue"},{"$f":"IF('Officer proposed'!D172=\"\",\"\",IF('Officer proposed'!E172=\"F\",\"Free Day\",IF('Officer proposed'!E172=\"R\",\"Rest Day\",CONCATENATE(TEXT('Officer proposed'!E172,\"hhmm\"),\"-\",(TEXT('Officer proposed'!F172,\"hhmm\"))))))","v":"0000-0000"},170]
[{"$f":"IF('Officer proposed'!C173=\"\",\"\",'Officer proposed'!C173)","v":""},{"$f":"IF('Officer proposed'!D173=\"\",\"\",'Officer proposed'!D173)","v":"Wed"},{"$f":"IF('Officer proposed'!D173=\"\",\"\",IF('Officer proposed'!E173=\"F\",\"Free Day\",IF('Officer proposed'!E173=\"R\",\"Rest Day\",CONCATENATE(TEXT('Officer proposed'!E173,\"hhmm\"),\"-\",(TEXT('Officer proposed'!F173,\"hhmm\"))))))","v":"0000-0000"},171]
[{"$f":"IF('Officer proposed'!C174=\"\",\"\",'Officer proposed'!C174)","v":""},{"$f":"IF('Officer proposed'!D174=\"\",\"\",'Officer proposed'!D174)","v":"Thu"},{"$f":"IF('Officer proposed'!D174=\"\",\"\",IF('Officer proposed'!E174=\"F\",\"Free Day\",IF('Officer proposed'!E174=\"R\",\"Rest Day\",CONCATENATE(TEXT('Officer proposed'!E174,\"hhmm\"),\"-\",(TEXT('Officer proposed'!F174,\"hhmm\"))))))","v":"0000-0000"},172]
[{"$f":"IF('Officer proposed'!C175=\"\",\"\",'Officer proposed'!C175)","v":""},{"$f":"IF('Officer proposed'!D175=\"\",\"\",'Officer proposed'!D175)","v":"Fri"},{"$f":"IF('Officer proposed'!D175=\"\",\"\",IF('Officer proposed'!E175=\"F\",\"Free Day\",IF('Officer proposed'!E175=\"R\",\"Rest Day\",CONCATENATE(TEXT('Officer proposed'!E175,\"hhmm\"),\"-\",(TEXT('Officer proposed'!F175,\"hhmm\"))))))","v":"0000-0000"},173]
[{"$f":"IF('Officer proposed'!C176=\"\",\"\",'Officer proposed'!C176)","v":""},{"$f":"IF('Officer proposed'!D176=\"\",\"\",'Officer proposed'!D176)","v":"Sat"},{"$f":"IF('Officer proposed'!D176=\"\",\"\",IF('Officer proposed'!E176=\"F\",\"Free Day\",IF('Officer proposed'!E176=\"R\",\"Rest Day\",CONCATENATE(TEXT('Officer proposed'!E176,\"hhmm\"),\"-\",(TEXT('Officer proposed'!F176,\"hhmm\"))))))","v":"0000-0000"},174]
[{"$f":"IF('Officer proposed'!C177=\"\",\"\",'Officer proposed'!C177)","v":""},{"$f":"IF('Officer proposed'!D177=\"\",\"\",'Officer proposed'!D177)","v":"Sun"},{"$f":"IF('Officer proposed'!D177=\"\",\"\",IF('Officer proposed'!E177=\"F\",\"Free Day\",IF('Officer proposed'!E177=\"R\",\"Rest Day\",CONCATENATE(TEXT('Officer proposed'!E177,\"hhmm\"),\"-\",(TEXT('Officer proposed'!F177,\"hhmm\"))))))","v":"0000-0000"},175]
[{"$f":"IF('Officer proposed'!C178=\"\",\"\",'Officer proposed'!C178)","v":"Week26"},{"$f":"IF('Officer proposed'!D178=\"\",\"\",'Officer proposed'!D178)","v":"Mon"},{"$f":"IF('Officer proposed'!D178=\"\",\"\",IF('Officer proposed'!E178=\"F\",\"Free Day\",IF('Officer proposed'!E178=\"R\",\"Rest Day\",CONCATENATE(TEXT('Officer proposed'!E178,\"hhmm\"),\"-\",(TEXT('Officer proposed'!F178,\"hhmm\"))))))","v":"0000-0000"},176,null,"Week 26"]
[{"$f":"IF('Officer proposed'!C179=\"\",\"\",'Officer proposed'!C179)","v":""},{"$f":"IF('Officer proposed'!D179=\"\",\"\",'Officer proposed'!D179)","v":"Tue"},{"$f":"IF('Officer proposed'!D179=\"\",\"\",IF('Officer proposed'!E179=\"F\",\"Free Day\",IF('Officer proposed'!E179=\"R\",\"Rest Day\",CONCATENATE(TEXT('Officer proposed'!E179,\"hhmm\"),\"-\",(TEXT('Officer proposed'!F179,\"hhmm\"))))))","v":"0000-0000"},177]
[{"$f":"IF('Officer proposed'!C180=\"\",\"\",'Officer proposed'!C180)","v":""},{"$f":"IF('Officer proposed'!D180=\"\",\"\",'Officer proposed'!D180)","v":"Wed"},{"$f":"IF('Officer proposed'!D180=\"\",\"\",IF('Officer proposed'!E180=\"F\",\"Free Day\",IF('Officer proposed'!E180=\"R\",\"Rest Day\",CONCATENATE(TEXT('Officer proposed'!E180,\"hhmm\"),\"-\",(TEXT('Officer proposed'!F180,\"hhmm\"))))))","v":"0000-0000"},178]
[{"$f":"IF('Officer proposed'!C181=\"\",\"\",'Officer proposed'!C181)","v":""},{"$f":"IF('Officer proposed'!D181=\"\",\"\",'Officer proposed'!D181)","v":"Thu"},{"$f":"IF('Officer proposed'!D181=\"\",\"\",IF('Officer proposed'!E181=\"F\",\"Free Day\",IF('Officer proposed'!E181=\"R\",\"Rest Day\",CONCATENATE(TEXT('Officer proposed'!E181,\"hhmm\"),\"-\",(TEXT('Officer proposed'!F181,\"hhmm\"))))))","v":"0000-0000"},179]
[{"$f":"IF('Officer proposed'!C182=\"\",\"\",'Officer proposed'!C182)","v":""},{"$f":"IF('Officer proposed'!D182=\"\",\"\",'Officer proposed'!D182)","v":"Fri"},{"$f":"IF('Officer proposed'!D182=\"\",\"\",IF('Officer proposed'!E182=\"F\",\"Free Day\",IF('Officer proposed'!E182=\"R\",\"Rest Day\",CONCATENATE(TEXT('Officer proposed'!E182,\"hhmm\"),\"-\",(TEXT('Officer proposed'!F182,\"hhmm\"))))))","v":"0000-0000"},180]
[{"$f":"IF('Officer proposed'!C183=\"\",\"\",'Officer proposed'!C183)","v":""},{"$f":"IF('Officer proposed'!D183=\"\",\"\",'Officer proposed'!D183)","v":"Sat"},{"$f":"IF('Officer proposed'!D183=\"\",\"\",IF('Officer proposed'!E183=\"F\",\"Free Day\",IF('Officer proposed'!E183=\"R\",\"Rest Day\",CONCATENATE(TEXT('Officer proposed'!E183,\"hhmm\"),\"-\",(TEXT('Officer proposed'!F183,\"hhmm\"))))))","v":"0000-0000"},181]
[{"$f":"IF('Officer proposed'!C184=\"\",\"\",'Officer proposed'!C184)","v":""},{"$f":"IF('Officer proposed'!D184=\"\",\"\",'Officer proposed'!D184)","v":"Sun"},{"$f":"IF('Officer proposed'!D184=\"\",\"\",IF('Officer proposed'!E184=\"F\",\"Free Day\",IF('Officer proposed'!E184=\"R\",\"Rest Day\",CONCATENATE(TEXT('Officer proposed'!E184,\"hhmm\"),\"-\",(TEXT('Officer proposed'!F184,\"hhmm\"))))))","v":"0000-0000"},182]
[{"$f":"IF('Officer proposed'!C185=\"\",\"\",'Officer proposed'!C185)","v":"Week27"},{"$f":"IF('Officer proposed'!D185=\"\",\"\",'Officer proposed'!D185)","v":"Mon"},{"$f":"IF('Officer proposed'!D185=\"\",\"\",IF('Officer proposed'!E185=\"F\",\"Free Day\",IF('Officer proposed'!E185=\"R\",\"Rest Day\",CONCATENATE(TEXT('Officer proposed'!E185,\"hhmm\"),\"-\",(TEXT('Officer proposed'!F185,\"hhmm\"))))))","v":"0000-0000"},183,null,"Week 27"]
[{"$f":"IF('Officer proposed'!C186=\"\",\"\",'Officer proposed'!C186)","v":""},{"$f":"IF('Officer proposed'!D186=\"\",\"\",'Officer proposed'!D186)","v":"Tue"},{"$f":"IF('Officer proposed'!D186=\"\",\"\",IF('Officer proposed'!E186=\"F\",\"Free Day\",IF('Officer proposed'!E186=\"R\",\"Rest Day\",CONCATENATE(TEXT('Officer proposed'!E186,\"hhmm\"),\"-\",(TEXT('Officer proposed'!F186,\"hhmm\"))))))","v":"0000-0000"},184]
[{"$f":"IF('Officer proposed'!C187=\"\",\"\",'Officer proposed'!C187)","v":""},{"$f":"IF('Officer proposed'!D187=\"\",\"\",'Officer proposed'!D187)","v":"Wed"},{"$f":"IF('Officer proposed'!D187=\"\",\"\",IF('Officer proposed'!E187=\"F\",\"Free Day\",IF('Officer proposed'!E187=\"R\",\"Rest Day\",CONCATENATE(TEXT('Officer proposed'!E187,\"hhmm\"),\"-\",(TEXT('Officer proposed'!F187,\"hhmm\"))))))","v":"0000-0000"},185]
[{"$f":"IF('Officer proposed'!C188=\"\",\"\",'Officer proposed'!C188)","v":""},{"$f":"IF('Officer proposed'!D188=\"\",\"\",'Officer proposed'!D188)","v":"Thu"},{"$f":"IF('Officer proposed'!D188=\"\",\"\",IF('Officer proposed'!E188=\"F\",\"Free Day\",IF('Officer proposed'!E188=\"R\",\"Rest Day\",CONCATENATE(TEXT('Officer proposed'!E188,\"hhmm\"),\"-\",(TEXT('Officer proposed'!F188,\"hhmm\"))))))","v":"0000-0000"},186]
[{"$f":"IF('Officer proposed'!C189=\"\",\"\",'Officer proposed'!C189)","v":""},{"$f":"IF('Officer proposed'!D189=\"\",\"\",'Officer proposed'!D189)","v":"Fri"},{"$f":"IF('Officer proposed'!D189=\"\",\"\",IF('Officer proposed'!E189=\"F\",\"Free Day\",IF('Officer proposed'!E189=\"R\",\"Rest Day\",CONCATENATE(TEXT('Officer proposed'!E189,\"hhmm\"),\"-\",(TEXT('Officer proposed'!F189,\"hhmm\"))))))","v":"0000-0000"},187]
[{"$f":"IF('Officer proposed'!C190=\"\",\"\",'Officer proposed'!C190)","v":""},{"$f":"IF('Officer proposed'!D190=\"\",\"\",'Officer proposed'!D190)","v":"Sat"},{"$f":"IF('Officer proposed'!D190=\"\",\"\",IF('Officer proposed'!E190=\"F\",\"Free Day\",IF('Officer proposed'!E190=\"R\",\"Rest Day\",CONCATENATE(TEXT('Officer proposed'!E190,\"hhmm\"),\"-\",(TEXT('Officer proposed'!F190,\"hhmm\"))))))","v":"0000-0000"},188]
[{"$f":"IF('Officer proposed'!C191=\"\",\"\",'Officer proposed'!C191)","v":""},{"$f":"IF('Officer proposed'!D191=\"\",\"\",'Officer proposed'!D191)","v":"Sun"},{"$f":"IF('Officer proposed'!D191=\"\",\"\",IF('Officer proposed'!E191=\"F\",\"Free Day\",IF('Officer proposed'!E191=\"R\",\"Rest Day\",CONCATENATE(TEXT('Officer proposed'!E191,\"hhmm\"),\"-\",(TEXT('Officer proposed'!F191,\"hhmm\"))))))","v":"0000-0000"},189]
[{"$f":"IF('Officer proposed'!C192=\"\",\"\",'Officer proposed'!C192)","v":"Week28"},{"$f":"IF('Officer proposed'!D192=\"\",\"\",'Officer proposed'!D192)","v":"Mon"},{"$f":"IF('Officer proposed'!D192=\"\",\"\",IF('Officer proposed'!E192=\"F\",\"Free Day\",IF('Officer proposed'!E192=\"R\",\"Rest Day\",CONCATENATE(TEXT('Officer proposed'!E192,\"hhmm\"),\"-\",(TEXT('Officer proposed'!F192,\"hhmm\"))))))","v":"0000-0000"},190,null,"Week 28"]
[{"$f":"IF('Officer proposed'!C193=\"\",\"\",'Officer proposed'!C193)","v":""},{"$f":"IF('Officer proposed'!D193=\"\",\"\",'Officer proposed'!D193)","v":"Tue"},{"$f":"IF('Officer proposed'!D193=\"\",\"\",IF('Officer proposed'!E193=\"F\",\"Free Day\",IF('Officer proposed'!E193=\"R\",\"Rest Day\",CONCATENATE(TEXT('Officer proposed'!E193,\"hhmm\"),\"-\",(TEXT('Officer proposed'!F193,\"hhmm\"))))))","v":"0000-0000"},191]
[{"$f":"IF('Officer proposed'!C194=\"\",\"\",'Officer proposed'!C194)","v":""},{"$f":"IF('Officer proposed'!D194=\"\",\"\",'Officer proposed'!D194)","v":"Wed"},{"$f":"IF('Officer proposed'!D194=\"\",\"\",IF('Officer proposed'!E194=\"F\",\"Free Day\",IF('Officer proposed'!E194=\"R\",\"Rest Day\",CONCATENATE(TEXT('Officer proposed'!E194,\"hhmm\"),\"-\",(TEXT('Officer proposed'!F194,\"hhmm\"))))))","v":"0000-0000"},192]
[{"$f":"IF('Officer proposed'!C195=\"\",\"\",'Officer proposed'!C195)","v":""},{"$f":"IF('Officer proposed'!D195=\"\",\"\",'Officer proposed'!D195)","v":"Thu"},{"$f":"IF('Officer proposed'!D195=\"\",\"\",IF('Officer proposed'!E195=\"F\",\"Free Day\",IF('Officer proposed'!E195=\"R\",\"Rest Day\",CONCATENATE(TEXT('Officer proposed'!E195,\"hhmm\"),\"-\",(TEXT('Officer proposed'!F195,\"hhmm\"))))))","v":"0000-0000"},193]
[{"$f":"IF('Officer proposed'!C196=\"\",\"\",'Officer proposed'!C196)","v":""},{"$f":"IF('Officer proposed'!D196=\"\",\"\",'Officer proposed'!D196)","v":"Fri"},{"$f":"IF('Officer proposed'!D196=\"\",\"\",IF('Officer proposed'!E196=\"F\",\"Free Day\",IF('Officer proposed'!E196=\"R\",\"Rest Day\",CONCATENATE(TEXT('Officer proposed'!E196,\"hhmm\"),\"-\",(TEXT('Officer proposed'!F196,\"hhmm\"))))))","v":"0000-0000"},194]
[{"$f":"IF('Officer proposed'!C197=\"\",\"\",'Officer proposed'!C197)","v":""},{"$f":"IF('Officer proposed'!D197=\"\",\"\",'Officer proposed'!D197)","v":"Sat"},{"$f":"IF('Officer proposed'!D197=\"\",\"\",IF('Officer proposed'!E197=\"F\",\"Free Day\",IF('Officer proposed'!E197=\"R\",\"Rest Day\",CONCATENATE(TEXT('Officer proposed'!E197,\"hhmm\"),\"-\",(TEXT('Officer proposed'!F197,\"hhmm\"))))))","v":"0000-0000"},195]
[{"$f":"IF('Officer proposed'!C198=\"\",\"\",'Officer proposed'!C198)","v":""},{"$f":"IF('Officer proposed'!D198=\"\",\"\",'Officer proposed'!D198)","v":"Sun"},{"$f":"IF('Officer proposed'!D198=\"\",\"\",IF('Officer proposed'!E198=\"F\",\"Free Day\",IF('Officer proposed'!E198=\"R\",\"Rest Day\",CONCATENATE(TEXT('Officer proposed'!E198,\"hhmm\"),\"-\",(TEXT('Officer proposed'!F198,\"hhmm\"))))))","v":"0000-0000"},196]
[{"$f":"IF('Officer proposed'!C199=\"\",\"\",'Officer proposed'!C199)","v":"Week29"},{"$f":"IF('Officer proposed'!D199=\"\",\"\",'Officer proposed'!D199)","v":"Mon"},{"$f":"IF('Officer proposed'!D199=\"\",\"\",IF('Officer proposed'!E199=\"F\",\"Free Day\",IF('Officer proposed'!E199=\"R\",\"Rest Day\",CONCATENATE(TEXT('Officer proposed'!E199,\"hhmm\"),\"-\",(TEXT('Officer proposed'!F199,\"hhmm\"))))))","v":"0000-0000"},197,null,"Week 29"]
[{"$f":"IF('Officer proposed'!C200=\"\",\"\",'Officer proposed'!C200)","v":""},{"$f":"IF('Officer proposed'!D200=\"\",\"\",'Officer proposed'!D200)","v":"Tue"},{"$f":"IF('Officer proposed'!D200=\"\",\"\",IF('Officer proposed'!E200=\"F\",\"Free Day\",IF('Officer proposed'!E200=\"R\",\"Rest Day\",CONCATENATE(TEXT('Officer proposed'!E200,\"hhmm\"),\"-\",(TEXT('Officer proposed'!F200,\"hhmm\"))))))","v":"0000-0000"},198]
[{"$f":"IF('Officer proposed'!C201=\"\",\"\",'Officer proposed'!C201)","v":""},{"$f":"IF('Officer proposed'!D201=\"\",\"\",'Officer proposed'!D201)","v":"Wed"},{"$f":"IF('Officer proposed'!D201=\"\",\"\",IF('Officer proposed'!E201=\"F\",\"Free Day\",IF('Officer proposed'!E201=\"R\",\"Rest Day\",CONCATENATE(TEXT('Officer proposed'!E201,\"hhmm\"),\"-\",(TEXT('Officer proposed'!F201,\"hhmm\"))))))","v":"0000-0000"},199]
[{"$f":"IF('Officer proposed'!C202=\"\",\"\",'Officer proposed'!C202)","v":""},{"$f":"IF('Officer proposed'!D202=\"\",\"\",'Officer proposed'!D202)","v":"Thu"},{"$f":"IF('Officer proposed'!D202=\"\",\"\",IF('Officer proposed'!E202=\"F\",\"Free Day\",IF('Officer proposed'!E202=\"R\",\"Rest Day\",CONCATENATE(TEXT('Officer proposed'!E202,\"hhmm\"),\"-\",(TEXT('Officer proposed'!F202,\"hhmm\"))))))","v":"0000-0000"},200]
[{"$f":"IF('Officer proposed'!C203=\"\",\"\",'Officer proposed'!C203)","v":""},{"$f":"IF('Officer proposed'!D203=\"\",\"\",'Officer proposed'!D203)","v":"Fri"},{"$f":"IF('Officer proposed'!D203=\"\",\"\",IF('Officer proposed'!E203=\"F\",\"Free Day\",IF('Officer proposed'!E203=\"R\",\"Rest Day\",CONCATENATE(TEXT('Officer proposed'!E203,\"hhmm\"),\"-\",(TEXT('Officer proposed'!F203,\"hhmm\"))))))","v":"0000-0000"},201]
[{"$f":"IF('Officer proposed'!C204=\"\",\"\",'Officer proposed'!C204)","v":""},{"$f":"IF('Officer proposed'!D204=\"\",\"\",'Officer proposed'!D204)","v":"Sat"},{"$f":"IF('Officer proposed'!D204=\"\",\"\",IF('Officer proposed'!E204=\"F\",\"Free Day\",IF('Officer proposed'!E204=\"R\",\"Rest Day\",CONCATENATE(TEXT('Officer proposed'!E204,\"hhmm\"),\"-\",(TEXT('Officer proposed'!F204,\"hhmm\"))))))","v":"0000-0000"},202]
[{"$f":"IF('Officer proposed'!C205=\"\",\"\",'Officer proposed'!C205)","v":""},{"$f":"IF('Officer proposed'!D205=\"\",\"\",'Officer proposed'!D205)","v":"Sun"},{"$f":"IF('Officer proposed'!D205=\"\",\"\",IF('Officer proposed'!E205=\"F\",\"Free Day\",IF('Officer proposed'!E205=\"R\",\"Rest Day\",CONCATENATE(TEXT('Officer proposed'!E205,\"hhmm\"),\"-\",(TEXT('Officer proposed'!F205,\"hhmm\"))))))","v":"0000-0000"},203]
[{"$f":"IF('Officer proposed'!C206=\"\",\"\",'Officer proposed'!C206)","v":"Week30"},{"$f":"IF('Officer proposed'!D206=\"\",\"\",'Officer proposed'!D206)","v":"Mon"},{"$f":"IF('Officer proposed'!D206=\"\",\"\",IF('Officer proposed'!E206=\"F\",\"Free Day\",IF('Officer proposed'!E206=\"R\",\"Rest Day\",CONCATENATE(TEXT('Officer proposed'!E206,\"hhmm\"),\"-\",(TEXT('Officer proposed'!F206,\"hhmm\"))))))","v":"0000-0000"},204,null,"Week 30"]
[{"$f":"IF('Officer proposed'!C207=\"\",\"\",'Officer proposed'!C207)","v":""},{"$f":"IF('Officer proposed'!D207=\"\",\"\",'Officer proposed'!D207)","v":"Tue"},{"$f":"IF('Officer proposed'!D207=\"\",\"\",IF('Officer proposed'!E207=\"F\",\"Free Day\",IF('Officer proposed'!E207=\"R\",\"Rest Day\",CONCATENATE(TEXT('Officer proposed'!E207,\"hhmm\"),\"-\",(TEXT('Officer proposed'!F207,\"hhmm\"))))))","v":"0000-0000"},205]
[{"$f":"IF('Officer proposed'!C208=\"\",\"\",'Officer proposed'!C208)","v":""},{"$f":"IF('Officer proposed'!D208=\"\",\"\",'Officer proposed'!D208)","v":"Wed"},{"$f":"IF('Officer proposed'!D208=\"\",\"\",IF('Officer proposed'!E208=\"F\",\"Free Day\",IF('Officer proposed'!E208=\"R\",\"Rest Day\",CONCATENATE(TEXT('Officer proposed'!E208,\"hhmm\"),\"-\",(TEXT('Officer proposed'!F208,\"hhmm\"))))))","v":"0000-0000"},206]
[{"$f":"IF('Officer proposed'!C209=\"\",\"\",'Officer proposed'!C209)","v":""},{"$f":"IF('Officer proposed'!D209=\"\",\"\",'Officer proposed'!D209)","v":"Thu"},{"$f":"IF('Officer proposed'!D209=\"\",\"\",IF('Officer proposed'!E209=\"F\",\"Free Day\",IF('Officer proposed'!E209=\"R\",\"Rest Day\",CONCATENATE(TEXT('Officer proposed'!E209,\"hhmm\"),\"-\",(TEXT('Officer proposed'!F209,\"hhmm\"))))))","v":"0000-0000"},207]
[{"$f":"IF('Officer proposed'!C210=\"\",\"\",'Officer proposed'!C210)","v":""},{"$f":"IF('Officer proposed'!D210=\"\",\"\",'Officer proposed'!D210)","v":"Fri"},{"$f":"IF('Officer proposed'!D210=\"\",\"\",IF('Officer proposed'!E210=\"F\",\"Free Day\",IF('Officer proposed'!E210=\"R\",\"Rest Day\",CONCATENATE(TEXT('Officer proposed'!E210,\"hhmm\"),\"-\",(TEXT('Officer proposed'!F210,\"hhmm\"))))))","v":"0000-0000"},208]
[{"$f":"IF('Officer proposed'!C211=\"\",\"\",'Officer proposed'!C211)","v":""},{"$f":"IF('Officer proposed'!D211=\"\",\"\",'Officer proposed'!D211)","v":"Sat"},{"$f":"IF('Officer proposed'!D211=\"\",\"\",IF('Officer proposed'!E211=\"F\",\"Free Day\",IF('Officer proposed'!E211=\"R\",\"Rest Day\",CONCATENATE(TEXT('Officer proposed'!E211,\"hhmm\"),\"-\",(TEXT('Officer proposed'!F211,\"hhmm\"))))))","v":"0000-0000"},209]
[{"$f":"IF('Officer proposed'!C212=\"\",\"\",'Officer proposed'!C212)","v":""},{"$f":"IF('Officer proposed'!D212=\"\",\"\",'Officer proposed'!D212)","v":"Sun"},{"$f":"IF('Officer proposed'!D212=\"\",\"\",IF('Officer proposed'!E212=\"F\",\"Free Day\",IF('Officer proposed'!E212=\"R\",\"Rest Day\",CONCATENATE(TEXT('Officer proposed'!E212,\"hhmm\"),\"-\",(TEXT('Officer proposed'!F212,\"hhmm\"))))))","v":"0000-0000"},210]
[{"$f":"IF('Officer proposed'!C213=\"\",\"\",'Officer proposed'!C213)","v":"Week31"},{"$f":"IF('Officer proposed'!D213=\"\",\"\",'Officer proposed'!D213)","v":"Mon"},{"$f":"IF('Officer proposed'!D213=\"\",\"\",IF('Officer proposed'!E213=\"F\",\"Free Day\",IF('Officer proposed'!E213=\"R\",\"Rest Day\",CONCATENATE(TEXT('Officer proposed'!E213,\"hhmm\"),\"-\",(TEXT('Officer proposed'!F213,\"hhmm\"))))))","v":"0000-0000"},211,null,"Week 31"]
[{"$f":"IF('Officer proposed'!C214=\"\",\"\",'Officer proposed'!C214)","v":""},{"$f":"IF('Officer proposed'!D214=\"\",\"\",'Officer proposed'!D214)","v":"Tue"},{"$f":"IF('Officer proposed'!D214=\"\",\"\",IF('Officer proposed'!E214=\"F\",\"Free Day\",IF('Officer proposed'!E214=\"R\",\"Rest Day\",CONCATENATE(TEXT('Officer proposed'!E214,\"hhmm\"),\"-\",(TEXT('Officer proposed'!F214,\"hhmm\"))))))","v":"0000-0000"},212]
[{"$f":"IF('Officer proposed'!C215=\"\",\"\",'Officer proposed'!C215)","v":""},{"$f":"IF('Officer proposed'!D215=\"\",\"\",'Officer proposed'!D215)","v":"Wed"},{"$f":"IF('Officer proposed'!D215=\"\",\"\",IF('Officer proposed'!E215=\"F\",\"Free Day\",IF('Officer proposed'!E215=\"R\",\"Rest Day\",CONCATENATE(TEXT('Officer proposed'!E215,\"hhmm\"),\"-\",(TEXT('Officer proposed'!F215,\"hhmm\"))))))","v":"0000-0000"},213]
[{"$f":"IF('Officer proposed'!C216=\"\",\"\",'Officer proposed'!C216)","v":""},{"$f":"IF('Officer proposed'!D216=\"\",\"\",'Officer proposed'!D216)","v":"Thu"},{"$f":"IF('Officer proposed'!D216=\"\",\"\",IF('Officer proposed'!E216=\"F\",\"Free Day\",IF('Officer proposed'!E216=\"R\",\"Rest Day\",CONCATENATE(TEXT('Officer proposed'!E216,\"hhmm\"),\"-\",(TEXT('Officer proposed'!F216,\"hhmm\"))))))","v":"0000-0000"},214]
[{"$f":"IF('Officer proposed'!C217=\"\",\"\",'Officer proposed'!C217)","v":""},{"$f":"IF('Officer proposed'!D217=\"\",\"\",'Officer proposed'!D217)","v":"Fri"},{"$f":"IF('Officer proposed'!D217=\"\",\"\",IF('Officer proposed'!E217=\"F\",\"Free Day\",IF('Officer proposed'!E217=\"R\",\"Rest Day\",CONCATENATE(TEXT('Officer proposed'!E217,\"hhmm\"),\"-\",(TEXT('Officer proposed'!F217,\"hhmm\"))))))","v":"0000-0000"},215]
[{"$f":"IF('Officer proposed'!C218=\"\",\"\",'Officer proposed'!C218)","v":""},{"$f":"IF('Officer proposed'!D218=\"\",\"\",'Officer proposed'!D218)","v":"Sat"},{"$f":"IF('Officer proposed'!D218=\"\",\"\",IF('Officer proposed'!E218=\"F\",\"Free Day\",IF('Officer proposed'!E218=\"R\",\"Rest Day\",CONCATENATE(TEXT('Officer proposed'!E218,\"hhmm\"),\"-\",(TEXT('Officer proposed'!F218,\"hhmm\"))))))","v":"0000-0000"},216]
[{"$f":"IF('Officer proposed'!C219=\"\",\"\",'Officer proposed'!C219)","v":""},{"$f":"IF('Officer proposed'!D219=\"\",\"\",'Officer proposed'!D219)","v":"Sun"},{"$f":"IF('Officer proposed'!D219=\"\",\"\",IF('Officer proposed'!E219=\"F\",\"Free Day\",IF('Officer proposed'!E219=\"R\",\"Rest Day\",CONCATENATE(TEXT('Officer proposed'!E219,\"hhmm\"),\"-\",(TEXT('Officer proposed'!F219,\"hhmm\"))))))","v":"0000-0000"},217]
[{"$f":"IF('Officer proposed'!C220=\"\",\"\",'Officer proposed'!C220)","v":"Week32"},{"$f":"IF('Officer proposed'!D220=\"\",\"\",'Officer proposed'!D220)","v":"Mon"},{"$f":"IF('Officer proposed'!D220=\"\",\"\",IF('Officer proposed'!E220=\"F\",\"Free Day\",IF('Officer proposed'!E220=\"R\",\"Rest Day\",CONCATENATE(TEXT('Officer proposed'!E220,\"hhmm\"),\"-\",(TEXT('Officer proposed'!F220,\"hhmm\"))))))","v":"0000-0000"},218,null,"Week 32"]
[{"$f":"IF('Officer proposed'!C221=\"\",\"\",'Officer proposed'!C221)","v":""},{"$f":"IF('Officer proposed'!D221=\"\",\"\",'Officer proposed'!D221)","v":"Tue"},{"$f":"IF('Officer proposed'!D221=\"\",\"\",IF('Officer proposed'!E221=\"F\",\"Free Day\",IF('Officer proposed'!E221=\"R\",\"Rest Day\",CONCATENATE(TEXT('Officer proposed'!E221,\"hhmm\"),\"-\",(TEXT('Officer proposed'!F221,\"hhmm\"))))))","v":"0000-0000"},219]
[{"$f":"IF('Officer proposed'!C222=\"\",\"\",'Officer proposed'!C222)","v":""},{"$f":"IF('Officer proposed'!D222=\"\",\"\",'Officer proposed'!D222)","v":"Wed"},{"$f":"IF('Officer proposed'!D222=\"\",\"\",IF('Officer proposed'!E222=\"F\",\"Free Day\",IF('Officer proposed'!E222=\"R\",\"Rest Day\",CONCATENATE(TEXT('Officer proposed'!E222,\"hhmm\"),\"-\",(TEXT('Officer proposed'!F222,\"hhmm\"))))))","v":"0000-0000"},220]
[{"$f":"IF('Officer proposed'!C223=\"\",\"\",'Officer proposed'!C223)","v":""},{"$f":"IF('Officer proposed'!D223=\"\",\"\",'Officer proposed'!D223)","v":"Thu"},{"$f":"IF('Officer proposed'!D223=\"\",\"\",IF('Officer proposed'!E223=\"F\",\"Free Day\",IF('Officer proposed'!E223=\"R\",\"Rest Day\",CONCATENATE(TEXT('Officer proposed'!E223,\"hhmm\"),\"-\",(TEXT('Officer proposed'!F223,\"hhmm\"))))))","v":"0000-0000"},221]
[{"$f":"IF('Officer proposed'!C224=\"\",\"\",'Officer proposed'!C224)","v":""},{"$f":"IF('Officer proposed'!D224=\"\",\"\",'Officer proposed'!D224)","v":"Fri"},{"$f":"IF('Officer proposed'!D224=\"\",\"\",IF('Officer proposed'!E224=\"F\",\"Free Day\",IF('Officer proposed'!E224=\"R\",\"Rest Day\",CONCATENATE(TEXT('Officer proposed'!E224,\"hhmm\"),\"-\",(TEXT('Officer proposed'!F224,\"hhmm\"))))))","v":"0000-0000"},222]
[{"$f":"IF('Officer proposed'!C225=\"\",\"\",'Officer proposed'!C225)","v":""},{"$f":"IF('Officer proposed'!D225=\"\",\"\",'Officer proposed'!D225)","v":"Sat"},{"$f":"IF('Officer proposed'!D225=\"\",\"\",IF('Officer proposed'!E225=\"F\",\"Free Day\",IF('Officer proposed'!E225=\"R\",\"Rest Day\",CONCATENATE(TEXT('Officer proposed'!E225,\"hhmm\"),\"-\",(TEXT('Officer proposed'!F225,\"hhmm\"))))))","v":"0000-0000"},223]
[{"$f":"IF('Officer proposed'!C226=\"\",\"\",'Officer proposed'!C226)","v":""},{"$f":"IF('Officer proposed'!D226=\"\",\"\",'Officer proposed'!D226)","v":"Sun"},{"$f":"IF('Officer proposed'!D226=\"\",\"\",IF('Officer proposed'!E226=\"F\",\"Free Day\",IF('Officer proposed'!E226=\"R\",\"Rest Day\",CONCATENATE(TEXT('Officer proposed'!E226,\"hhmm\"),\"-\",(TEXT('Officer proposed'!F226,\"hhmm\"))))))","v":"0000-0000"},224]
[{"$f":"IF('Officer proposed'!C227=\"\",\"\",'Officer proposed'!C227)","v":"Week33"},{"$f":"IF('Officer proposed'!D227=\"\",\"\",'Officer proposed'!D227)","v":"Mon"},{"$f":"IF('Officer proposed'!D227=\"\",\"\",IF('Officer proposed'!E227=\"F\",\"Free Day\",IF('Officer proposed'!E227=\"R\",\"Rest Day\",CONCATENATE(TEXT('Officer proposed'!E227,\"hhmm\"),\"-\",(TEXT('Officer proposed'!F227,\"hhmm\"))))))","v":"0000-0000"},225,null,"Week 33"]
[{"$f":"IF('Officer proposed'!C228=\"\",\"\",'Officer proposed'!C228)","v":""},{"$f":"IF('Officer proposed'!D228=\"\",\"\",'Officer proposed'!D228)","v":"Tue"},{"$f":"IF('Officer proposed'!D228=\"\",\"\",IF('Officer proposed'!E228=\"F\",\"Free Day\",IF('Officer proposed'!E228=\"R\",\"Rest Day\",CONCATENATE(TEXT('Officer proposed'!E228,\"hhmm\"),\"-\",(TEXT('Officer proposed'!F228,\"hhmm\"))))))","v":"0000-0000"},226]
[{"$f":"IF('Officer proposed'!C229=\"\",\"\",'Officer proposed'!C229)","v":""},{"$f":"IF('Officer proposed'!D229=\"\",\"\",'Officer proposed'!D229)","v":"Wed"},{"$f":"IF('Officer proposed'!D229=\"\",\"\",IF('Officer proposed'!E229=\"F\",\"Free Day\",IF('Officer proposed'!E229=\"R\",\"Rest Day\",CONCATENATE(TEXT('Officer proposed'!E229,\"hhmm\"),\"-\",(TEXT('Officer proposed'!F229,\"hhmm\"))))))","v":"0000-0000"},227]
[{"$f":"IF('Officer proposed'!C230=\"\",\"\",'Officer proposed'!C230)","v":""},{"$f":"IF('Officer proposed'!D230=\"\",\"\",'Officer proposed'!D230)","v":"Thu"},{"$f":"IF('Officer proposed'!D230=\"\",\"\",IF('Officer proposed'!E230=\"F\",\"Free Day\",IF('Officer proposed'!E230=\"R\",\"Rest Day\",CONCATENATE(TEXT('Officer proposed'!E230,\"hhmm\"),\"-\",(TEXT('Officer proposed'!F230,\"hhmm\"))))))","v":"0000-0000"},228]
[{"$f":"IF('Officer proposed'!C231=\"\",\"\",'Officer proposed'!C231)","v":""},{"$f":"IF('Officer proposed'!D231=\"\",\"\",'Officer proposed'!D231)","v":"Fri"},{"$f":"IF('Officer proposed'!D231=\"\",\"\",IF('Officer proposed'!E231=\"F\",\"Free Day\",IF('Officer proposed'!E231=\"R\",\"Rest Day\",CONCATENATE(TEXT('Officer proposed'!E231,\"hhmm\"),\"-\",(TEXT('Officer proposed'!F231,\"hhmm\"))))))","v":"0000-0000"},229]
[{"$f":"IF('Officer proposed'!C232=\"\",\"\",'Officer proposed'!C232)","v":""},{"$f":"IF('Officer proposed'!D232=\"\",\"\",'Officer proposed'!D232)","v":"Sat"},{"$f":"IF('Officer proposed'!D232=\"\",\"\",IF('Officer proposed'!E232=\"F\",\"Free Day\",IF('Officer proposed'!E232=\"R\",\"Rest Day\",CONCATENATE(TEXT('Officer proposed'!E232,\"hhmm\"),\"-\",(TEXT('Officer proposed'!F232,\"hhmm\"))))))","v":"0000-0000"},230]
[{"$f":"IF('Officer proposed'!C233=\"\",\"\",'Officer proposed'!C233)","v":""},{"$f":"IF('Officer proposed'!D233=\"\",\"\",'Officer proposed'!D233)","v":"Sun"},{"$f":"IF('Officer proposed'!D233=\"\",\"\",IF('Officer proposed'!E233=\"F\",\"Free Day\",IF('Officer proposed'!E233=\"R\",\"Rest Day\",CONCATENATE(TEXT('Officer proposed'!E233,\"hhmm\"),\"-\",(TEXT('Officer proposed'!F233,\"hhmm\"))))))","v":"0000-0000"},231]
[{"$f":"IF('Officer proposed'!C234=\"\",\"\",'Officer proposed'!C234)","v":"Week34"},{"$f":"IF('Officer proposed'!D234=\"\",\"\",'Officer proposed'!D234)","v":"Mon"},{"$f":"IF('Officer proposed'!D234=\"\",\"\",IF('Officer proposed'!E234=\"F\",\"Free Day\",IF('Officer proposed'!E234=\"R\",\"Rest Day\",CONCATENATE(TEXT('Officer proposed'!E234,\"hhmm\"),\"-\",(TEXT('Officer proposed'!F234,\"hhmm\"))))))","v":"0000-0000"},232,null,"Week 34"]
[{"$f":"IF('Officer proposed'!C235=\"\",\"\",'Officer proposed'!C235)","v":""},{"$f":"IF('Officer proposed'!D235=\"\",\"\",'Officer proposed'!D235)","v":"Tue"},{"$f":"IF('Officer proposed'!D235=\"\",\"\",IF('Officer proposed'!E235=\"F\",\"Free Day\",IF('Officer proposed'!E235=\"R\",\"Rest Day\",CONCATENATE(TEXT('Officer proposed'!E235,\"hhmm\"),\"-\",(TEXT('Officer proposed'!F235,\"hhmm\"))))))","v":"0000-0000"},233]
[{"$f":"IF('Officer proposed'!C236=\"\",\"\",'Officer proposed'!C236)","v":""},{"$f":"IF('Officer proposed'!D236=\"\",\"\",'Officer proposed'!D236)","v":"Wed"},{"$f":"IF('Officer proposed'!D236=\"\",\"\",IF('Officer proposed'!E236=\"F\",\"Free Day\",IF('Officer proposed'!E236=\"R\",\"Rest Day\",CONCATENATE(TEXT('Officer proposed'!E236,\"hhmm\"),\"-\",(TEXT('Officer proposed'!F236,\"hhmm\"))))))","v":"0000-0000"},234]
[{"$f":"IF('Officer proposed'!C237=\"\",\"\",'Officer proposed'!C237)","v":""},{"$f":"IF('Officer proposed'!D237=\"\",\"\",'Officer proposed'!D237)","v":"Thu"},{"$f":"IF('Officer proposed'!D237=\"\",\"\",IF('Officer proposed'!E237=\"F\",\"Free Day\",IF('Officer proposed'!E237=\"R\",\"Rest Day\",CONCATENATE(TEXT('Officer proposed'!E237,\"hhmm\"),\"-\",(TEXT('Officer proposed'!F237,\"hhmm\"))))))","v":"0000-0000"},235]
[{"$f":"IF('Officer proposed'!C238=\"\",\"\",'Officer proposed'!C238)","v":""},{"$f":"IF('Officer proposed'!D238=\"\",\"\",'Officer proposed'!D238)","v":"Fri"},{"$f":"IF('Officer proposed'!D238=\"\",\"\",IF('Officer proposed'!E238=\"F\",\"Free Day\",IF('Officer proposed'!E238=\"R\",\"Rest Day\",CONCATENATE(TEXT('Officer proposed'!E238,\"hhmm\"),\"-\",(TEXT('Officer proposed'!F238,\"hhmm\"))))))","v":"0000-0000"},236]
[{"$f":"IF('Officer proposed'!C239=\"\",\"\",'Officer proposed'!C239)","v":""},{"$f":"IF('Officer proposed'!D239=\"\",\"\",'Officer proposed'!D239)","v":"Sat"},{"$f":"IF('Officer proposed'!D239=\"\",\"\",IF('Officer proposed'!E239=\"F\",\"Free Day\",IF('Officer proposed'!E239=\"R\",\"Rest Day\",CONCATENATE(TEXT('Officer proposed'!E239,\"hhmm\"),\"-\",(TEXT('Officer proposed'!F239,\"hhmm\"))))))","v":"0000-0000"},237]
[{"$f":"IF('Officer proposed'!C240=\"\",\"\",'Officer proposed'!C240)","v":""},{"$f":"IF('Officer proposed'!D240=\"\",\"\",'Officer proposed'!D240)","v":"Sun"},{"$f":"IF('Officer proposed'!D240=\"\",\"\",IF('Officer proposed'!E240=\"F\",\"Free Day\",IF('Officer proposed'!E240=\"R\",\"Rest Day\",CONCATENATE(TEXT('Officer proposed'!E240,\"hhmm\"),\"-\",(TEXT('Officer proposed'!F240,\"hhmm\"))))))","v":"0000-0000"},238]
[{"$f":"IF('Officer proposed'!C241=\"\",\"\",'Officer proposed'!C241)","v":"Week35"},{"$f":"IF('Officer proposed'!D241=\"\",\"\",'Officer proposed'!D241)","v":"Mon"},{"$f":"IF('Officer proposed'!D241=\"\",\"\",IF('Officer proposed'!E241=\"F\",\"Free Day\",IF('Officer proposed'!E241=\"R\",\"Rest Day\",CONCATENATE(TEXT('Officer proposed'!E241,\"hhmm\"),\"-\",(TEXT('Officer proposed'!F241,\"hhmm\"))))))","v":"0000-0000"},239,null,"Week 35"]
[{"$f":"IF('Officer proposed'!C242=\"\",\"\",'Officer proposed'!C242)","v":""},{"$f":"IF('Officer proposed'!D242=\"\",\"\",'Officer proposed'!D242)","v":"Tue"},{"$f":"IF('Officer proposed'!D242=\"\",\"\",IF('Officer proposed'!E242=\"F\",\"Free Day\",IF('Officer proposed'!E242=\"R\",\"Rest Day\",CONCATENATE(TEXT('Officer proposed'!E242,\"hhmm\"),\"-\",(TEXT('Officer proposed'!F242,\"hhmm\"))))))","v":"0000-0000"},240]
[{"$f":"IF('Officer proposed'!C243=\"\",\"\",'Officer proposed'!C243)","v":""},{"$f":"IF('Officer proposed'!D243=\"\",\"\",'Officer proposed'!D243)","v":"Wed"},{"$f":"IF('Officer proposed'!D243=\"\",\"\",IF('Officer proposed'!E243=\"F\",\"Free Day\",IF('Officer proposed'!E243=\"R\",\"Rest Day\",CONCATENATE(TEXT('Officer proposed'!E243,\"hhmm\"),\"-\",(TEXT('Officer proposed'!F243,\"hhmm\"))))))","v":"0000-0000"},241]
[{"$f":"IF('Officer proposed'!C244=\"\",\"\",'Officer proposed'!C244)","v":""},{"$f":"IF('Officer proposed'!D244=\"\",\"\",'Officer proposed'!D244)","v":"Thu"},{"$f":"IF('Officer proposed'!D244=\"\",\"\",IF('Officer proposed'!E244=\"F\",\"Free Day\",IF('Officer proposed'!E244=\"R\",\"Rest Day\",CONCATENATE(TEXT('Officer proposed'!E244,\"hhmm\"),\"-\",(TEXT('Officer proposed'!F244,\"hhmm\"))))))","v":"0000-0000"},242]
[{"$f":"IF('Officer proposed'!C245=\"\",\"\",'Officer proposed'!C245)","v":""},{"$f":"IF('Officer proposed'!D245=\"\",\"\",'Officer proposed'!D245)","v":"Fri"},{"$f":"IF('Officer proposed'!D245=\"\",\"\",IF('Officer proposed'!E245=\"F\",\"Free Day\",IF('Officer proposed'!E245=\"R\",\"Rest Day\",CONCATENATE(TEXT('Officer proposed'!E245,\"hhmm\"),\"-\",(TEXT('Officer proposed'!F245,\"hhmm\"))))))","v":"0000-0000"},243]
[{"$f":"IF('Officer proposed'!C246=\"\",\"\",'Officer proposed'!C246)","v":""},{"$f":"IF('Officer proposed'!D246=\"\",\"\",'Officer proposed'!D246)","v":"Sat"},{"$f":"IF('Officer proposed'!D246=\"\",\"\",IF('Officer proposed'!E246=\"F\",\"Free Day\",IF('Officer proposed'!E246=\"R\",\"Rest Day\",CONCATENATE(TEXT('Officer proposed'!E246,\"hhmm\"),\"-\",(TEXT('Officer proposed'!F246,\"hhmm\"))))))","v":"0000-0000"},244]
[{"$f":"IF('Officer proposed'!C247=\"\",\"\",'Officer proposed'!C247)","v":""},{"$f":"IF('Officer proposed'!D247=\"\",\"\",'Officer proposed'!D247)","v":"Sun"},{"$f":"IF('Officer proposed'!D247=\"\",\"\",IF('Officer proposed'!E247=\"F\",\"Free Day\",IF('Officer proposed'!E247=\"R\",\"Rest Day\",CONCATENATE(TEXT('Officer proposed'!E247,\"hhmm\"),\"-\",(TEXT('Officer proposed'!F247,\"hhmm\"))))))","v":"0000-0000"},245]
[{"$f":"IF('Officer proposed'!C248=\"\",\"\",'Officer proposed'!C248)","v":"Week36"},{"$f":"IF('Officer proposed'!D248=\"\",\"\",'Officer proposed'!D248)","v":"Mon"},{"$f":"IF('Officer proposed'!D248=\"\",\"\",IF('Officer proposed'!E248=\"F\",\"Free Day\",IF('Officer proposed'!E248=\"R\",\"Rest Day\",CONCATENATE(TEXT('Officer proposed'!E248,\"hhmm\"),\"-\",(TEXT('Officer proposed'!F248,\"hhmm\"))))))","v":"0000-0000"},246,null,"Week 36"]
[{"$f":"IF('Officer proposed'!C249=\"\",\"\",'Officer proposed'!C249)","v":""},{"$f":"IF('Officer proposed'!D249=\"\",\"\",'Officer proposed'!D249)","v":"Tue"},{"$f":"IF('Officer proposed'!D249=\"\",\"\",IF('Officer proposed'!E249=\"F\",\"Free Day\",IF('Officer proposed'!E249=\"R\",\"Rest Day\",CONCATENATE(TEXT('Officer proposed'!E249,\"hhmm\"),\"-\",(TEXT('Officer proposed'!F249,\"hhmm\"))))))","v":"0000-0000"},247]
[{"$f":"IF('Officer proposed'!C250=\"\",\"\",'Officer proposed'!C250)","v":""},{"$f":"IF('Officer proposed'!D250=\"\",\"\",'Officer proposed'!D250)","v":"Wed"},{"$f":"IF('Officer proposed'!D250=\"\",\"\",IF('Officer proposed'!E250=\"F\",\"Free Day\",IF('Officer proposed'!E250=\"R\",\"Rest Day\",CONCATENATE(TEXT('Officer proposed'!E250,\"hhmm\"),\"-\",(TEXT('Officer proposed'!F250,\"hhmm\"))))))","v":"0000-0000"},248]
[{"$f":"IF('Officer proposed'!C251=\"\",\"\",'Officer proposed'!C251)","v":""},{"$f":"IF('Officer proposed'!D251=\"\",\"\",'Officer proposed'!D251)","v":"Thu"},{"$f":"IF('Officer proposed'!D251=\"\",\"\",IF('Officer proposed'!E251=\"F\",\"Free Day\",IF('Officer proposed'!E251=\"R\",\"Rest Day\",CONCATENATE(TEXT('Officer proposed'!E251,\"hhmm\"),\"-\",(TEXT('Officer proposed'!F251,\"hhmm\"))))))","v":"0000-0000"},249]
[{"$f":"IF('Officer proposed'!C252=\"\",\"\",'Officer proposed'!C252)","v":""},{"$f":"IF('Officer proposed'!D252=\"\",\"\",'Officer proposed'!D252)","v":"Fri"},{"$f":"IF('Officer proposed'!D252=\"\",\"\",IF('Officer proposed'!E252=\"F\",\"Free Day\",IF('Officer proposed'!E252=\"R\",\"Rest Day\",CONCATENATE(TEXT('Officer proposed'!E252,\"hhmm\"),\"-\",(TEXT('Officer proposed'!F252,\"hhmm\"))))))","v":"0000-0000"},250]
[{"$f":"IF('Officer proposed'!C253=\"\",\"\",'Officer proposed'!C253)","v":""},{"$f":"IF('Officer proposed'!D253=\"\",\"\",'Officer proposed'!D253)","v":"Sat"},{"$f":"IF('Officer proposed'!D253=\"\",\"\",IF('Officer proposed'!E253=\"F\",\"Free Day\",IF('Officer proposed'!E253=\"R\",\"Rest Day\",CONCATENATE(TEXT('Officer proposed'!E253,\"hhmm\"),\"-\",(TEXT('Officer proposed'!F253,\"hhmm\"))))))","v":"0000-0000"},251]
[{"$f":"IF('Officer proposed'!C254=\"\",\"\",'Officer proposed'!C254)","v":""},{"$f":"IF('Officer proposed'!D254=\"\",\"\",'Officer proposed'!D254)","v":"Sun"},{"$f":"IF('Officer proposed'!D254=\"\",\"\",IF('Officer proposed'!E254=\"F\",\"Free Day\",IF('Officer proposed'!E254=\"R\",\"Rest Day\",CONCATENATE(TEXT('Officer proposed'!E254,\"hhmm\"),\"-\",(TEXT('Officer proposed'!F254,\"hhmm\"))))))","v":"0000-0000"},252]
[{"$f":"IF('Officer proposed'!C255=\"\",\"\",'Officer proposed'!C255)","v":"Week37"},{"$f":"IF('Officer proposed'!D255=\"\",\"\",'Officer proposed'!D255)","v":"Mon"},{"$f":"IF('Officer proposed'!D255=\"\",\"\",IF('Officer proposed'!E255=\"F\",\"Free Day\",IF('Officer proposed'!E255=\"R\",\"Rest Day\",CONCATENATE(TEXT('Officer proposed'!E255,\"hhmm\"),\"-\",(TEXT('Officer proposed'!F255,\"hhmm\"))))))","v":"0000-0000"},253,null,"Week 37"]
[{"$f":"IF('Officer proposed'!C256=\"\",\"\",'Officer proposed'!C256)","v":""},{"$f":"IF('Officer proposed'!D256=\"\",\"\",'Officer proposed'!D256)","v":"Tue"},{"$f":"IF('Officer proposed'!D256=\"\",\"\",IF('Officer proposed'!E256=\"F\",\"Free Day\",IF('Officer proposed'!E256=\"R\",\"Rest Day\",CONCATENATE(TEXT('Officer proposed'!E256,\"hhmm\"),\"-\",(TEXT('Officer proposed'!F256,\"hhmm\"))))))","v":"0000-0000"},254]
[{"$f":"IF('Officer proposed'!C257=\"\",\"\",'Officer proposed'!C257)","v":""},{"$f":"IF('Officer proposed'!D257=\"\",\"\",'Officer proposed'!D257)","v":"Wed"},{"$f":"IF('Officer proposed'!D257=\"\",\"\",IF('Officer proposed'!E257=\"F\",\"Free Day\",IF('Officer proposed'!E257=\"R\",\"Rest Day\",CONCATENATE(TEXT('Officer proposed'!E257,\"hhmm\"),\"-\",(TEXT('Officer proposed'!F257,\"hhmm\"))))))","v":"0000-0000"},255]
[{"$f":"IF('Officer proposed'!C258=\"\",\"\",'Officer proposed'!C258)","v":""},{"$f":"IF('Officer proposed'!D258=\"\",\"\",'Officer proposed'!D258)","v":"Thu"},{"$f":"IF('Officer proposed'!D258=\"\",\"\",IF('Officer proposed'!E258=\"F\",\"Free Day\",IF('Officer proposed'!E258=\"R\",\"Rest Day\",CONCATENATE(TEXT('Officer proposed'!E258,\"hhmm\"),\"-\",(TEXT('Officer proposed'!F258,\"hhmm\"))))))","v":"0000-0000"},256]
[{"$f":"IF('Officer proposed'!C259=\"\",\"\",'Officer proposed'!C259)","v":""},{"$f":"IF('Officer proposed'!D259=\"\",\"\",'Officer proposed'!D259)","v":"Fri"},{"$f":"IF('Officer proposed'!D259=\"\",\"\",IF('Officer proposed'!E259=\"F\",\"Free Day\",IF('Officer proposed'!E259=\"R\",\"Rest Day\",CONCATENATE(TEXT('Officer proposed'!E259,\"hhmm\"),\"-\",(TEXT('Officer proposed'!F259,\"hhmm\"))))))","v":"0000-0000"},257]
[{"$f":"IF('Officer proposed'!C260=\"\",\"\",'Officer proposed'!C260)","v":""},{"$f":"IF('Officer proposed'!D260=\"\",\"\",'Officer proposed'!D260)","v":"Sat"},{"$f":"IF('Officer proposed'!D260=\"\",\"\",IF('Officer proposed'!E260=\"F\",\"Free Day\",IF('Officer proposed'!E260=\"R\",\"Rest Day\",CONCATENATE(TEXT('Officer proposed'!E260,\"hhmm\"),\"-\",(TEXT('Officer proposed'!F260,\"hhmm\"))))))","v":"0000-0000"},258]
[{"$f":"IF('Officer proposed'!C261=\"\",\"\",'Officer proposed'!C261)","v":""},{"$f":"IF('Officer proposed'!D261=\"\",\"\",'Officer proposed'!D261)","v":"Sun"},{"$f":"IF('Officer proposed'!D261=\"\",\"\",IF('Officer proposed'!E261=\"F\",\"Free Day\",IF('Officer proposed'!E261=\"R\",\"Rest Day\",CONCATENATE(TEXT('Officer proposed'!E261,\"hhmm\"),\"-\",(TEXT('Officer proposed'!F261,\"hhmm\"))))))","v":"0000-0000"},259]
[{"$f":"IF('Officer proposed'!C262=\"\",\"\",'Officer proposed'!C262)","v":"Week38"},{"$f":"IF('Officer proposed'!D262=\"\",\"\",'Officer proposed'!D262)","v":"Mon"},{"$f":"IF('Officer proposed'!D262=\"\",\"\",IF('Officer proposed'!E262=\"F\",\"Free Day\",IF('Officer proposed'!E262=\"R\",\"Rest Day\",CONCATENATE(TEXT('Officer proposed'!E262,\"hhmm\"),\"-\",(TEXT('Officer proposed'!F262,\"hhmm\"))))))","v":"0000-0000"},260,null,"Week 38"]
[{"$f":"IF('Officer proposed'!C263=\"\",\"\",'Officer proposed'!C263)","v":""},{"$f":"IF('Officer proposed'!D263=\"\",\"\",'Officer proposed'!D263)","v":"Tue"},{"$f":"IF('Officer proposed'!D263=\"\",\"\",IF('Officer proposed'!E263=\"F\",\"Free Day\",IF('Officer proposed'!E263=\"R\",\"Rest Day\",CONCATENATE(TEXT('Officer proposed'!E263,\"hhmm\"),\"-\",(TEXT('Officer proposed'!F263,\"hhmm\"))))))","v":"0000-0000"},261]
[{"$f":"IF('Officer proposed'!C264=\"\",\"\",'Officer proposed'!C264)","v":""},{"$f":"IF('Officer proposed'!D264=\"\",\"\",'Officer proposed'!D264)","v":"Wed"},{"$f":"IF('Officer proposed'!D264=\"\",\"\",IF('Officer proposed'!E264=\"F\",\"Free Day\",IF('Officer proposed'!E264=\"R\",\"Rest Day\",CONCATENATE(TEXT('Officer proposed'!E264,\"hhmm\"),\"-\",(TEXT('Officer proposed'!F264,\"hhmm\"))))))","v":"0000-0000"},262]
[{"$f":"IF('Officer proposed'!C265=\"\",\"\",'Officer proposed'!C265)","v":""},{"$f":"IF('Officer proposed'!D265=\"\",\"\",'Officer proposed'!D265)","v":"Thu"},{"$f":"IF('Officer proposed'!D265=\"\",\"\",IF('Officer proposed'!E265=\"F\",\"Free Day\",IF('Officer proposed'!E265=\"R\",\"Rest Day\",CONCATENATE(TEXT('Officer proposed'!E265,\"hhmm\"),\"-\",(TEXT('Officer proposed'!F265,\"hhmm\"))))))","v":"0000-0000"},263]
[{"$f":"IF('Officer proposed'!C266=\"\",\"\",'Officer proposed'!C266)","v":""},{"$f":"IF('Officer proposed'!D266=\"\",\"\",'Officer proposed'!D266)","v":"Fri"},{"$f":"IF('Officer proposed'!D266=\"\",\"\",IF('Officer proposed'!E266=\"F\",\"Free Day\",IF('Officer proposed'!E266=\"R\",\"Rest Day\",CONCATENATE(TEXT('Officer proposed'!E266,\"hhmm\"),\"-\",(TEXT('Officer proposed'!F266,\"hhmm\"))))))","v":"0000-0000"},264]
[{"$f":"IF('Officer proposed'!C267=\"\",\"\",'Officer proposed'!C267)","v":""},{"$f":"IF('Officer proposed'!D267=\"\",\"\",'Officer proposed'!D267)","v":"Sat"},{"$f":"IF('Officer proposed'!D267=\"\",\"\",IF('Officer proposed'!E267=\"F\",\"Free Day\",IF('Officer proposed'!E267=\"R\",\"Rest Day\",CONCATENATE(TEXT('Officer proposed'!E267,\"hhmm\"),\"-\",(TEXT('Officer proposed'!F267,\"hhmm\"))))))","v":"0000-0000"},265]
[{"$f":"IF('Officer proposed'!C268=\"\",\"\",'Officer proposed'!C268)","v":""},{"$f":"IF('Officer proposed'!D268=\"\",\"\",'Officer proposed'!D268)","v":"Sun"},{"$f":"IF('Officer proposed'!D268=\"\",\"\",IF('Officer proposed'!E268=\"F\",\"Free Day\",IF('Officer proposed'!E268=\"R\",\"Rest Day\",CONCATENATE(TEXT('Officer proposed'!E268,\"hhmm\"),\"-\",(TEXT('Officer proposed'!F268,\"hhmm\"))))))","v":"0000-0000"},266]
[{"$f":"IF('Officer proposed'!C269=\"\",\"\",'Officer proposed'!C269)","v":"Week39"},{"$f":"IF('Officer proposed'!D269=\"\",\"\",'Officer proposed'!D269)","v":"Mon"},{"$f":"IF('Officer proposed'!D269=\"\",\"\",IF('Officer proposed'!E269=\"F\",\"Free Day\",IF('Officer proposed'!E269=\"R\",\"Rest Day\",CONCATENATE(TEXT('Officer proposed'!E269,\"hhmm\"),\"-\",(TEXT('Officer proposed'!F269,\"hhmm\"))))))","v":"0000-0000"},267,null,"Week 39"]
[{"$f":"IF('Officer proposed'!C270=\"\",\"\",'Officer proposed'!C270)","v":""},{"$f":"IF('Officer proposed'!D270=\"\",\"\",'Officer proposed'!D270)","v":"Tue"},{"$f":"IF('Officer proposed'!D270=\"\",\"\",IF('Officer proposed'!E270=\"F\",\"Free Day\",IF('Officer proposed'!E270=\"R\",\"Rest Day\",CONCATENATE(TEXT('Officer proposed'!E270,\"hhmm\"),\"-\",(TEXT('Officer proposed'!F270,\"hhmm\"))))))","v":"0000-0000"},268]
[{"$f":"IF('Officer proposed'!C271=\"\",\"\",'Officer proposed'!C271)","v":""},{"$f":"IF('Officer proposed'!D271=\"\",\"\",'Officer proposed'!D271)","v":"Wed"},{"$f":"IF('Officer proposed'!D271=\"\",\"\",IF('Officer proposed'!E271=\"F\",\"Free Day\",IF('Officer proposed'!E271=\"R\",\"Rest Day\",CONCATENATE(TEXT('Officer proposed'!E271,\"hhmm\"),\"-\",(TEXT('Officer proposed'!F271,\"hhmm\"))))))","v":"0000-0000"},269]
[{"$f":"IF('Officer proposed'!C272=\"\",\"\",'Officer proposed'!C272)","v":""},{"$f":"IF('Officer proposed'!D272=\"\",\"\",'Officer proposed'!D272)","v":"Thu"},{"$f":"IF('Officer proposed'!D272=\"\",\"\",IF('Officer proposed'!E272=\"F\",\"Free Day\",IF('Officer proposed'!E272=\"R\",\"Rest Day\",CONCATENATE(TEXT('Officer proposed'!E272,\"hhmm\"),\"-\",(TEXT('Officer proposed'!F272,\"hhmm\"))))))","v":"0000-0000"},270]
[{"$f":"IF('Officer proposed'!C273=\"\",\"\",'Officer proposed'!C273)","v":""},{"$f":"IF('Officer proposed'!D273=\"\",\"\",'Officer proposed'!D273)","v":"Fri"},{"$f":"IF('Officer proposed'!D273=\"\",\"\",IF('Officer proposed'!E273=\"F\",\"Free Day\",IF('Officer proposed'!E273=\"R\",\"Rest Day\",CONCATENATE(TEXT('Officer proposed'!E273,\"hhmm\"),\"-\",(TEXT('Officer proposed'!F273,\"hhmm\"))))))","v":"0000-0000"},271]
[{"$f":"IF('Officer proposed'!C274=\"\",\"\",'Officer proposed'!C274)","v":""},{"$f":"IF('Officer proposed'!D274=\"\",\"\",'Officer proposed'!D274)","v":"Sat"},{"$f":"IF('Officer proposed'!D274=\"\",\"\",IF('Officer proposed'!E274=\"F\",\"Free Day\",IF('Officer proposed'!E274=\"R\",\"Rest Day\",CONCATENATE(TEXT('Officer proposed'!E274,\"hhmm\"),\"-\",(TEXT('Officer proposed'!F274,\"hhmm\"))))))","v":"0000-0000"},272]
[{"$f":"IF('Officer proposed'!C275=\"\",\"\",'Officer proposed'!C275)","v":""},{"$f":"IF('Officer proposed'!D275=\"\",\"\",'Officer proposed'!D275)","v":"Sun"},{"$f":"IF('Officer proposed'!D275=\"\",\"\",IF('Officer proposed'!E275=\"F\",\"Free Day\",IF('Officer proposed'!E275=\"R\",\"Rest Day\",CONCATENATE(TEXT('Officer proposed'!E275,\"hhmm\"),\"-\",(TEXT('Officer proposed'!F275,\"hhmm\"))))))","v":"0000-0000"},273]
[{"$f":"IF('Officer proposed'!C276=\"\",\"\",'Officer proposed'!C276)","v":"Week40"},{"$f":"IF('Officer proposed'!D276=\"\",\"\",'Officer proposed'!D276)","v":"Mon"},{"$f":"IF('Officer proposed'!D276=\"\",\"\",IF('Officer proposed'!E276=\"F\",\"Free Day\",IF('Officer proposed'!E276=\"R\",\"Rest Day\",CONCATENATE(TEXT('Officer proposed'!E276,\"hhmm\"),\"-\",(TEXT('Officer proposed'!F276,\"hhmm\"))))))","v":"0000-0000"},274,null,"Week 40"]
[{"$f":"IF('Officer proposed'!C277=\"\",\"\",'Officer proposed'!C277)","v":""},{"$f":"IF('Officer proposed'!D277=\"\",\"\",'Officer proposed'!D277)","v":"Tue"},{"$f":"IF('Officer proposed'!D277=\"\",\"\",IF('Officer proposed'!E277=\"F\",\"Free Day\",IF('Officer proposed'!E277=\"R\",\"Rest Day\",CONCATENATE(TEXT('Officer proposed'!E277,\"hhmm\"),\"-\",(TEXT('Officer proposed'!F277,\"hhmm\"))))))","v":"0000-0000"},275]
[{"$f":"IF('Officer proposed'!C278=\"\",\"\",'Officer proposed'!C278)","v":""},{"$f":"IF('Officer proposed'!D278=\"\",\"\",'Officer proposed'!D278)","v":"Wed"},{"$f":"IF('Officer proposed'!D278=\"\",\"\",IF('Officer proposed'!E278=\"F\",\"Free Day\",IF('Officer proposed'!E278=\"R\",\"Rest Day\",CONCATENATE(TEXT('Officer proposed'!E278,\"hhmm\"),\"-\",(TEXT('Officer proposed'!F278,\"hhmm\"))))))","v":"0000-0000"},276]
[{"$f":"IF('Officer proposed'!C279=\"\",\"\",'Officer proposed'!C279)","v":""},{"$f":"IF('Officer proposed'!D279=\"\",\"\",'Officer proposed'!D279)","v":"Thu"},{"$f":"IF('Officer proposed'!D279=\"\",\"\",IF('Officer proposed'!E279=\"F\",\"Free Day\",IF('Officer proposed'!E279=\"R\",\"Rest Day\",CONCATENATE(TEXT('Officer proposed'!E279,\"hhmm\"),\"-\",(TEXT('Officer proposed'!F279,\"hhmm\"))))))","v":"0000-0000"},277]
[{"$f":"IF('Officer proposed'!C280=\"\",\"\",'Officer proposed'!C280)","v":""},{"$f":"IF('Officer proposed'!D280=\"\",\"\",'Officer proposed'!D280)","v":"Fri"},{"$f":"IF('Officer proposed'!D280=\"\",\"\",IF('Officer proposed'!E280=\"F\",\"Free Day\",IF('Officer proposed'!E280=\"R\",\"Rest Day\",CONCATENATE(TEXT('Officer proposed'!E280,\"hhmm\"),\"-\",(TEXT('Officer proposed'!F280,\"hhmm\"))))))","v":"0000-0000"},278]
[{"$f":"IF('Officer proposed'!C281=\"\",\"\",'Officer proposed'!C281)","v":""},{"$f":"IF('Officer proposed'!D281=\"\",\"\",'Officer proposed'!D281)","v":"Sat"},{"$f":"IF('Officer proposed'!D281=\"\",\"\",IF('Officer proposed'!E281=\"F\",\"Free Day\",IF('Officer proposed'!E281=\"R\",\"Rest Day\",CONCATENATE(TEXT('Officer proposed'!E281,\"hhmm\"),\"-\",(TEXT('Officer proposed'!F281,\"hhmm\"))))))","v":"0000-0000"},279]
[{"$f":"IF('Officer proposed'!C282=\"\",\"\",'Officer proposed'!C282)","v":""},{"$f":"IF('Officer proposed'!D282=\"\",\"\",'Officer proposed'!D282)","v":"Sun"},{"$f":"IF('Officer proposed'!D282=\"\",\"\",IF('Officer proposed'!E282=\"F\",\"Free Day\",IF('Officer proposed'!E282=\"R\",\"Rest Day\",CONCATENATE(TEXT('Officer proposed'!E282,\"hhmm\"),\"-\",(TEXT('Officer proposed'!F282,\"hhmm\"))))))","v":"0000-0000"},280]
[{"$f":"IF('Officer proposed'!C283=\"\",\"\",'Officer proposed'!C283)","v":"Week41"},{"$f":"IF('Officer proposed'!D283=\"\",\"\",'Officer proposed'!D283)","v":"Mon"},{"$f":"IF('Officer proposed'!D283=\"\",\"\",IF('Officer proposed'!E283=\"F\",\"Free Day\",IF('Officer proposed'!E283=\"R\",\"Rest Day\",CONCATENATE(TEXT('Officer proposed'!E283,\"hhmm\"),\"-\",(TEXT('Officer proposed'!F283,\"hhmm\"))))))","v":"0000-0000"},281,null,"Week 41"]
[{"$f":"IF('Officer proposed'!C284=\"\",\"\",'Officer proposed'!C284)","v":""},{"$f":"IF('Officer proposed'!D284=\"\",\"\",'Officer proposed'!D284)","v":"Tue"},{"$f":"IF('Officer proposed'!D284=\"\",\"\",IF('Officer proposed'!E284=\"F\",\"Free Day\",IF('Officer proposed'!E284=\"R\",\"Rest Day\",CONCATENATE(TEXT('Officer proposed'!E284,\"hhmm\"),\"-\",(TEXT('Officer proposed'!F284,\"hhmm\"))))))","v":"0000-0000"},282]
[{"$f":"IF('Officer proposed'!C285=\"\",\"\",'Officer proposed'!C285)","v":""},{"$f":"IF('Officer proposed'!D285=\"\",\"\",'Officer proposed'!D285)","v":"Wed"},{"$f":"IF('Officer proposed'!D285=\"\",\"\",IF('Officer proposed'!E285=\"F\",\"Free Day\",IF('Officer proposed'!E285=\"R\",\"Rest Day\",CONCATENATE(TEXT('Officer proposed'!E285,\"hhmm\"),\"-\",(TEXT('Officer proposed'!F285,\"hhmm\"))))))","v":"0000-0000"},283]
[{"$f":"IF('Officer proposed'!C286=\"\",\"\",'Officer proposed'!C286)","v":""},{"$f":"IF('Officer proposed'!D286=\"\",\"\",'Officer proposed'!D286)","v":"Thu"},{"$f":"IF('Officer proposed'!D286=\"\",\"\",IF('Officer proposed'!E286=\"F\",\"Free Day\",IF('Officer proposed'!E286=\"R\",\"Rest Day\",CONCATENATE(TEXT('Officer proposed'!E286,\"hhmm\"),\"-\",(TEXT('Officer proposed'!F286,\"hhmm\"))))))","v":"0000-0000"},284]
[{"$f":"IF('Officer proposed'!C287=\"\",\"\",'Officer proposed'!C287)","v":""},{"$f":"IF('Officer proposed'!D287=\"\",\"\",'Officer proposed'!D287)","v":"Fri"},{"$f":"IF('Officer proposed'!D287=\"\",\"\",IF('Officer proposed'!E287=\"F\",\"Free Day\",IF('Officer proposed'!E287=\"R\",\"Rest Day\",CONCATENATE(TEXT('Officer proposed'!E287,\"hhmm\"),\"-\",(TEXT('Officer proposed'!F287,\"hhmm\"))))))","v":"0000-0000"},285]
[{"$f":"IF('Officer proposed'!C288=\"\",\"\",'Officer proposed'!C288)","v":""},{"$f":"IF('Officer proposed'!D288=\"\",\"\",'Officer proposed'!D288)","v":"Sat"},{"$f":"IF('Officer proposed'!D288=\"\",\"\",IF('Officer proposed'!E288=\"F\",\"Free Day\",IF('Officer proposed'!E288=\"R\",\"Rest Day\",CONCATENATE(TEXT('Officer proposed'!E288,\"hhmm\"),\"-\",(TEXT('Officer proposed'!F288,\"hhmm\"))))))","v":"0000-0000"},286]
[{"$f":"IF('Officer proposed'!C289=\"\",\"\",'Officer proposed'!C289)","v":""},{"$f":"IF('Officer proposed'!D289=\"\",\"\",'Officer proposed'!D289)","v":"Sun"},{"$f":"IF('Officer proposed'!D289=\"\",\"\",IF('Officer proposed'!E289=\"F\",\"Free Day\",IF('Officer proposed'!E289=\"R\",\"Rest Day\",CONCATENATE(TEXT('Officer proposed'!E289,\"hhmm\"),\"-\",(TEXT('Officer proposed'!F289,\"hhmm\"))))))","v":"0000-0000"},287]
[{"$f":"IF('Officer proposed'!C290=\"\",\"\",'Officer proposed'!C290)","v":"Week42"},{"$f":"IF('Officer proposed'!D290=\"\",\"\",'Officer proposed'!D290)","v":"Mon"},{"$f":"IF('Officer proposed'!D290=\"\",\"\",IF('Officer proposed'!E290=\"F\",\"Free Day\",IF('Officer proposed'!E290=\"R\",\"Rest Day\",CONCATENATE(TEXT('Officer proposed'!E290,\"hhmm\"),\"-\",(TEXT('Officer proposed'!F290,\"hhmm\"))))))","v":"0000-0000"},288,null,"Week 42"]
[{"$f":"IF('Officer proposed'!C291=\"\",\"\",'Officer proposed'!C291)","v":""},{"$f":"IF('Officer proposed'!D291=\"\",\"\",'Officer proposed'!D291)","v":"Tue"},{"$f":"IF('Officer proposed'!D291=\"\",\"\",IF('Officer proposed'!E291=\"F\",\"Free Day\",IF('Officer proposed'!E291=\"R\",\"Rest Day\",CONCATENATE(TEXT('Officer proposed'!E291,\"hhmm\"),\"-\",(TEXT('Officer proposed'!F291,\"hhmm\"))))))","v":"0000-0000"},289]
[{"$f":"IF('Officer proposed'!C292=\"\",\"\",'Officer proposed'!C292)","v":""},{"$f":"IF('Officer proposed'!D292=\"\",\"\",'Officer proposed'!D292)","v":"Wed"},{"$f":"IF('Officer proposed'!D292=\"\",\"\",IF('Officer proposed'!E292=\"F\",\"Free Day\",IF('Officer proposed'!E292=\"R\",\"Rest Day\",CONCATENATE(TEXT('Officer proposed'!E292,\"hhmm\"),\"-\",(TEXT('Officer proposed'!F292,\"hhmm\"))))))","v":"0000-0000"},290]
[{"$f":"IF('Officer proposed'!C293=\"\",\"\",'Officer proposed'!C293)","v":""},{"$f":"IF('Officer proposed'!D293=\"\",\"\",'Officer proposed'!D293)","v":"Thu"},{"$f":"IF('Officer proposed'!D293=\"\",\"\",IF('Officer proposed'!E293=\"F\",\"Free Day\",IF('Officer proposed'!E293=\"R\",\"Rest Day\",CONCATENATE(TEXT('Officer proposed'!E293,\"hhmm\"),\"-\",(TEXT('Officer proposed'!F293,\"hhmm\"))))))","v":"0000-0000"},291]
[{"$f":"IF('Officer proposed'!C294=\"\",\"\",'Officer proposed'!C294)","v":""},{"$f":"IF('Officer proposed'!D294=\"\",\"\",'Officer proposed'!D294)","v":"Fri"},{"$f":"IF('Officer proposed'!D294=\"\",\"\",IF('Officer proposed'!E294=\"F\",\"Free Day\",IF('Officer proposed'!E294=\"R\",\"Rest Day\",CONCATENATE(TEXT('Officer proposed'!E294,\"hhmm\"),\"-\",(TEXT('Officer proposed'!F294,\"hhmm\"))))))","v":"0000-0000"},292]
[{"$f":"IF('Officer proposed'!C295=\"\",\"\",'Officer proposed'!C295)","v":""},{"$f":"IF('Officer proposed'!D295=\"\",\"\",'Officer proposed'!D295)","v":"Sat"},{"$f":"IF('Officer proposed'!D295=\"\",\"\",IF('Officer proposed'!E295=\"F\",\"Free Day\",IF('Officer proposed'!E295=\"R\",\"Rest Day\",CONCATENATE(TEXT('Officer proposed'!E295,\"hhmm\"),\"-\",(TEXT('Officer proposed'!F295,\"hhmm\"))))))","v":"0000-0000"},293]
[{"$f":"IF('Officer proposed'!C296=\"\",\"\",'Officer proposed'!C296)","v":""},{"$f":"IF('Officer proposed'!D296=\"\",\"\",'Officer proposed'!D296)","v":"Sun"},{"$f":"IF('Officer proposed'!D296=\"\",\"\",IF('Officer proposed'!E296=\"F\",\"Free Day\",IF('Officer proposed'!E296=\"R\",\"Rest Day\",CONCATENATE(TEXT('Officer proposed'!E296,\"hhmm\"),\"-\",(TEXT('Officer proposed'!F296,\"hhmm\"))))))","v":"0000-0000"},294]
[{"$f":"IF('Officer proposed'!C297=\"\",\"\",'Officer proposed'!C297)","v":"Week43"},{"$f":"IF('Officer proposed'!D297=\"\",\"\",'Officer proposed'!D297)","v":"Mon"},{"$f":"IF('Officer proposed'!D297=\"\",\"\",IF('Officer proposed'!E297=\"F\",\"Free Day\",IF('Officer proposed'!E297=\"R\",\"Rest Day\",CONCATENATE(TEXT('Officer proposed'!E297,\"hhmm\"),\"-\",(TEXT('Officer proposed'!F297,\"hhmm\"))))))","v":"0000-0000"},295,null,"Week 43"]
[{"$f":"IF('Officer proposed'!C298=\"\",\"\",'Officer proposed'!C298)","v":""},{"$f":"IF('Officer proposed'!D298=\"\",\"\",'Officer proposed'!D298)","v":"Tue"},{"$f":"IF('Officer proposed'!D298=\"\",\"\",IF('Officer proposed'!E298=\"F\",\"Free Day\",IF('Officer proposed'!E298=\"R\",\"Rest Day\",CONCATENATE(TEXT('Officer proposed'!E298,\"hhmm\"),\"-\",(TEXT('Officer proposed'!F298,\"hhmm\"))))))","v":"0000-0000"},296]
[{"$f":"IF('Officer proposed'!C299=\"\",\"\",'Officer proposed'!C299)","v":""},{"$f":"IF('Officer proposed'!D299=\"\",\"\",'Officer proposed'!D299)","v":"Wed"},{"$f":"IF('Officer proposed'!D299=\"\",\"\",IF('Officer proposed'!E299=\"F\",\"Free Day\",IF('Officer proposed'!E299=\"R\",\"Rest Day\",CONCATENATE(TEXT('Officer proposed'!E299,\"hhmm\"),\"-\",(TEXT('Officer proposed'!F299,\"hhmm\"))))))","v":"0000-0000"},297]
[{"$f":"IF('Officer proposed'!C300=\"\",\"\",'Officer proposed'!C300)","v":""},{"$f":"IF('Officer proposed'!D300=\"\",\"\",'Officer proposed'!D300)","v":"Thu"},{"$f":"IF('Officer proposed'!D300=\"\",\"\",IF('Officer proposed'!E300=\"F\",\"Free Day\",IF('Officer proposed'!E300=\"R\",\"Rest Day\",CONCATENATE(TEXT('Officer proposed'!E300,\"hhmm\"),\"-\",(TEXT('Officer proposed'!F300,\"hhmm\"))))))","v":"0000-0000"},298]
[{"$f":"IF('Officer proposed'!C301=\"\",\"\",'Officer proposed'!C301)","v":""},{"$f":"IF('Officer proposed'!D301=\"\",\"\",'Officer proposed'!D301)","v":"Fri"},{"$f":"IF('Officer proposed'!D301=\"\",\"\",IF('Officer proposed'!E301=\"F\",\"Free Day\",IF('Officer proposed'!E301=\"R\",\"Rest Day\",CONCATENATE(TEXT('Officer proposed'!E301,\"hhmm\"),\"-\",(TEXT('Officer proposed'!F301,\"hhmm\"))))))","v":"0000-0000"},299]
[{"$f":"IF('Officer proposed'!C302=\"\",\"\",'Officer proposed'!C302)","v":""},{"$f":"IF('Officer proposed'!D302=\"\",\"\",'Officer proposed'!D302)","v":"Sat"},{"$f":"IF('Officer proposed'!D302=\"\",\"\",IF('Officer proposed'!E302=\"F\",\"Free Day\",IF('Officer proposed'!E302=\"R\",\"Rest Day\",CONCATENATE(TEXT('Officer proposed'!E302,\"hhmm\"),\"-\",(TEXT('Officer proposed'!F302,\"hhmm\"))))))","v":"0000-0000"},300]
[{"$f":"IF('Officer proposed'!C303=\"\",\"\",'Officer proposed'!C303)","v":""},{"$f":"IF('Officer proposed'!D303=\"\",\"\",'Officer proposed'!D303)","v":"Sun"},{"$f":"IF('Officer proposed'!D303=\"\",\"\",IF('Officer proposed'!E303=\"F\",\"Free Day\",IF('Officer proposed'!E303=\"R\",\"Rest Day\",CONCATENATE(TEXT('Officer proposed'!E303,\"hhmm\"),\"-\",(TEXT('Officer proposed'!F303,\"hhmm\"))))))","v":"0000-0000"},301]
[{"$f":"IF('Officer proposed'!C304=\"\",\"\",'Officer proposed'!C304)","v":"Week44"},{"$f":"IF('Officer proposed'!D304=\"\",\"\",'Officer proposed'!D304)","v":"Mon"},{"$f":"IF('Officer proposed'!D304=\"\",\"\",IF('Officer proposed'!E304=\"F\",\"Free Day\",IF('Officer proposed'!E304=\"R\",\"Rest Day\",CONCATENATE(TEXT('Officer proposed'!E304,\"hhmm\"),\"-\",(TEXT('Officer proposed'!F304,\"hhmm\"))))))","v":"0000-0000"},302,null,"Week 44"]
[{"$f":"IF('Officer proposed'!C305=\"\",\"\",'Officer proposed'!C305)","v":""},{"$f":"IF('Officer proposed'!D305=\"\",\"\",'Officer proposed'!D305)","v":"Tue"},{"$f":"IF('Officer proposed'!D305=\"\",\"\",IF('Officer proposed'!E305=\"F\",\"Free Day\",IF('Officer proposed'!E305=\"R\",\"Rest Day\",CONCATENATE(TEXT('Officer proposed'!E305,\"hhmm\"),\"-\",(TEXT('Officer proposed'!F305,\"hhmm\"))))))","v":"0000-0000"},303]
[{"$f":"IF('Officer proposed'!C306=\"\",\"\",'Officer proposed'!C306)","v":""},{"$f":"IF('Officer proposed'!D306=\"\",\"\",'Officer proposed'!D306)","v":"Wed"},{"$f":"IF('Officer proposed'!D306=\"\",\"\",IF('Officer proposed'!E306=\"F\",\"Free Day\",IF('Officer proposed'!E306=\"R\",\"Rest Day\",CONCATENATE(TEXT('Officer proposed'!E306,\"hhmm\"),\"-\",(TEXT('Officer proposed'!F306,\"hhmm\"))))))","v":"0000-0000"},304]
[{"$f":"IF('Officer proposed'!C307=\"\",\"\",'Officer proposed'!C307)","v":""},{"$f":"IF('Officer proposed'!D307=\"\",\"\",'Officer proposed'!D307)","v":"Thu"},{"$f":"IF('Officer proposed'!D307=\"\",\"\",IF('Officer proposed'!E307=\"F\",\"Free Day\",IF('Officer proposed'!E307=\"R\",\"Rest Day\",CONCATENATE(TEXT('Officer proposed'!E307,\"hhmm\"),\"-\",(TEXT('Officer proposed'!F307,\"hhmm\"))))))","v":"0000-0000"},305]
[{"$f":"IF('Officer proposed'!C308=\"\",\"\",'Officer proposed'!C308)","v":""},{"$f":"IF('Officer proposed'!D308=\"\",\"\",'Officer proposed'!D308)","v":"Fri"},{"$f":"IF('Officer proposed'!D308=\"\",\"\",IF('Officer proposed'!E308=\"F\",\"Free Day\",IF('Officer proposed'!E308=\"R\",\"Rest Day\",CONCATENATE(TEXT('Officer proposed'!E308,\"hhmm\"),\"-\",(TEXT('Officer proposed'!F308,\"hhmm\"))))))","v":"0000-0000"},306]
[{"$f":"IF('Officer proposed'!C309=\"\",\"\",'Officer proposed'!C309)","v":""},{"$f":"IF('Officer proposed'!D309=\"\",\"\",'Officer proposed'!D309)","v":"Sat"},{"$f":"IF('Officer proposed'!D309=\"\",\"\",IF('Officer proposed'!E309=\"F\",\"Free Day\",IF('Officer proposed'!E309=\"R\",\"Rest Day\",CONCATENATE(TEXT('Officer proposed'!E309,\"hhmm\"),\"-\",(TEXT('Officer proposed'!F309,\"hhmm\"))))))","v":"0000-0000"},307]
[{"$f":"IF('Officer proposed'!C310=\"\",\"\",'Officer proposed'!C310)","v":""},{"$f":"IF('Officer proposed'!D310=\"\",\"\",'Officer proposed'!D310)","v":"Sun"},{"$f":"IF('Officer proposed'!D310=\"\",\"\",IF('Officer proposed'!E310=\"F\",\"Free Day\",IF('Officer proposed'!E310=\"R\",\"Rest Day\",CONCATENATE(TEXT('Officer proposed'!E310,\"hhmm\"),\"-\",(TEXT('Officer proposed'!F310,\"hhmm\"))))))","v":"0000-0000"},308]
[{"$f":"IF('Officer proposed'!C311=\"\",\"\",'Officer proposed'!C311)","v":"Week45"},{"$f":"IF('Officer proposed'!D311=\"\",\"\",'Officer proposed'!D311)","v":"Mon"},{"$f":"IF('Officer proposed'!D311=\"\",\"\",IF('Officer proposed'!E311=\"F\",\"Free Day\",IF('Officer proposed'!E311=\"R\",\"Rest Day\",CONCATENATE(TEXT('Officer proposed'!E311,\"hhmm\"),\"-\",(TEXT('Officer proposed'!F311,\"hhmm\"))))))","v":"0000-0000"},309,null,"Week 45"]
[{"$f":"IF('Officer proposed'!C312=\"\",\"\",'Officer proposed'!C312)","v":""},{"$f":"IF('Officer proposed'!D312=\"\",\"\",'Officer proposed'!D312)","v":"Tue"},{"$f":"IF('Officer proposed'!D312=\"\",\"\",IF('Officer proposed'!E312=\"F\",\"Free Day\",IF('Officer proposed'!E312=\"R\",\"Rest Day\",CONCATENATE(TEXT('Officer proposed'!E312,\"hhmm\"),\"-\",(TEXT('Officer proposed'!F312,\"hhmm\"))))))","v":"0000-0000"},310]
[{"$f":"IF('Officer proposed'!C313=\"\",\"\",'Officer proposed'!C313)","v":""},{"$f":"IF('Officer proposed'!D313=\"\",\"\",'Officer proposed'!D313)","v":"Wed"},{"$f":"IF('Officer proposed'!D313=\"\",\"\",IF('Officer proposed'!E313=\"F\",\"Free Day\",IF('Officer proposed'!E313=\"R\",\"Rest Day\",CONCATENATE(TEXT('Officer proposed'!E313,\"hhmm\"),\"-\",(TEXT('Officer proposed'!F313,\"hhmm\"))))))","v":"0000-0000"},311]
[{"$f":"IF('Officer proposed'!C314=\"\",\"\",'Officer proposed'!C314)","v":""},{"$f":"IF('Officer proposed'!D314=\"\",\"\",'Officer proposed'!D314)","v":"Thu"},{"$f":"IF('Officer proposed'!D314=\"\",\"\",IF('Officer proposed'!E314=\"F\",\"Free Day\",IF('Officer proposed'!E314=\"R\",\"Rest Day\",CONCATENATE(TEXT('Officer proposed'!E314,\"hhmm\"),\"-\",(TEXT('Officer proposed'!F314,\"hhmm\"))))))","v":"0000-0000"},312]
[{"$f":"IF('Officer proposed'!C315=\"\",\"\",'Officer proposed'!C315)","v":""},{"$f":"IF('Officer proposed'!D315=\"\",\"\",'Officer proposed'!D315)","v":"Fri"},{"$f":"IF('Officer proposed'!D315=\"\",\"\",IF('Officer proposed'!E315=\"F\",\"Free Day\",IF('Officer proposed'!E315=\"R\",\"Rest Day\",CONCATENATE(TEXT('Officer proposed'!E315,\"hhmm\"),\"-\",(TEXT('Officer proposed'!F315,\"hhmm\"))))))","v":"0000-0000"},313]
[{"$f":"IF('Officer proposed'!C316=\"\",\"\",'Officer proposed'!C316)","v":""},{"$f":"IF('Officer proposed'!D316=\"\",\"\",'Officer proposed'!D316)","v":"Sat"},{"$f":"IF('Officer proposed'!D316=\"\",\"\",IF('Officer proposed'!E316=\"F\",\"Free Day\",IF('Officer proposed'!E316=\"R\",\"Rest Day\",CONCATENATE(TEXT('Officer proposed'!E316,\"hhmm\"),\"-\",(TEXT('Officer proposed'!F316,\"hhmm\"))))))","v":"0000-0000"},314]
[{"$f":"IF('Officer proposed'!C317=\"\",\"\",'Officer proposed'!C317)","v":""},{"$f":"IF('Officer proposed'!D317=\"\",\"\",'Officer proposed'!D317)","v":"Sun"},{"$f":"IF('Officer proposed'!D317=\"\",\"\",IF('Officer proposed'!E317=\"F\",\"Free Day\",IF('Officer proposed'!E317=\"R\",\"Rest Day\",CONCATENATE(TEXT('Officer proposed'!E317,\"hhmm\"),\"-\",(TEXT('Officer proposed'!F317,\"hhmm\"))))))","v":"0000-0000"},315]
[{"$f":"IF('Officer proposed'!C318=\"\",\"\",'Officer proposed'!C318)","v":"Week46"},{"$f":"IF('Officer proposed'!D318=\"\",\"\",'Officer proposed'!D318)","v":"Mon"},{"$f":"IF('Officer proposed'!D318=\"\",\"\",IF('Officer proposed'!E318=\"F\",\"Free Day\",IF('Officer proposed'!E318=\"R\",\"Rest Day\",CONCATENATE(TEXT('Officer proposed'!E318,\"hhmm\"),\"-\",(TEXT('Officer proposed'!F318,\"hhmm\"))))))","v":"0000-0000"},316,null,"Week 46"]
[{"$f":"IF('Officer proposed'!C319=\"\",\"\",'Officer proposed'!C319)","v":""},{"$f":"IF('Officer proposed'!D319=\"\",\"\",'Officer proposed'!D319)","v":"Tue"},{"$f":"IF('Officer proposed'!D319=\"\",\"\",IF('Officer proposed'!E319=\"F\",\"Free Day\",IF('Officer proposed'!E319=\"R\",\"Rest Day\",CONCATENATE(TEXT('Officer proposed'!E319,\"hhmm\"),\"-\",(TEXT('Officer proposed'!F319,\"hhmm\"))))))","v":"0000-0000"},317]
[{"$f":"IF('Officer proposed'!C320=\"\",\"\",'Officer proposed'!C320)","v":""},{"$f":"IF('Officer proposed'!D320=\"\",\"\",'Officer proposed'!D320)","v":"Wed"},{"$f":"IF('Officer proposed'!D320=\"\",\"\",IF('Officer proposed'!E320=\"F\",\"Free Day\",IF('Officer proposed'!E320=\"R\",\"Rest Day\",CONCATENATE(TEXT('Officer proposed'!E320,\"hhmm\"),\"-\",(TEXT('Officer proposed'!F320,\"hhmm\"))))))","v":"0000-0000"},318]
[{"$f":"IF('Officer proposed'!C321=\"\",\"\",'Officer proposed'!C321)","v":""},{"$f":"IF('Officer proposed'!D321=\"\",\"\",'Officer proposed'!D321)","v":"Thu"},{"$f":"IF('Officer proposed'!D321=\"\",\"\",IF('Officer proposed'!E321=\"F\",\"Free Day\",IF('Officer proposed'!E321=\"R\",\"Rest Day\",CONCATENATE(TEXT('Officer proposed'!E321,\"hhmm\"),\"-\",(TEXT('Officer proposed'!F321,\"hhmm\"))))))","v":"0000-0000"},319]
[{"$f":"IF('Officer proposed'!C322=\"\",\"\",'Officer proposed'!C322)","v":""},{"$f":"IF('Officer proposed'!D322=\"\",\"\",'Officer proposed'!D322)","v":"Fri"},{"$f":"IF('Officer proposed'!D322=\"\",\"\",IF('Officer proposed'!E322=\"F\",\"Free Day\",IF('Officer proposed'!E322=\"R\",\"Rest Day\",CONCATENATE(TEXT('Officer proposed'!E322,\"hhmm\"),\"-\",(TEXT('Officer proposed'!F322,\"hhmm\"))))))","v":"0000-0000"},320]
[{"$f":"IF('Officer proposed'!C323=\"\",\"\",'Officer proposed'!C323)","v":""},{"$f":"IF('Officer proposed'!D323=\"\",\"\",'Officer proposed'!D323)","v":"Sat"},{"$f":"IF('Officer proposed'!D323=\"\",\"\",IF('Officer proposed'!E323=\"F\",\"Free Day\",IF('Officer proposed'!E323=\"R\",\"Rest Day\",CONCATENATE(TEXT('Officer proposed'!E323,\"hhmm\"),\"-\",(TEXT('Officer proposed'!F323,\"hhmm\"))))))","v":"0000-0000"},321]
[{"$f":"IF('Officer proposed'!C324=\"\",\"\",'Officer proposed'!C324)","v":""},{"$f":"IF('Officer proposed'!D324=\"\",\"\",'Officer proposed'!D324)","v":"Sun"},{"$f":"IF('Officer proposed'!D324=\"\",\"\",IF('Officer proposed'!E324=\"F\",\"Free Day\",IF('Officer proposed'!E324=\"R\",\"Rest Day\",CONCATENATE(TEXT('Officer proposed'!E324,\"hhmm\"),\"-\",(TEXT('Officer proposed'!F324,\"hhmm\"))))))","v":"0000-0000"},322]
[{"$f":"IF('Officer proposed'!C325=\"\",\"\",'Officer proposed'!C325)","v":"Week47"},{"$f":"IF('Officer proposed'!D325=\"\",\"\",'Officer proposed'!D325)","v":"Mon"},{"$f":"IF('Officer proposed'!D325=\"\",\"\",IF('Officer proposed'!E325=\"F\",\"Free Day\",IF('Officer proposed'!E325=\"R\",\"Rest Day\",CONCATENATE(TEXT('Officer proposed'!E325,\"hhmm\"),\"-\",(TEXT('Officer proposed'!F325,\"hhmm\"))))))","v":"0000-0000"},323,null,"Week 47"]
[{"$f":"IF('Officer proposed'!C326=\"\",\"\",'Officer proposed'!C326)","v":""},{"$f":"IF('Officer proposed'!D326=\"\",\"\",'Officer proposed'!D326)","v":"Tue"},{"$f":"IF('Officer proposed'!D326=\"\",\"\",IF('Officer proposed'!E326=\"F\",\"Free Day\",IF('Officer proposed'!E326=\"R\",\"Rest Day\",CONCATENATE(TEXT('Officer proposed'!E326,\"hhmm\"),\"-\",(TEXT('Officer proposed'!F326,\"hhmm\"))))))","v":"0000-0000"},324]
[{"$f":"IF('Officer proposed'!C327=\"\",\"\",'Officer proposed'!C327)","v":""},{"$f":"IF('Officer proposed'!D327=\"\",\"\",'Officer proposed'!D327)","v":"Wed"},{"$f":"IF('Officer proposed'!D327=\"\",\"\",IF('Officer proposed'!E327=\"F\",\"Free Day\",IF('Officer proposed'!E327=\"R\",\"Rest Day\",CONCATENATE(TEXT('Officer proposed'!E327,\"hhmm\"),\"-\",(TEXT('Officer proposed'!F327,\"hhmm\"))))))","v":"0000-0000"},325]
[{"$f":"IF('Officer proposed'!C328=\"\",\"\",'Officer proposed'!C328)","v":""},{"$f":"IF('Officer proposed'!D328=\"\",\"\",'Officer proposed'!D328)","v":"Thu"},{"$f":"IF('Officer proposed'!D328=\"\",\"\",IF('Officer proposed'!E328=\"F\",\"Free Day\",IF('Officer proposed'!E328=\"R\",\"Rest Day\",CONCATENATE(TEXT('Officer proposed'!E328,\"hhmm\"),\"-\",(TEXT('Officer proposed'!F328,\"hhmm\"))))))","v":"0000-0000"},326]
[{"$f":"IF('Officer proposed'!C329=\"\",\"\",'Officer proposed'!C329)","v":""},{"$f":"IF('Officer proposed'!D329=\"\",\"\",'Officer proposed'!D329)","v":"Fri"},{"$f":"IF('Officer proposed'!D329=\"\",\"\",IF('Officer proposed'!E329=\"F\",\"Free Day\",IF('Officer proposed'!E329=\"R\",\"Rest Day\",CONCATENATE(TEXT('Officer proposed'!E329,\"hhmm\"),\"-\",(TEXT('Officer proposed'!F329,\"hhmm\"))))))","v":"0000-0000"},327]
[{"$f":"IF('Officer proposed'!C330=\"\",\"\",'Officer proposed'!C330)","v":""},{"$f":"IF('Officer proposed'!D330=\"\",\"\",'Officer proposed'!D330)","v":"Sat"},{"$f":"IF('Officer proposed'!D330=\"\",\"\",IF('Officer proposed'!E330=\"F\",\"Free Day\",IF('Officer proposed'!E330=\"R\",\"Rest Day\",CONCATENATE(TEXT('Officer proposed'!E330,\"hhmm\"),\"-\",(TEXT('Officer proposed'!F330,\"hhmm\"))))))","v":"0000-0000"},328]
[{"$f":"IF('Officer proposed'!C331=\"\",\"\",'Officer proposed'!C331)","v":""},{"$f":"IF('Officer proposed'!D331=\"\",\"\",'Officer proposed'!D331)","v":"Sun"},{"$f":"IF('Officer proposed'!D331=\"\",\"\",IF('Officer proposed'!E331=\"F\",\"Free Day\",IF('Officer proposed'!E331=\"R\",\"Rest Day\",CONCATENATE(TEXT('Officer proposed'!E331,\"hhmm\"),\"-\",(TEXT('Officer proposed'!F331,\"hhmm\"))))))","v":"0000-0000"},329]
[{"$f":"IF('Officer proposed'!C332=\"\",\"\",'Officer proposed'!C332)","v":"Week48"},{"$f":"IF('Officer proposed'!D332=\"\",\"\",'Officer proposed'!D332)","v":"Mon"},{"$f":"IF('Officer proposed'!D332=\"\",\"\",IF('Officer proposed'!E332=\"F\",\"Free Day\",IF('Officer proposed'!E332=\"R\",\"Rest Day\",CONCATENATE(TEXT('Officer proposed'!E332,\"hhmm\"),\"-\",(TEXT('Officer proposed'!F332,\"hhmm\"))))))","v":"0000-0000"},330,null,"Week 48"]
[{"$f":"IF('Officer proposed'!C333=\"\",\"\",'Officer proposed'!C333)","v":""},{"$f":"IF('Officer proposed'!D333=\"\",\"\",'Officer proposed'!D333)","v":"Tue"},{"$f":"IF('Officer proposed'!D333=\"\",\"\",IF('Officer proposed'!E333=\"F\",\"Free Day\",IF('Officer proposed'!E333=\"R\",\"Rest Day\",CONCATENATE(TEXT('Officer proposed'!E333,\"hhmm\"),\"-\",(TEXT('Officer proposed'!F333,\"hhmm\"))))))","v":"0000-0000"},331]
[{"$f":"IF('Officer proposed'!C334=\"\",\"\",'Officer proposed'!C334)","v":""},{"$f":"IF('Officer proposed'!D334=\"\",\"\",'Officer proposed'!D334)","v":"Wed"},{"$f":"IF('Officer proposed'!D334=\"\",\"\",IF('Officer proposed'!E334=\"F\",\"Free Day\",IF('Officer proposed'!E334=\"R\",\"Rest Day\",CONCATENATE(TEXT('Officer proposed'!E334,\"hhmm\"),\"-\",(TEXT('Officer proposed'!F334,\"hhmm\"))))))","v":"0000-0000"},332]
[{"$f":"IF('Officer proposed'!C335=\"\",\"\",'Officer proposed'!C335)","v":""},{"$f":"IF('Officer proposed'!D335=\"\",\"\",'Officer proposed'!D335)","v":"Thu"},{"$f":"IF('Officer proposed'!D335=\"\",\"\",IF('Officer proposed'!E335=\"F\",\"Free Day\",IF('Officer proposed'!E335=\"R\",\"Rest Day\",CONCATENATE(TEXT('Officer proposed'!E335,\"hhmm\"),\"-\",(TEXT('Officer proposed'!F335,\"hhmm\"))))))","v":"0000-0000"},333]
[{"$f":"IF('Officer proposed'!C336=\"\",\"\",'Officer proposed'!C336)","v":""},{"$f":"IF('Officer proposed'!D336=\"\",\"\",'Officer proposed'!D336)","v":"Fri"},{"$f":"IF('Officer proposed'!D336=\"\",\"\",IF('Officer proposed'!E336=\"F\",\"Free Day\",IF('Officer proposed'!E336=\"R\",\"Rest Day\",CONCATENATE(TEXT('Officer proposed'!E336,\"hhmm\"),\"-\",(TEXT('Officer proposed'!F336,\"hhmm\"))))))","v":"0000-0000"},334]
[{"$f":"IF('Officer proposed'!C337=\"\",\"\",'Officer proposed'!C337)","v":""},{"$f":"IF('Officer proposed'!D337=\"\",\"\",'Officer proposed'!D337)","v":"Sat"},{"$f":"IF('Officer proposed'!D337=\"\",\"\",IF('Officer proposed'!E337=\"F\",\"Free Day\",IF('Officer proposed'!E337=\"R\",\"Rest Day\",CONCATENATE(TEXT('Officer proposed'!E337,\"hhmm\"),\"-\",(TEXT('Officer proposed'!F337,\"hhmm\"))))))","v":"0000-0000"},335]
[{"$f":"IF('Officer proposed'!C338=\"\",\"\",'Officer proposed'!C338)","v":""},{"$f":"IF('Officer proposed'!D338=\"\",\"\",'Officer proposed'!D338)","v":"Sun"},{"$f":"IF('Officer proposed'!D338=\"\",\"\",IF('Officer proposed'!E338=\"F\",\"Free Day\",IF('Officer proposed'!E338=\"R\",\"Rest Day\",CONCATENATE(TEXT('Officer proposed'!E338,\"hhmm\"),\"-\",(TEXT('Officer proposed'!F338,\"hhmm\"))))))","v":"0000-0000"},336]
[{"$f":"IF('Officer proposed'!C339=\"\",\"\",'Officer proposed'!C339)","v":"Week49"},{"$f":"IF('Officer proposed'!D339=\"\",\"\",'Officer proposed'!D339)","v":"Mon"},{"$f":"IF('Officer proposed'!D339=\"\",\"\",IF('Officer proposed'!E339=\"F\",\"Free Day\",IF('Officer proposed'!E339=\"R\",\"Rest Day\",CONCATENATE(TEXT('Officer proposed'!E339,\"hhmm\"),\"-\",(TEXT('Officer proposed'!F339,\"hhmm\"))))))","v":"0000-0000"},337,null,"Week 49"]
[{"$f":"IF('Officer proposed'!C340=\"\",\"\",'Officer proposed'!C340)","v":""},{"$f":"IF('Officer proposed'!D340=\"\",\"\",'Officer proposed'!D340)","v":"Tue"},{"$f":"IF('Officer proposed'!D340=\"\",\"\",IF('Officer proposed'!E340=\"F\",\"Free Day\",IF('Officer proposed'!E340=\"R\",\"Rest Day\",CONCATENATE(TEXT('Officer proposed'!E340,\"hhmm\"),\"-\",(TEXT('Officer proposed'!F340,\"hhmm\"))))))","v":"0000-0000"},338]
[{"$f":"IF('Officer proposed'!C341=\"\",\"\",'Officer proposed'!C341)","v":""},{"$f":"IF('Officer proposed'!D341=\"\",\"\",'Officer proposed'!D341)","v":"Wed"},{"$f":"IF('Officer proposed'!D341=\"\",\"\",IF('Officer proposed'!E341=\"F\",\"Free Day\",IF('Officer proposed'!E341=\"R\",\"Rest Day\",CONCATENATE(TEXT('Officer proposed'!E341,\"hhmm\"),\"-\",(TEXT('Officer proposed'!F341,\"hhmm\"))))))","v":"0000-0000"},339]
[{"$f":"IF('Officer proposed'!C342=\"\",\"\",'Officer proposed'!C342)","v":""},{"$f":"IF('Officer proposed'!D342=\"\",\"\",'Officer proposed'!D342)","v":"Thu"},{"$f":"IF('Officer proposed'!D342=\"\",\"\",IF('Officer proposed'!E342=\"F\",\"Free Day\",IF('Officer proposed'!E342=\"R\",\"Rest Day\",CONCATENATE(TEXT('Officer proposed'!E342,\"hhmm\"),\"-\",(TEXT('Officer proposed'!F342,\"hhmm\"))))))","v":"0000-0000"},340]
[{"$f":"IF('Officer proposed'!C343=\"\",\"\",'Officer proposed'!C343)","v":""},{"$f":"IF('Officer proposed'!D343=\"\",\"\",'Officer proposed'!D343)","v":"Fri"},{"$f":"IF('Officer proposed'!D343=\"\",\"\",IF('Officer proposed'!E343=\"F\",\"Free Day\",IF('Officer proposed'!E343=\"R\",\"Rest Day\",CONCATENATE(TEXT('Officer proposed'!E343,\"hhmm\"),\"-\",(TEXT('Officer proposed'!F343,\"hhmm\"))))))","v":"0000-0000"},341]
[{"$f":"IF('Officer proposed'!C344=\"\",\"\",'Officer proposed'!C344)","v":""},{"$f":"IF('Officer proposed'!D344=\"\",\"\",'Officer proposed'!D344)","v":"Sat"},{"$f":"IF('Officer proposed'!D344=\"\",\"\",IF('Officer proposed'!E344=\"F\",\"Free Day\",IF('Officer proposed'!E344=\"R\",\"Rest Day\",CONCATENATE(TEXT('Officer proposed'!E344,\"hhmm\"),\"-\",(TEXT('Officer proposed'!F344,\"hhmm\"))))))","v":"0000-0000"},342]
[{"$f":"IF('Officer proposed'!C345=\"\",\"\",'Officer proposed'!C345)","v":""},{"$f":"IF('Officer proposed'!D345=\"\",\"\",'Officer proposed'!D345)","v":"Sun"},{"$f":"IF('Officer proposed'!D345=\"\",\"\",IF('Officer proposed'!E345=\"F\",\"Free Day\",IF('Officer proposed'!E345=\"R\",\"Rest Day\",CONCATENATE(TEXT('Officer proposed'!E345,\"hhmm\"),\"-\",(TEXT('Officer proposed'!F345,\"hhmm\"))))))","v":"0000-0000"},343]
[{"$f":"IF('Officer proposed'!C346=\"\",\"\",'Officer proposed'!C346)","v":"Week50"},{"$f":"IF('Officer proposed'!D346=\"\",\"\",'Officer proposed'!D346)","v":"Mon"},{"$f":"IF('Officer proposed'!D346=\"\",\"\",IF('Officer proposed'!E346=\"F\",\"Free Day\",IF('Officer proposed'!E346=\"R\",\"Rest Day\",CONCATENATE(TEXT('Officer proposed'!E346,\"hhmm\"),\"-\",(TEXT('Officer proposed'!F346,\"hhmm\"))))))","v":"0000-0000"},344,null,"Week 50"]
[{"$f":"IF('Officer proposed'!C347=\"\",\"\",'Officer proposed'!C347)","v":""},{"$f":"IF('Officer proposed'!D347=\"\",\"\",'Officer proposed'!D347)","v":"Tue"},{"$f":"IF('Officer proposed'!D347=\"\",\"\",IF('Officer proposed'!E347=\"F\",\"Free Day\",IF('Officer proposed'!E347=\"R\",\"Rest Day\",CONCATENATE(TEXT('Officer proposed'!E347,\"hhmm\"),\"-\",(TEXT('Officer proposed'!F347,\"hhmm\"))))))","v":"0000-0000"},345]
[{"$f":"IF('Officer proposed'!C348=\"\",\"\",'Officer proposed'!C348)","v":""},{"$f":"IF('Officer proposed'!D348=\"\",\"\",'Officer proposed'!D348)","v":"Wed"},{"$f":"IF('Officer proposed'!D348=\"\",\"\",IF('Officer proposed'!E348=\"F\",\"Free Day\",IF('Officer proposed'!E348=\"R\",\"Rest Day\",CONCATENATE(TEXT('Officer proposed'!E348,\"hhmm\"),\"-\",(TEXT('Officer proposed'!F348,\"hhmm\"))))))","v":"0000-0000"},346]
[{"$f":"IF('Officer proposed'!C349=\"\",\"\",'Officer proposed'!C349)","v":""},{"$f":"IF('Officer proposed'!D349=\"\",\"\",'Officer proposed'!D349)","v":"Thu"},{"$f":"IF('Officer proposed'!D349=\"\",\"\",IF('Officer proposed'!E349=\"F\",\"Free Day\",IF('Officer proposed'!E349=\"R\",\"Rest Day\",CONCATENATE(TEXT('Officer proposed'!E349,\"hhmm\"),\"-\",(TEXT('Officer proposed'!F349,\"hhmm\"))))))","v":"0000-0000"},347]
[{"$f":"IF('Officer proposed'!C350=\"\",\"\",'Officer proposed'!C350)","v":""},{"$f":"IF('Officer proposed'!D350=\"\",\"\",'Officer proposed'!D350)","v":"Fri"},{"$f":"IF('Officer proposed'!D350=\"\",\"\",IF('Officer proposed'!E350=\"F\",\"Free Day\",IF('Officer proposed'!E350=\"R\",\"Rest Day\",CONCATENATE(TEXT('Officer proposed'!E350,\"hhmm\"),\"-\",(TEXT('Officer proposed'!F350,\"hhmm\"))))))","v":"0000-0000"},348]
[{"$f":"IF('Officer proposed'!C351=\"\",\"\",'Officer proposed'!C351)","v":""},{"$f":"IF('Officer proposed'!D351=\"\",\"\",'Officer proposed'!D351)","v":"Sat"},{"$f":"IF('Officer proposed'!D351=\"\",\"\",IF('Officer proposed'!E351=\"F\",\"Free Day\",IF('Officer proposed'!E351=\"R\",\"Rest Day\",CONCATENATE(TEXT('Officer proposed'!E351,\"hhmm\"),\"-\",(TEXT('Officer proposed'!F351,\"hhmm\"))))))","v":"0000-0000"},349]
[{"$f":"IF('Officer proposed'!C352=\"\",\"\",'Officer proposed'!C352)","v":""},{"$f":"IF('Officer proposed'!D352=\"\",\"\",'Officer proposed'!D352)","v":"Sun"},{"$f":"IF('Officer proposed'!D352=\"\",\"\",IF('Officer proposed'!E352=\"F\",\"Free Day\",IF('Officer proposed'!E352=\"R\",\"Rest Day\",CONCATENATE(TEXT('Officer proposed'!E352,\"hhmm\"),\"-\",(TEXT('Officer proposed'!F352,\"hhmm\"))))))","v":"0000-0000"},350]
[{"$f":"IF('Officer proposed'!C353=\"\",\"\",'Officer proposed'!C353)","v":"Week51"},{"$f":"IF('Officer proposed'!D353=\"\",\"\",'Officer proposed'!D353)","v":"Mon"},{"$f":"IF('Officer proposed'!D353=\"\",\"\",IF('Officer proposed'!E353=\"F\",\"Free Day\",IF('Officer proposed'!E353=\"R\",\"Rest Day\",CONCATENATE(TEXT('Officer proposed'!E353,\"hhmm\"),\"-\",(TEXT('Officer proposed'!F353,\"hhmm\"))))))","v":"0000-0000"},351,null,"Week 51"]
[{"$f":"IF('Officer proposed'!C354=\"\",\"\",'Officer proposed'!C354)","v":""},{"$f":"IF('Officer proposed'!D354=\"\",\"\",'Officer proposed'!D354)","v":"Tue"},{"$f":"IF('Officer proposed'!D354=\"\",\"\",IF('Officer proposed'!E354=\"F\",\"Free Day\",IF('Officer proposed'!E354=\"R\",\"Rest Day\",CONCATENATE(TEXT('Officer proposed'!E354,\"hhmm\"),\"-\",(TEXT('Officer proposed'!F354,\"hhmm\"))))))","v":"0000-0000"},352]
[{"$f":"IF('Officer proposed'!C355=\"\",\"\",'Officer proposed'!C355)","v":""},{"$f":"IF('Officer proposed'!D355=\"\",\"\",'Officer proposed'!D355)","v":"Wed"},{"$f":"IF('Officer proposed'!D355=\"\",\"\",IF('Officer proposed'!E355=\"F\",\"Free Day\",IF('Officer proposed'!E355=\"R\",\"Rest Day\",CONCATENATE(TEXT('Officer proposed'!E355,\"hhmm\"),\"-\",(TEXT('Officer proposed'!F355,\"hhmm\"))))))","v":"0000-0000"},353]
[{"$f":"IF('Officer proposed'!C356=\"\",\"\",'Officer proposed'!C356)","v":""},{"$f":"IF('Officer proposed'!D356=\"\",\"\",'Officer proposed'!D356)","v":"Thu"},{"$f":"IF('Officer proposed'!D356=\"\",\"\",IF('Officer proposed'!E356=\"F\",\"Free Day\",IF('Officer proposed'!E356=\"R\",\"Rest Day\",CONCATENATE(TEXT('Officer proposed'!E356,\"hhmm\"),\"-\",(TEXT('Officer proposed'!F356,\"hhmm\"))))))","v":"0000-0000"},354]
[{"$f":"IF('Officer proposed'!C357=\"\",\"\",'Officer proposed'!C357)","v":""},{"$f":"IF('Officer proposed'!D357=\"\",\"\",'Officer proposed'!D357)","v":"Fri"},{"$f":"IF('Officer proposed'!D357=\"\",\"\",IF('Officer proposed'!E357=\"F\",\"Free Day\",IF('Officer proposed'!E357=\"R\",\"Rest Day\",CONCATENATE(TEXT('Officer proposed'!E357,\"hhmm\"),\"-\",(TEXT('Officer proposed'!F357,\"hhmm\"))))))","v":"0000-0000"},355]
[{"$f":"IF('Officer proposed'!C358=\"\",\"\",'Officer proposed'!C358)","v":""},{"$f":"IF('Officer proposed'!D358=\"\",\"\",'Officer proposed'!D358)","v":"Sat"},{"$f":"IF('Officer proposed'!D358=\"\",\"\",IF('Officer proposed'!E358=\"F\",\"Free Day\",IF('Officer proposed'!E358=\"R\",\"Rest Day\",CONCATENATE(TEXT('Officer proposed'!E358,\"hhmm\"),\"-\",(TEXT('Officer proposed'!F358,\"hhmm\"))))))","v":"0000-0000"},356]
[{"$f":"IF('Officer proposed'!C359=\"\",\"\",'Officer proposed'!C359)","v":""},{"$f":"IF('Officer proposed'!D359=\"\",\"\",'Officer proposed'!D359)","v":"Sun"},{"$f":"IF('Officer proposed'!D359=\"\",\"\",IF('Officer proposed'!E359=\"F\",\"Free Day\",IF('Officer proposed'!E359=\"R\",\"Rest Day\",CONCATENATE(TEXT('Officer proposed'!E359,\"hhmm\"),\"-\",(TEXT('Officer proposed'!F359,\"hhmm\"))))))","v":"0000-0000"},357]
[{"$f":"IF('Officer proposed'!C360=\"\",\"\",'Officer proposed'!C360)","v":"Week52"},{"$f":"IF('Officer proposed'!D360=\"\",\"\",'Officer proposed'!D360)","v":"Mon"},{"$f":"IF('Officer proposed'!D360=\"\",\"\",IF('Officer proposed'!E360=\"F\",\"Free Day\",IF('Officer proposed'!E360=\"R\",\"Rest Day\",CONCATENATE(TEXT('Officer proposed'!E360,\"hhmm\"),\"-\",(TEXT('Officer proposed'!F360,\"hhmm\"))))))","v":"0000-0000"},358,null,"Week 52"]
[{"$f":"IF('Officer proposed'!C361=\"\",\"\",'Officer proposed'!C361)","v":""},{"$f":"IF('Officer proposed'!D361=\"\",\"\",'Officer proposed'!D361)","v":"Tue"},{"$f":"IF('Officer proposed'!D361=\"\",\"\",IF('Officer proposed'!E361=\"F\",\"Free Day\",IF('Officer proposed'!E361=\"R\",\"Rest Day\",CONCATENATE(TEXT('Officer proposed'!E361,\"hhmm\"),\"-\",(TEXT('Officer proposed'!F361,\"hhmm\"))))))","v":"0000-0000"},359]
[{"$f":"IF('Officer proposed'!C362=\"\",\"\",'Officer proposed'!C362)","v":""},{"$f":"IF('Officer proposed'!D362=\"\",\"\",'Officer proposed'!D362)","v":"Wed"},{"$f":"IF('Officer proposed'!D362=\"\",\"\",IF('Officer proposed'!E362=\"F\",\"Free Day\",IF('Officer proposed'!E362=\"R\",\"Rest Day\",CONCATENATE(TEXT('Officer proposed'!E362,\"hhmm\"),\"-\",(TEXT('Officer proposed'!F362,\"hhmm\"))))))","v":"0000-0000"},360]
[{"$f":"IF('Officer proposed'!C363=\"\",\"\",'Officer proposed'!C363)","v":""},{"$f":"IF('Officer proposed'!D363=\"\",\"\",'Officer proposed'!D363)","v":"Thu"},{"$f":"IF('Officer proposed'!D363=\"\",\"\",IF('Officer proposed'!E363=\"F\",\"Free Day\",IF('Officer proposed'!E363=\"R\",\"Rest Day\",CONCATENATE(TEXT('Officer proposed'!E363,\"hhmm\"),\"-\",(TEXT('Officer proposed'!F363,\"hhmm\"))))))","v":"0000-0000"},361]
[{"$f":"IF('Officer proposed'!C364=\"\",\"\",'Officer proposed'!C364)","v":""},{"$f":"IF('Officer proposed'!D364=\"\",\"\",'Officer proposed'!D364)","v":"Fri"},{"$f":"IF('Officer proposed'!D364=\"\",\"\",IF('Officer proposed'!E364=\"F\",\"Free Day\",IF('Officer proposed'!E364=\"R\",\"Rest Day\",CONCATENATE(TEXT('Officer proposed'!E364,\"hhmm\"),\"-\",(TEXT('Officer proposed'!F364,\"hhmm\"))))))","v":"0000-0000"},362]
[{"$f":"IF('Officer proposed'!C365=\"\",\"\",'Officer proposed'!C365)","v":""},{"$f":"IF('Officer proposed'!D365=\"\",\"\",'Officer proposed'!D365)","v":"Sat"},{"$f":"IF('Officer proposed'!D365=\"\",\"\",IF('Officer proposed'!E365=\"F\",\"Free Day\",IF('Officer proposed'!E365=\"R\",\"Rest Day\",CONCATENATE(TEXT('Officer proposed'!E365,\"hhmm\"),\"-\",(TEXT('Officer proposed'!F365,\"hhmm\"))))))","v":"0000-0000"},363]
[{"$f":"IF('Officer proposed'!C366=\"\",\"\",'Officer proposed'!C366)","v":""},{"$f":"IF('Officer proposed'!D366=\"\",\"\",'Officer proposed'!D366)","v":"Sun"},{"$f":"IF('Officer proposed'!D366=\"\",\"\",IF('Officer proposed'!E366=\"F\",\"Free Day\",IF('Officer proposed'!E366=\"R\",\"Rest Day\",CONCATENATE(TEXT('Officer proposed'!E366,\"hhmm\"),\"-\",(TEXT('Officer proposed'!F366,\"hhmm\"))))))","v":"0000-0000"},364]
[{"$f":"IF('Officer proposed'!C367=\"\",\"\",'Officer proposed'!C367)","v":"Week53"},{"$f":"IF('Officer proposed'!D367=\"\",\"\",'Officer proposed'!D367)","v":"Mon"},{"$f":"IF('Officer proposed'!D367=\"\",\"\",IF('Officer proposed'!E367=\"F\",\"Free Day\",IF('Officer proposed'!E367=\"R\",\"Rest Day\",CONCATENATE(TEXT('Officer proposed'!E367,\"hhmm\"),\"-\",(TEXT('Officer proposed'!F367,\"hhmm\"))))))","v":"0000-0000"},365,null,"Week 53"]
[{"$f":"IF('Officer proposed'!C368=\"\",\"\",'Officer proposed'!C368)","v":""},{"$f":"IF('Officer proposed'!D368=\"\",\"\",'Officer proposed'!D368)","v":"Tue"},{"$f":"IF('Officer proposed'!D368=\"\",\"\",IF('Officer proposed'!E368=\"F\",\"Free Day\",IF('Officer proposed'!E368=\"R\",\"Rest Day\",CONCATENATE(TEXT('Officer proposed'!E368,\"hhmm\"),\"-\",(TEXT('Officer proposed'!F368,\"hhmm\"))))))","v":"0000-0000"},366]
[{"$f":"IF('Officer proposed'!C369=\"\",\"\",'Officer proposed'!C369)","v":""},{"$f":"IF('Officer proposed'!D369=\"\",\"\",'Officer proposed'!D369)","v":"Wed"},{"$f":"IF('Officer proposed'!D369=\"\",\"\",IF('Officer proposed'!E369=\"F\",\"Free Day\",IF('Officer proposed'!E369=\"R\",\"Rest Day\",CONCATENATE(TEXT('Officer proposed'!E369,\"hhmm\"),\"-\",(TEXT('Officer proposed'!F369,\"hhmm\"))))))","v":"0000-0000"},367]
[{"$f":"IF('Officer proposed'!C370=\"\",\"\",'Officer proposed'!C370)","v":""},{"$f":"IF('Officer proposed'!D370=\"\",\"\",'Officer proposed'!D370)","v":"Thu"},{"$f":"IF('Officer proposed'!D370=\"\",\"\",IF('Officer proposed'!E370=\"F\",\"Free Day\",IF('Officer proposed'!E370=\"R\",\"Rest Day\",CONCATENATE(TEXT('Officer proposed'!E370,\"hhmm\"),\"-\",(TEXT('Officer proposed'!F370,\"hhmm\"))))))","v":"0000-0000"},368]
[{"$f":"IF('Officer proposed'!C371=\"\",\"\",'Officer proposed'!C371)","v":""},{"$f":"IF('Officer proposed'!D371=\"\",\"\",'Officer proposed'!D371)","v":"Fri"},{"$f":"IF('Officer proposed'!D371=\"\",\"\",IF('Officer proposed'!E371=\"F\",\"Free Day\",IF('Officer proposed'!E371=\"R\",\"Rest Day\",CONCATENATE(TEXT('Officer proposed'!E371,\"hhmm\"),\"-\",(TEXT('Officer proposed'!F371,\"hhmm\"))))))","v":"0000-0000"},369]
[{"$f":"IF('Officer proposed'!C372=\"\",\"\",'Officer proposed'!C372)","v":""},{"$f":"IF('Officer proposed'!D372=\"\",\"\",'Officer proposed'!D372)","v":"Sat"},{"$f":"IF('Officer proposed'!D372=\"\",\"\",IF('Officer proposed'!E372=\"F\",\"Free Day\",IF('Officer proposed'!E372=\"R\",\"Rest Day\",CONCATENATE(TEXT('Officer proposed'!E372,\"hhmm\"),\"-\",(TEXT('Officer proposed'!F372,\"hhmm\"))))))","v":"0000-0000"},370]
[{"$f":"IF('Officer proposed'!C373=\"\",\"\",'Officer proposed'!C373)","v":""},{"$f":"IF('Officer proposed'!D373=\"\",\"\",'Officer proposed'!D373)","v":"Sun"},{"$f":"IF('Officer proposed'!D373=\"\",\"\",IF('Officer proposed'!E373=\"F\",\"Free Day\",IF('Officer proposed'!E373=\"R\",\"Rest Day\",CONCATENATE(TEXT('Officer proposed'!E373,\"hhmm\"),\"-\",(TEXT('Officer proposed'!F373,\"hhmm\"))))))","v":"0000-0000"},371]